Workbook
Name дымы: 'Бытовая пиротехника MAXSEM'!#REF!
Name процент: 'Бытовая пиротехника MAXSEM'!#REF!

Sheet Бытовая пиротехника MAXSEM
B4: ver. 07.2021
B5: № | C5: !!! | D5: Артикул | E5: Описание | F5: Упаковка | G5: Столбец1 | H5: Видео | I5: Столбец2 | J5: Фото | K5: Фасовка | L5: Вес | M5: Объем | N5: Заказ Татьяна | O5: Цена ед. БЕЗ СКИДКИ, RUB | P5: Цена ед. СО СКИДКОЙ, RUB | Q5: ИТОГО Вес | R5: ИТОГО объем
C6: ПЕТАРДЫ | N6: =SUM(N7:N103) -> 212 | O6: =SUM(O7:O103) -> 197082.76 | Q6: =SUM(Q7:Q103) -> #REF! | R6: =SUM(R7:R103) -> #REF!
B7: 1 | D7: K0201 | E7: Петарда терочная 1 корсар | F7: 240 | G7: https://youtu.be/r4XXoK4PcZU | H7: =HYPERLINK('Бытовая пиротехника MAXSEM'!$G7,"видео") -> видео | I7: https://yadi.sk/d/FFAmhCSshBWqeg/K0201.jpg | J7: =HYPERLINK(I7,"фото") -> фото | K7: /24/10/60/ | L7: 11 | M7: 0.025 | N7: 2 | O7: 40 | P7: 31 | Q7: =#REF!*L7 -> #REF! | R7: =#REF!*M7 -> #REF!
B8: 5 | D8: K0203 | E8: Петарда терочная 3 корсар | F8: 100 | G8: https://youtu.be/EQ371k1bM2A | H8: =HYPERLINK('Бытовая пиротехника MAXSEM'!$G8,"видео") -> видео | I8: https://yadi.sk/d/FFAmhCSshBWqeg/K0203.jpg | J8: =HYPERLINK(I8,"фото") -> фото | K8: /100/50/ | L8: 14 | M8: 0.032 | N8: 2 | O8: 129 | P8: 93 | Q8: =#REF!*L8 -> #REF! | R8: =#REF!*M8 -> #REF!
B9: 6 | D9: K0203/2 | E9: Петарда терочная 3 корсар 2 хлопка | F9: 100 | G9: https://youtu.be/xg2HR5hT120 | H9: =HYPERLINK('Бытовая пиротехника MAXSEM'!$G9,"видео") -> видео | I9: https://yadi.sk/d/FFAmhCSshBWqeg/K0203-2.jpg | J9: =HYPERLINK(I9,"фото") -> фото | K9: /100/50/ | L9: 18 | M9: 0.032 | N9: 2 | O9: 146 | P9: 105 | Q9: =#REF!*L9 -> #REF! | R9: =#REF!*M9 -> #REF!
B10: 7 | D10: K0203/3 | E10: Петарда терочная 3 корсар 3 хлопка | F10: 100 | G10: https://youtu.be/63AHBjYWPKc | H10: =HYPERLINK('Бытовая пиротехника MAXSEM'!$G10,"видео") -> видео | I10: https://yadi.sk/d/FFAmhCSshBWqeg/K0203-3.jpg | J10: =HYPERLINK(I10,"фото") -> фото | K10: /100/50/ | L10: 18 | M10: 0.03 | N10: 2 | O10: 172 | P10: 123 | Q10: =#REF!*L10 -> #REF! | R10: =#REF!*M10 -> #REF!
B11: 15 | D11: P1004 | E11: Петарда - Поп корн (бертолетовая соль) | F11: 300 | I11: https://yadi.sk/d/FFAmhCSshBWqeg/P1004.jpg | J11: =HYPERLINK(I11,"фото") -> фото | K11: /6/50/50/ | L11: 7 | M11: 0.022 | N11: 3 | O11: 37 | P11: 28 | Q11: =#REF!*L11 -> #REF! | R11: =#REF!*M11 -> #REF!
B12: 16 | D12: P1004L | E12: Петарда - Поп корн Большой (бертолетовая соль) | F12: 80 | I12: https://yadi.sk/d/FFAmhCSshBWqeg/P1004L.jpg | J12: =HYPERLINK(I12,"фото") -> фото | K12: /4/20/50/ | L12: 8 | M12: 0.029 | N12: 1 | O12: 121 | P12: 87 | Q12: =#REF!*L12 -> #REF! | R12: =#REF!*M12 -> #REF!
B13: 17 | D13: GB603 | E13: Петарда фитильная (футбольные мячики) | F13: 40 | G13: https://youtu.be/S_jGwt2x3tw | H13: =HYPERLINK('Бытовая пиротехника MAXSEM'!$G13,"видео") -> видео | I13: https://yadi.sk/d/FFAmhCSshBWqeg/GB603.jpg | J13: =HYPERLINK(I13,"фото") -> фото | K13: /40/25/ | L13: 4 | M13: 0.023 | N13: 3 | O13: 326 | P13: 233 | Q13: =#REF!*L13 -> #REF! | R13: =#REF!*M13 -> #REF!
B14: 18 | D14: GB605 | E14: Петарда - Трещащие шарики | F14: 192 | G14: https://youtu.be/XFoMAStRR2I | H14: =HYPERLINK('Бытовая пиротехника MAXSEM'!$G14,"видео") -> видео | I14: https://yadi.sk/d/FFAmhCSshBWqeg/GB605.jpg | J14: =HYPERLINK(I14,"фото") -> фото | K14: /16/12/6/ | L14: 4 | M14: 0.025 | N14: 2 | O14: 56 | P14: 40 | Q14: =#REF!*L14 -> #REF! | R14: =#REF!*M14 -> #REF!
B15: 19 | D15: GW0901D | E15: Петарда фитильная - ЖУК (наземный волчок) | F15: 140 | G15: https://youtu.be/9iWVFC_8Wps | H15: =HYPERLINK('Бытовая пиротехника MAXSEM'!$G15,"видео") -> видео | I15: https://yadi.sk/d/FFAmhCSshBWqeg/GW0901D.jpg | J15: =HYPERLINK(I15,"фото") -> фото | K15: /14/10/10/ | L15: 13 | M15: 0.0306 | N15: 1 | O15: 123 | P15: 88 | Q15: =#REF!*L15 -> #REF! | R15: =#REF!*M15 -> #REF!
B16: 3 | D16: W504A/B | E16: Летающий фейерверк - Самолётик (летающая вертушка) | F16: 36 | G16: https://www.youtube.com/watch?v=n_qX3TMGvcA | H16: =HYPERLINK('Бытовая пиротехника MAXSEM'!$G16,"видео") -> видео | I16: https://yadi.sk/d/FFAmhCSshBWqeg/W504AB.jpg | J16: =HYPERLINK(I16,"фото") -> фото | K16: /36/6/ | L16: 10.47 | M16: 0.062 | N16: 1 | O16: 629 | P16: 436 | Q16: =#REF!*L16 -> #REF! | R16: =#REF!*M16 -> #REF!
B17: 3 | D17: GWR6106 | E17: Ракета | F17: 36 | G17: https://youtu.be/hqjVm_BypnM | H17: =HYPERLINK('Бытовая пиротехника MAXSEM'!$G17,"видео") -> видео | I17: https://yadi.sk/d/FFAmhCSshBWqeg/GWR6106.jpg | J17: =HYPERLINK(I17,"фото") -> фото | K17: /36/12/ | L17: 15 | M17: 0.062 | N17: 1 | O17: 662 | P17: 459 | Q17: =#REF!*L17 -> #REF! | R17: =#REF!*M17 -> #REF!
B18: 1 | D18: T-6237 | E18: Римская свеча 15 выстр. | F18: 80 | G18: https://youtu.be/fWA_jk8oU3Q | H18: =HYPERLINK('Бытовая пиротехника MAXSEM'!$G18,"видео") -> видео | I18: https://yadi.sk/d/FFAmhCSshBWqeg/T-6237.jpg | J18: =HYPERLINK(I18,"фото") -> фото | K18: /80/12/ | L18: 22 | M18: 0.048 | N18: 1 | O18: 293 | P18: 203 | Q18: =#REF!*L18 -> #REF! | R18: =#REF!*M18 -> #REF!
B19: 2 | D19: T-6238 | E19: Римская свеча 20 выстр. | F19: 48 | G19: https://youtu.be/CLgvvpRBExs | H19: =HYPERLINK('Бытовая пиротехника MAXSEM'!$G19,"видео") -> видео | I19: https://yadi.sk/d/FFAmhCSshBWqeg/T-6238.jpg | J19: =HYPERLINK(I19,"фото") -> фото | K19: /48/12/ | L19: 16 | M19: 0.034 | N19: 1 | O19: 364 | P19: 252 | Q19: =#REF!*L19 -> #REF! | R19: =#REF!*M19 -> #REF!
B20: 3 | D20: T-6242 | E20: Римская свеча 40 выстр. | F20: 36 | G20: https://youtu.be/l7zPx8Obr2o | H20: =HYPERLINK('Бытовая пиротехника MAXSEM'!$G20,"видео") -> видео | I20: https://yadi.sk/d/FFAmhCSshBWqeg/T-6242.jpg | J20: =HYPERLINK(I20,"фото") -> фото | K20: /36/12/ | L20: 25 | M20: 0.054 | N20: 1 | O20: 716 | P20: 496 | Q20: =#REF!*L20 -> #REF! | R20: =#REF!*M20 -> #REF!
B21: 5 | D21: MR001-20 | E21: Римская свеча 0,5" 20 выстр. | F21: 36 | G21: https://youtu.be/dZGuT2Hejcg | H21: =HYPERLINK('Бытовая пиротехника MAXSEM'!$G21,"видео") -> видео | I21: https://yadi.sk/d/FFAmhCSshBWqeg/MR001-20.jpg | J21: =HYPERLINK(I21,"фото") -> фото | K21: /36/2/ | L21: 9 | M21: 0.022 | N21: 3 | O21: 275 | P21: 191 | Q21: =#REF!*L21 -> #REF! | R21: =#REF!*M21 -> #REF!
B22: 6 | D22: SF-395 | E22: Римская свеча 0,5" 8 выстр. | F22: 36 | G22: https://youtu.be/OTS6O54Vuzs | H22: =HYPERLINK('Бытовая пиротехника MAXSEM'!$G22,"видео") -> видео | I22: https://yadi.sk/d/FFAmhCSshBWqeg/SF-395.jpg | J22: =HYPERLINK(I22,"фото") -> фото | K22: /36/4/ | L22: 19 | M22: 0.046 | N22: 2 | O22: 533 | P22: 369 | Q22: =#REF!*L22 -> #REF! | R22: =#REF!*M22 -> #REF!
B23: 9 | D23: GWL-0008 | E23: Римская свеча 0,8" 10 выстр. | F23: 48 | I23: https://yadi.sk/d/FFAmhCSshBWqeg/GWL-0008.jpg | J23: =HYPERLINK(I23,"фото") -> фото | K23: /48/2/ | L23: 25 | M23: 0.052 | N23: 1 | O23: 644 | P23: 446 | Q23: =#REF!*L23 -> #REF! | R23: =#REF!*M23 -> #REF!
B24: 10 | D24: GWL-0010 | E24: Римская свеча 0,8" 8 выстр. | F24: 24 | G24: https://youtu.be/uDXEuQ1tRG0 | H24: =HYPERLINK('Бытовая пиротехника MAXSEM'!$G24,"видео") -> видео | I24: https://yadi.sk/d/FFAmhCSshBWqeg/GWL-0010.jpg | J24: =HYPERLINK(I24,"фото") -> фото | K24: /24/4/ | L24: 23 | M24: 0.05 | N24: 1 | O24: 1028 | P24: 713 | Q24: =#REF!*L24 -> #REF! | R24: =#REF!*M24 -> #REF!
B25: 11 | D25: GWL-0009 | E25: Римская свеча 1" 5 выстр. | F25: 36 | G25: https://youtu.be/gnCo4kl3bDo | H25: =HYPERLINK('Бытовая пиротехника MAXSEM'!$G25,"видео") -> видео | I25: https://yadi.sk/d/FFAmhCSshBWqeg/GWL-0009.jpg | J25: =HYPERLINK(I25,"фото") -> фото | K25: /36/1/ | L25: 12 | M25: 0.046 | N25: 1 | O25: 420 | P25: 291 | Q25: =#REF!*L25 -> #REF! | R25: =#REF!*M25 -> #REF!
B26: 12 | D26: SF-398A | E26: Римская свеча 1" 8 выстр. - А | F26: 36 | G26: https://youtu.be/XscePuJz7VY | H26: =HYPERLINK('Бытовая пиротехника MAXSEM'!$G26,"видео") -> видео | I26: https://yadi.sk/d/FFAmhCSshBWqeg/SF-398A.jpg | J26: =HYPERLINK(I26,"фото") -> фото | K26: /36/1/ | L26: 16 | M26: 0.045 | N26: 1 | O26: 546 | P26: 379 | Q26: =#REF!*L26 -> #REF! | R26: =#REF!*M26 -> #REF!
B27: 13 | D27: SF-398В | E27: Римская свеча 1" 8 выстр. - В | F27: 36 | G27: https://youtu.be/YYS-Pdn4i3A | H27: =HYPERLINK('Бытовая пиротехника MAXSEM'!$G27,"видео") -> видео | I27: https://yadi.sk/d/FFAmhCSshBWqeg/SF-398В.jpg | J27: =HYPERLINK(I27,"фото") -> фото | K27: /36/1/ | L27: 16 | M27: 0.045 | N27: 1 | O27: 546 | P27: 379 | Q27: =#REF!*L27 -> #REF! | R27: =#REF!*M27 -> #REF!
B28: 14 | D28: SF-398С | E28: Римская свеча 1" 8 выстр. - С | F28: 36 | G28: https://youtu.be/pyLOGRAYny8 | H28: =HYPERLINK('Бытовая пиротехника MAXSEM'!$G28,"видео") -> видео | I28: https://yadi.sk/d/FFAmhCSshBWqeg/SF-398С.jpg | J28: =HYPERLINK(I28,"фото") -> фото | K28: /36/1/ | L28: 16 | M28: 0.045 | N28: 1 | O28: 546 | P28: 379 | Q28: =#REF!*L28 -> #REF! | R28: =#REF!*M28 -> #REF!
B29: 15 | D29: SF-396 | E29: Римская свеча 1" 10 выстр. - 2mix | F29: 18 | G29: https://youtu.be/9uOTddbHQwc | H29: =HYPERLINK('Бытовая пиротехника MAXSEM'!$G29,"видео") -> видео | I29: https://yadi.sk/d/FFAmhCSshBWqeg/SF-396.jpg | J29: =HYPERLINK(I29,"фото") -> фото | K29: /18/2/ | L29: 18 | M29: 0.04 | N29: 1 | O29: 1274 | P29: 883 | Q29: =#REF!*L29 -> #REF! | R29: =#REF!*M29 -> #REF!
B30: 17 | D30: GWL-0012A | E30: Римская свеча 1,2" 8 выстр. - A | F30: 24 | G30: https://www.youtube.com/watch?v=4VqS6-WC2P4 | H30: =HYPERLINK('Бытовая пиротехника MAXSEM'!$G30,"видео") -> видео | I30: https://yadi.sk/d/FFAmhCSshBWqeg/GWL-0012A.jpg | J30: =HYPERLINK(I30,"фото") -> фото | K30: /24/1/ | L30: 15 | M30: 0.04 | N30: 1 | O30: 695 | P30: 482 | Q30: =#REF!*L30 -> #REF! | R30: =#REF!*M30 -> #REF!
B31: 18 | D31: GWL-0012В | E31: Римская свеча 1,2" 8 выстр. - B | F31: 24 | G31: https://www.youtube.com/watch?v=IkO8DTmc5Q4 | H31: =HYPERLINK('Бытовая пиротехника MAXSEM'!$G31,"видео") -> видео | I31: https://yadi.sk/d/FFAmhCSshBWqeg/GWL-0012В.jpg | J31: =HYPERLINK(I31,"фото") -> фото | K31: /24/1/ | L31: 15 | M31: 0.04 | N31: 1 | O31: 695 | P31: 482 | Q31: =#REF!*L31 -> #REF! | R31: =#REF!*M31 -> #REF!
B32: 19 | D32: GWL-0012С | E32: Римская свеча 1,2" 8 выстр. - C | F32: 24 | G32: https://www.youtube.com/watch?v=aHIfBnbTjHA | H32: =HYPERLINK('Бытовая пиротехника MAXSEM'!$G32,"видео") -> видео | I32: https://yadi.sk/d/FFAmhCSshBWqeg/GWL-0012С.jpg | J32: =HYPERLINK(I32,"фото") -> фото | K32: /24/1/ | L32: 15 | M32: 0.04 | N32: 1 | O32: 695 | P32: 482 | Q32: =#REF!*L32 -> #REF! | R32: =#REF!*M32 -> #REF!
B33: 23 | D33: GWL-0013A | E33: Римская свеча 1,5" 8 выстр. - A | F33: 24 | G33: https://youtu.be/syfM_4xWRsQ | H33: =HYPERLINK('Бытовая пиротехника MAXSEM'!$G33,"видео") -> видео | I33: https://yadi.sk/d/FFAmhCSshBWqeg/GWL-0013A.jpg | J33: =HYPERLINK(I33,"фото") -> фото | K33: /24/1/ | L33: 24 | M33: 0.066 | N33: 1 | O33: 1053 | P33: 731 | Q33: =#REF!*L33 -> #REF! | R33: =#REF!*M33 -> #REF!
B34: 11 | D34: MF-004 | E34: Тортовые свечи 10см. | F34: 180 | I34: https://yadi.sk/d/FFAmhCSshBWqeg/MF-004.jpg | J34: =HYPERLINK(I34,"фото") -> фото | K34: /4/45/4/ | L34: 13 | M34: 0.074 | N34: 1 | O34: 117 | P34: 81 | Q34: =#REF!*L34 -> #REF! | R34: =#REF!*M34 -> #REF!
B35: 1 | D35: 0977 | E35: Бенгальские огни 16см. | F35: 500 | G35: https://youtu.be/vBqWvbdxyUM | H35: =HYPERLINK('Бытовая пиротехника MAXSEM'!$G35,"видео") -> видео | I35: https://yadi.sk/d/FFAmhCSshBWqeg/0977.jpg | J35: =HYPERLINK(I35,"фото") -> фото | K35: /50/10/10/ | L35: 10 | M35: 0.029 | N35: 3 | O35: 23 | P35: 18 | Q35: =#REF!*L35 -> #REF! | R35: =#REF!*M35 -> #REF!
B36: 2 | D36: 0978 | E36: Бенгальские огни 25см. | F36: 300 | G36: https://youtu.be/SZDimWWBcIg | H36: =HYPERLINK('Бытовая пиротехника MAXSEM'!$G36,"видео") -> видео | I36: https://yadi.sk/d/FFAmhCSshBWqeg/0978.jpg | J36: =HYPERLINK(I36,"фото") -> фото | K36: /30/10/8/ | L36: 10 | M36: 0.03 | N36: 3 | O36: 38 | P36: 31 | Q36: =#REF!*L36 -> #REF! | R36: =#REF!*M36 -> #REF!
B37: 3 | D37: 0920 | E37: Бенгальские огни 50см. | F37: 100 | G37: https://youtu.be/pXYgglc5vCM | H37: =HYPERLINK('Бытовая пиротехника MAXSEM'!$G37,"видео") -> видео | I37: https://yadi.sk/d/FFAmhCSshBWqeg/0920.jpg | J37: =HYPERLINK(I37,"фото") -> фото | K37: /100/6/ | L37: 13 | M37: 0.023 | N37: 6 | O37: 149 | P37: 115 | Q37: =#REF!*L37 -> #REF! | R37: =#REF!*M37 -> #REF!
B38: 4 | D38: 0981 | E38: Бенгальские огни 70см. | F38: 100 | G38: https://youtu.be/6AzPa506tTM | H38: =HYPERLINK('Бытовая пиротехника MAXSEM'!$G38,"видео") -> видео | I38: https://yadi.sk/d/FFAmhCSshBWqeg/0981.jpg | J38: =HYPERLINK(I38,"фото") -> фото | K38: /10/10/3/ | L38: 11 | M38: 0.024 | N38: 1 | O38: 122 | P38: 94 | Q38: =#REF!*L38 -> #REF! | R38: =#REF!*M38 -> #REF!
B39: 9 | D39: 0784E | E39: Бенгальские огни | F39: 150 | G39: https://youtu.be/u4mvPEVLtzM | H39: =HYPERLINK('Бытовая пиротехника MAXSEM'!$G39,"видео") -> видео | I39: https://yadi.sk/d/FFAmhCSshBWqeg/0784E.jpg | J39: =HYPERLINK(I39,"фото") -> фото | K39: /150/2/ | L39: 4 | M39: 0.0278 | N39: 1 | O39: 77 | P39: 61 | Q39: =#REF!*L39 -> #REF! | R39: =#REF!*M39 -> #REF!
B40: 10 | D40: 0784S | E40: Бенгальские огни | F40: 150 | G40: https://youtu.be/IBocpnKIHx0 | H40: =HYPERLINK('Бытовая пиротехника MAXSEM'!$G40,"видео") -> видео | I40: https://yadi.sk/d/FFAmhCSshBWqeg/0784S.jpg | J40: =HYPERLINK(I40,"фото") -> фото | K40: /150/2/ | L40: 4 | M40: 0.0278 | N40: 2 | O40: 77 | P40: 61 | Q40: =#REF!*L40 -> #REF! | R40: =#REF!*M40 -> #REF!
B41: 1 | D41: M0801 | E41: Батарея салютов 0,8" 7 выстр. 3 эффекта h-120мм. | F41: 72 | G41: https://youtu.be/szU_Gk3O24k | H41: =HYPERLINK('Бытовая пиротехника MAXSEM'!$G41,"видео") -> видео | I41: https://yadi.sk/d/FFAmhCSshBWqeg/M0801.jpg | J41: =HYPERLINK(I41,"фото") -> фото | K41: /72/1/ | L41: 22 | M41: 0.058 | N41: 1 | O41: 342 | P41: 237 | Q41: =#REF!*L41 -> #REF! | R41: =#REF!*M41 -> #REF!
B42: 2 | D42: M0811 | E42: Батарея салютов 0,8" 9 выстр. 2 эффекта h-120мм. | F42: 36 | G42: https://youtu.be/4va7ZRe2d7o | H42: =HYPERLINK('Бытовая пиротехника MAXSEM'!$G42,"видео") -> видео | I42: https://yadi.sk/d/FFAmhCSshBWqeg/M0811.jpg | J42: =HYPERLINK(I42,"фото") -> фото | K42: /36/1/ | L42: 15 | M42: 0.033 | N42: 1 | O42: 468 | P42: 324 | Q42: =#REF!*L42 -> #REF! | R42: =#REF!*M42 -> #REF!
B43: 4 | D43: M0813 | E43: Батарея салютов 0,8" 9 выстр. 2 эффекта h-120мм. | F43: 36 | G43: https://youtu.be/7oAJ_jjLQ14 | H43: =HYPERLINK('Бытовая пиротехника MAXSEM'!$G43,"видео") -> видео | I43: https://yadi.sk/d/FFAmhCSshBWqeg/M0813.jpg | J43: =HYPERLINK(I43,"фото") -> фото | K43: /36/1/ | L43: 15 | M43: 0.033 | N43: 20 | O43: 468 | P43: 324 | Q43: =#REF!*L43 -> #REF! | R43: =#REF!*M43 -> #REF!
B44: 5 | C44: NEW | D44: M0841 | E44: Батарея салютов 0,8" 16 выстр. | F44: 24 | G44: https://youtu.be/g8dLdHksr9o | H44: =HYPERLINK('Бытовая пиротехника MAXSEM'!$G44,"видео") -> видео | I44: https://yadi.sk/d/FFAmhCSshBWqeg/M0841.jpg | J44: =HYPERLINK(I44,"фото") -> фото | K44: /24/1/ | N44: 2 | O44: 707 | P44: 491 | Q44: =#REF!*L44 -> #REF! | R44: =#REF!*M44 -> #REF!
B45: 8 | C45: NEW | D45: M0871 | E45: Батарея салютов 0,8" 36 выстр | F45: 12 | G45: https://youtu.be/nJnxdBJ5TzM | H45: =HYPERLINK('Бытовая пиротехника MAXSEM'!$G45,"видео") -> видео | I45: https://yadi.sk/d/FFAmhCSshBWqeg/M0871.jpg | J45: =HYPERLINK(I45,"фото") -> фото | K45: /12/1/ | N45: 2 | O45: 1649 | P45: 1143 | Q45: =#REF!*L45 -> #REF! | R45: =#REF!*M45 -> #REF!
B46: 2 | D46: M1002 | E46: Батарея салютов 1" 7 выстр. h-150мм. | F46: 30 | G46: https://youtu.be/bViEDZ9Uxl4 | H46: =HYPERLINK('Бытовая пиротехника MAXSEM'!$G46,"видео") -> видео | I46: https://yadi.sk/d/FFAmhCSshBWqeg/M1002.jpg | J46: =HYPERLINK(I46,"фото") -> фото | K46: /30/1/ | L46: 18 | M46: 0.04 | N46: 3 | O46: 646.36 | P46: 448 | Q46: =#REF!*L46 -> #REF! | R46: =#REF!*M46 -> #REF!
B47: 3 | D47: M1011 | E47: Батарея салютов 1" 9 выстр. 3 эффекта h-100мм. | F47: 30 | G47: https://youtu.be/8g9VUJt4Too | H47: =HYPERLINK('Бытовая пиротехника MAXSEM'!$G47,"видео") -> видео | I47: https://yadi.sk/d/FFAmhCSshBWqeg/M1011.jpg | J47: =HYPERLINK(I47,"фото") -> фото | K47: /30/1/ | L47: 18 | M47: 0.032 | N47: 3 | O47: 615 | P47: 426 | Q47: =#REF!*L47 -> #REF! | R47: =#REF!*M47 -> #REF!
B48: 5 | D48: M1041 | E48: Батарея салютов 1" 16 выстр. 4 эффекта h-150мм. | F48: 24 | G48: https://youtu.be/_qW7GHzaJHM | H48: =HYPERLINK('Бытовая пиротехника MAXSEM'!$G48,"видео") -> видео | I48: https://yadi.sk/d/FFAmhCSshBWqeg/M1041.jpg | J48: =HYPERLINK(I48,"фото") -> фото | K48: /24/1/ | L48: 28 | M48: 0.062 | N48: 2 | O48: 1284 | P48: 891 | Q48: =#REF!*L48 -> #REF! | R48: =#REF!*M48 -> #REF!
B49: 6 | D49: M1042 | E49: Батарея салютов 1" 16 выстр. 4 эффекта h-150мм. | F49: 12 | G49: https://youtu.be/f8WYkVrQF-w | H49: =HYPERLINK('Бытовая пиротехника MAXSEM'!$G49,"видео") -> видео | I49: https://yadi.sk/d/FFAmhCSshBWqeg/M1042.jpg | J49: =HYPERLINK(I49,"фото") -> фото | K49: /12/1/ | L49: 14 | M49: 0.039 | N49: 2 | O49: 1284 | P49: 891 | Q49: =#REF!*L49 -> #REF! | R49: =#REF!*M49 -> #REF!
B50: 8 | C50: NEW | D50: M1061 | E50: Батарея салютов 1" 25 выстр. | F50: 12 | G50: https://youtu.be/sAIRJJg0hmg | H50: =HYPERLINK('Бытовая пиротехника MAXSEM'!$G50,"видео") -> видео | I50: https://yadi.sk/d/FFAmhCSshBWqeg/M1061.jpg | J50: =HYPERLINK(I50,"фото") -> фото | K50: /12/1/ | N50: 1 | O50: 1922 | P50: 1332 | Q50: =#REF!*L50 -> #REF! | R50: =#REF!*M50 -> #REF!
B51: 9 | C51: NEW | D51: M1071 | E51: Батарея салютов 1" 36 выстр. | F51: 6 | G51: https://youtu.be/fM7SMB-jXrc | H51: =HYPERLINK('Бытовая пиротехника MAXSEM'!$G51,"видео") -> видео | I51: https://yadi.sk/d/FFAmhCSshBWqeg/M1071.jpg | J51: =HYPERLINK(I51,"фото") -> фото | K51: /6/1/ | N51: 1 | O51: 2874 | P51: 1993 | Q51: =#REF!*L51 -> #REF! | R51: =#REF!*M51 -> #REF!
B52: 5 | D52: M1252 | E52: Батарея салютов 1,2" 19 выстр. 3 эффекта h-225мм. | F52: 8 | G52: https://youtu.be/pSnO15txYmU | H52: =HYPERLINK('Бытовая пиротехника MAXSEM'!$G52,"видео") -> видео | I52: https://yadi.sk/d/FFAmhCSshBWqeg/M1252.jpg | J52: =HYPERLINK(I52,"фото") -> фото | K52: /8/1/ | L52: 19 | M52: 0.06 | N52: 1 | O52: 2279 | P52: 1579 | Q52: =#REF!*L52 -> #REF! | R52: =#REF!*M52 -> #REF!
B53: 2 | D53: SB-13-02 | E53: Батарея салютов 1,2" 13 выстр. 3 эффекта h-225мм. | F53: 10 | G53: https://youtu.be/LlniMutwh8g | H53: =HYPERLINK('Бытовая пиротехника MAXSEM'!$G53,"видео") -> видео | I53: https://yadi.sk/d/FFAmhCSshBWqeg/SB-13-02.jpg | J53: =HYPERLINK(I53,"фото") -> фото | K53: /10/1/ | L53: 13 | M53: 0.038 | N53: 1 | O53: 1256 | P53: 871 | Q53: =#REF!*L53 -> #REF! | R53: =#REF!*M53 -> #REF!
B54: 4 | D54: SB-19-02 | E54: Батарея салютов 1,2" 19 выстр. 2 эффекта h-225мм. | F54: 8 | G54: https://youtu.be/ia7_52FZ7JY | H54: =HYPERLINK('Бытовая пиротехника MAXSEM'!$G54,"видео") -> видео | I54: https://yadi.sk/d/FFAmhCSshBWqeg/SB-19-02.jpg | J54: =HYPERLINK(I54,"фото") -> фото | K54: /8/1/ | L54: 18 | M54: 0.059 | N54: 1 | O54: 2012 | P54: 1395 | Q54: =#REF!*L54 -> #REF! | R54: =#REF!*M54 -> #REF!
B55: 6 | D55: SB-25-01 | E55: Батарея салютов 1,2" 25 выстр. 4 эффекта h-225мм. | F55: 4 | G55: https://youtu.be/riK_k26idYw | H55: =HYPERLINK('Бытовая пиротехника MAXSEM'!$G55,"видео") -> видео | I55: https://yadi.sk/d/FFAmhCSshBWqeg/SB-25-01.jpg | J55: =HYPERLINK(I55,"фото") -> фото | K55: /4/1/ | L55: 12 | M55: 0.033 | N55: 1 | O55: 2560 | P55: 1774 | Q55: =#REF!*L55 -> #REF! | R55: =#REF!*M55 -> #REF!
B56: 7 | D56: SB-25-02 | E56: Батарея салютов 1,2" 25 выстр. 6 эффектов h-225мм. | F56: 4 | G56: https://youtu.be/IbMKpeBMxsk | H56: =HYPERLINK('Бытовая пиротехника MAXSEM'!$G56,"видео") -> видео | I56: https://yadi.sk/d/FFAmhCSshBWqeg/SB-25-02.jpg | J56: =HYPERLINK(I56,"фото") -> фото | K56: /4/1/ | L56: 12 | M56: 0.033 | N56: 1 | O56: 2560 | P56: 1774 | Q56: =#REF!*L56 -> #REF! | R56: =#REF!*M56 -> #REF!
B57: 13 | D57: SB-49-02 | E57: Батарея салютов 1,2" 49 выстр. 6 эффектов h-225мм. | F57: 2 | G57: https://youtu.be/lNV0qLVHGbk | H57: =HYPERLINK('Бытовая пиротехника MAXSEM'!$G57,"видео") -> видео | I57: https://yadi.sk/d/FFAmhCSshBWqeg/SB-49-02.jpg | J57: =HYPERLINK(I57,"фото") -> фото | K57: /2/1/ | L57: 11 | M57: 0.033 | N57: 1 | O57: 5237 | P57: 3629 | Q57: =#REF!*L57 -> #REF! | R57: =#REF!*M57 -> #REF!
B58: 14 | D58: SB-49-03 | E58: Батарея салютов 1,2" 49 выстр. 5 эффектов h-175мм. | F58: 2 | G58: https://youtu.be/yMSpueNS6Mc | H58: =HYPERLINK('Бытовая пиротехника MAXSEM'!$G58,"видео") -> видео | I58: https://yadi.sk/d/FFAmhCSshBWqeg/SB-49-03.jpg | J58: =HYPERLINK(I58,"фото") -> фото | K58: /2/1/ | L58: 10 | M58: 0.03 | N58: 2 | O58: 4505 | P58: 3122 | Q58: =#REF!*L58 -> #REF! | R58: =#REF!*M58 -> #REF!
B59: 6 | D59: GW218-97 | E59: Батарея салютов 0,8" 10 выстр. 3 эффекта h-130мм. | F59: 30 | G59: https://youtu.be/-XPd5MGjz9w | H59: =HYPERLINK('Бытовая пиротехника MAXSEM'!$G59,"видео") -> видео | I59: https://yadi.sk/d/FFAmhCSshBWqeg/GW218-97.jpg | J59: =HYPERLINK(I59,"фото") -> фото | K59: /30/1/ | L59: 18 | M59: 0.048 | N59: 1 | O59: 602 | P59: 417 | Q59: =#REF!*L59 -> #REF! | R59: =#REF!*M59 -> #REF!
B60: 7 | D60: GW218-93 | E60: Батарея салютов 0,8" 12 выстр. 3 эффекта h-120мм. | F60: 36 | G60: https://youtu.be/eoB2Dh5uPSk | H60: =HYPERLINK('Бытовая пиротехника MAXSEM'!$G60,"видео") -> видео | I60: https://yadi.sk/d/FFAmhCSshBWqeg/GW218-93.jpg | J60: =HYPERLINK(I60,"фото") -> фото | K60: /36/1/ | L60: 19 | M60: 0.042 | N60: 2 | O60: 594 | P60: 412 | Q60: =#REF!*L60 -> #REF! | R60: =#REF!*M60 -> #REF!
B61: 8 | D61: GW218-94 | E61: Батарея салютов 0,8" 12 выстр. 4 эффекта h-120мм. | F61: 36 | G61: https://youtu.be/5fHHNvHUW98 | H61: =HYPERLINK('Бытовая пиротехника MAXSEM'!$G61,"видео") -> видео | I61: https://yadi.sk/d/FFAmhCSshBWqeg/GW218-94.jpg | J61: =HYPERLINK(I61,"фото") -> фото | K61: /36/1/ | L61: 20 | M61: 0.042 | N61: 1 | O61: 594 | P61: 412 | Q61: =#REF!*L61 -> #REF! | R61: =#REF!*M61 -> #REF!
B62: 9 | D62: GP497 | E62: Батарея салютов 0,8" 16 выстр. 3 эффекта h-120мм. | F62: 24 | G62: https://youtu.be/DAwxQuzGP10 | H62: =HYPERLINK('Бытовая пиротехника MAXSEM'!$G62,"видео") -> видео | I62: https://yadi.sk/d/FFAmhCSshBWqeg/GP497.jpg | J62: =HYPERLINK(I62,"фото") -> фото | K62: /24/1/ | L62: 16 | M62: 0.036 | N62: 2 | O62: 751 | P62: 521 | Q62: =#REF!*L62 -> #REF! | R62: =#REF!*M62 -> #REF!
B63: 10 | D63: GP497/2 | E63: Батарея салютов 0,8" 16 выстр. 4 эффекта h-120мм. | F63: 24 | G63: https://youtu.be/tLxtphwqClE | H63: =HYPERLINK('Бытовая пиротехника MAXSEM'!$G63,"видео") -> видео | I63: https://yadi.sk/d/FFAmhCSshBWqeg/GP497-2.jpg | J63: =HYPERLINK(I63,"фото") -> фото | K63: /24/1/ | L63: 16 | M63: 0.036 | N63: 2 | O63: 760 | P63: 645 | Q63: =#REF!*L63 -> #REF! | R63: =#REF!*M63 -> #REF!
... B93: 24 | D93: GWM6102 | E93: Батарея салютов 1,2" 100 выстр. 5 эффектов h-225мм. | F93: 1 | G93: https://youtu.be/DVE2tV-2LcU | H93: =HYPERLINK('Бытовая пиротехника MAXSEM'!$G93,"видео") -> видео | I93: https://yadi.sk/d/FFAmhCSshBWqeg/GWM6102.jpg | J93: =HYPERLINK(I93,"фото") -> фото | K93: /1/1/ | L93: 14 | M93: 0.035 | N93: 2 | O93: 12917 | P93: 8951 | Q93: =#REF!*L93 -> #REF! | R93: =#REF!*M93 -> #REF!
B94: 4 | D94: MC161 | E94: Батарея салютов 0,8”-1,2” 62 выстр. | F94: 4 | G94: https://youtu.be/yihQv_5BDYU | H94: =HYPERLINK('Бытовая пиротехника MAXSEM'!$G94,"видео") -> видео | K94: /4/1/ | L94: 15 | M94: 0.036 | N94: 1 | O94: 4101 | P94: 2842 | Q94: =#REF!*L94 -> #REF! | R94: =#REF!*M94 -> #REF!
B95: 1 | D95: GWM6601 | E95: Батарея салютов 0,8"-1”-1,2”-2" 66 выстр. 10 эффектов h-250мм. | F95: 2 | G95: https://youtu.be/-Az0J1l0UMc | H95: =HYPERLINK('Бытовая пиротехника MAXSEM'!$G95,"видео") -> видео | I95: https://yadi.sk/d/FFAmhCSshBWqeg/GWM6601.jpg | J95: =HYPERLINK(I95,"фото") -> фото | K95: /2/1/ | L95: 15 | M95: 0.05 | N95: 1 | O95: 8983 | P95: 6225 | Q95: =#REF!*L95 -> #REF! | R95: =#REF!*M95 -> #REF!
B96: 7 | D96: MC175-19 | E96: Батарея салютов 1,75" 19 выстр. 3 эффекта h-250мм. | F96: 4 | G96: https://youtu.be/YM4YcvvwgUQ | H96: =HYPERLINK('Бытовая пиротехника MAXSEM'!$G96,"видео") -> видео | I96: https://yadi.sk/d/FFAmhCSshBWqeg/MC175-19.jpg | J96: =HYPERLINK(I96,"фото") -> фото | K96: /4/1/ | L96: 20 | M96: 0.063 | N96: 1 | O96: 5464 | P96: 4676 | Q96: =#REF!*L96 -> #REF! | R96: =#REF!*M96 -> #REF!
B97: 9 | D97: MC175-25 | E97: Батарея салютов 1,75" 25 выстр. 6 эффектов h-250мм. | F97: 4 | G97: https://youtu.be/yHfy7Mt1MBo | H97: =HYPERLINK('Бытовая пиротехника MAXSEM'!$G97,"видео") -> видео | I97: https://yadi.sk/d/FFAmhCSshBWqeg/MC175-25.jpg | J97: =HYPERLINK(I97,"фото") -> фото | K97: /4/1/ | L97: 26 | M97: 0.07 | N97: 1 | O97: 6748 | P97: 4676 | Q97: =#REF!*L97 -> #REF! | R97: =#REF!*M97 -> #REF!
B98: 13 | D98: MC200-19 | E98: Батарея салютов 2" 19 выстр. 4 эффекта h-280мм | F98: 3 | G98: https://youtu.be/jOEmHukGX5w | H98: =HYPERLINK('Бытовая пиротехника MAXSEM'!$G98,"видео") -> видео | I98: https://yadi.sk/d/FFAmhCSshBWqeg/MC200-19.jpg | J98: =HYPERLINK(I98,"фото") -> фото | K98: /3/1/ | L98: 20 | M98: 0.062 | N98: 1 | O98: 6848 | P98: 4745 | Q98: =#REF!*L98 -> #REF! | R98: =#REF!*M98 -> #REF!
B99: 5 | D99: CM035 | E99: Пневмохлопушка 30 см. ДЕНЬГИ: наполнение - 100 USD / 500 EUR - 100% двусторонняя бумага, 25х50 мм. | F99: 100 | I99: https://yadi.sk/d/FFAmhCSshBWqeg/CM035.jpg | J99: =HYPERLINK(I99,"фото") -> фото | K99: /100/1/ | L99: 18 | M99: 0.085 | N99: 1 | O99: 125.4 | P99: 87 | Q99: =#REF!*L99 -> #REF! | R99: =#REF!*M99 -> #REF!
B100: 7 | D100: CM041 | E100: Пневмохлопушка 40 см. КОНФЕТТИ наполнение - кружки - 50% двухсторонняя фольга, 50% двусторонняя бумага, 6х15 мм, цвет - разноцветный. | F100: 100 | I100: https://yadi.sk/d/FFAmhCSshBWqeg/CM041.jpg | J100: =HYPERLINK(I100,"фото") -> фото | K100: /100/1/ | L100: 18 | M100: 0.111 | N100: 1 | O100: 149.6 | P100: 104 | Q100: =#REF!*L100 -> #REF! | R100: =#REF!*M100 -> #REF!
B101: 8 | D101: CM042 | E101: Пневмохлопушка 40 см. КОНФЕТТИ: наполнение - прямоугольники - 100% двухсторонняя фольга, 10х20 мм, цвет - золото / серебро | F101: 100 | I101: https://yadi.sk/d/FFAmhCSshBWqeg/CM042.jpg | J101: =HYPERLINK(I101,"фото") -> фото | K101: /100/1/ | L101: 23 | M101: 0.111 | N101: 1 | O101: 149.6 | P101: 104 | Q101: =#REF!*L101 -> #REF! | R101: =#REF!*M101 -> #REF!
B102: 9 | D102: CM043 | E102: Пневмохлопушка 40 см. СЕРПАНТИН: наполнение - 50% двухсторонняя фольга, 50% двусторонняя бумага, 5х50 мм, цвет - разноцветный | F102: 100 | I102: https://yadi.sk/d/FFAmhCSshBWqeg/CM043.jpg | J102: =HYPERLINK(I102,"фото") -> фото | K102: /100/1/ | L102: 23 | M102: 0.111 | N102: 1 | O102: 149.6 | P102: 104 | Q102: =#REF!*L102 -> #REF! | R102: =#REF!*M102 -> #REF!
B103: 8 | D103: SF-394 | E103: Римская свеча 0,5" 10 выстр. (на фото 100 выстрелов написано) | F103: 40 | G103: https://youtu.be/L-eUkDTGPss | H103: =HYPERLINK('Бытовая пиротехника MAXSEM'!$G103,"видео") -> видео | I103: https://yadi.sk/d/FFAmhCSshBWqeg/SF-394.jpg | J103: =HYPERLINK(I103,"фото") -> фото | K103: /40/2/ | L103: 18 | M103: 0.052 | N103: 2 | O103: 479 | P103: 332 | Q103: =#REF!*L103 -> #REF! | R103: =#REF!*M103 -> #REF!
