Workbook
Name дымы: 'Бытовая пиротехника MAXSEM'!#REF!
Name процент: 'Бытовая пиротехника MAXSEM'!#REF!

Sheet Бытовая пиротехника MAXSEM
B4: ver. 07.2021
B5: № | C5: !!! | D5: Артикул | E5: Описание | F5: Упаковка | G5: Столбец1 | H5: Видео | I5: Столбец2 | J5: Фото | K5: Фасовка | L5: Вес | M5: Объем | N5: Заказ Татьяна | O5: Цена ед. БЕЗ СКИДКИ, RUB | P5: Цена ед. СО СКИДКОЙ, RUB | Q5: ИТОГО Вес | R5: ИТОГО объем
C6: ПЕТАРДЫ | N6: =SUM(N7:N103) -> 212 | O6: =SUM(O7:O103) -> 197082.76 | Q6: =SUM(Q7:Q103) -> #REF! | R6: =SUM(R7:R103) -> #REF!
B7: 1 | D7: K0201 | E7: Петарда терочная 1 корсар | F7: 240 | G7: https://youtu.be/r4XXoK4PcZU | H7: =HYPERLINK('Бытовая пиротехника MAXSEM'!$G7,"видео") -> видео | I7: https://yadi.sk/d/FFAmhCSshBWqeg/K0201.jpg | J7: =HYPERLINK(I7,"фото") -> фото | K7: /24/10/60/ | L7: 11 | M7: 0.025 | N7: 2 | O7: 40 | P7: 31 | Q7: =#REF!*L7 -> #REF! | R7: =#REF!*M7 -> #REF!
B8: 5 | D8: K0203 | E8: Петарда терочная 3 корсар | F8: 100 | G8: https://youtu.be/EQ371k1bM2A | H8: =HYPERLINK('Бытовая пиротехника MAXSEM'!$G8,"видео") -> видео | I8: https://yadi.sk/d/FFAmhCSshBWqeg/K0203.jpg | J8: =HYPERLINK(I8,"фото") -> фото | K8: /100/50/ | L8: 14 | M8: 0.032 | N8: 2 | O8: 129 | P8: 93 | Q8: =#REF!*L8 -> #REF! | R8: =#REF!*M8 -> #REF!
B9: 6 | D9: K0203/2 | E9: Петарда терочная 3 корсар 2 хлопка | F9: 100 | G9: https://youtu.be/xg2HR5hT120 | H9: =HYPERLINK('Бытовая пиротехника MAXSEM'!$G9,"видео") -> видео | I9: https://yadi.sk/d/FFAmhCSshBWqeg/K0203-2.jpg | J9: =HYPERLINK(I9,"фото") -> фото | K9: /100/50/ | L9: 18 | M9: 0.032 | N9: 2 | O9: 146 | P9: 105 | Q9: =#REF!*L9 -> #REF! | R9: =#REF!*M9 -> #REF!
B10: 7 | D10: K0203/3 | E10: Петарда терочная 3 корсар 3 хлопка | F10: 100 | G10: https://youtu.be/63AHBjYWPKc | H10: =HYPERLINK('Бытовая пиротехника MAXSEM'!$G10,"видео") -> видео | I10: https://yadi.sk/d/FFAmhCSshBWqeg/K0203-3.jpg | J10: =HYPERLINK(I10,"фото") -> фото | K10: /100/50/ | L10: 18 | M10: 0.03 | N10: 2 | O10: 172 | P10: 123 | Q10: =#REF!*L10 -> #REF! | R10: =#REF!*M10 -> #REF!
B11: 15 | D11: P1004 | E11: Петарда - Поп корн (бертолетовая соль) | F11: 300 | I11: https://yadi.sk/d/FFAmhCSshBWqeg/P1004.jpg | J11: =HYPERLINK(I11,"фото") -> фото | K11: /6/50/50/ | L11: 7 | M11: 0.022 | N11: 3 | O11: 37 | P11: 28 | Q11: =#REF!*L11 -> #REF! | R11: =#REF!*M11 -> #REF!
B12: 16 | D12: P1004L | E12: Петарда - Поп корн Большой (бертолетовая соль) | F12: 80 | I12: https://yadi.sk/d/FFAmhCSshBWqeg/P1004L.jpg | J12: =HYPERLINK(I12,"фото") -> фото | K12: /4/20/50/ | L12: 8 | M12: 0.029 | N12: 1 | O12: 121 | P12: 87 | Q12: =#REF!*L12 -> #REF! | R12: =#REF!*M12 -> #REF!
B13: 17 | D13: GB603 | E13: Петарда фитильная (футбольные мячики) | F13: 40 | G13: https://youtu.be/S_jGwt2x3tw | H13: =HYPERLINK('Бытовая пиротехника MAXSEM'!$G13,"видео") -> видео | I13: https://yadi.sk/d/FFAmhCSshBWqeg/GB603.jpg | J13: =HYPERLINK(I13,"фото") -> фото | K13: /40/25/ | L13: 4 | M13: 0.023 | N13: 3 | O13: 326 | P13: 233 | Q13: =#REF!*L13 -> #REF! | R13: =#REF!*M13 -> #REF!
B14: 18 | D14: GB605 | E14: Петарда - Трещащие шарики | F14: 192 | G14: https://youtu.be/XFoMAStRR2I | H14: =HYPERLINK('Бытовая пиротехника MAXSEM'!$G14,"видео") -> видео | I14: https://yadi.sk/d/FFAmhCSshBWqeg/GB605.jpg | J14: =HYPERLINK(I14,"фото") -> фото | K14: /16/12/6/ | L14: 4 | M14: 0.025 | N14: 2 | O14: 56 | P14: 40 | Q14: =#REF!*L14 -> #REF! | R14: =#REF!*M14 -> #REF!
B15: 19 | D15: GW0901D | E15: Петарда фитильная - ЖУК (наземный волчок) | F15: 140 | G15: https://youtu.be/9iWVFC_8Wps | H15: =HYPERLINK('Бытовая пиротехника MAXSEM'!$G15,"видео") -> видео | I15: https://yadi.sk/d/FFAmhCSshBWqeg/GW0901D.jpg | J15: =HYPERLINK(I15,"фото") -> фото | K15: /14/10/10/ | L15: 13 | M15: 0.0306 | N15: 1 | O15: 123 | P15: 88 | Q15: =#REF!*L15 -> #REF! | R15: =#REF!*M15 -> #REF!
B16: 3 | D16: W504A/B | E16: Летающий фейерверк - Самолётик (летающая вертушка) | F16: 36 | G16: https://www.youtube.com/watch?v=n_qX3TMGvcA | H16: =HYPERLINK('Бытовая пиротехника MAXSEM'!$G16,"видео") -> видео | I16: https://yadi.sk/d/FFAmhCSshBWqeg/W504AB.jpg | J16: =HYPERLINK(I16,"фото") -> фото | K16: /36/6/ | L16: 10.47 | M16: 0.062 | N16: 1 | O16: 629 | P16: 436 | Q16: =#REF!*L16 -> #REF! | R16: =#REF!*M16 -> #REF!
B17: 3 | D17: GWR6106 | E17: Ракета | F17: 36 | G17: https://youtu.be/hqjVm_BypnM | H17: =HYPERLINK('Бытовая пиротехника MAXSEM'!$G17,"видео") -> видео | I17: https://yadi.sk/d/FFAmhCSshBWqeg/GWR6106.jpg | J17: =HYPERLINK(I17,"фото") -> фото | K17: /36/12/ | L17: 15 | M17: 0.062 | N17: 1 | O17: 662 | P17: 459 | Q17: =#REF!*L17 -> #REF! | R17: =#REF!*M17 -> #REF!
B18: 1 | D18: T-6237 | E18: Римская свеча 15 выстр. | F18: 80 | G18: https://youtu.be/fWA_jk8oU3Q | H18: =HYPERLINK('Бытовая пиротехника MAXSEM'!$G18,"видео") -> видео | I18: https://yadi.sk/d/FFAmhCSshBWqeg/T-6237.jpg | J18: =HYPERLINK(I18,"фото") -> фото | K18: /80/12/ | L18: 22 | M18: 0.048 | N18: 1 | O18: 293 | P18: 203 | Q18: =#REF!*L18 -> #REF! | R18: =#REF!*M18 -> #REF!
B19: 2 | D19: T-6238 | E19: Римская свеча 20 выстр. | F19: 48 | G19: https://youtu.be/CLgvvpRBExs | H19: =HYPERLINK('Бытовая пиротехника MAXSEM'!$G19,"видео") -> видео | I19: https://yadi.sk/d/FFAmhCSshBWqeg/T-6238.jpg | J19: =HYPERLINK(I19,"фото") -> фото | K19: /48/12/ | L19: 16 | M19: 0.034 | N19: 1 | O19: 364 | P19: 252 | Q19: =#REF!*L19 -> #REF! | R19: =#REF!*M19 -> #REF!
B20: 3 | D20: T-6242 | E20: Римская свеча 40 выстр. | F20: 36 | G20: https://youtu.be/l7zPx8Obr2o | H20: =HYPERLINK('Бытовая пиротехника MAXSEM'!$G20,"видео") -> видео | I20: https://yadi.sk/d/FFAmhCSshBWqeg/T-6242.jpg | J20: =HYPERLINK(I20,"фото") -> фото | K20: /36/12/ | L20: 25 | M20: 0.054 | N20: 1 | O20: 716 | P20: 496 | Q20: =#REF!*L20 -> #REF! | R20: =#REF!*M20 -> #REF!
B21: 5 | D21: MR001-20 | E21: Римская свеча 0,5" 20 выстр. | F21: 36 | G21: https://youtu.be/dZGuT2Hejcg | H21: =HYPERLINK('Бытовая пиротехника MAXSEM'!$G21,"видео") -> видео | I21: https://yadi.sk/d/FFAmhCSshBWqeg/MR001-20.jpg | J21: =HYPERLINK(I21,"фото") -> фото | K21: /36/2/ | L21: 9 | M21: 0.022 | N21: 3 | O21: 275 | P21: 191 | Q21: =#REF!*L21 -> #REF! | R21: =#REF!*M21 -> #REF!
B22: 6 | D22: SF-395 | E22: Римская свеча 0,5" 8 выстр. | F22: 36 | G22: https://youtu.be/OTS6O54Vuzs | H22: =HYPERLINK('Бытовая пиротехника MAXSEM'!$G22,"видео") -> видео | I22: https://yadi.sk/d/FFAmhCSshBWqeg/SF-395.jpg | J22: =HYPERLINK(I22,"фото") -> фото | K22: /36/4/ | L22: 19 | M22: 0.046 | N22: 2 | O22: 533 | P22: 369 | Q22: =#REF!*L22 -> #REF! | R22: =#REF!*M22 -> #REF!
B23: 9 | D23: GWL-0008 | E23: Римская свеча 0,8" 10 выстр. | F23: 48 | I23: https://yadi.sk/d/FFAmhCSshBWqeg/GWL-0008.jpg | J23: =HYPERLINK(I23,"фото") -> фото | K23: /48/2/ | L23: 25 | M23: 0.052 | N23: 1 | O23: 644 | P23: 446 | Q23: =#REF!*L23 -> #REF! | R23: =#REF!*M23 -> #REF!
B24: 10 | D24: GWL-0010 | E24: Римская свеча 0,8" 8 выстр. | F24: 24 | G24: https://youtu.be/uDXEuQ1tRG0 | H24: =HYPERLINK('Бытовая пиротехника MAXSEM'!$G24,"видео") -> видео | I24: https://yadi.sk/d/FFAmhCSshBWqeg/GWL-0010.jpg | J24: =HYPERLINK(I24,"фото") -> фото | K24: /24/4/ | L24: 23 | M24: 0.05 | N24: 1 | O24: 1028 | P24: 713 | Q24: =#REF!*L24 -> #REF! | R24: =#REF!*M24 -> #REF!
B25: 11 | D25: GWL-0009 | E25: Римская свеча 1" 5 выстр. | F25: 36 | G25: https://youtu.be/gnCo4kl3bDo | H25: =HYPERLINK('Бытовая пиротехника MAXSEM'!$G25,"видео") -> видео | I25: https://yadi.sk/d/FFAmhCSshBWqeg/GWL-0009.jpg | J25: =HYPERLINK(I25,"фото") -> фото | K25: /36/1/ | L25: 12 | M25: 0.046 | N25: 1 | O25: 420 | P25: 291 | Q25: =#REF!*L25 -> #REF! | R25: =#REF!*M25 -> #REF!
B26: 12 | D26: SF-398A | E26: Римская свеча 1" 8 выстр. - А | F26: 36 | G26: https://youtu.be/XscePuJz7VY | H26: =HYPERLINK('Бытовая пиротехника MAXSEM'!$G26,"видео") -> видео | I26: https://yadi.sk/d/FFAmhCSshBWqeg/SF-398A.jpg | J26: =HYPERLINK(I26,"фото") -> фото | K26: /36/1/ | L26: 16 | M26: 0.045 | N26: 1 | O26: 546 | P26: 379 | Q26: =#REF!*L26 -> #REF! | R26: =#REF!*M26 -> #REF!
B27: 13 | D27: SF-398В | E27: Римская свеча 1" 8 выстр. - В | F27: 36 | G27: https://youtu.be/YYS-Pdn4i3A | H27: =HYPERLINK('Бытовая пиротехника MAXSEM'!$G27,"видео") -> видео | I27: https://yadi.sk/d/FFAmhCSshBWqeg/SF-398В.jpg | J27: =HYPERLINK(I27,"фото") -> фото | K27: /36/1/ | L27: 16 | M27: 0.045 | N27: 1 | O27: 546 | P27: 379 | Q27: =#REF!*L27 -> #REF! | R27: =#REF!*M27 -> #REF!
B28: 14 | D28: SF-398С | E28: Римская свеча 1" 8 выстр. - С | F28: 36 | G28: https://youtu.be/pyLOGRAYny8 | H28: =HYPERLINK('Бытовая пиротехника MAXSEM'!$G28,"видео") -> видео | I28: https://yadi.sk/d/FFAmhCSshBWqeg/SF-398С.jpg | J28: =HYPERLINK(I28,"фото") -> фото | K28: /36/1/ | L28: 16 | M28: 0.045 | N28: 1 | O28: 546 | P28: 379 | Q28: =#REF!*L28 -> #REF! | R28: =#REF!*M28 -> #REF!
B29: 15 | D29: SF-396 | E29: Римская свеча 1" 10 выстр. - 2mix | F29: 18 | G29: https://youtu.be/9uOTddbHQwc | H29: =HYPERLINK('Бытовая пиротехника MAXSEM'!$G29,"видео") -> видео | I29: https://yadi.sk/d/FFAmhCSshBWqeg/SF-396.jpg | J29: =HYPERLINK(I29,"фото") -> фото | K29: /18/2/ | L29: 18 | M29: 0.04 | N29: 1 | O29: 1274 | P29: 883 | Q29: =#REF!*L29 -> #REF! | R29: =#REF!*M29 -> #REF!
B30: 17 | D30: GWL-0012A | E30: Римская свеча 1,2" 8 выстр. - A | F30: 24 | G30: https://www.youtube.com/watch?v=4VqS6-WC2P4 | H30: =HYPERLINK('Бытовая пиротехника MAXSEM'!$G30,"видео") -> видео | I30: https://yadi.sk/d/FFAmhCSshBWqeg/GWL-0012A.jpg | J30: =HYPERLINK(I30,"фото") -> фото | K30: /24/1/ | L30: 15 | M30: 0.04 | N30: 1 | O30: 695 | P30: 482 | Q30: =#REF!*L30 -> #REF! | R30: =#REF!*M30 -> #REF!
B31: 18 | D31: GWL-0012В | E31: Римская свеча 1,2" 8 выстр. - B | F31: 24 | G31: https://www.youtube.com/watch?v=IkO8DTmc5Q4 | H31: =HYPERLINK('Бытовая пиротехника MAXSEM'!$G31,"видео") -> видео | I31: https://yadi.sk/d/FFAmhCSshBWqeg/GWL-0012В.jpg | J31: =HYPERLINK(I31,"фото") -> фото | K31: /24/1/ | L31: 15 | M31: 0.04 | N31: 1 | O31: 695 | P31: 482 | Q31: =#REF!*L31 -> #REF! | R31: =#REF!*M31 -> #REF!
B32: 19 | D32: GWL-0012С | E32: Римская свеча 1,2" 8 выстр. - C | F32: 24 | G32: https://www.youtube.com/watch?v=aHIfBnbTjHA | H32: =HYPERLINK('Бытовая пиротехника MAXSEM'!$G32,"видео") -> видео | I32: https://yadi.sk/d/FFAmhCSshBWqeg/GWL-0012С.jpg | J32: =HYPERLINK(I32,"фото") -> фото | K32: /24/1/ | L32: 15 | M32: 0.04 | N32: 1 | O32: 695 | P32: 482 | Q32: =#REF!*L32 -> #REF! | R32: =#REF!*M32 -> #REF!
B33: 23 | D33: GWL-0013A | E33: Римская свеча 1,5" 8 выстр. - A | F33: 24 | G33: https://youtu.be/syfM_4xWRsQ | H33: =HYPERLINK('Бытовая пиротехника MAXSEM'!$G33,"видео") -> видео | I33: https://yadi.sk/d/FFAmhCSshBWqeg/GWL-0013A.jpg | J33: =HYPERLINK(I33,"фото") -> фото | K33: /24/1/ | L33: 24 | M33: 0.066 | N33: 1 | O33: 1053 | P33: 731 | Q33: =#REF!*L33 -> #REF! | R33: =#REF!*M33 -> #REF!
B34: 11 | D34: MF-004 | E34: Тортовые свечи 10см. | F34: 180 | I34: https://yadi.sk/d/FFAmhCSshBWqeg/MF-004.jpg | J34: =HYPERLINK(I34,"фото") -> фото | K34: /4/45/4/ | L34: 13 | M34: 0.074 | N34: 1 | O34: 117 | P34: 81 | Q34: =#REF!*L34 -> #REF! | R34: =#REF!*M34 -> #REF!
B35: 1 | D35: 0977 | E35: Бенгальские огни 16см. | F35: 500 | G35: https://youtu.be/vBqWvbdxyUM | H35: =HYPERLINK('Бытовая пиротехника MAXSEM'!$G35,"видео") -> видео | I35: https://yadi.sk/d/FFAmhCSshBWqeg/0977.jpg | J35: =HYPERLINK(I35,"фото") -> фото | K35: /50/10/10/ | L35: 10 | M35: 0.029 | N35: 3 | O35: 23 | P35: 18 | Q35: =#REF!*L35 -> #REF! | R35: =#REF!*M35 -> #REF!
B36: 2 | D36: 0978 | E36: Бенгальские огни 25см. | F36: 300 | G36: https://youtu.be/SZDimWWBcIg | H36: =HYPERLINK('Бытовая пиротехника MAXSEM'!$G36,"видео") -> видео | I36: https://yadi.sk/d/FFAmhCSshBWqeg/0978.jpg | J36: =HYPERLINK(I36,"фото") -> фото | K36: /30/10/8/ | L36: 10 | M36: 0.03 | N36: 3 | O36: 38 | P36: 31 | Q36: =#REF!*L36 -> #REF! | R36: =#REF!*M36 -> #REF!
B37: 3 | D37: 0920 | E37: Бенгальские огни 50см. | F37: 100 | G37: https://youtu.be/pXYgglc5vCM | H37: =HYPERLINK('Бытовая пиротехника MAXSEM'!$G37,"видео") -> видео | I37: https://yadi.sk/d/FFAmhCSshBWqeg/0920.jpg | J37: =HYPERLINK(I37,"фото") -> фото | K37: /100/6/ | L37: 13 | M37: 0.023 | N37: 6 | O37: 149 | P37: 115 | Q37: =#REF!*L37 -> #REF! | R37: =#REF!*M37 -> #REF!
B38: 4 | D38: 0981 | E38: Бенгальские огни 70см. | F38: 100 | G38: https://youtu.be/6AzPa506tTM | H38: =HYPERLINK('Бытовая пиротехника MAXSEM'!$G38,"видео") -> видео | I38: https://yadi.sk/d/FFAmhCSshBWqeg/0981.jpg | J38: =HYPERLINK(I38,"фото") -> фото | K38: /10/10/3/ | L38: 11 | M38: 0.024 | N38: 1 | O38: 122 | P38: 94 | Q38: =#REF!*L38 -> #REF! | R38: =#REF!*M38 -> #REF!
B39: 9 | D39: 0784E | E39: Бенгальские огни | F39: 150 | G39: https://youtu.be/u4mvPEVLtzM | H39: =HYPERLINK('Бытовая пиротехника MAXSEM'!$G39,"видео") -> видео | I39: https://yadi.sk/d/FFAmhCSshBWqeg/0784E.jpg | J39: =HYPERLINK(I39,"фото") -> фото | K39: /150/2/ | L39: 4 | M39: 0.0278 | N39: 1 | O39: 77 | P39: 61 | Q39: =#REF!*L39 -> #REF! | R39: =#REF!*M39 -> #REF!
B40: 10 | D40: 0784S | E40: Бенгальские огни | F40: 150 | G40: https://youtu.be/IBocpnKIHx0 | H40: =HYPERLINK('Бытовая пиротехника MAXSEM'!$G40,"видео") -> видео | I40: https://yadi.sk/d/FFAmhCSshBWqeg/0784S.jpg | J40: =HYPERLINK(I40,"фото") -> фото | K40: /150/2/ | L40: 4 | M40: 0.0278 | N40: 2 | O40: 77 | P40: 61 | Q40: =#REF!*L40 -> #REF! | R40: =#REF!*M40 -> #REF!
B41: 1 | D41: M0801 | E41: Батарея салютов 0,8" 7 выстр. 3 эффекта h-120мм. | F41: 72 | G41: https://youtu.be/szU_Gk3O24k | H41: =HYPERLINK('Бытовая пиротехника MAXSEM'!$G41,"видео") -> видео | I41: https://yadi.sk/d/FFAmhCSshBWqeg/M0801.jpg | J41: =HYPERLINK(I41,"фото") -> фото | K41: /72/1/ | L41: 22 | M41: 0.058 | N41: 1 | O41: 342 | P41: 237 | Q41: =#REF!*L41 -> #REF! | R41: =#REF!*M41 -> #REF!
B42: 2 | D42: M0811 | E42: Батарея салютов 0,8" 9 выстр. 2 эффекта h-120мм. | F42: 36 | G42: https://youtu.be/4va7ZRe2d7o | H42: =HYPERLINK('Бытовая пиротехника MAXSEM'!$G42,"видео") -> видео | I42: https://yadi.sk/d/FFAmhCSshBWqeg/M0811.jpg | J42: =HYPERLINK(I42,"фото") -> фото | K42: /36/1/ | L42: 15 | M42: 0.033 | N42: 1 | O42: 468 | P42: 324 | Q42: =#REF!*L42 -> #REF! | R42: =#REF!*M42 -> #REF!
B43: 4 | D43: M0813 | E43: Батарея салютов 0,8" 9 выстр. 2 эффекта h-120мм. | F43: 36 | G43: https://youtu.be/7oAJ_jjLQ14 | H43: =HYPERLINK('Бытовая пиротехника MAXSEM'!$G43,"видео") -> видео | I43: https://yadi.sk/d/FFAmhCSshBWqeg/M0813.jpg | J43: =HYPERLINK(I43,"фото") -> фото | K43: /36/1/ | L43: 15 | M43: 0.033 | N43: 20 | O43: 468 | P43: 324 | Q43: =#REF!*L43 -> #REF! | R43: =#REF!*M43 -> #REF!
...
