Workbook
Name _FilterDatabase_0: 'Табель мер'!$A$5:$AE$5

Sheet Табель мер
A2: Артикул: | C2: PL-934-2 Moskin | D2: Конструктор: | H2: Строчкова Е.
A3: № п/п | B3: Код | C3: Наименование измерения | D3: Измерения, см | Z3: Уработка | AA3: Допуск (для расчета) | AB3: Допуск (значение) | AC3: Определение размера | AD3: Допуск, см | AE3: Шаг градации, см | AF3: Образец фабрики
D4: =Измерения!E2 -> 42 | F4: =Измерения!F2 -> 44 | H4: =Измерения!G2 -> 46 | J4: =Измерения!H2 -> 48 | L4: =Измерения!I2 -> 50 | N4: =Измерения!J2 -> 52 | P4: =Измерения!K2 -> 54 | R4: =Измерения!L2 | T4: =Измерения!M2 | V4: =Измерения!N2 | X4: =Измерения!O2
D5: лекала с уработкой | E5: факт. измерение | F5: лекала с уработкой | G5: факт. измерение | H5: лекала с уработкой | I5: факт. измерение | J5: лекала с уработкой | K5: факт. измерение | L5: лекала с уработкой | M5: факт. измерение | N5: лекала с уработкой | O5: факт. измерение | P5: лекала с уработкой | Q5: факт. измерение | R5: лекала с уработкой | S5: факт. измерение | T5: лекала с уработкой | U5: факт. измерение | V5: лекала с уработкой | W5: факт. измерение | X5: лекала с уработкой | Y5: факт. измерение
A6: 1 | B6: =IF(Измерения!C5<>0,Измерения!C5,0) -> Дп1 | C6: =IF(Измерения!D5<>0,Измерения!D5,0) -> Длина по средней линии полочки | D6: =INDEX(Измерения!E:E,MATCH('Табель мер'!B:B,Измерения!C:C,0)) -> 93.9 | F6: =INDEX(Измерения!F:F,MATCH(B:B,Измерения!C:C,0)) -> 95.2 | H6: =INDEX(Измерения!G:G,MATCH(B:B,Измерения!C:C,0)) -> 96.5 | J6: =INDEX(Измерения!H:H,MATCH(B:B,Измерения!C:C,0)) -> 97.9 | L6: =INDEX(Измерения!I:I,MATCH(B:B,Измерения!C:C,0)) -> 99.2 | N6: =INDEX(Измерения!J:J,MATCH(B:B,Измерения!C:C,0)) -> 100.5 | P6: =INDEX(Измерения!K:K,MATCH(B:B,Измерения!C:C,0)) -> 101.9 | R6: =INDEX(Измерения!L:L,MATCH(B:B,Измерения!C:C,0)) -> 0 | T6: =INDEX(Измерения!M:M,MATCH(B:B,Измерения!C:C,0)) -> 0 | V6: =INDEX(Измерения!N:N,MATCH(B:B,Измерения!C:C,0)) -> 0 | X6: =INDEX(Измерения!O:O,MATCH(B:B,Измерения!C:C,0)) -> 0 | Z6: -0.6 | AA6: ± | AB6: =IF(OR(B6="Ш по",B6="Ш маж р",B6="В ст",B6="Ш вор с"),0.2,IF(OR(B6="Д карм",B6="Ш р н",B6="Длс",B6="Шг"),0.3,IF(B6="Дл п",0.4,IF(OR(B6="Шб1",B6="Ш р",B6="Длп",B6="Дл отл"),0.5,IF(OR(B6="Шсп",B6="Дл с"),0.6,IF(OR(B6="Шп",B6="Шт",B6="Шб",B6="Ш т"),1,IF(OR(B6="Шн",B6="Шпл"),AC6*0.02,AC6*0.015))))))) -> 1.428 | AC6: =IF($D$4="44",$D6,IF($F$4="44",$F6,IF($H$4="44",$H6,IF($J$4="44",$J6,IF($L$4="44",$L6,IF($N$4="44",$N6,IF($P$4="44",$P6,IF($R$4="44",$R6,IF($T$4="44",$T6,IF($V$4="44",$V6,IF($X$4="44",$X6,0))))))))))) -> 95.2 | AD6: =LEFT(AA6&AB6,4) -> ±1,4 | AE6: =AVERAGE(F6-D6,H6-F6,J6-H6) -> 1.3333333
A7: 2 | B7: =IF(Измерения!C6<>0,Измерения!C6,0) -> Длп | C7: =IF(Измерения!D6<>0,Измерения!D6,0) -> Длина горловины полочки | D7: =INDEX(Измерения!E:E,MATCH('Табель мер'!B:B,Измерения!C:C,0)) -> 14.9 | F7: =INDEX(Измерения!F:F,MATCH(B:B,Измерения!C:C,0)) -> 15.2 | H7: =INDEX(Измерения!G:G,MATCH(B:B,Измерения!C:C,0)) -> 15.6 | J7: =INDEX(Измерения!H:H,MATCH(B:B,Измерения!C:C,0)) -> 15.9 | L7: =INDEX(Измерения!I:I,MATCH(B:B,Измерения!C:C,0)) -> 16.3 | N7: =INDEX(Измерения!J:J,MATCH(B:B,Измерения!C:C,0)) -> 16.7 | P7: =INDEX(Измерения!K:K,MATCH(B:B,Измерения!C:C,0)) -> 16.9 | R7: =INDEX(Измерения!L:L,MATCH(B:B,Измерения!C:C,0)) -> 0 | T7: =INDEX(Измерения!M:M,MATCH(B:B,Измерения!C:C,0)) -> 0 | V7: =INDEX(Измерения!N:N,MATCH(B:B,Измерения!C:C,0)) -> 0 | X7: =INDEX(Измерения!O:O,MATCH(B:B,Измерения!C:C,0)) -> 0 | Z7: =IF(B7="Шб1",-0.3,IF(B7="Дл ср з",0.5,IF(B7="Ш р",-0.2,IF(OR(B7="Дл бок",B7="Дл шг"),-1,0)))) -> 0 | AA7: ± | AB7: =IF(OR(B7="Ш по",B7="Ш маж р",B7="В ст",B7="Ш вор с"),0.2,IF(OR(B7="Д карм",B7="Ш р н",B7="Длс",B7="Шг"),0.3,IF(B7="Дл п",0.4,IF(OR(B7="Шб1",B7="Ш р",B7="Длп",B7="Дл отл"),0.5,IF(OR(B7="Шсп",B7="Дл с"),0.6,IF(OR(B7="Шп",B7="Шт",B7="Шб",B7="Ш т"),1,IF(OR(B7="Шн",B7="Шпл"),AC7*0.02,AC7*0.015))))))) -> 0.5 | AC7: =IF($D$4="44",$D7,IF($F$4="44",$F7,IF($H$4="44",$H7,IF($J$4="44",$J7,IF($L$4="44",$L7,IF($N$4="44",$N7,IF($P$4="44",$P7,IF($R$4="44",$R7,IF($T$4="44",$T7,IF($V$4="44",$V7,IF($X$4="44",$X7,0))))))))))) -> 15.2 | AD7: =LEFT(AA7&AB7,4) -> ±0,5 | AE7: =AVERAGE(F7-D7,H7-F7,J7-H7) -> 0.33333333
A8: 3 | B8: =IF(Измерения!C7<>0,Измерения!C7,0) -> Шг | C8: =IF(Измерения!D7<>0,Измерения!D7,0) -> Ширина груди в застегнутом виде 13 см от высшей точки плеча | D8: =INDEX(Измерения!E:E,MATCH('Табель мер'!B:B,Измерения!C:C,0)) -> 34.4 | F8: =INDEX(Измерения!F:F,MATCH(B:B,Измерения!C:C,0)) -> 35 | H8: =INDEX(Измерения!G:G,MATCH(B:B,Измерения!C:C,0)) -> 35.6 | J8: =INDEX(Измерения!H:H,MATCH(B:B,Измерения!C:C,0)) -> 36.2 | L8: =INDEX(Измерения!I:I,MATCH(B:B,Измерения!C:C,0)) -> 36.8 | N8: =INDEX(Измерения!J:J,MATCH(B:B,Измерения!C:C,0)) -> 37.7 | P8: =INDEX(Измерения!K:K,MATCH(B:B,Измерения!C:C,0)) -> 38.5 | R8: =INDEX(Измерения!L:L,MATCH(B:B,Измерения!C:C,0)) -> 0 | T8: =INDEX(Измерения!M:M,MATCH(B:B,Измерения!C:C,0)) -> 0 | V8: =INDEX(Измерения!N:N,MATCH(B:B,Измерения!C:C,0)) -> 0 | X8: =INDEX(Измерения!O:O,MATCH(B:B,Измерения!C:C,0)) -> 0 | Z8: -0.2 | AA8: ± | AB8: =IF(OR(B8="Ш по",B8="Ш маж р",B8="В ст",B8="Ш вор с"),0.2,IF(OR(B8="Д карм",B8="Ш р н",B8="Длс",B8="Шг"),0.3,IF(B8="Дл п",0.4,IF(OR(B8="Шб1",B8="Ш р",B8="Длп",B8="Дл отл"),0.5,IF(OR(B8="Шсп",B8="Дл с"),0.6,IF(OR(B8="Шп",B8="Шт",B8="Шб",B8="Ш т"),1,IF(OR(B8="Шн",B8="Шпл"),AC8*0.02,AC8*0.015))))))) -> 0.3 | AC8: =IF($D$4="44",$D8,IF($F$4="44",$F8,IF($H$4="44",$H8,IF($J$4="44",$J8,IF($L$4="44",$L8,IF($N$4="44",$N8,IF($P$4="44",$P8,IF($R$4="44",$R8,IF($T$4="44",$T8,IF($V$4="44",$V8,IF($X$4="44",$X8,0))))))))))) -> 35 | AD8: =LEFT(AA8&AB8,4) -> ±0,3 | AE8: =AVERAGE(F8-D8,H8-F8,J8-H8) -> 0.6
A9: 4 | B9: =IF(Измерения!C8<>0,Измерения!C8,0) -> Шп | C9: =IF(Измерения!D8<>0,Измерения!D8,0) -> Ширина под проймой в застегнутом виде | D9: =INDEX(Измерения!E:E,MATCH('Табель мер'!B:B,Измерения!C:C,0)) -> 47.1 | F9: =INDEX(Измерения!F:F,MATCH(B:B,Измерения!C:C,0)) -> 49 | H9: =INDEX(Измерения!G:G,MATCH(B:B,Измерения!C:C,0)) -> 50.8 | J9: =INDEX(Измерения!H:H,MATCH(B:B,Измерения!C:C,0)) -> 52.7 | L9: =INDEX(Измерения!I:I,MATCH(B:B,Измерения!C:C,0)) -> 54.5 | N9: =INDEX(Измерения!J:J,MATCH(B:B,Измерения!C:C,0)) -> 56.4 | P9: =INDEX(Измерения!K:K,MATCH(B:B,Измерения!C:C,0)) -> 58.2 | R9: =INDEX(Измерения!L:L,MATCH(B:B,Измерения!C:C,0)) -> 0 | T9: =INDEX(Измерения!M:M,MATCH(B:B,Измерения!C:C,0)) -> 0 | V9: =INDEX(Измерения!N:N,MATCH(B:B,Измерения!C:C,0)) -> 0 | X9: =INDEX(Измерения!O:O,MATCH(B:B,Измерения!C:C,0)) -> 0 | Z9: -0.2 | AA9: ± | AB9: =IF(OR(B9="Ш по",B9="Ш маж р",B9="В ст",B9="Ш вор с"),0.2,IF(OR(B9="Д карм",B9="Ш р н",B9="Длс",B9="Шг"),0.3,IF(B9="Дл п",0.4,IF(OR(B9="Шб1",B9="Ш р",B9="Длп",B9="Дл отл"),0.5,IF(OR(B9="Шсп",B9="Дл с"),0.6,IF(OR(B9="Шп",B9="Шт",B9="Шб",B9="Ш т"),1,IF(OR(B9="Шн",B9="Шпл"),AC9*0.02,AC9*0.015))))))) -> 1 | AC9: =IF($D$4="44",$D9,IF($F$4="44",$F9,IF($H$4="44",$H9,IF($J$4="44",$J9,IF($L$4="44",$L9,IF($N$4="44",$N9,IF($P$4="44",$P9,IF($R$4="44",$R9,IF($T$4="44",$T9,IF($V$4="44",$V9,IF($X$4="44",$X9,0))))))))))) -> 49 | AD9: =LEFT(AA9&AB9,4) -> ±1 | AE9: =AVERAGE(F9-D9,H9-F9,J9-H9) -> 1.8666667
A10: 5 | B10: =IF(Измерения!C9<>0,Измерения!C9,0) -> Шт | C10: =IF(Измерения!D9<>0,Измерения!D9,0) -> Ширина на уровне талии в застегнутом виде | D10: =INDEX(Измерения!E:E,MATCH('Табель мер'!B:B,Измерения!C:C,0)) -> 38.7 | F10: =INDEX(Измерения!F:F,MATCH(B:B,Измерения!C:C,0)) -> 40.8 | H10: =INDEX(Измерения!G:G,MATCH(B:B,Измерения!C:C,0)) -> 42.9 | J10: =INDEX(Измерения!H:H,MATCH(B:B,Измерения!C:C,0)) -> 45 | L10: =INDEX(Измерения!I:I,MATCH(B:B,Измерения!C:C,0)) -> 47.1 | N10: =INDEX(Измерения!J:J,MATCH(B:B,Измерения!C:C,0)) -> 49.2 | P10: =INDEX(Измерения!K:K,MATCH(B:B,Измерения!C:C,0)) -> 51.6 | R10: =INDEX(Измерения!L:L,MATCH(B:B,Измерения!C:C,0)) -> 0 | T10: =INDEX(Измерения!M:M,MATCH(B:B,Измерения!C:C,0)) -> 0 | V10: =INDEX(Измерения!N:N,MATCH(B:B,Измерения!C:C,0)) -> 0 | X10: =INDEX(Измерения!O:O,MATCH(B:B,Измерения!C:C,0)) -> 0 | Z10: -0.2 | AA10: ± | AB10: =IF(OR(B10="Ш по",B10="Ш маж р",B10="В ст",B10="Ш вор с"),0.2,IF(OR(B10="Д карм",B10="Ш р н",B10="Длс",B10="Шг"),0.3,IF(B10="Дл п",0.4,IF(OR(B10="Шб1",B10="Ш р",B10="Длп",B10="Дл отл"),0.5,IF(OR(B10="Шсп",B10="Дл с"),0.6,IF(OR(B10="Шп",B10="Шт",B10="Шб",B10="Ш т"),1,IF(OR(B10="Шн",B10="Шпл"),AC10*0.02,AC10*0.015))))))) -> 1 | AC10: =IF($D$4="44",$D10,IF($F$4="44",$F10,IF($H$4="44",$H10,IF($J$4="44",$J10,IF($L$4="44",$L10,IF($N$4="44",$N10,IF($P$4="44",$P10,IF($R$4="44",$R10,IF($T$4="44",$T10,IF($V$4="44",$V10,IF($X$4="44",$X10,0))))))))))) -> 40.8 | AD10: =LEFT(AA10&AB10,4) -> ±1 | AE10: =AVERAGE(F10-D10,H10-F10,J10-H10) -> 2.1
A11: 6 | B11: =IF(Измерения!C10<>0,Измерения!C10,0) -> Шпл | C11: =IF(Измерения!D10<>0,Измерения!D10,0) -> Ширина плеча | D11: =INDEX(Измерения!E:E,MATCH('Табель мер'!B:B,Измерения!C:C,0)) -> 12.4 | F11: =INDEX(Измерения!F:F,MATCH(B:B,Измерения!C:C,0)) -> 12.5 | H11: =INDEX(Измерения!G:G,MATCH(B:B,Измерения!C:C,0)) -> 12.7 | J11: =INDEX(Измерения!H:H,MATCH(B:B,Измерения!C:C,0)) -> 12.8 | L11: =INDEX(Измерения!I:I,MATCH(B:B,Измерения!C:C,0)) -> 12.9 | N11: =INDEX(Измерения!J:J,MATCH(B:B,Измерения!C:C,0)) -> 13.1 | P11: =INDEX(Измерения!K:K,MATCH(B:B,Измерения!C:C,0)) -> 13.1 | R11: =INDEX(Измерения!L:L,MATCH(B:B,Измерения!C:C,0)) -> 0 | T11: =INDEX(Измерения!M:M,MATCH(B:B,Измерения!C:C,0)) -> 0 | V11: =INDEX(Измерения!N:N,MATCH(B:B,Измерения!C:C,0)) -> 0 | X11: =INDEX(Измерения!O:O,MATCH(B:B,Измерения!C:C,0)) -> 0 | Z11: =IF(B11="Шб1",-0.3,IF(B11="Дл ср з",0.5,IF(B11="Ш р",-0.2,IF(OR(B11="Дл бок",B11="Дл шг"),-1,0)))) -> 0 | AA11: ± | AB11: =IF(OR(B11="Ш по",B11="Ш маж р",B11="В ст",B11="Ш вор с"),0.2,IF(OR(B11="Д карм",B11="Ш р н",B11="Длс",B11="Шг"),0.3,IF(B11="Дл п",0.4,IF(OR(B11="Шб1",B11="Ш р",B11="Длп",B11="Дл отл"),0.5,IF(OR(B11="Шсп",B11="Дл с"),0.6,IF(OR(B11="Шп",B11="Шт",B11="Шб",B11="Ш т"),1,IF(OR(B11="Шн",B11="Шпл"),AC11*0.02,AC11*0.015))))))) -> 0.25 | AC11: =IF($D$4="44",$D11,IF($F$4="44",$F11,IF($H$4="44",$H11,IF($J$4="44",$J11,IF($L$4="44",$L11,IF($N$4="44",$N11,IF($P$4="44",$P11,IF($R$4="44",$R11,IF($T$4="44",$T11,IF($V$4="44",$V11,IF($X$4="44",$X11,0))))))))))) -> 12.5 | AD11: =LEFT(AA11&AB11,4) -> ±0,2 | AE11: =AVERAGE(F11-D11,H11-F11,J11-H11) -> 0.13333333
A12: 7 | B12: =IF(Измерения!C11<>0,Измерения!C11,0) -> Дл п | C12: =IF(Измерения!D11<>0,Измерения!D11,0) -> Длина проймы полочки | D12: =INDEX(Измерения!E:E,MATCH('Табель мер'!B:B,Измерения!C:C,0)) -> 19.5 | F12: =INDEX(Измерения!F:F,MATCH(B:B,Измерения!C:C,0)) -> 20.3 | H12: =INDEX(Измерения!G:G,MATCH(B:B,Измерения!C:C,0)) -> 21.1 | J12: =INDEX(Измерения!H:H,MATCH(B:B,Измерения!C:C,0)) -> 21.9 | L12: =INDEX(Измерения!I:I,MATCH(B:B,Измерения!C:C,0)) -> 22.7 | N12: =INDEX(Измерения!J:J,MATCH(B:B,Измерения!C:C,0)) -> 23.4 | P12: =INDEX(Измерения!K:K,MATCH(B:B,Измерения!C:C,0)) -> 24.2 | R12: =INDEX(Измерения!L:L,MATCH(B:B,Измерения!C:C,0)) -> 0 | T12: =INDEX(Измерения!M:M,MATCH(B:B,Измерения!C:C,0)) -> 0 | V12: =INDEX(Измерения!N:N,MATCH(B:B,Измерения!C:C,0)) -> 0 | X12: =INDEX(Измерения!O:O,MATCH(B:B,Измерения!C:C,0)) -> 0 | Z12: =IF(B12="Шб1",-0.3,IF(B12="Дл ср з",0.5,IF(B12="Ш р",-0.2,IF(OR(B12="Дл бок",B12="Дл шг"),-1,0)))) -> 0 | AA12: ± | AB12: =IF(OR(B12="Ш по",B12="Ш маж р",B12="В ст",B12="Ш вор с"),0.2,IF(OR(B12="Д карм",B12="Ш р н",B12="Длс",B12="Шг"),0.3,IF(B12="Дл п",0.4,IF(OR(B12="Шб1",B12="Ш р",B12="Длп",B12="Дл отл"),0.5,IF(OR(B12="Шсп",B12="Дл с"),0.6,IF(OR(B12="Шп",B12="Шт",B12="Шб",B12="Ш т"),1,IF(OR(B12="Шн",B12="Шпл"),AC12*0.02,AC12*0.015))))))) -> 0.4 | AC12: =IF($D$4="44",$D12,IF($F$4="44",$F12,IF($H$4="44",$H12,IF($J$4="44",$J12,IF($L$4="44",$L12,IF($N$4="44",$N12,IF($P$4="44",$P12,IF($R$4="44",$R12,IF($T$4="44",$T12,IF($V$4="44",$V12,IF($X$4="44",$X12,0))))))))))) -> 20.3 | AD12: =LEFT(AA12&AB12,4) -> ±0,4 | AE12: =AVERAGE(F12-D12,H12-F12,J12-H12) -> 0.8
A13: 8 | B13: =IF(Измерения!C12<>0,Измерения!C12,0) -> Дл р | C13: =IF(Измерения!D12<>0,Измерения!D12,0) -> Длина рукава | D13: =INDEX(Измерения!E:E,MATCH('Табель мер'!B:B,Измерения!C:C,0)) -> 51.9 | F13: =INDEX(Измерения!F:F,MATCH(B:B,Измерения!C:C,0)) -> 52.1 | H13: =INDEX(Измерения!G:G,MATCH(B:B,Измерения!C:C,0)) -> 52.3 | J13: =INDEX(Измерения!H:H,MATCH(B:B,Измерения!C:C,0)) -> 52.5 | L13: =INDEX(Измерения!I:I,MATCH(B:B,Измерения!C:C,0)) -> 52.7 | N13: =INDEX(Измерения!J:J,MATCH(B:B,Измерения!C:C,0)) -> 52.9 | P13: =INDEX(Измерения!K:K,MATCH(B:B,Измерения!C:C,0)) -> 53.2 | R13: =INDEX(Измерения!L:L,MATCH(B:B,Измерения!C:C,0)) -> 0 | T13: =INDEX(Измерения!M:M,MATCH(B:B,Измерения!C:C,0)) -> 0 | V13: =INDEX(Измерения!N:N,MATCH(B:B,Измерения!C:C,0)) -> 0 | X13: =INDEX(Измерения!O:O,MATCH(B:B,Измерения!C:C,0)) -> 0 | Z13: =IF(B13="Шб1",-0.3,IF(B13="Дл ср з",0.5,IF(B13="Ш р",-0.2,IF(OR(B13="Дл бок",B13="Дл шг"),-1,0)))) -> 0 | AA13: ± | AB13: =IF(OR(B13="Ш по",B13="Ш маж р",B13="В ст",B13="Ш вор с"),0.2,IF(OR(B13="Д карм",B13="Ш р н",B13="Длс",B13="Шг"),0.3,IF(B13="Дл п",0.4,IF(OR(B13="Шб1",B13="Ш р",B13="Длп",B13="Дл отл"),0.5,IF(OR(B13="Шсп",B13="Дл с"),0.6,IF(OR(B13="Шп",B13="Шт",B13="Шб",B13="Ш т"),1,IF(OR(B13="Шн",B13="Шпл"),AC13*0.02,AC13*0.015))))))) -> 0.7815 | AC13: =IF($D$4="44",$D13,IF($F$4="44",$F13,IF($H$4="44",$H13,IF($J$4="44",$J13,IF($L$4="44",$L13,IF($N$4="44",$N13,IF($P$4="44",$P13,IF($R$4="44",$R13,IF($T$4="44",$T13,IF($V$4="44",$V13,IF($X$4="44",$X13,0))))))))))) -> 52.1 | AD13: =LEFT(AA13&AB13,4) -> ±0,7 | AE13: =AVERAGE(F13-D13,H13-F13,J13-H13) -> 0.2
A14: 9 | B14: =IF(Измерения!C13<>0,Измерения!C13,0) -> Ш р н | C14: =IF(Измерения!D13<>0,Измерения!D13,0) -> Ширина рукав по низу | D14: =INDEX(Измерения!E:E,MATCH('Табель мер'!B:B,Измерения!C:C,0)) -> 11.8 | F14: =INDEX(Измерения!F:F,MATCH(B:B,Измерения!C:C,0)) -> 12.3 | H14: =INDEX(Измерения!G:G,MATCH(B:B,Измерения!C:C,0)) -> 12.7 | J14: =INDEX(Измерения!H:H,MATCH(B:B,Измерения!C:C,0)) -> 13.2 | L14: =INDEX(Измерения!I:I,MATCH(B:B,Измерения!C:C,0)) -> 13.6 | N14: =INDEX(Измерения!J:J,MATCH(B:B,Измерения!C:C,0)) -> 14.1 | P14: =INDEX(Измерения!K:K,MATCH(B:B,Измерения!C:C,0)) -> 14.5 | R14: =INDEX(Измерения!L:L,MATCH(B:B,Измерения!C:C,0)) -> 0 | T14: =INDEX(Измерения!M:M,MATCH(B:B,Измерения!C:C,0)) -> 0 | V14: =INDEX(Измерения!N:N,MATCH(B:B,Измерения!C:C,0)) -> 0 | X14: =INDEX(Измерения!O:O,MATCH(B:B,Измерения!C:C,0)) -> 0 | Z14: -0.2 | AA14: ± | AB14: =IF(OR(B14="Ш по",B14="Ш маж р",B14="В ст",B14="Ш вор с"),0.2,IF(OR(B14="Д карм",B14="Ш р н",B14="Длс",B14="Шг"),0.3,IF(B14="Дл п",0.4,IF(OR(B14="Шб1",B14="Ш р",B14="Длп",B14="Дл отл"),0.5,IF(OR(B14="Шсп",B14="Дл с"),0.6,IF(OR(B14="Шп",B14="Шт",B14="Шб",B14="Ш т"),1,IF(OR(B14="Шн",B14="Шпл"),AC14*0.02,AC14*0.015))))))) -> 0.3 | AC14: =IF($D$4="44",$D14,IF($F$4="44",$F14,IF($H$4="44",$H14,IF($J$4="44",$J14,IF($L$4="44",$L14,IF($N$4="44",$N14,IF($P$4="44",$P14,IF($R$4="44",$R14,IF($T$4="44",$T14,IF($V$4="44",$V14,IF($X$4="44",$X14,0))))))))))) -> 12.3 | AD14: =LEFT(AA14&AB14,4) -> ±0,3 | AE14: =AVERAGE(F14-D14,H14-F14,J14-H14) -> 0.46666667
A15: 10 | B15: =IF(Измерения!C14<>0,Измерения!C14,0) -> Ш р | C15: =IF(Измерения!D14<>0,Измерения!D14,0) -> Ширина рукава под проймой | D15: =INDEX(Измерения!E:E,MATCH('Табель мер'!B:B,Измерения!C:C,0)) -> 15.2 | F15: =INDEX(Измерения!F:F,MATCH(B:B,Измерения!C:C,0)) -> 15.8 | H15: =INDEX(Измерения!G:G,MATCH(B:B,Измерения!C:C,0)) -> 16.4 | J15: =INDEX(Измерения!H:H,MATCH(B:B,Измерения!C:C,0)) -> 17 | L15: =INDEX(Измерения!I:I,MATCH(B:B,Измерения!C:C,0)) -> 17.6 | N15: =INDEX(Измерения!J:J,MATCH(B:B,Измерения!C:C,0)) -> 18.2 | P15: =INDEX(Измерения!K:K,MATCH(B:B,Измерения!C:C,0)) -> 18.8 | R15: =INDEX(Измерения!L:L,MATCH(B:B,Измерения!C:C,0)) -> 0 | T15: =INDEX(Измерения!M:M,MATCH(B:B,Измерения!C:C,0)) -> 0 | V15: =INDEX(Измерения!N:N,MATCH(B:B,Измерения!C:C,0)) -> 0 | X15: =INDEX(Измерения!O:O,MATCH(B:B,Измерения!C:C,0)) -> 0 | Z15: =IF(B15="Шб1",-0.3,IF(B15="Дл ср з",0.5,IF(B15="Ш р",-0.2,IF(OR(B15="Дл бок",B15="Дл шг"),-1,0)))) -> -0.2 | AA15: ± | AB15: =IF(OR(B15="Ш по",B15="Ш маж р",B15="В ст",B15="Ш вор с"),0.2,IF(OR(B15="Д карм",B15="Ш р н",B15="Длс",B15="Шг"),0.3,IF(B15="Дл п",0.4,IF(OR(B15="Шб1",B15="Ш р",B15="Длп",B15="Дл отл"),0.5,IF(OR(B15="Шсп",B15="Дл с"),0.6,IF(OR(B15="Шп",B15="Шт",B15="Шб",B15="Ш т"),1,IF(OR(B15="Шн",B15="Шпл"),AC15*0.02,AC15*0.015))))))) -> 0.5 | AC15: =IF($D$4="44",$D15,IF($F$4="44",$F15,IF($H$4="44",$H15,IF($J$4="44",$J15,IF($L$4="44",$L15,IF($N$4="44",$N15,IF($P$4="44",$P15,IF($R$4="44",$R15,IF($T$4="44",$T15,IF($V$4="44",$V15,IF($X$4="44",$X15,0))))))))))) -> 15.8 | AD15: =LEFT(AA15&AB15,4) -> ±0,5 | AE15: =AVERAGE(F15-D15,H15-F15,J15-H15) -> 0.6
A16: 11 | B16: =IF(Измерения!C15<>0,Измерения!C15,0) -> Ш маж р | C16: =IF(Измерения!D15<>0,Измерения!D15,0) -> Ширина манжеты | D16: =INDEX(Измерения!E:E,MATCH('Табель мер'!B:B,Измерения!C:C,0)) -> 7 | F16: =INDEX(Измерения!F:F,MATCH(B:B,Измерения!C:C,0)) -> 7 | H16: =INDEX(Измерения!G:G,MATCH(B:B,Измерения!C:C,0)) -> 7 | J16: =INDEX(Измерения!H:H,MATCH(B:B,Измерения!C:C,0)) -> 7 | L16: =INDEX(Измерения!I:I,MATCH(B:B,Измерения!C:C,0)) -> 7 | N16: =INDEX(Измерения!J:J,MATCH(B:B,Измерения!C:C,0)) -> 7 | P16: =INDEX(Измерения!K:K,MATCH(B:B,Измерения!C:C,0)) -> 7 | R16: =INDEX(Измерения!L:L,MATCH(B:B,Измерения!C:C,0)) -> 0 | T16: =INDEX(Измерения!M:M,MATCH(B:B,Измерения!C:C,0)) -> 0 | V16: =INDEX(Измерения!N:N,MATCH(B:B,Измерения!C:C,0)) -> 0 | X16: =INDEX(Измерения!O:O,MATCH(B:B,Измерения!C:C,0)) -> 0 | Z16: =IF(B16="Шб1",-0.3,IF(B16="Дл ср з",0.5,IF(B16="Ш р",-0.2,IF(OR(B16="Дл бок",B16="Дл шг"),-1,0)))) -> 0 | AA16: ± | AB16: =IF(OR(B16="Ш по",B16="Ш маж р",B16="В ст",B16="Ш вор с"),0.2,IF(OR(B16="Д карм",B16="Ш р н",B16="Длс",B16="Шг"),0.3,IF(B16="Дл п",0.4,IF(OR(B16="Шб1",B16="Ш р",B16="Длп",B16="Дл отл"),0.5,IF(OR(B16="Шсп",B16="Дл с"),0.6,IF(OR(B16="Шп",B16="Шт",B16="Шб",B16="Ш т"),1,IF(OR(B16="Шн",B16="Шпл"),AC16*0.02,AC16*0.015))))))) -> 0.2 | AC16: =IF($D$4="44",$D16,IF($F$4="44",$F16,IF($H$4="44",$H16,IF($J$4="44",$J16,IF($L$4="44",$L16,IF($N$4="44",$N16,IF($P$4="44",$P16,IF($R$4="44",$R16,IF($T$4="44",$T16,IF($V$4="44",$V16,IF($X$4="44",$X16,0))))))))))) -> 7 | AD16: =LEFT(AA16&AB16,4) -> ±0,2 | AE16: =AVERAGE(F16-D16,H16-F16,J16-H16) -> 0
A17: 12 | B17: =IF(Измерения!C16<>0,Измерения!C16,0) -> Дл с | C17: =IF(Измерения!D16<>0,Измерения!D16,0) -> Длина проймы спинки | D17: =INDEX(Измерения!E:E,MATCH('Табель мер'!B:B,Измерения!C:C,0)) -> 22.8 | F17: =INDEX(Измерения!F:F,MATCH(B:B,Измерения!C:C,0)) -> 23.6 | H17: =INDEX(Измерения!G:G,MATCH(B:B,Измерения!C:C,0)) -> 24.4 | J17: =INDEX(Измерения!H:H,MATCH(B:B,Измерения!C:C,0)) -> 25.3 | L17: =INDEX(Измерения!I:I,MATCH(B:B,Измерения!C:C,0)) -> 26.1 | N17: =INDEX(Измерения!J:J,MATCH(B:B,Измерения!C:C,0)) -> 27 | P17: =INDEX(Измерения!K:K,MATCH(B:B,Измерения!C:C,0)) -> 27.9 | R17: =INDEX(Измерения!L:L,MATCH(B:B,Измерения!C:C,0)) -> 0 | T17: =INDEX(Измерения!M:M,MATCH(B:B,Измерения!C:C,0)) -> 0 | V17: =INDEX(Измерения!N:N,MATCH(B:B,Измерения!C:C,0)) -> 0 | X17: =INDEX(Измерения!O:O,MATCH(B:B,Измерения!C:C,0)) -> 0 | Z17: =IF(B17="Шб1",-0.3,IF(B17="Дл ср з",0.5,IF(B17="Ш р",-0.2,IF(OR(B17="Дл бок",B17="Дл шг"),-1,0)))) -> 0 | AA17: ± | AB17: =IF(OR(B17="Ш по",B17="Ш маж р",B17="В ст",B17="Ш вор с"),0.2,IF(OR(B17="Д карм",B17="Ш р н",B17="Длс",B17="Шг"),0.3,IF(B17="Дл п",0.4,IF(OR(B17="Шб1",B17="Ш р",B17="Длп",B17="Дл отл"),0.5,IF(OR(B17="Шсп",B17="Дл с"),0.6,IF(OR(B17="Шп",B17="Шт",B17="Шб",B17="Ш т"),1,IF(OR(B17="Шн",B17="Шпл"),AC17*0.02,AC17*0.015))))))) -> 0.6 | AC17: =IF($D$4="44",$D17,IF($F$4="44",$F17,IF($H$4="44",$H17,IF($J$4="44",$J17,IF($L$4="44",$L17,IF($N$4="44",$N17,IF($P$4="44",$P17,IF($R$4="44",$R17,IF($T$4="44",$T17,IF($V$4="44",$V17,IF($X$4="44",$X17,0))))))))))) -> 23.6 | AD17: =LEFT(AA17&AB17,4) -> ±0,6 | AE17: =AVERAGE(F17-D17,H17-F17,J17-H17) -> 0.83333333
A18: 13 | B18: =IF(Измерения!C17<>0,Измерения!C17,0) -> Дс1 | C18: =IF(Измерения!D17<>0,Измерения!D17,0) -> Длина по средней линии спинки | D18: =INDEX(Измерения!E:E,MATCH('Табель мер'!B:B,Измерения!C:C,0)) -> 99.4 | F18: =INDEX(Измерения!F:F,MATCH(B:B,Измерения!C:C,0)) -> 100.4 | H18: =INDEX(Измерения!G:G,MATCH(B:B,Измерения!C:C,0)) -> 101.4 | J18: =INDEX(Измерения!H:H,MATCH(B:B,Измерения!C:C,0)) -> 102.4 | L18: =INDEX(Измерения!I:I,MATCH(B:B,Измерения!C:C,0)) -> 103.4 | N18: =INDEX(Измерения!J:J,MATCH(B:B,Измерения!C:C,0)) -> 104.4 | P18: =INDEX(Измерения!K:K,MATCH(B:B,Измерения!C:C,0)) -> 105.4 | R18: =INDEX(Измерения!L:L,MATCH(B:B,Измерения!C:C,0)) -> 0 | T18: =INDEX(Измерения!M:M,MATCH(B:B,Измерения!C:C,0)) -> 0 | V18: =INDEX(Измерения!N:N,MATCH(B:B,Измерения!C:C,0)) -> 0 | X18: =INDEX(Измерения!O:O,MATCH(B:B,Измерения!C:C,0)) -> 0 | Z18: -0.6 | AA18: ± | AB18: =IF(OR(B18="Ш по",B18="Ш маж р",B18="В ст",B18="Ш вор с"),0.2,IF(OR(B18="Д карм",B18="Ш р н",B18="Длс",B18="Шг"),0.3,IF(B18="Дл п",0.4,IF(OR(B18="Шб1",B18="Ш р",B18="Длп",B18="Дл отл"),0.5,IF(OR(B18="Шсп",B18="Дл с"),0.6,IF(OR(B18="Шп",B18="Шт",B18="Шб",B18="Ш т"),1,IF(OR(B18="Шн",B18="Шпл"),AC18*0.02,AC18*0.015))))))) -> 1.506 | AC18: =IF($D$4="44",$D18,IF($F$4="44",$F18,IF($H$4="44",$H18,IF($J$4="44",$J18,IF($L$4="44",$L18,IF($N$4="44",$N18,IF($P$4="44",$P18,IF($R$4="44",$R18,IF($T$4="44",$T18,IF($V$4="44",$V18,IF($X$4="44",$X18,0))))))))))) -> 100.4 | AD18: =LEFT(AA18&AB18,4) -> ±1,5 | AE18: =AVERAGE(F18-D18,H18-F18,J18-H18) -> 1
A19: 14 | B19: =IF(Измерения!C18<>0,Измерения!C18,0) -> Дсп | C19: =IF(Измерения!D18<>0,Измерения!D18,0) -> Длина спинки до талии | D19: =INDEX(Измерения!E:E,MATCH('Табель мер'!B:B,Измерения!C:C,0)) -> 38.8 | F19: =INDEX(Измерения!F:F,MATCH(B:B,Измерения!C:C,0)) -> 39 | H19: =INDEX(Измерения!G:G,MATCH(B:B,Измерения!C:C,0)) -> 39.2 | J19: =INDEX(Измерения!H:H,MATCH(B:B,Измерения!C:C,0)) -> 39.4 | L19: =INDEX(Измерения!I:I,MATCH(B:B,Измерения!C:C,0)) -> 39.6 | N19: =INDEX(Измерения!J:J,MATCH(B:B,Измерения!C:C,0)) -> 39.8 | P19: =INDEX(Измерения!K:K,MATCH(B:B,Измерения!C:C,0)) -> 40 | R19: =INDEX(Измерения!L:L,MATCH(B:B,Измерения!C:C,0)) -> 0 | T19: =INDEX(Измерения!M:M,MATCH(B:B,Измерения!C:C,0)) -> 0 | V19: =INDEX(Измерения!N:N,MATCH(B:B,Измерения!C:C,0)) -> 0 | X19: =INDEX(Измерения!O:O,MATCH(B:B,Измерения!C:C,0)) -> 0 | Z19: -0.2 | AA19: ± | AB19: =IF(OR(B19="Ш по",B19="Ш маж р",B19="В ст",B19="Ш вор с"),0.2,IF(OR(B19="Д карм",B19="Ш р н",B19="Длс",B19="Шг"),0.3,IF(B19="Дл п",0.4,IF(OR(B19="Шб1",B19="Ш р",B19="Длп",B19="Дл отл"),0.5,IF(OR(B19="Шсп",B19="Дл с"),0.6,IF(OR(B19="Шп",B19="Шт",B19="Шб",B19="Ш т"),1,IF(OR(B19="Шн",B19="Шпл"),AC19*0.02,AC19*0.015))))))) -> 0.585 | AC19: =IF($D$4="44",$D19,IF($F$4="44",$F19,IF($H$4="44",$H19,IF($J$4="44",$J19,IF($L$4="44",$L19,IF($N$4="44",$N19,IF($P$4="44",$P19,IF($R$4="44",$R19,IF($T$4="44",$T19,IF($V$4="44",$V19,IF($X$4="44",$X19,0))))))))))) -> 39 | AD19: =LEFT(AA19&AB19,4) -> ±0,5 | AE19: =AVERAGE(F19-D19,H19-F19,J19-H19) -> 0.2
A20: 15 | B20: =IF(Измерения!C19<>0,Измерения!C19,0) -> Шсп | C20: =IF(Измерения!D19<>0,Измерения!D19,0) -> Ширина спины 14 см от высшей точки плеча | D20: =INDEX(Измерения!E:E,MATCH('Табель мер'!B:B,Измерения!C:C,0)) -> 35.9 | F20: =INDEX(Измерения!F:F,MATCH(B:B,Измерения!C:C,0)) -> 36.9 | H20: =INDEX(Измерения!G:G,MATCH(B:B,Измерения!C:C,0)) -> 37.9 | J20: =INDEX(Измерения!H:H,MATCH(B:B,Измерения!C:C,0)) -> 38.8 | L20: =INDEX(Измерения!I:I,MATCH(B:B,Измерения!C:C,0)) -> 39.7 | N20: =INDEX(Измерения!J:J,MATCH(B:B,Измерения!C:C,0)) -> 40.7 | P20: =INDEX(Измерения!K:K,MATCH(B:B,Измерения!C:C,0)) -> 41.4 | R20: =INDEX(Измерения!L:L,MATCH(B:B,Измерения!C:C,0)) -> 0 | T20: =INDEX(Измерения!M:M,MATCH(B:B,Измерения!C:C,0)) -> 0 | V20: =INDEX(Измерения!N:N,MATCH(B:B,Измерения!C:C,0)) -> 0 | X20: =INDEX(Измерения!O:O,MATCH(B:B,Измерения!C:C,0)) -> 0 | Z20: -0.2 | AA20: ± | AB20: =IF(OR(B20="Ш по",B20="Ш маж р",B20="В ст",B20="Ш вор с"),0.2,IF(OR(B20="Д карм",B20="Ш р н",B20="Длс",B20="Шг"),0.3,IF(B20="Дл п",0.4,IF(OR(B20="Шб1",B20="Ш р",B20="Длп",B20="Дл отл"),0.5,IF(OR(B20="Шсп",B20="Дл с"),0.6,IF(OR(B20="Шп",B20="Шт",B20="Шб",B20="Ш т"),1,IF(OR(B20="Шн",B20="Шпл"),AC20*0.02,AC20*0.015))))))) -> 0.6 | AC20: =IF($D$4="44",$D20,IF($F$4="44",$F20,IF($H$4="44",$H20,IF($J$4="44",$J20,IF($L$4="44",$L20,IF($N$4="44",$N20,IF($P$4="44",$P20,IF($R$4="44",$R20,IF($T$4="44",$T20,IF($V$4="44",$V20,IF($X$4="44",$X20,0))))))))))) -> 36.9 | AD20: =LEFT(AA20&AB20,4) -> ±0,6 | AE20: =AVERAGE(F20-D20,H20-F20,J20-H20) -> 0.96666667
A21: 16 | B21: =IF(Измерения!C20<>0,Измерения!C20,0) -> Длс | C21: =IF(Измерения!D20<>0,Измерения!D20,0) -> Длина горловины спинки | D21: =INDEX(Измерения!E:E,MATCH('Табель мер'!B:B,Измерения!C:C,0)) -> 18.2 | F21: =INDEX(Измерения!F:F,MATCH(B:B,Измерения!C:C,0)) -> 18.7 | H21: =INDEX(Измерения!G:G,MATCH(B:B,Измерения!C:C,0)) -> 19.1 | J21: =INDEX(Измерения!H:H,MATCH(B:B,Измерения!C:C,0)) -> 19.6 | L21: =INDEX(Измерения!I:I,MATCH(B:B,Измерения!C:C,0)) -> 20.1 | N21: =INDEX(Измерения!J:J,MATCH(B:B,Измерения!C:C,0)) -> 20.6 | P21: =INDEX(Измерения!K:K,MATCH(B:B,Измерения!C:C,0)) -> 20.9 | R21: =INDEX(Измерения!L:L,MATCH(B:B,Измерения!C:C,0)) -> 0 | T21: =INDEX(Измерения!M:M,MATCH(B:B,Измерения!C:C,0)) -> 0 | V21: =INDEX(Измерения!N:N,MATCH(B:B,Измерения!C:C,0)) -> 0 | X21: =INDEX(Измерения!O:O,MATCH(B:B,Измерения!C:C,0)) -> 0 | Z21: =IF(B21="Шб1",-0.3,IF(B21="Дл ср з",0.5,IF(B21="Ш р",-0.2,IF(OR(B21="Дл бок",B21="Дл шг"),-1,0)))) -> 0 | AA21: ± | AB21: =IF(OR(B21="Ш по",B21="Ш маж р",B21="В ст",B21="Ш вор с"),0.2,IF(OR(B21="Д карм",B21="Ш р н",B21="Длс",B21="Шг"),0.3,IF(B21="Дл п",0.4,IF(OR(B21="Шб1",B21="Ш р",B21="Длп",B21="Дл отл"),0.5,IF(OR(B21="Шсп",B21="Дл с"),0.6,IF(OR(B21="Шп",B21="Шт",B21="Шб",B21="Ш т"),1,IF(OR(B21="Шн",B21="Шпл"),AC21*0.02,AC21*0.015))))))) -> 0.3 | AC21: =IF($D$4="44",$D21,IF($F$4="44",$F21,IF($H$4="44",$H21,IF($J$4="44",$J21,IF($L$4="44",$L21,IF($N$4="44",$N21,IF($P$4="44",$P21,IF($R$4="44",$R21,IF($T$4="44",$T21,IF($V$4="44",$V21,IF($X$4="44",$X21,0))))))))))) -> 18.7 | AD21: =LEFT(AA21&AB21,4) -> ±0,3 | AE21: =AVERAGE(F21-D21,H21-F21,J21-H21) -> 0.46666667
A22: 17 | B22: =IF(Измерения!C21<>0,Измерения!C21,0) -> В ст | C22: =IF(Измерения!D21<>0,Измерения!D21,0) -> Высота стойки | D22: =INDEX(Измерения!E:E,MATCH('Табель мер'!B:B,Измерения!C:C,0)) -> 2.8 | F22: =INDEX(Измерения!F:F,MATCH(B:B,Измерения!C:C,0)) -> 2.8 | H22: =INDEX(Измерения!G:G,MATCH(B:B,Измерения!C:C,0)) -> 2.8 | J22: =INDEX(Измерения!H:H,MATCH(B:B,Измерения!C:C,0)) -> 2.8 | L22: =INDEX(Измерения!I:I,MATCH(B:B,Измерения!C:C,0)) -> 2.8 | N22: =INDEX(Измерения!J:J,MATCH(B:B,Измерения!C:C,0)) -> 2.8 | P22: =INDEX(Измерения!K:K,MATCH(B:B,Измерения!C:C,0)) -> 2.8 | R22: =INDEX(Измерения!L:L,MATCH(B:B,Измерения!C:C,0)) -> 0 | T22: =INDEX(Измерения!M:M,MATCH(B:B,Измерения!C:C,0)) -> 0 | V22: =INDEX(Измерения!N:N,MATCH(B:B,Измерения!C:C,0)) -> 0 | X22: =INDEX(Измерения!O:O,MATCH(B:B,Измерения!C:C,0)) -> 0 | Z22: =IF(B22="Шб1",-0.3,IF(B22="Дл ср з",0.5,IF(B22="Ш р",-0.2,IF(OR(B22="Дл бок",B22="Дл шг"),-1,0)))) -> 0 | AA22: ± | AB22: =IF(OR(B22="Ш по",B22="Ш маж р",B22="В ст",B22="Ш вор с"),0.2,IF(OR(B22="Д карм",B22="Ш р н",B22="Длс",B22="Шг"),0.3,IF(B22="Дл п",0.4,IF(OR(B22="Шб1",B22="Ш р",B22="Длп",B22="Дл отл"),0.5,IF(OR(B22="Шсп",B22="Дл с"),0.6,IF(OR(B22="Шп",B22="Шт",B22="Шб",B22="Ш т"),1,IF(OR(B22="Шн",B22="Шпл"),AC22*0.02,AC22*0.015))))))) -> 0.2 | AC22: =IF($D$4="44",$D22,IF($F$4="44",$F22,IF($H$4="44",$H22,IF($J$4="44",$J22,IF($L$4="44",$L22,IF($N$4="44",$N22,IF($P$4="44",$P22,IF($R$4="44",$R22,IF($T$4="44",$T22,IF($V$4="44",$V22,IF($X$4="44",$X22,0))))))))))) -> 2.8 | AD22: =LEFT(AA22&AB22,4) -> ±0,2 | AE22: =AVERAGE(F22-D22,H22-F22,J22-H22) -> 0
A23: 18 | B23: =IF(Измерения!C22<>0,Измерения!C22,0) -> Ш вор с | C23: =IF(Измерения!D22<>0,Измерения!D22,0) -> Ширина воротника сзади | D23: =INDEX(Измерения!E:E,MATCH('Табель мер'!B:B,Измерения!C:C,0)) -> 5.6 | F23: =INDEX(Измерения!F:F,MATCH(B:B,Измерения!C:C,0)) -> 5.6 | H23: =INDEX(Измерения!G:G,MATCH(B:B,Измерения!C:C,0)) -> 5.6 | J23: =INDEX(Измерения!H:H,MATCH(B:B,Измерения!C:C,0)) -> 5.6 | L23: =INDEX(Измерения!I:I,MATCH(B:B,Измерения!C:C,0)) -> 5.6 | N23: =INDEX(Измерения!J:J,MATCH(B:B,Измерения!C:C,0)) -> 5.6 | P23: =INDEX(Измерения!K:K,MATCH(B:B,Измерения!C:C,0)) -> 5.6 | R23: =INDEX(Измерения!L:L,MATCH(B:B,Измерения!C:C,0)) -> 0 | T23: =INDEX(Измерения!M:M,MATCH(B:B,Измерения!C:C,0)) -> 0 | V23: =INDEX(Измерения!N:N,MATCH(B:B,Измерения!C:C,0)) -> 0 | X23: =INDEX(Измерения!O:O,MATCH(B:B,Измерения!C:C,0)) -> 0 | Z23: =IF(B23="Шб1",-0.3,IF(B23="Дл ср з",0.5,IF(B23="Ш р",-0.2,IF(OR(B23="Дл бок",B23="Дл шг"),-1,0)))) -> 0 | AA23: ± | AB23: =IF(OR(B23="Ш по",B23="Ш маж р",B23="В ст",B23="Ш вор с"),0.2,IF(OR(B23="Д карм",B23="Ш р н",B23="Длс",B23="Шг"),0.3,IF(B23="Дл п",0.4,IF(OR(B23="Шб1",B23="Ш р",B23="Длп",B23="Дл отл"),0.5,IF(OR(B23="Шсп",B23="Дл с"),0.6,IF(OR(B23="Шп",B23="Шт",B23="Шб",B23="Ш т"),1,IF(OR(B23="Шн",B23="Шпл"),AC23*0.02,AC23*0.015))))))) -> 0.2 | AC23: =IF($D$4="44",$D23,IF($F$4="44",$F23,IF($H$4="44",$H23,IF($J$4="44",$J23,IF($L$4="44",$L23,IF($N$4="44",$N23,IF($P$4="44",$P23,IF($R$4="44",$R23,IF($T$4="44",$T23,IF($V$4="44",$V23,IF($X$4="44",$X23,0))))))))))) -> 5.6 | AD23: =LEFT(AA23&AB23,4) -> ±0,2 | AE23: =AVERAGE(F23-D23,H23-F23,J23-H23) -> 0
A24: 19 | B24: =IF(Измерения!C23<>0,Измерения!C23,0) -> Дл отл | C24: =IF(Измерения!D23<>0,Измерения!D23,0) -> Длина отлета воротника | D24: =INDEX(Измерения!E:E,MATCH('Табель мер'!B:B,Измерения!C:C,0)) -> 46.3 | F24: =INDEX(Измерения!F:F,MATCH(B:B,Измерения!C:C,0)) -> 47.5 | H24: =INDEX(Измерения!G:G,MATCH(B:B,Измерения!C:C,0)) -> 48.7 | J24: =INDEX(Измерения!H:H,MATCH(B:B,Измерения!C:C,0)) -> 49.9 | L24: =INDEX(Измерения!I:I,MATCH(B:B,Измерения!C:C,0)) -> 51.1 | N24: =INDEX(Измерения!J:J,MATCH(B:B,Измерения!C:C,0)) -> 52.3 | P24: =INDEX(Измерения!K:K,MATCH(B:B,Измерения!C:C,0)) -> 53.1 | R24: =INDEX(Измерения!L:L,MATCH(B:B,Измерения!C:C,0)) -> 0 | T24: =INDEX(Измерения!M:M,MATCH(B:B,Измерения!C:C,0)) -> 0 | V24: =INDEX(Измерения!N:N,MATCH(B:B,Измерения!C:C,0)) -> 0 | X24: =INDEX(Измерения!O:O,MATCH(B:B,Измерения!C:C,0)) -> 0 | Z24: =IF(B24="Шб1",-0.3,IF(B24="Дл ср з",0.5,IF(B24="Ш р",-0.2,IF(OR(B24="Дл бок",B24="Дл шг"),-1,0)))) -> 0 | AA24: ± | AB24: =IF(OR(B24="Ш по",B24="Ш маж р",B24="В ст",B24="Ш вор с"),0.2,IF(OR(B24="Д карм",B24="Ш р н",B24="Длс",B24="Шг"),0.3,IF(B24="Дл п",0.4,IF(OR(B24="Шб1",B24="Ш р",B24="Длп",B24="Дл отл"),0.5,IF(OR(B24="Шсп",B24="Дл с"),0.6,IF(OR(B24="Шп",B24="Шт",B24="Шб",B24="Ш т"),1,IF(OR(B24="Шн",B24="Шпл"),AC24*0.02,AC24*0.015))))))) -> 0.5 | AC24: =IF($D$4="44",$D24,IF($F$4="44",$F24,IF($H$4="44",$H24,IF($J$4="44",$J24,IF($L$4="44",$L24,IF($N$4="44",$N24,IF($P$4="44",$P24,IF($R$4="44",$R24,IF($T$4="44",$T24,IF($V$4="44",$V24,IF($X$4="44",$X24,0))))))))))) -> 47.5 | AD24: =LEFT(AA24&AB24,4) -> ±0,5 | AE24: =AVERAGE(F24-D24,H24-F24,J24-H24) -> 1.2
A25: 20 | B25: =IF(Измерения!C24<>0,Измерения!C24,0) -> 0 | C25: =IF(Измерения!D24<>0,Измерения!D24,0) -> 0 | D25: =INDEX(Измерения!E:E,MATCH('Табель мер'!B:B,Измерения!C:C,0)) -> #N/A | F25: =INDEX(Измерения!F:F,MATCH(B:B,Измерения!C:C,0)) -> #N/A | H25: =INDEX(Измерения!G:G,MATCH(B:B,Измерения!C:C,0)) -> #N/A | J25: =INDEX(Измерения!H:H,MATCH(B:B,Измерения!C:C,0)) -> #N/A | L25: =INDEX(Измерения!I:I,MATCH(B:B,Измерения!C:C,0)) -> #N/A | N25: =INDEX(Измерения!J:J,MATCH(B:B,Измерения!C:C,0)) -> #N/A | P25: =INDEX(Измерения!K:K,MATCH(B:B,Измерения!C:C,0)) -> #N/A | R25: =INDEX(Измерения!L:L,MATCH(B:B,Измерения!C:C,0)) -> #N/A | T25: =INDEX(Измерения!M:M,MATCH(B:B,Измерения!C:C,0)) -> #N/A | V25: =INDEX(Измерения!N:N,MATCH(B:B,Измерения!C:C,0)) -> #N/A | X25: =INDEX(Измерения!O:O,MATCH(B:B,Измерения!C:C,0)) -> #N/A | Z25: =IF(B25="Шб1",-0.3,IF(B25="Дл ср з",0.5,IF(B25="Ш р",-0.2,IF(OR(B25="Дл бок",B25="Дл шг"),-1,0)))) -> 0 | AA25: ± | AB25: =IF(OR(B25="Ш по",B25="Ш маж р",B25="В ст",B25="Ш вор с"),0.2,IF(OR(B25="Д карм",B25="Ш р н",B25="Длс",B25="Шг"),0.3,IF(B25="Дл п",0.4,IF(OR(B25="Шб1",B25="Ш р",B25="Длп",B25="Дл отл"),0.5,IF(OR(B25="Шсп",B25="Дл с"),0.6,IF(OR(B25="Шп",B25="Шт",B25="Шб",B25="Ш т"),1,IF(OR(B25="Шн",B25="Шпл"),AC25*0.02,AC25*0.015))))))) -> #N/A | AC25: =IF($D$4="44",$D25,IF($F$4="44",$F25,IF($H$4="44",$H25,IF($J$4="44",$J25,IF($L$4="44",$L25,IF($N$4="44",$N25,IF($P$4="44",$P25,IF($R$4="44",$R25,IF($T$4="44",$T25,IF($V$4="44",$V25,IF($X$4="44",$X25,0))))))))))) -> #N/A | AD25: =LEFT(AA25&AB25,4) -> #N/A | AE25: =AVERAGE(F25-D25,H25-F25,J25-H25) -> #N/A
A26: 21 | B26: =IF(Измерения!C25<>0,Измерения!C25,0) -> 0 | C26: =IF(Измерения!D25<>0,Измерения!D25,0) -> 0 | D26: =INDEX(Измерения!E:E,MATCH('Табель мер'!B:B,Измерения!C:C,0)) -> #N/A | F26: =INDEX(Измерения!F:F,MATCH(B:B,Измерения!C:C,0)) -> #N/A | H26: =INDEX(Измерения!G:G,MATCH(B:B,Измерения!C:C,0)) -> #N/A | J26: =INDEX(Измерения!H:H,MATCH(B:B,Измерения!C:C,0)) -> #N/A | L26: =INDEX(Измерения!I:I,MATCH(B:B,Измерения!C:C,0)) -> #N/A | N26: =INDEX(Измерения!J:J,MATCH(B:B,Измерения!C:C,0)) -> #N/A | P26: =INDEX(Измерения!K:K,MATCH(B:B,Измерения!C:C,0)) -> #N/A | R26: =INDEX(Измерения!L:L,MATCH(B:B,Измерения!C:C,0)) -> #N/A | T26: =INDEX(Измерения!M:M,MATCH(B:B,Измерения!C:C,0)) -> #N/A | V26: =INDEX(Измерения!N:N,MATCH(B:B,Измерения!C:C,0)) -> #N/A | X26: =INDEX(Измерения!O:O,MATCH(B:B,Измерения!C:C,0)) -> #N/A | Z26: =IF(B26="Шб1",-0.3,IF(B26="Дл ср з",0.5,IF(B26="Ш р",-0.2,IF(OR(B26="Дл бок",B26="Дл шг"),-1,0)))) -> 0 | AA26: ± | AB26: =IF(OR(B26="Ш по",B26="Ш маж р",B26="В ст",B26="Ш вор с"),0.2,IF(OR(B26="Д карм",B26="Ш р н",B26="Длс",B26="Шг"),0.3,IF(B26="Дл п",0.4,IF(OR(B26="Шб1",B26="Ш р",B26="Длп",B26="Дл отл"),0.5,IF(OR(B26="Шсп",B26="Дл с"),0.6,IF(OR(B26="Шп",B26="Шт",B26="Шб",B26="Ш т"),1,IF(OR(B26="Шн",B26="Шпл"),AC26*0.02,AC26*0.015))))))) -> #N/A | AC26: =IF($D$4="44",$D26,IF($F$4="44",$F26,IF($H$4="44",$H26,IF($J$4="44",$J26,IF($L$4="44",$L26,IF($N$4="44",$N26,IF($P$4="44",$P26,IF($R$4="44",$R26,IF($T$4="44",$T26,IF($V$4="44",$V26,IF($X$4="44",$X26,0))))))))))) -> #N/A | AD26: =LEFT(AA26&AB26,4) -> #N/A | AE26: =AVERAGE(F26-D26,H26-F26,J26-H26) -> #N/A
A27: 22 | B27: =IF(Измерения!C26<>0,Измерения!C26,0) -> 0 | C27: =IF(Измерения!D26<>0,Измерения!D26,0) -> 0 | D27: =INDEX(Измерения!E:E,MATCH('Табель мер'!B:B,Измерения!C:C,0)) -> #N/A | F27: =INDEX(Измерения!F:F,MATCH(B:B,Измерения!C:C,0)) -> #N/A | H27: =INDEX(Измерения!G:G,MATCH(B:B,Измерения!C:C,0)) -> #N/A | J27: =INDEX(Измерения!H:H,MATCH(B:B,Измерения!C:C,0)) -> #N/A | L27: =INDEX(Измерения!I:I,MATCH(B:B,Измерения!C:C,0)) -> #N/A | N27: =INDEX(Измерения!J:J,MATCH(B:B,Измерения!C:C,0)) -> #N/A | P27: =INDEX(Измерения!K:K,MATCH(B:B,Измерения!C:C,0)) -> #N/A | R27: =INDEX(Измерения!L:L,MATCH(B:B,Измерения!C:C,0)) -> #N/A | T27: =INDEX(Измерения!M:M,MATCH(B:B,Измерения!C:C,0)) -> #N/A | V27: =INDEX(Измерения!N:N,MATCH(B:B,Измерения!C:C,0)) -> #N/A | X27: =INDEX(Измерения!O:O,MATCH(B:B,Измерения!C:C,0)) -> #N/A | Z27: =IF(B27="Шб1",-0.3,IF(B27="Дл ср з",0.5,IF(B27="Ш р",-0.2,IF(OR(B27="Дл бок",B27="Дл шг"),-1,0)))) -> 0 | AA27: ± | AB27: =IF(OR(B27="Ш по",B27="Ш маж р",B27="В ст",B27="Ш вор с"),0.2,IF(OR(B27="Д карм",B27="Ш р н",B27="Длс",B27="Шг"),0.3,IF(B27="Дл п",0.4,IF(OR(B27="Шб1",B27="Ш р",B27="Длп",B27="Дл отл"),0.5,IF(OR(B27="Шсп",B27="Дл с"),0.6,IF(OR(B27="Шп",B27="Шт",B27="Шб",B27="Ш т"),1,IF(OR(B27="Шн",B27="Шпл"),AC27*0.02,AC27*0.015))))))) -> #N/A | AC27: =IF($D$4="44",$D27,IF($F$4="44",$F27,IF($H$4="44",$H27,IF($J$4="44",$J27,IF($L$4="44",$L27,IF($N$4="44",$N27,IF($P$4="44",$P27,IF($R$4="44",$R27,IF($T$4="44",$T27,IF($V$4="44",$V27,IF($X$4="44",$X27,0))))))))))) -> #N/A | AD27: =LEFT(AA27&AB27,4) -> #N/A | AE27: =AVERAGE(F27-D27,H27-F27,J27-H27) -> #N/A
A28: 23 | B28: =IF(Измерения!C27<>0,Измерения!C27,0) -> 0 | C28: =IF(Измерения!D27<>0,Измерения!D27,0) -> 0 | D28: =INDEX(Измерения!E:E,MATCH('Табель мер'!B:B,Измерения!C:C,0)) -> #N/A | F28: =INDEX(Измерения!F:F,MATCH(B:B,Измерения!C:C,0)) -> #N/A | H28: =INDEX(Измерения!G:G,MATCH(B:B,Измерения!C:C,0)) -> #N/A | J28: =INDEX(Измерения!H:H,MATCH(B:B,Измерения!C:C,0)) -> #N/A | L28: =INDEX(Измерения!I:I,MATCH(B:B,Измерения!C:C,0)) -> #N/A | N28: =INDEX(Измерения!J:J,MATCH(B:B,Измерения!C:C,0)) -> #N/A | P28: =INDEX(Измерения!K:K,MATCH(B:B,Измерения!C:C,0)) -> #N/A | R28: =INDEX(Измерения!L:L,MATCH(B:B,Измерения!C:C,0)) -> #N/A | T28: =INDEX(Измерения!M:M,MATCH(B:B,Измерения!C:C,0)) -> #N/A | V28: =INDEX(Измерения!N:N,MATCH(B:B,Измерения!C:C,0)) -> #N/A | X28: =INDEX(Измерения!O:O,MATCH(B:B,Измерения!C:C,0)) -> #N/A | Z28: =IF(B28="Шб1",-0.3,IF(B28="Дл ср з",0.5,IF(B28="Ш р",-0.2,IF(OR(B28="Дл бок",B28="Дл шг"),-1,0)))) -> 0 | AA28: ± | AB28: =IF(OR(B28="Ш по",B28="Ш маж р",B28="В ст",B28="Ш вор с"),0.2,IF(OR(B28="Д карм",B28="Ш р н",B28="Длс",B28="Шг"),0.3,IF(B28="Дл п",0.4,IF(OR(B28="Шб1",B28="Ш р",B28="Длп",B28="Дл отл"),0.5,IF(OR(B28="Шсп",B28="Дл с"),0.6,IF(OR(B28="Шп",B28="Шт",B28="Шб",B28="Ш т"),1,IF(OR(B28="Шн",B28="Шпл"),AC28*0.02,AC28*0.015))))))) -> #N/A | AC28: =IF($D$4="44",$D28,IF($F$4="44",$F28,IF($H$4="44",$H28,IF($J$4="44",$J28,IF($L$4="44",$L28,IF($N$4="44",$N28,IF($P$4="44",$P28,IF($R$4="44",$R28,IF($T$4="44",$T28,IF($V$4="44",$V28,IF($X$4="44",$X28,0))))))))))) -> #N/A | AD28: =LEFT(AA28&AB28,4) -> #N/A | AE28: =AVERAGE(F28-D28,H28-F28,J28-H28) -> #N/A
A29: 24 | B29: =IF(Измерения!C28<>0,Измерения!C28,0) -> 0 | C29: =IF(Измерения!D28<>0,Измерения!D28,0) -> 0 | D29: =INDEX(Измерения!E:E,MATCH('Табель мер'!B:B,Измерения!C:C,0)) -> #N/A | F29: =INDEX(Измерения!F:F,MATCH(B:B,Измерения!C:C,0)) -> #N/A | H29: =INDEX(Измерения!G:G,MATCH(B:B,Измерения!C:C,0)) -> #N/A | J29: =INDEX(Измерения!H:H,MATCH(B:B,Измерения!C:C,0)) -> #N/A | L29: =INDEX(Измерения!I:I,MATCH(B:B,Измерения!C:C,0)) -> #N/A | N29: =INDEX(Измерения!J:J,MATCH(B:B,Измерения!C:C,0)) -> #N/A | P29: =INDEX(Измерения!K:K,MATCH(B:B,Измерения!C:C,0)) -> #N/A | R29: =INDEX(Измерения!L:L,MATCH(B:B,Измерения!C:C,0)) -> #N/A | T29: =INDEX(Измерения!M:M,MATCH(B:B,Измерения!C:C,0)) -> #N/A | V29: =INDEX(Измерения!N:N,MATCH(B:B,Измерения!C:C,0)) -> #N/A | X29: =INDEX(Измерения!O:O,MATCH(B:B,Измерения!C:C,0)) -> #N/A | Z29: =IF(B29="Шб1",-0.3,IF(B29="Дл ср з",0.5,IF(B29="Ш р",-0.2,IF(OR(B29="Дл бок",B29="Дл шг"),-1,0)))) -> 0 | AA29: ± | AB29: =IF(OR(B29="Ш по",B29="Ш маж р",B29="В ст",B29="Ш вор с"),0.2,IF(OR(B29="Д карм",B29="Ш р н",B29="Длс",B29="Шг"),0.3,IF(B29="Дл п",0.4,IF(OR(B29="Шб1",B29="Ш р",B29="Длп",B29="Дл отл"),0.5,IF(OR(B29="Шсп",B29="Дл с"),0.6,IF(OR(B29="Шп",B29="Шт",B29="Шб",B29="Ш т"),1,IF(OR(B29="Шн",B29="Шпл"),AC29*0.02,AC29*0.015))))))) -> #N/A | AC29: =IF($D$4="44",$D29,IF($F$4="44",$F29,IF($H$4="44",$H29,IF($J$4="44",$J29,IF($L$4="44",$L29,IF($N$4="44",$N29,IF($P$4="44",$P29,IF($R$4="44",$R29,IF($T$4="44",$T29,IF($V$4="44",$V29,IF($X$4="44",$X29,0))))))))))) -> #N/A | AD29: =LEFT(AA29&AB29,4) -> #N/A | AE29: =AVERAGE(F29-D29,H29-F29,J29-H29) -> #N/A
A30: 25 | B30: =IF(Измерения!C29<>0,Измерения!C29,0) -> 0 | C30: =IF(Измерения!D29<>0,Измерения!D29,0) -> 0 | D30: =INDEX(Измерения!E:E,MATCH('Табель мер'!B:B,Измерения!C:C,0)) -> #N/A | F30: =INDEX(Измерения!F:F,MATCH(B:B,Измерения!C:C,0)) -> #N/A | H30: =INDEX(Измерения!G:G,MATCH(B:B,Измерения!C:C,0)) -> #N/A | J30: =INDEX(Измерения!H:H,MATCH(B:B,Измерения!C:C,0)) -> #N/A | L30: =INDEX(Измерения!I:I,MATCH(B:B,Измерения!C:C,0)) -> #N/A | N30: =INDEX(Измерения!J:J,MATCH(B:B,Измерения!C:C,0)) -> #N/A | P30: =INDEX(Измерения!K:K,MATCH(B:B,Измерения!C:C,0)) -> #N/A | R30: =INDEX(Измерения!L:L,MATCH(B:B,Измерения!C:C,0)) -> #N/A | T30: =INDEX(Измерения!M:M,MATCH(B:B,Измерения!C:C,0)) -> #N/A | V30: =INDEX(Измерения!N:N,MATCH(B:B,Измерения!C:C,0)) -> #N/A | X30: =INDEX(Измерения!O:O,MATCH(B:B,Измерения!C:C,0)) -> #N/A | Z30: =IF(B30="Шб1",-0.3,IF(B30="Дл ср з",0.5,IF(B30="Ш р",-0.2,IF(OR(B30="Дл бок",B30="Дл шг"),-1,0)))) -> 0 | AA30: ± | AB30: =IF(OR(B30="Ш по",B30="Ш маж р",B30="В ст",B30="Ш вор с"),0.2,IF(OR(B30="Д карм",B30="Ш р н",B30="Длс",B30="Шг"),0.3,IF(B30="Дл п",0.4,IF(OR(B30="Шб1",B30="Ш р",B30="Длп",B30="Дл отл"),0.5,IF(OR(B30="Шсп",B30="Дл с"),0.6,IF(OR(B30="Шп",B30="Шт",B30="Шб",B30="Ш т"),1,IF(OR(B30="Шн",B30="Шпл"),AC30*0.02,AC30*0.015))))))) -> #N/A | AC30: =IF($D$4="44",$D30,IF($F$4="44",$F30,IF($H$4="44",$H30,IF($J$4="44",$J30,IF($L$4="44",$L30,IF($N$4="44",$N30,IF($P$4="44",$P30,IF($R$4="44",$R30,IF($T$4="44",$T30,IF($V$4="44",$V30,IF($X$4="44",$X30,0))))))))))) -> #N/A | AD30: =LEFT(AA30&AB30,4) -> #N/A | AE30: =AVERAGE(F30-D30,H30-F30,J30-H30) -> #N/A
A31: 26 | B31: =IF(Измерения!C30<>0,Измерения!C30,0) -> 0 | C31: =IF(Измерения!D30<>0,Измерения!D30,0) -> 0 | D31: =INDEX(Измерения!E:E,MATCH('Табель мер'!B:B,Измерения!C:C,0)) -> #N/A | F31: =INDEX(Измерения!F:F,MATCH(B:B,Измерения!C:C,0)) -> #N/A | H31: =INDEX(Измерения!G:G,MATCH(B:B,Измерения!C:C,0)) -> #N/A | J31: =INDEX(Измерения!H:H,MATCH(B:B,Измерения!C:C,0)) -> #N/A | L31: =INDEX(Измерения!I:I,MATCH(B:B,Измерения!C:C,0)) -> #N/A | N31: =INDEX(Измерения!J:J,MATCH(B:B,Измерения!C:C,0)) -> #N/A | P31: =INDEX(Измерения!K:K,MATCH(B:B,Измерения!C:C,0)) -> #N/A | R31: =INDEX(Измерения!L:L,MATCH(B:B,Измерения!C:C,0)) -> #N/A | T31: =INDEX(Измерения!M:M,MATCH(B:B,Измерения!C:C,0)) -> #N/A | V31: =INDEX(Измерения!N:N,MATCH(B:B,Измерения!C:C,0)) -> #N/A | X31: =INDEX(Измерения!O:O,MATCH(B:B,Измерения!C:C,0)) -> #N/A | Z31: =IF(B31="Шб1",-0.3,IF(B31="Дл ср з",0.5,IF(B31="Ш р",-0.2,IF(OR(B31="Дл бок",B31="Дл шг"),-1,0)))) -> 0 | AA31: ± | AB31: =IF(OR(B31="Ш по",B31="Ш маж р",B31="В ст",B31="Ш вор с"),0.2,IF(OR(B31="Д карм",B31="Ш р н",B31="Длс",B31="Шг"),0.3,IF(B31="Дл п",0.4,IF(OR(B31="Шб1",B31="Ш р",B31="Длп",B31="Дл отл"),0.5,IF(OR(B31="Шсп",B31="Дл с"),0.6,IF(OR(B31="Шп",B31="Шт",B31="Шб",B31="Ш т"),1,IF(OR(B31="Шн",B31="Шпл"),AC31*0.02,AC31*0.015))))))) -> #N/A | AC31: =IF($D$4="44",$D31,IF($F$4="44",$F31,IF($H$4="44",$H31,IF($J$4="44",$J31,IF($L$4="44",$L31,IF($N$4="44",$N31,IF($P$4="44",$P31,IF($R$4="44",$R31,IF($T$4="44",$T31,IF($V$4="44",$V31,IF($X$4="44",$X31,0))))))))))) -> #N/A | AD31: =LEFT(AA31&AB31,4) -> #N/A | AE31: =AVERAGE(F31-D31,H31-F31,J31-H31) -> #N/A
A32: 27 | B32: =IF(Измерения!C31<>0,Измерения!C31,0) -> 0 | C32: =IF(Измерения!D31<>0,Измерения!D31,0) -> 0 | D32: =INDEX(Измерения!E:E,MATCH('Табель мер'!B:B,Измерения!C:C,0)) -> #N/A | F32: =INDEX(Измерения!F:F,MATCH(B:B,Измерения!C:C,0)) -> #N/A | H32: =INDEX(Измерения!G:G,MATCH(B:B,Измерения!C:C,0)) -> #N/A | J32: =INDEX(Измерения!H:H,MATCH(B:B,Измерения!C:C,0)) -> #N/A | L32: =INDEX(Измерения!I:I,MATCH(B:B,Измерения!C:C,0)) -> #N/A | N32: =INDEX(Измерения!J:J,MATCH(B:B,Измерения!C:C,0)) -> #N/A | P32: =INDEX(Измерения!K:K,MATCH(B:B,Измерения!C:C,0)) -> #N/A | R32: =INDEX(Измерения!L:L,MATCH(B:B,Измерения!C:C,0)) -> #N/A | T32: =INDEX(Измерения!M:M,MATCH(B:B,Измерения!C:C,0)) -> #N/A | V32: =INDEX(Измерения!N:N,MATCH(B:B,Измерения!C:C,0)) -> #N/A | X32: =INDEX(Измерения!O:O,MATCH(B:B,Измерения!C:C,0)) -> #N/A | Z32: =IF(B32="Шб1",-0.3,IF(B32="Дл ср з",0.5,IF(B32="Ш р",-0.2,IF(OR(B32="Дл бок",B32="Дл шг"),-1,0)))) -> 0 | AA32: ± | AB32: =IF(OR(B32="Ш по",B32="Ш маж р",B32="В ст",B32="Ш вор с"),0.2,IF(OR(B32="Д карм",B32="Ш р н",B32="Длс",B32="Шг"),0.3,IF(B32="Дл п",0.4,IF(OR(B32="Шб1",B32="Ш р",B32="Длп",B32="Дл отл"),0.5,IF(OR(B32="Шсп",B32="Дл с"),0.6,IF(OR(B32="Шп",B32="Шт",B32="Шб",B32="Ш т"),1,IF(OR(B32="Шн",B32="Шпл"),AC32*0.02,AC32*0.015))))))) -> #N/A | AC32: =IF($D$4="44",$D32,IF($F$4="44",$F32,IF($H$4="44",$H32,IF($J$4="44",$J32,IF($L$4="44",$L32,IF($N$4="44",$N32,IF($P$4="44",$P32,IF($R$4="44",$R32,IF($T$4="44",$T32,IF($V$4="44",$V32,IF($X$4="44",$X32,0))))))))))) -> #N/A | AD32: =LEFT(AA32&AB32,4) -> #N/A | AE32: =AVERAGE(F32-D32,H32-F32,J32-H32) -> #N/A
... A45: 40 | B45: =IF(Измерения!C44<>0,Измерения!C44,0) -> 0 | C45: =IF(Измерения!D44<>0,Измерения!D44,0) -> 0 | D45: =INDEX(Измерения!E:E,MATCH('Табель мер'!B:B,Измерения!C:C,0)) -> #N/A | F45: =INDEX(Измерения!F:F,MATCH(B:B,Измерения!C:C,0)) -> #N/A | H45: =INDEX(Измерения!G:G,MATCH(B:B,Измерения!C:C,0)) -> #N/A | J45: =INDEX(Измерения!H:H,MATCH(B:B,Измерения!C:C,0)) -> #N/A | L45: =INDEX(Измерения!I:I,MATCH(B:B,Измерения!C:C,0)) -> #N/A | N45: =INDEX(Измерения!J:J,MATCH(B:B,Измерения!C:C,0)) -> #N/A | P45: =INDEX(Измерения!K:K,MATCH(B:B,Измерения!C:C,0)) -> #N/A | R45: =INDEX(Измерения!L:L,MATCH(B:B,Измерения!C:C,0)) -> #N/A | T45: =INDEX(Измерения!M:M,MATCH(B:B,Измерения!C:C,0)) -> #N/A | V45: =INDEX(Измерения!N:N,MATCH(B:B,Измерения!C:C,0)) -> #N/A | X45: =INDEX(Измерения!O:O,MATCH(B:B,Измерения!C:C,0)) -> #N/A | Z45: =IF(B45="Шб1",-0.3,IF(B45="Дл ср з",0.5,IF(B45="Ш р",-0.2,IF(OR(B45="Дл бок",B45="Дл шг"),-1,0)))) -> 0 | AA45: ± | AB45: =IF(OR(B45="Ш по",B45="Ш маж р",B45="В ст",B45="Ш вор с"),0.2,IF(OR(B45="Д карм",B45="Ш р н",B45="Длс",B45="Шг"),0.3,IF(B45="Дл п",0.4,IF(OR(B45="Шб1",B45="Ш р",B45="Длп",B45="Дл отл"),0.5,IF(OR(B45="Шсп",B45="Дл с"),0.6,IF(OR(B45="Шп",B45="Шт",B45="Шб",B45="Ш т"),1,IF(OR(B45="Шн",B45="Шпл"),AC45*0.02,AC45*0.015))))))) -> #N/A | AC45: =IF($D$4="44",$D45,IF($F$4="44",$F45,IF($H$4="44",$H45,IF($J$4="44",$J45,IF($L$4="44",$L45,IF($N$4="44",$N45,IF($P$4="44",$P45,IF($R$4="44",$R45,IF($T$4="44",$T45,IF($V$4="44",$V45,IF($X$4="44",$X45,0))))))))))) -> #N/A | AD45: =LEFT(AA45&AB45,4) -> #N/A | AE45: =AVERAGE(F45-D45,H45-F45,J45-H45) -> #N/A

Sheet Измерения
E1: =LEFT(E4,6) -> ___G42 | F1: =LEFT(F4,6) -> ___G44 | G1: =LEFT(G4,6) -> ___G46 | H1: =LEFT(H4,6) -> ___G48 | I1: =LEFT(I4,6) -> ___G50 | J1: =LEFT(J4,6) -> ___G52 | K1: =LEFT(K4,6) -> ___G54 | L1: =LEFT(L4,6) | ... Q1: =LEFT(Q4,6)
E2: =RIGHT(E1,2) -> 42 | F2: =RIGHT(F1,2) -> 44 | G2: =RIGHT(G1,2) -> 46 | H2: =RIGHT(H1,2) -> 48 | I2: =RIGHT(I1,2) -> 50 | J2: =RIGHT(J1,2) -> 52 | K2: =RIGHT(K1,2) -> 54 | L2: =RIGHT(L1,2) | ... Q2: =RIGHT(Q1,2)
E3: 2 | F3: 1 | G3: 3 | H3: 4 | I3: 5 | J3: 6 | K3: 7
E4: ___G42_0 | F4: ___G44_0 | G4: ___G46_0 | H4: ___G48_0 | I4: ___G50_0 | J4: ___G52_0 | K4: ___G54_0
A5: 1 | B5: T6M17-6 | C5: Дп1 | D5: Длина по средней линии полочки | E5: 93.9 | F5: 95.2 | G5: 96.5 | H5: 97.9 | I5: 99.2 | J5: 100.5 | K5: 101.9
A6: 2 | B6: T6M7 | C6: Длп | D6: Длина горловины полочки | E6: 14.9 | F6: 15.2 | G6: 15.6 | H6: 15.9 | I6: 16.3 | J6: 16.7 | K6: 16.9
A7: 3 | B7: T6M9-2 | C7: Шг | D7: Ширина груди в застегнутом виде 13 см от высшей точки плеча | E7: 34.4 | F7: 35 | G7: 35.6 | H7: 36.2 | I7: 36.8 | J7: 37.7 | K7: 38.5
A8: 4 | B8: T6M15-2 | C8: Шп | D8: Ширина под проймой в застегнутом виде | E8: 47.1 | F8: 49 | G8: 50.8 | H8: 52.7 | I8: 54.5 | J8: 56.4 | K8: 58.2
A9: 5 | B9: T6M2-2 | C9: Шт | D9: Ширина на уровне талии в застегнутом виде | E9: 38.7 | F9: 40.8 | G9: 42.9 | H9: 45 | I9: 47.1 | J9: 49.2 | K9: 51.6
A10: 6 | B10: T6M5 | C10: Шпл | D10: Ширина плеча | E10: 12.4 | F10: 12.5 | G10: 12.7 | H10: 12.8 | I10: 12.9 | J10: 13.1 | K10: 13.1
A11: 7 | B11: T6M1 | C11: Дл п | D11: Длина проймы полочки | E11: 19.5 | F11: 20.3 | G11: 21.1 | H11: 21.9 | I11: 22.7 | J11: 23.4 | K11: 24.2
A12: 8 | B12: T5M1 | C12: Дл р | D12: Длина рукава | E12: 51.9 | F12: 52.1 | G12: 52.3 | H12: 52.5 | I12: 52.7 | J12: 52.9 | K12: 53.2
A13: 9 | B13: T5M2/2-2 | C13: Ш р н | D13: Ширина рукав по низу | E13: 11.8 | F13: 12.3 | G13: 12.7 | H13: 13.2 | I13: 13.6 | J13: 14.1 | K13: 14.5
A14: 10 | B14: T5M3/2-2 | C14: Ш р | D14: Ширина рукава под проймой | E14: 15.2 | F14: 15.8 | G14: 16.4 | H14: 17 | I14: 17.6 | J14: 18.2 | K14: 18.8
A15: 11 | B15: T5M4 | C15: Ш маж р | D15: Ширина манжеты | E15: 7 | F15: 7 | G15: 7 | H15: 7 | I15: 7 | J15: 7 | K15: 7
A16: 12 | B16: T6M4 | C16: Дл с | D16: Длина проймы спинки | E16: 22.8 | F16: 23.6 | G16: 24.4 | H16: 25.3 | I16: 26.1 | J16: 27 | K16: 27.9
... A23: 19 | B23: T10M3 | C23: Дл отл | D23: Длина отлета воротника | E23: 46.3 | F23: 47.5 | G23: 48.7 | H23: 49.9 | I23: 51.1 | J23: 52.3 | K23: 53.1
