Workbook

Sheet НОВОГОДНЯЯ КОЛЛЕКЦИЯ
A1: ВСЯКИЕ ШТУКИ -НОВОГОДНЯЯ КОЛЛЕКЦИЯ
A2: Фото | B2: Наименование | C2: Состав | D2: Оптовая цена | E2: Ваш заказ | F2: Сумма
B3: Набор шоколада 12 конфет "С Новым годом!" (Пряничный домик) | C3: Внутри скрываются 12 плиточек шоколада, каждая в обёртке с тематической картинкой и надписью. Вес - 33 гр | D3: 160 | E3: 0 | F3: =E3*D3 -> 0 | G3: Новинка!
B4: Набор шоколада 12 конфет "Волшебного Нового года!" | C4: Внутри скрываются 12 плиточек шоколада, каждая в обёртке с тематической картинкой и надписью. Вес - 33 гр | D4: 160 | E4: 0 | F4: =E4*D4 -> 0 | G4: Новинка!
B5: Набор шоколада 12 конфет "С Новым годом!" | C5: Внутри скрываются 12 плиточек шоколада, каждая в обёртке с тематической картинкой и надписью. Вес - 33 гр | D5: 160 | E5: 0 | F5: =E5*D5 -> 0 | G5: Новинка!
B6: Конверт "С Новым годом!" | C6: Внутри скрываются 9 плиточек шоколада, каждая в обёртке с тематической картинкой и надписью. Вес - 75 гр | D6: 110 | E6: 0 | F6: =E6*D6 -> 0 | G6: Новинка!
B7: Конверт "Пряничный домик" | C7: Внутри скрываются 9 плиточек шоколада, каждая в обёртке с тематической картинкой и надписью. Вес - 75 гр | D7: 110 | E7: 0 | F7: =E7*D7 -> 0 | G7: Новинка!
B8: Конверт "С рождеством!" | C8: Внутри скрываются 9 плиточек шоколада, каждая в обёртке с тематической картинкой и надписью. Вес - 75 гр | D8: 110 | E8: 0 | F8: =E8*D8 -> 0 | G8: Новинка!
B9: Конверт "Счастливого Рождества!" | C9: Внутри скрываются 9 плиточек шоколада, каждая в обёртке с тематической картинкой и надписью. Вес - 75 гр | D9: 110 | E9: 0 | F9: =E9*D9 -> 0 | G9: Новинка!
B10: Открытка "Волшебного Нового года!" | C10: Внутри скрываются 4 плиточки шоколада, каждая в обёртке с тематической картинкой и надписью. Вес - 33 гр | D10: 60 | E10: 0 | F10: =E10*D10 -> 0 | G10: Новинка!
B11: Открытка "С Новым годом!" (Крыска) | C11: Внутри скрываются 4 плиточки шоколада, каждая в обёртке с тематической картинкой и надписью. Вес - 33 гр | D11: 60 | E11: 0 | F11: =E11*D11 -> 0 | G11: Новинка!
B12: Открытка "С Новым годом! (2020)" | C12: Внутри скрываются 4 плиточки шоколада, каждая в обёртке с тематической картинкой и надписью. Вес - 33 гр | D12: 60 | E12: 0 | F12: =E12*D12 -> 0
B13: Открытка "С Новым годом! (Красная кружка)" | C13: Внутри скрываются 4 плиточки шоколада, каждая в обёртке с тематической картинкой и надписью. Вес - 33 гр | D13: 60 | E13: 0 | F13: =E13*D13 -> 0
B14: Мини-открытка "С Новым годом!" (Дед Мороз) | C14: Внутри 1 плиточка шоколада в обёртке с тематической картинкой и надписью. Вес - 8 гр | D14: 23 | E14: 0 | F14: =E14*D14 -> 0 | G14: Новинка!
B15: Мини-открытка "С Новым годом!" (Крыска) | C15: Внутри 1 плиточка шоколада в обёртке с тематической картинкой и надписью. Вес - 8 гр | D15: 23 | E15: 0 | F15: =E15*D15 -> 0 | G15: Новинка!
B16: Шоколадная медаль "С Новым годом!" (Крыска) | C16: Шоколадная медаль - отличный подарок на любой случай. Вес -25 гр. | D16: 45 | F16: =E16*D16 -> 0 | G16: Новинка!
B17: Шоколадная медаль "От Деда Мороза!" | C17: Шоколадная медаль - отличный подарок на любой случай. Вес -25 гр. | D17: 45 | F17: =E17*D17 -> 0 | G17: Новинка!
B18: Шоколадная медаль "С Новым годом!" | C18: Шоколадная медаль - отличный подарок на любой случай. Вес -25 гр. | D18: 45 | E18: 0 | F18: =E18*D18 -> 0 | G18: Новинка!
B19: Носки в банке "с Новым годом!" | C19: В банке надёжно законсервировано то, что понравится каждому мужчине: НОСКИ *чистые, *целые, *парные, *одинаковые. Носки мужские. Размер: 42-48 (универсальный). Состав: 75% хлопок, 20% спандекс, 5% л/а. Размер банки: высота - 9,5 см, диаметр - 7,5 см. | D19: 120 | E19: 0 | F19: =E19*D19 -> 0 | G19: Новинка!
B20: Носки в банке "Подарок от Деда Мороза" | C20: В банке надёжно законсервировано то, что понравится каждому мужчине: НОСКИ *чистые, *целые, *парные, *одинаковые. Носки мужские. Размер: 42-48 (универсальный). Состав: 75% хлопок, 20% спандекс, 5% л/а. Размер банки: высота - 9,5 см, диаметр - 7,5 см. | D20: 120 | E20: 0 | F20: =E20*D20 -> 0 | G20: Новинка!
E21: Итоговая сумма | F21: =SUM(F3:F20) -> 0
E22: Общая сумма по всем прайсам | F22: ='КОНВЕРТЫТ С ШОКОЛАДОМ'!F15+'ОТКРЫТКИ С ШОКОЛАДОМ'!F28+'НАБОР ШОКОЛАДА 12 КОНФЕТ'!F15+'ПОДАРОЧНЫЙ ЧАЙ'!F49+'ПОДАРОЧНЫЙ КОФЕ'!F23+'ОТКРЫТКИ С ПРЯНИКАМИ'!F11+'ОТКРЫТКИ С ЛЕДЕНЦАМИ'!F17+'КРЕМ-МЕД'!F13+'НОСКИ В БАНКЕ'!F13+'АРАХИСОВАЯ ПАСТА'!F11+ЭКОБАНТОНЧИКИ!F9+'НОВОГОДНЯЯ КОЛЛЕКЦИЯ'!F21+'КАРТОЧКИ С ШОКОЛАДОМ'!F11+'МИНИ-ОТКРЫТКИ С ШОКОЛАДОМ'!F7+'ШОКОЛАДНЫЕ МЕДАЛИ'!F19+'КОФЕ В СТАКАНАХ ПОДАРОЧНЫЙ'!F15 -> 130

Sheet 14 февраля
A2: ВСЯКИЕ ШТУКИ -14 февраля
A3: Фото | B3: Наименование | C3: Состав | D3: Оптовая цена | E3: Ваш заказ | F3: Сумма
B4: Открытка "С любовью для тебя" | C4: Внутри скрываются 4 плиточки шоколада, каждая в обёртке с тематической картинкой и надписью. Вес - 33 гр | D4: 60 | F4: =E4*D4 -> 0
B5: Конверт "Набор роковой красотки" | C5: Внутри скрываются 9 плиточек шоколада, каждая в обёртке с тематической картинкой и надписью. Вес - 75 гр | D5: 110 | F5: =E5*D5 -> 0
B6: Открытка с шоколадом Дарю моё сердце | C6: Темный шоколад: Сахар, какао-тертое, какао-масло, лецитин соевый, ароматизатор ванилин. Вес - 30 гр. | D6: 90 | F6: =E6*D6 -> 0
B7: Открытка с леденцом Моё сердце принадлежит тебе | C7: Внутри леденец “Сердце”. Вес 50гр. | D7: 65 | F7: =E7*D7 -> 0
B8: Чай романтичный | C8: Зелёный чай ганпаудер, стружка кокоса, лепестки василька, натуральные ароматические масла. Вес - 50 гр. | D8: 135 | F8: =E8*D8 -> 0
B9: Чай Люблю тебя | C9: Смесь сортов чёрного чая, кусочки яблока, цукаты, лепестки розы и календулы. Вес — 50 гр. | D9: 135 | E9: 0 | F9: =E9*D9 -> 0
B10: Чай моей любимой | C10: Кусочки яблока, цукаты ананаса и кокоса, кокосовая стружка, каркаде, шиповник, календула, василёк, натуральные ароматические масла. Вес — 50 гр. | D10: 135 | F10: =E10*D10 -> 0
E11: Итоговая сумма | F11: =SUM(F5:F10) -> 0
E12: Общая сумма по всем прайсам | F12: ='23 февраля'!F34+'КОНВЕРТЫТ С ШОКОЛАДОМ'!F15+'ДЕТСКИЕ ИГРЫ'!F50+'ПОДАРОЧНЫЙ ЧАЙ'!F49+'ПОДАРОЧНЫЙ КОФЕ'!F23+'ОТКРЫТКИ С ШОКОЛАДОМ'!F28+'ОТКРЫТКИ С ПРЯНИКАМИ'!F11+'ОТКРЫТКИ С ЛЕДЕНЦАМИ'!F17+'КРЕМ-МЕД'!F13+'НОСКИ В БАНКЕ'!F13+'АРАХИСОВАЯ ПАСТА'!F11+ЭКОБАНТОНЧИКИ!F9 -> 0

Sheet 23 февраля
A1: ВСЯКИЕ ШТУКИ -23 февраля
A2: Фото | B2: Наименование | C2: Состав | D2: Оптовая цена | E2: Ваш заказ | F2: Сумма
B3: Носки в банке "С Днем защитника отечества" | C3: В банке надёжно законсервировано то, что понравится каждому мужчине: НОСКИ *чистые, *целые, *парные, *одинаковые. Носки мужские. Размер: 42-48 (универсальный). Состав: 80% хлопок, 15% полиамид, 5% лайкра. Размер банки: высота - 9,5 см, диаметр - 7,5 см. | D3: 120 | F3: =D3*E3 -> 0
B4: Носки в банке "Разыскиваются носки для настоящего мужика" | C4: В банке надёжно законсервировано то, что понравится каждому мужчине: НОСКИ *чистые, *целые, *парные, *одинаковые. Носки мужские. Размер: 42-48 (универсальный). Состав: 80% хлопок, 15% полиамид, 5% лайкра. Размер банки: высота - 9,5 см, диаметр - 7,5 см. | D4: 120 | F4: =D4*E4 -> 0
B5: Носки в банке "НЗ" | C5: В банке надёжно законсервировано то, что понравится каждому мужчине: НОСКИ *чистые, *целые, *парные, *одинаковые. Носки мужские. Размер: 42-48 (универсальный). Состав: 80% хлопок, 15% полиамид, 5% лайкра. Размер банки: высота - 9,5 см, диаметр - 7,5 см. | D5: 120 | F5: =D5*E5 -> 0
B6: Носки в банке "Лучшему папе" | C6: В банке надёжно законсервировано то, что понравится каждому мужчине: НОСКИ *чистые, *целые, *парные, *одинаковые. Носки мужские. Размер: 42-48 (универсальный). Состав: 80% хлопок, 15% полиамид, 5% лайкра. Размер банки: высота - 9,5 см, диаметр - 7,5 см. | D6: 120 | F6: =D6*E6 -> 0
B7: Конверт "С днем защитника отечества" | C7: Внутри скрываются 9 плиточек шоколада, каждая в обёртке с тематической картинкой и надписью. Вес - 75 гр | D7: 110 | F7: =D7*E7 -> 0
B8: Открытка "С 23 февраля" | C8: Внутри скрываются 4 плиточки шоколада, каждая в обёртке с тематической картинкой и надписью. Вес - 33 гр | D8: 60 | F8: =D8*E8 -> 0
B9: Открытка "Самому лучшему папе" | C9: Внутри скрываются 4 плиточки шоколада, каждая в обёртке с тематической картинкой и надписью. Вес - 33 гр | D9: 60 | F9: =D9*E9 -> 0
B10: Открытка "Настоящему мужчине" | C10: Внутри скрываются 4 плиточки шоколада, каждая в обёртке с тематической картинкой и надписью. Вес - 33 гр | D10: 60 | F10: =D10*E10 -> 0
B11: Чай Для защитника отечества | C11: Зелёный чай сенча, женьшень улун, лимонник, имбирь, календула, кусочки фруктов, натуральные ароматические масла. Вес 50 гр. | D11: 135 | F11: =D11*E11 -> 0
B12: Чай С 23 февраля | C12: Черный крупнолистовой чай. Вес 50 гр. | D12: 135 | F12: =D12*E12 -> 0
B13: Чай Папочка, с 23 февраля | C13: чёрный чай, гвоздика, корица, имбирь, ароматизатор “Шоколад”. Вес — 50 гр. | D13: 135 | F13: =D13*E13 -> 0
B14: Чай Незабываемого 23 февраля | C14: чёрный чай, душица, лист мелиссы. Вес — 50 гр. | D14: 135 | F14: =D14*E14 -> 0
... B29: Открытка с шоколадом Отцу года | C29: Темный шоколад: Сахар, какао-тертое, какао-масло, лецитин соевый, ароматизатор ванилин. Вес - 30 гр. | D29: 90 | F29: =D29*E29 -> 0
B30: Открытка с пряником “Маленькому герою”. Щеночек | C30: Внутри пряник в форме щенка. Вес - 17 гр. | D30: 78 | E30: 0 | F30: =D30*E30 -> 0
B31: Подарочный набор из 3 продуктов Поздравляю с 23 февраля | C31: Чай "С 23 февраля", Кофе "Для защитника отечества", Крем-мёд "С 23 февраля" | D31: 750 | F31: =D31*E31 -> 0
B32: Подарочный набор из 3 продуктов "Для настоящего мужчины" | C32: Кофе «Для крепких мужчин», крем-мед «Настоящий мужской», чай «Суровый мужской» | D32: 750 | F32: =D32*E32 -> 0
B33: Набор чая "Для настоящего мужчины". | C33: Подарочный чай "Для горячего парня", Подарочный чай "Суровый мужской", Подарочный чай "Для карьерного роста" Вес — 150 гр. | D33: 425 | F33: =D33*E33 -> 0
E34: Итоговая сумма | F34: =SUM(F3:F33) -> 0
E35: Общая сумма по всем прайсам | F35: ='14 февраля'!F12 -> 0

Sheet ДЕТСКИЕ ИГРЫ
A1: ВСЯКИЕ ШТУКИ -ИГРЫ
A2: Фото | B2: Наименование | C2: Состав | D2: Оптовая цена | E2: Ваш заказ | F2: Сумма
B3: Ихний Ихниевич | C3: Русский язык учить тяжело. Это неудивительно: столько разных правил, скучные учебники! «Ихний Ихниевич» — это уникальная настольная игра, которая помогает понять и запомнить самые важные термины из курса русского языка с 1 по 6 классы. Ведь играть намного интереснее, чем читать очередной параграф :) | D3: 890 | F3: =E3*D3 -> 0
B4: Кругозорник биология | C4: Мир живых организмов такой многообразный, и от этого невероятно интересный! «Кругозорник Биология» — это увлекательное дополнение к основной игре «Кругозорник». Оно поможет легко разобраться даже в самых сложных терминах из области биологии | D4: 320 | F4: =E4*D4 -> 0
B5: Мини-Квестик Индейский | C5: Квест Индейский ! Вручите подарок эффектно при помощи забавного квеста по квартире! Возраст: 6+ | D5: 189 | E5: 0 | F5: =E5*D5 -> 0 | G5: Новинка!
B6: Мини- Квестик Волшебный | C6: Квест Волшебный ! Вручите подарок эффектно при помощи забавного квеста по квартире! Возраст: 6+ | D6: 189 | E6: 0 | F6: =E6*D6 -> 0 | G6: Новинка!
B7: Мини-Квестик Космический | C7: Квест Космический ! Вручите подарок эффектно при помощи забавного квеста по квартире! Возраст: 6+ | D7: 189 | E7: 0 | F7: =E7*D7 -> 0 | G7: Новинка!
B8: Тетрадь «Реши-пиши, 5–6 лет | C8: «Реши-пиши» — это не обычная пропись или набор скучных примеров на сложение и вычитание. Задания для тетрадей спроектированы особым образом, чтобы дети с удовольствием брались за их решение и подолгу не могли оторваться от процесса. | D8: 157 | E8: 0 | F8: =E8*D8 -> 0 | G8: Новинка!
B9: Тетрадь «Реши-пиши, 7–8 лет | C9: «Реши-пиши» — это не обычная пропись или набор скучных примеров на сложение и вычитание. Задания для тетрадей спроектированы особым образом, чтобы дети с удовольствием брались за их решение и подолгу не могли оторваться от процесса. | D9: 157 | E9: 0 | F9: =E9*D9 -> 0 | G9: Новинка!
B10: Тетрадь «Реши-пиши, 9–10 лет | C10: «Реши-пиши» — это не обычная пропись или набор скучных примеров на сложение и вычитание. Задания для тетрадей спроектированы особым образом, чтобы дети с удовольствием брались за их решение и подолгу не могли оторваться от процесса. | D10: 157 | E10: 0 | F10: =E10*D10 -> 0 | G10: Новинка!
B11: Квестик пиратский (Мэри) | C11: Квест пиратский ! Вручите подарок эффектно при помощи забавного квеста по квартире! Возраст: 4+ | D11: 352.35 | E11: 0 | F11: =E11*D11 -> 0 | G11: Новинка!
B12: Квестик пиратский (Джек) | C12: Квест пиратский ! Вручите подарок эффектно при помощи забавного квеста по квартире! Возраст: 4+ | D12: 352.35 | E12: 0 | F12: =E12*D12 -> 0 | G12: Новинка!
B13: Квестик супергеройский (Катя) | C13: Квест супергеройский ! Вручите подарок эффектно при помощи забавного квеста по квартире! Возраст: 7+ | D13: 352.35 | E13: 0 | F13: =E13*D13 -> 0 | G13: Новинка!
B14: Квестик супергеройский (Макс) | C14: Квест супергеройский ! Вручите подарок эффектно при помощи забавного квеста по квартире! Возраст: 7+ | D14: 352.35 | E14: 0 | F14: =E14*D14 -> 0 | G14: Новинка!
B15: Турбосчёт | C15: «Турбосчёт» поможет дошкольникам эффективно обучиться счёту и сравнению чисел в увлекательной игровой форме. Школьники будут развивать и укреплять эти навыки. Степень сложности игры легко менять, убирая или добавляя карты более высокого уровня. Возраст: 6+ 8+ | D15: 319.725 | E15: 0 | F15: =E15*D15 -> 0
B16: Турбосчёт Форсаж | C16: Тот самый Турбосчёт, только ещё сложнее! Основной принцип игры «Турбосчёт» сохранился, но благодаря некоторым дополнениям, усложнениям и хитростям «Турбосчёт Форсаж» стал ещё увлекательнее и ещё умнее! Возраст: 7+ 10+ | D16: 319.725 | E16: 0 | F16: =E16*D16 -> 0
B17: Геометрика | C17: Азарт и риск — важные элементы «Геометрики», но рисковать здесь нужно с умом, учиться принимать взвешенные решения. Дети быстро вовлекаются в игровой процесс и уже в первые часы узнают основы геометрии. Возраст: 7+ 10+ | D17: 319.725 | E17: 0 | F17: =E17*D17 -> 0
B18: Геометрика EXTRA | C18: «Геометрика EXTRA» — это набор дополнительных карт к базовому комплекту «Геометрики». С ним любимая игра станет интереснее, разнообразнее и сложнее. Возраст: 10+ | D18: 319.725 | E18: 0 | F18: =E18*D18 -> 0
B19: Прогеры | C19: Многоэтажная 3D-настолка на алгоритмы, начала программирования и логику. Возраст: 6+ 10+ | D19: 841.725 | E19: 0 | F19: =E19*D19 -> 0
B20: Цветариум | C20: «Цветариум» решает одну важную задачу, которая стоит перед детьми и родителями — освоить таблицу умножения. Возраст: 7+ 9+ | D20: 580.725 | E20: 0 | F20: =E20*D20 -> 0
B21: Зверобуквы | C21: Если вы решили начать знакомить вашего ребёнка с буквами — попробуйте «Зверобуквы»! Это одна из самых любимых игр у детей и взрослых. Она способствует естественному запоминанию букв в ходе игры. Если алфавит для ребёнка не новинка, но с грамотностью и словарным запасом стоит поработать, «Зверобуквы» придутся весьма кстати. Возраст: 4+ 8+ | D21: 515.475 | E21: 0 | F21: =E21*D21 -> 0
B22: Котосовы | C22: Жутко интересная игра на счёт, логику, внимательность, концентрацию и скорость реакции! В этой потрясающе оформленной игре дети учатся моментально определять количество, не пересчитывая. Возраст 4+ 6+ | D22: 645.975 | E22: 0 | F22: =E22*D22 -> 0
B23: Читай-Хватай | C23: Просто знать буквы — это ещё не значит уметь читать! В «Читай-хватай» дети быстро и с удовольствием научатся складывать из букв слова: кто быстрее читает — тот больше собирает. Игра устроена так, что игровой процесс автоматически стимулирует детей читать и повышать скорость чтения. Возраст: 4+ 7+ | D23: 580.725 | E23: 0 | F23: =E23*D23 -> 0
B24: Трафик-джем | C24: Играя в «Трафик-Джем» дети начинают свободно ориентироваться в числовом ряду от 1 до 50 и легко сравнивать двузначные числа. Игра даёт наглядное представление о понятиях «интервал» и «разница». Возраст: 5+ 8+ | D24: 319.725 | E24: 0 | F24: =E24*D24 -> 0
B25: Фрукто10 | C25: Эта игра на развитие навыка скоростного сложения, внимательность и умение концентрироваться не оставит равнодушных среди детей и родителей. Возраст: 7+ 9+ | D25: 319.725 | E25: 0 | F25: =E25*D25 -> 0
B26: Делиссимо | C26: Доли и дроби приятнее учить в игре с пиццами, а не за школьной партой! В этой милой игре вам предстоит немало потрудиться, так как вы работаете на известную и уважаемую итальянскую пиццерию «Делиссимо». Возраст: 6+ 10+ | D26: 515.475 | E26: 0 | F26: =E26*D26 -> 0
... B49: Магнитная азбука "CtheB" | C49: «C the B» — это английская магнитная азбука из 54 букв. Возраст: 4+ | D49: 645.975 | E49: 0 | F49: =E49*D49 -> 0
E50: Итоговая сумма | F50: =SUM(F5:F49) -> 0
E51: Общая сумма по всем прайсам | F51: ='14 февраля'!F12 -> 0

Sheet КОНВЕРТЫТ С ШОКОЛАДОМ
A1: ВСЯКИЕ ШТУКИ -Конверты с шоколадом
A2: Фото | B2: Наименование | C2: Состав | D2: Оптовая цена | E2: Ваш заказ | F2: Сумма
B3: Конверт "С днем 8 марта" | C3: Внутри скрываются 9 плиточек шоколада, каждая в обёртке с тематической картинкой и надписью. Вес - 75 гр | D3: 110 | F3: =D3*E3 -> 0
B4: Конверт "Набор роковой красотки" | C4: Внутри скрываются 9 плиточек шоколада, каждая в обёртке с тематической картинкой и надписью. Вес - 75 гр | D4: 110 | F4: =D4*E4 -> 0
B5: Конверт "С днем защитника отечества" | C5: Внутри скрываются 9 плиточек шоколада, каждая в обёртке с тематической картинкой и надписью. Вес - 75 гр | D5: 110 | F5: =D5*E5 -> 0
B6: Конверт "Любимой маме" | C6: Внутри скрываются 9 плиточек шоколада, каждая в обёртке с тематической картинкой и надписью. Вес - 75 гр | D6: 110 | E6: 0 | F6: =D6*E6 -> 0
B7: Конверт "Тебе сегодня можно все (мужской)" | C7: Внутри скрываются 9 плиточек шоколада, каждая в обёртке с тематической картинкой и надписью. Вес - 75 гр | D7: 110 | F7: =D7*E7 -> 0 | G7: Новинка!
B8: Конверт "Поздравляю" | C8: Внутри скрываются 9 плиточек шоколада, каждая в обёртке с тематической картинкой и надписью. Вес - 75 гр | D8: 110 | F8: =D8*E8 -> 0 | G8: Новинка!
B9: Конверт "Сладкой жизни" | C9: Внутри скрываются 9 плиточек шоколада, каждая в обёртке с тематической картинкой и надписью. Вес - 75 гр | D9: 110 | F9: =D9*E9 -> 0 | G9: Новинка!
B10: Конверт "Люблю тебя" | C10: Внутри скрываются 9 плиточек шоколада, каждая в обёртке с тематической картинкой и надписью. Вес - 75 гр | D10: 110 | F10: =D10*E10 -> 0
B11: Конверт "Любимому мужу" | C11: Внутри скрываются 9 плиточек шоколада, каждая в обёртке с тематической картинкой и надписью. Вес - 75 гр | D11: 110 | F11: =D11*E11 -> 0
B12: Конверт "Моей дорогой бабушке" | C12: Внутри скрываются 9 плиточек шоколада, каждая в обёртке с тематической картинкой и надписью. Вес - 75 гр | D12: 110 | F12: =D12*E12 -> 0
B13: Конверт "Лучшему мастеру маникюра" | C13: Внутри скрываются 9 плиточек шоколада, каждая в обёртке с тематической картинкой и надписью. Вес - 75 гр | D13: 110 | E13: 0 | F13: =D13*E13 -> 0
B14: Конверт "Лучшему парикмахеру" | C14: Внутри скрываются 9 плиточек шоколада, каждая в обёртке с тематической картинкой и надписью. Вес - 75 гр | D14: 110 | F14: =D14*E14 -> 0
E15: Итоговая сумма | F15: =SUM(F3:F14) -> 0
E16: Общая сумма по всем прайсам | F16: ='НОВОГОДНЯЯ КОЛЛЕКЦИЯ'!F21+'КОНВЕРТЫТ С ШОКОЛАДОМ'!F15+'ОТКРЫТКИ С ШОКОЛАДОМ'!F28+'НАБОР ШОКОЛАДА 12 КОНФЕТ'!F15+'ПОДАРОЧНЫЙ ЧАЙ'!F49+'ПОДАРОЧНЫЙ КОФЕ'!F23+'ОТКРЫТКИ С ПРЯНИКАМИ'!F11+'ОТКРЫТКИ С ЛЕДЕНЦАМИ'!F17+'КРЕМ-МЕД'!F13+'НОСКИ В БАНКЕ'!F13+'АРАХИСОВАЯ ПАСТА'!F11+ЭКОБАНТОНЧИКИ!F9+'КАРТОЧКИ С ШОКОЛАДОМ'!F11+'МИНИ-ОТКРЫТКИ С ШОКОЛАДОМ'!F7+'ШОКОЛАДНЫЕ МЕДАЛИ'!F19+'КОФЕ В СТАКАНАХ ПОДАРОЧНЫЙ'!F15 -> 130

Sheet КОФЕ В СТАКАНАХ ПОДАРОЧНЫЙ
A1: ВСЯКИЕ ШТУКИ -Кофе в дизайнерских стаканах
A2: Фото | B2: Наименование | C2: Состав | D2: Оптовая цена | E2: Ваш заказ | F2: Сумма
B3: Кофе "Для лучших подруг" | C3: Свежемолотый ароматный кофе в дизайнерском стакане. Внутри герметичный пакет. 100% арабика. Сорт "Бразилия Сантос". Вес - 50 гр | D3: 130 | F3: =D3*E3 -> 0 | G3: Новинка!
B4: Кофе "Офисный" | C4: Свежемолотый ароматный кофе в дизайнерском стакане. Внутри герметичный пакет. 100% арабика. Сорт "Бразилия Сантос". Вес - 50 гр | D4: 130 | F4: =D4*E4 -> 0 | G4: Новинка!
B5: Кофе "Для отличного дня" | C5: Свежемолотый ароматный кофе в дизайнерском стакане. Внутри герметичный пакет. 100% арабика. Сорт "Бразилия Сантос". Вес - 50 гр | D5: 130 | F5: =D5*E5 -> 0 | G5: Новинка!
B6: Кофе "Для кофемана" | C6: Свежемолотый ароматный кофе в дизайнерском стакане. Внутри герметичный пакет. 100% арабика. Сорт "Бразилия Сантос". Вес - 50 гр | D6: 130 | E6: 0 | F6: =D6*E6 -> 0 | G6: Новинка!
B7: Кофе "Для папы" | C7: Свежемолотый ароматный кофе в дизайнерском стакане. Внутри герметичный пакет. 100% арабика. Сорт "Бразилия Сантос". Вес - 50 гр | D7: 130 | F7: =D7*E7 -> 0 | G7: Новинка!
B8: Кофе "Взбодрись и улыбнись" | C8: Свежемолотый ароматный кофе в дизайнерском стакане. Внутри герметичный пакет. 100% арабика. Сорт "Бразилия Сантос". Вес - 50 гр | D8: 130 | F8: =D8*E8 -> 0 | G8: Новинка!
B9: Кофе "Любимой маме" | C9: Свежемолотый ароматный кофе в дизайнерском стакане. Внутри герметичный пакет. 100% арабика. Сорт "Бразилия Сантос". Вес - 50 гр | D9: 130 | F9: =D9*E9 -> 0 | G9: Новинка!
B10: Кофе "Поздравляю" | C10: Свежемолотый ароматный кофе в дизайнерском стакане. Внутри герметичный пакет. 100% арабика. Сорт "Бразилия Сантос". Вес - 50 гр | D10: 130 | F10: =D10*E10 -> 0 | G10: Новинка!
B11: Кофе "Улучшатель настроения" | C11: Свежемолотый ароматный кофе в дизайнерском стакане. Внутри герметичный пакет. 100% арабика. Сорт "Бразилия Сантос". Вес - 50 гр | D11: 130 | E11: 1 | F11: =D11*E11 -> 130 | G11: Новинка!
B12: Кофе "Крепкий кофе для крепуих мужчин" | C12: Свежемолотый ароматный кофе в дизайнерском стакане. Внутри герметичный пакет. 100% арабика. Сорт "Бразилия Сантос". Вес - 50 гр | D12: 130 | F12: =D12*E12 -> 0 | G12: Новинка!
B13: Конверт "Лучшему мастеру маникюра" | C13: Внутри скрываются 9 плиточек шоколада, каждая в обёртке с тематической картинкой и надписью. Вес - 75 гр | D13: 110 | E13: 0 | F13: =D13*E13 -> 0 | G13: Новинка!
B14: Конверт "Лучшему парикмахеру" | C14: Внутри скрываются 9 плиточек шоколада, каждая в обёртке с тематической картинкой и надписью. Вес - 75 гр | D14: 110 | F14: =D14*E14 -> 0 | G14: Новинка!
E15: Итоговая сумма | F15: =SUM(F3:F14) -> 130
E16: Общая сумма по всем прайсам | F16: ='НОВОГОДНЯЯ КОЛЛЕКЦИЯ'!F21+'КОФЕ В СТАКАНАХ ПОДАРОЧНЫЙ'!F15+'ОТКРЫТКИ С ШОКОЛАДОМ'!F28+'НАБОР ШОКОЛАДА 12 КОНФЕТ'!F15+'ПОДАРОЧНЫЙ ЧАЙ'!F49+'ПОДАРОЧНЫЙ КОФЕ'!F23+'ОТКРЫТКИ С ПРЯНИКАМИ'!F11+'ОТКРЫТКИ С ЛЕДЕНЦАМИ'!F17+'КРЕМ-МЕД'!F13+'НОСКИ В БАНКЕ'!F13+'АРАХИСОВАЯ ПАСТА'!F11+ЭКОБАНТОНЧИКИ!F9+'КАРТОЧКИ С ШОКОЛАДОМ'!F11+'МИНИ-ОТКРЫТКИ С ШОКОЛАДОМ'!F7+'ШОКОЛАДНЫЕ МЕДАЛИ'!F19 -> 130

Sheet ОТКРЫТКИ С ШОКОЛАДОМ
A1: ВСЯКИЕ ШТУКИ - ОТКРЫТКИ С ШОКОЛАДОМ
A2: Фото | B2: Наименование | C2: Состав | D2: Оптовая цена | E2: Ваш заказ | F2: Сумма
B3: Открытка "Настоящему мужчине" | C3: Внутри скрываются 4 плиточки шоколада, каждая в обёртке с тематической картинкой и надписью. Вес - 33 гр | D3: 60 | F3: =E3*D3 -> 0 | G3: Новинка!
B4: Открытка "Поздравляю" | C4: Внутри скрываются 4 плиточки шоколада, каждая в обёртке с тематической картинкой и надписью. Вес - 33 гр | D4: 60 | F4: =E4*D4 -> 0 | I4: Новинка!
B5: Открытка "Сладкой жизни" | C5: Внутри скрываются 4 плиточки шоколада, каждая в обёртке с тематической картинкой и надписью. Вес - 33 гр | D5: 60 | F5: =E5*D5 -> 0 | I5: Новинка!
B6: Открытка "Люблю тебя" | C6: Внутри скрываются 4 плиточки шоколада, каждая в обёртке с тематической картинкой и надписью. Вес - 33 гр | D6: 60 | F6: =E6*D6 -> 0 | I6: Новинка!
B7: Открытка "Человеку, у которого все есть" | C7: Внутри скрываются 2 золотых слитка шоколада. Вес - 33 гр | D7: 60 | F7: =E7*D7 -> 0 | I7: Новинка!
B8: Открытка "Моей лучшей подружке" | C8: Внутри скрываются 4 плиточки шоколада, каждая в обёртке с тематической картинкой и надписью. Вес - 33 гр | D8: 60 | F8: =E8*D8 -> 0
B9: Открытка "Моей лучшей подруге" | C9: Внутри скрываются 4 плиточки шоколада, каждая в обёртке с тематической картинкой и надписью. Вес - 33 гр | D9: 60 | F9: =E9*D9 -> 0
B10: Открытка "С 8 марта" | C10: Внутри скрываются 4 плиточки шоколада, каждая в обёртке с тематической картинкой и надписью. Вес - 33 гр | D10: 60 | F10: =E10*D10 -> 0
B11: Открытка "Love is" | C11: Внутри скрываются 4 плиточки шоколада, каждая в обёртке с тематической картинкой и надписью. Вес - 33 гр | D11: 60 | F11: =E11*D11 -> 0
B12: Открытка "С любовью для тебя" | C12: Внутри скрываются 4 плиточки шоколада, каждая в обёртке с тематической картинкой и надписью. Вес - 33 гр | D12: 60 | F12: =E12*D12 -> 0
B13: Открытка "Самому лучшему папе" | C13: Внутри скрываются 4 плиточки шоколада, каждая в обёртке с тематической картинкой и надписью. Вес - 33 гр | D13: 60 | F13: =E13*D13 -> 0 | G13: Новинка!
B14: Открытка "Моей дорогой бабушке" | C14: Внутри скрываются 4 плиточки шоколада, каждая в обёртке с тематической картинкой и надписью. Вес - 33 гр | D14: 60 | F14: =E14*D14 -> 0 | G14: Новинка!
B15: Открытка "Любимой мамочке" | C15: Внутри скрываются 4 плиточки шоколада, каждая в обёртке с тематической картинкой и надписью. Вес - 33 гр | D15: 60 | F15: =E15*D15 -> 0 | G15: Новинка!
B16: Открытка "С днем рождения" | C16: Внутри скрываются 4 плиточки шоколада, каждая в обёртке с тематической картинкой и надписью. Вес - 33 гр | D16: 60 | F16: =E16*D16 -> 0 | G16: Новинка!
B17: Открытка "Лучшему учителю" | C17: Внутри скрываются 4 плиточки шоколада, каждая в обёртке с тематической картинкой и надписью. Вес - 33 гр | D17: 60 | E17: 0 | F17: =E17*D17 -> 0
B18: Открытка "С 23 февраля" | C18: Внутри скрываются 4 плиточки шоколада, каждая в обёртке с тематической картинкой и надписью. Вес - 33 гр | D18: 60 | E18: 0 | F18: =E18*D18 -> 0
B19: Открытка "До свиданья, детский сад! (девочка)" | C19: Внутри скрываются 4 плиточки шоколада, каждая в обёртке с тематической картинкой и надписью. Вес - 33 гр | D19: 45 | E19: 0 | F19: =E19*D19 -> 0
B20: Открытка "До свиданья, детский сад! (мальчик) " | C20: Внутри скрываются 4 плиточки шоколада, каждая в обёртке с тематической картинкой и надписью. Вес - 33 гр | D20: 45 | E20: 0 | F20: =E20*D20 -> 0
B21: Открытка с шоколадом Моей чудесной подружке | C21: Темный шоколад: Сахар, какао-тертое, какао-масло, лецитин соевый, ароматизатор ванилин. Вес - 30 гр. | D21: 63 | E21: 0 | F21: =E21*D21 -> 0
B22: Открытка с шоколадом Суровый мужской шоколад | C22: Темный шоколад: Сахар, какао-тертое, какао-масло, лецитин соевый, ароматизатор ванилин. Вес - 30 гр. | D22: 63 | E22: 0 | F22: =E22*D22 -> 0
B23: Открытка с шоколадом Улётный шоколад | C23: Темный шоколад: Сахар, какао-тертое, какао-масло, лецитин соевый, ароматизатор ванилин. Вес - 30 гр. | D23: 63 | E23: 0 | F23: =E23*D23 -> 0
B24: Открытка с шоколадом Маленькой феечке | C24: Темный шоколад: Сахар, какао-тертое, какао-масло, лецитин соевый, ароматизатор ванилин. Вес - 30 гр. | D24: 63 | E24: 0 | F24: =E24*D24 -> 0
B25: Открытка с шоколадом Юному мечтателю | C25: Темный шоколад: Сахар, какао-тертое, какао-масло, лецитин соевый, ароматизатор ванилин. Вес - 30 гр. | D25: 63 | E25: 0 | F25: =E25*D25 -> 0
B26: Открытка с шоколадом Всё будет в шоколаде | C26: Темный шоколад: Сахар, какао-тертое, какао-масло, лецитин соевый, ароматизатор ванилин. Вес - 30 гр. | D26: 63 | E26: 0 | F26: =E26*D26 -> 0
B27: Открытка с шоколадом Улучшатель настроения | C27: Темный шоколад: Сахар, какао-тертое, какао-масло, лецитин соевый, ароматизатор ванилин. Вес - 30 гр. | D27: 63 | E27: 0 | F27: =E27*D27 -> 0
E28: Итоговая сумма | F28: =SUM(F3:F27) -> 0
E29: Общая сумма по всем прайсам | F29: ='НОВОГОДНЯЯ КОЛЛЕКЦИЯ'!F21+'КОНВЕРТЫТ С ШОКОЛАДОМ'!F15+'ОТКРЫТКИ С ШОКОЛАДОМ'!F28+'КАРТОЧКИ С ШОКОЛАДОМ'!F11+'МИНИ-ОТКРЫТКИ С ШОКОЛАДОМ'!F7+'НАБОР ШОКОЛАДА 12 КОНФЕТ'!F15+'ПОДАРОЧНЫЙ ЧАЙ'!$F$49+'ПОДАРОЧНЫЙ КОФЕ'!F23+'ОТКРЫТКИ С ПРЯНИКАМИ'!F11+'ОТКРЫТКИ С ЛЕДЕНЦАМИ'!F17+'КРЕМ-МЕД'!F13+'НОСКИ В БАНКЕ'!F13+'АРАХИСОВАЯ ПАСТА'!F11+ЭКОБАНТОНЧИКИ!F9+'ШОКОЛАДНЫЕ МЕДАЛИ'!F19+'КОФЕ В СТАКАНАХ ПОДАРОЧНЫЙ'!F15 -> 130

Sheet КАРТОЧКИ С ШОКОЛАДОМ
A1: ВСЯКИЕ ШТУКИ - КАРТОЧКА С ШОКОЛАДОМ
A2: Фото | B2: Наименование | C2: Состав | D2: Оптовая цена | E2: Ваш заказ | F2: Сумма
B3: Карточка с шоколадом "Счастья тебе!" | C3: Карточка с шоколадом - это возможность сделать именной следкий подарок, написав имя того, кому собираетесь вручить презент. На обороте 2 плиточки шоколада, каждая в обертке с тематической картинкой. Вес - 15 гр | D3: 50 | F3: =E3*D3 -> 0 | G3: Новинка!
B4: Карточка с шоколадом "Моему лучшему учителю!" | C4: Карточка с шоколадом - это возможность сделать именной следкий подарок, написав имя того, кому собираетесь вручить презент. На обороте 2 плиточки шоколада, каждая в обертке с тематической картинкой. Вес - 15 гр | D4: 50 | F4: =E4*D4 -> 0 | G4: Новинка!
B5: Карточка с шоколадом "Моему лучшему преподавателю!" | C5: Карточка с шоколадом - это возможность сделать именной следкий подарок, написав имя того, кому собираетесь вручить презент. На обороте 2 плиточки шоколада, каждая в обертке с тематической картинкой. Вес - 15 гр | D5: 50 | F5: =E5*D5 -> 0 | G5: Новинка!
B6: Карточка с шоколадом "Ты самая красивая!" | C6: Карточка с шоколадом - это возможность сделать именной следкий подарок, написав имя того, кому собираетесь вручить презент. На обороте 2 плиточки шоколада, каждая в обертке с тематической картинкой. Вес - 15 гр | D6: 50 | F6: =E6*D6 -> 0 | G6: Новинка!
B7: Карточка с шоколадом "Люблю тебя!" | C7: Карточка с шоколадом - это возможность сделать именной следкий подарок, написав имя того, кому собираетесь вручить презент. На обороте 2 плиточки шоколада, каждая в обертке с тематической картинкой. Вес - 15 гр | D7: 50 | F7: =E7*D7 -> 0 | G7: Новинка!
B8: Карточка с шоколадом "Ты мой герой!" | C8: Карточка с шоколадом - это возможность сделать именной следкий подарок, написав имя того, кому собираетесь вручить презент. На обороте 2 плиточки шоколада, каждая в обертке с тематической картинкой. Вес - 15 гр | D8: 50 | E8: 0 | F8: =E8*D8 -> 0 | G8: Новинка!
B9: Карточка с шоколадом "Ты мой рыцарь!" | C9: Карточка с шоколадом - это возможность сделать именной следкий подарок, написав имя того, кому собираетесь вручить презент. На обороте 2 плиточки шоколада, каждая в обертке с тематической картинкой. Вес - 15 гр | D9: 50 | F9: =E9*D9 -> 0 | G9: Новинка!
B10: Открытка "Ты просто космос" | C10: Карточка с шоколадом - это возможность сделать именной следкий подарок, написав имя того, кому собираетесь вручить презент. На обороте 2 плиточки шоколада, каждая в обертке с тематической картинкой. Вес - 15 гр | D10: 50 | F10: =E10*D10 -> 0 | G10: Новинка!
E11: Итоговая сумма | F11: =SUM(F3:F10) -> 0
E12: Общая сумма по всем прайсам | F12: ='НОВОГОДНЯЯ КОЛЛЕКЦИЯ'!F21+'КОНВЕРТЫТ С ШОКОЛАДОМ'!F15+'ОТКРЫТКИ С ШОКОЛАДОМ'!F28+'КАРТОЧКИ С ШОКОЛАДОМ'!F11+'МИНИ-ОТКРЫТКИ С ШОКОЛАДОМ'!F7+'НАБОР ШОКОЛАДА 12 КОНФЕТ'!F15+'ПОДАРОЧНЫЙ ЧАЙ'!$F$49+'ПОДАРОЧНЫЙ КОФЕ'!F23+'ОТКРЫТКИ С ПРЯНИКАМИ'!F11+'ОТКРЫТКИ С ЛЕДЕНЦАМИ'!F17+'КРЕМ-МЕД'!F13+'НОСКИ В БАНКЕ'!F13+'АРАХИСОВАЯ ПАСТА'!F11+ЭКОБАНТОНЧИКИ!F9+'ШОКОЛАДНЫЕ МЕДАЛИ'!F19+'КОФЕ В СТАКАНАХ ПОДАРОЧНЫЙ'!F15 -> 130

Sheet МИНИ-ОТКРЫТКИ С ШОКОЛАДОМ
A1: ВСЯКИЕ ШТУКИ - МИНИ-ОТКРЫТКИ С ШОКОЛАДОМ
A2: Фото | B2: Наименование | C2: Состав | D2: Оптовая цена | E2: Ваш заказ | F2: Сумма
B3: Мини-открытка "С днем рождения" | C3: Внутри скрывается 1 плиточка шоколада с тематической картинкой и надписью. Вес - 9 гр | D3: 23 | F3: =E3*D3 -> 0 | G3: Новинка!
B4: Мини-открытка "Моей подружке" | C4: Внутри скрывается 1 плиточка шоколада с тематической картинкой и надписью. Вес - 9 гр | D4: 23 | F4: =E4*D4 -> 0 | G4: Новинка!
B5: Мини-открытка "Поздравляю!" | C5: Внутри скрывается 1 плиточка шоколада с тематической картинкой и надписью. Вес - 9 гр | D5: 23 | E5: 0 | F5: =E5*D5 -> 0 | G5: Новинка!
B6: Мини-открытка "Спасибо" | C6: Внутри скрываются 2 плиточки шоколада, каждая в обёртке с тематической картинкой и надписью. Вес - 9 гр | D6: 23 | F6: =E6*D6 -> 0 | G6: Новинка!
E7: Итоговая сумма | F7: =SUM(F3:F6) -> 0
E8: Общая сумма по всем прайсам | F8: ='НОВОГОДНЯЯ КОЛЛЕКЦИЯ'!F21+'КОНВЕРТЫТ С ШОКОЛАДОМ'!F15+'ОТКРЫТКИ С ШОКОЛАДОМ'!F28+'КАРТОЧКИ С ШОКОЛАДОМ'!F11+'МИНИ-ОТКРЫТКИ С ШОКОЛАДОМ'!F7+'НАБОР ШОКОЛАДА 12 КОНФЕТ'!F15+'ПОДАРОЧНЫЙ ЧАЙ'!$F$49+'ПОДАРОЧНЫЙ КОФЕ'!F23+'ОТКРЫТКИ С ПРЯНИКАМИ'!F11+'ОТКРЫТКИ С ЛЕДЕНЦАМИ'!F17+'КРЕМ-МЕД'!F13+'НОСКИ В БАНКЕ'!F13+'АРАХИСОВАЯ ПАСТА'!F11+ЭКОБАНТОНЧИКИ!F9+'ШОКОЛАДНЫЕ МЕДАЛИ'!F19+'КОФЕ В СТАКАНАХ ПОДАРОЧНЫЙ'!F15 -> 130

Sheet НАБОР ШОКОЛАДА 12 КОНФЕТ
A1: ВСЯКИЕ ШТУКИ - Набор шоколада 12 конфет
A2: Фото | B2: Наименование | C2: Состав | D2: Оптовая цена | E2: Ваш заказ | F2: Сумма
B3: Набор 12 конфет "Самому доброму и любящему папе" | C3: Внутри скрываются 12 плиточек шоколада, каждая в обёртке с тематической картинкой и надписью. Вес - 115 гр | D3: 160 | F3: =E3*D3 -> 0 | G3: Новинка!
B4: Набор 12 конфет "Моему самому лучшему папочке" | C4: Внутри скрываются 12 плиточек шоколада, каждая в обёртке с тематической картинкой и надписью. Вес - 115 гр | D4: 160 | F4: =E4*D4 -> 0 | G4: Новинка!
B5: Набор 12 конфет "Моей самой красивой мамочке" | C5: Внутри скрываются 12 плиточек шоколада, каждая в обёртке с тематической картинкой и надписью. Вес - 115 гр | D5: 160 | F5: =E5*D5 -> 0 | G5: Новинка!
B6: Набор 12 конфет "Самой заМУРчательной маме" | C6: Внутри скрываются 12 плиточек шоколада, каждая в обёртке с тематической картинкой и надписью. Вес - 115 гр | D6: 160 | F6: =E6*D6 -> 0 | G6: Новинка!
B7: Набор 12 конфет "Самой любимой бабушке" | C7: Внутри скрываются 12 плиточек шоколада, каждая в обёртке с тематической картинкой и надписью. Вес - 115 гр | D7: 160 | F7: =E7*D7 -> 0 | G7: Новинка!
B8: Набор 12 конфет "С Днем рождения" | C8: Внутри скрываются 12 плиточек шоколада, каждая в обёртке с тематической картинкой и надписью. Вес - 115 гр | D8: 160 | F8: =E8*D8 -> 0 | G8: Новинка!
B9: Набор 12 конфет "Классной девчонке" | C9: Внутри скрываются 12 плиточек шоколада, каждая в обёртке с тематической картинкой и надписью. Вес - 115 гр | D9: 160 | F9: =E9*D9 -> 0 | G9: Новинка!
B10: Набор 12 конфет "Настоящему мужику" | C10: Внутри скрываются 12 плиточек шоколада, каждая в обёртке с тематической картинкой и надписью. Вес - 115 гр | D10: 160 | F10: =E10*D10 -> 0 | G10: Новинка!
B11: Набор 12 конфет "Сладости для моей радости" | C11: Внутри скрываются 12 плиточек шоколада, каждая в обёртке с тематической картинкой и надписью. Вес - 115 гр | D11: 160 | F11: =E11*D11 -> 0 | G11: Новинка!
B12: Набор 12 конфет "Любимому учителю" | C12: Внутри скрываются 12 плиточек шоколада, каждая в обёртке с тематической картинкой и надписью. Вес - 115 гр | D12: 160 | F12: =E12*D12 -> 0 | G12: Новинка!
B13: Набор 12 конфет "Лучшему врачу" | C13: Внутри скрываются 12 плиточек шоколада, каждая в обёртке с тематической картинкой и надписью. Вес - 115 гр | D13: 160 | E13: 0 | F13: =E13*D13 -> 0 | G13: Новинка!
B14: Набор 12 конфет "Love is" | C14: Внутри скрываются 12 плиточек шоколада, каждая в обёртке с тематической картинкой и надписью. Вес - 115 гр | D14: 160 | F14: =E14*D14 -> 0 | G14: Новинка!
E15: Итоговая сумма | F15: =SUM(F3:F14) -> 0
E16: Общая сумма по всем прайсам | F16: ='НОВОГОДНЯЯ КОЛЛЕКЦИЯ'!F21+'КОНВЕРТЫТ С ШОКОЛАДОМ'!F15+'ОТКРЫТКИ С ШОКОЛАДОМ'!F28+'КАРТОЧКИ С ШОКОЛАДОМ'!F11+'МИНИ-ОТКРЫТКИ С ШОКОЛАДОМ'!F7+'НАБОР ШОКОЛАДА 12 КОНФЕТ'!F15+'ПОДАРОЧНЫЙ ЧАЙ'!$F$49+'ПОДАРОЧНЫЙ КОФЕ'!F23+'ОТКРЫТКИ С ПРЯНИКАМИ'!F11+'ОТКРЫТКИ С ЛЕДЕНЦАМИ'!F17+'КРЕМ-МЕД'!F13+'НОСКИ В БАНКЕ'!F13+'АРАХИСОВАЯ ПАСТА'!F11+ЭКОБАНТОНЧИКИ!F9+'ШОКОЛАДНЫЕ МЕДАЛИ'!F19+'КОФЕ В СТАКАНАХ ПОДАРОЧНЫЙ'!F15 -> 130

Sheet ШОКОЛАДНЫЕ МЕДАЛИ
A1: ВСЯКИЕ ШТУКИ - ШОКОЛАДНЫЕ МЕДАЛИ
A2: Фото | B2: Наименование | C2: Состав | D2: Оптовая цена | E2: Ваш заказ | F2: Сумма
B3: Медаль "Настоящему мужику" | C3: Шоколадная медаль - отличный подарок на любой случай. Вес -25 гр. | D3: 45 | F3: =E3*D3 -> 0 | G3: Новинка!
B4: Медаль "Самому послушному мальчику" | C4: Шоколадная медаль - отличный подарок на любой случай. Вес -25 гр. | D4: 45 | F4: =E4*D4 -> 0 | G4: Новинка!
B5: Медаль "Самой послушной девочке" | C5: Шоколадная медаль - отличный подарок на любой случай. Вес -25 гр. | D5: 45 | F5: =E5*D5 -> 0 | G5: Новинка!
B6: Медаль "Классному шефу" | C6: Шоколадная медаль - отличный подарок на любой случай. Вес -25 гр. | D6: 45 | F6: =E6*D6 -> 0 | G6: Новинка!
B7: Медаль "Офисному работнику" | C7: Шоколадная медаль - отличный подарок на любой случай. Вес -25 гр. | D7: 45 | E7: 0 | F7: =E7*D7 -> 0 | G7: Новинка!
B8: Медаль "Лучшей маме" | C8: Шоколадная медаль - отличный подарок на любой случай. Вес -25 гр. | D8: 45 | F8: =E8*D8 -> 0 | G8: Новинка!
B9: Медаль "Самому лучшему папе" | C9: Шоколадная медаль - отличный подарок на любой случай. Вес -25 гр. | D9: 45 | F9: =E9*D9 -> 0 | G9: Новинка!
B10: Медаль "Самому любимому" | C10: Шоколадная медаль - отличный подарок на любой случай. Вес -25 гр. | D10: 45 | F10: =E10*D10 -> 0 | G10: Новинка!
B11: Медаль "С 1 сентября" | C11: Шоколадная медаль - отличный подарок на любой случай. Вес -25 гр. | D11: 45 | F11: =E11*D11 -> 0 | G11: Новинка!
B12: Медаль "За хорошие оценки" | C12: Шоколадная медаль - отличный подарок на любой случай. Вес -25 гр. | D12: 45 | F12: =E12*D12 -> 0 | G12: Новинка!
B13: Медаль "Успешному человеку" | C13: Шоколадная медаль - отличный подарок на любой случай. Вес -25 гр. | D13: 45 | F13: =E13*D13 -> 0 | G13: Новинка!
B14: Медаль "Награда для героя" | C14: Шоколадная медаль - отличный подарок на любой случай. Вес -25 гр. | D14: 45 | F14: =E14*D14 -> 0 | G14: Новинка!
B15: Медаль "Лучшему учителю" | C15: Шоколадная медаль - отличный подарок на любой случай. Вес -25 гр. | D15: 45 | F15: =E15*D15 -> 0 | G15: Новинка!
B16: Медаль "Для хорошего человека" | C16: Шоколадная медаль - отличный подарок на любой случай. Вес -25 гр. | D16: 45 | F16: =E16*D16 -> 0 | G16: Новинка!
B17: Медаль "Любимой сестренке" | C17: Шоколадная медаль - отличный подарок на любой случай. Вес -25 гр. | D17: 45 | F17: =E17*D17 -> 0 | G17: Новинка!
B18: Медаль "Лучшему папе" | C18: Шоколадная медаль - отличный подарок на любой случай. Вес -25 гр. | D18: 45 | F18: =E18*D18 -> 0 | G18: Новинка!
E19: Итоговая сумма | F19: =SUM(F3:F18) -> 0
E20: Общая сумма по всем прайсам | F20: ='НОВОГОДНЯЯ КОЛЛЕКЦИЯ'!F21+'КОНВЕРТЫТ С ШОКОЛАДОМ'!F15+'ОТКРЫТКИ С ШОКОЛАДОМ'!F28+'КАРТОЧКИ С ШОКОЛАДОМ'!F11+'МИНИ-ОТКРЫТКИ С ШОКОЛАДОМ'!F7+'НАБОР ШОКОЛАДА 12 КОНФЕТ'!F15+'ПОДАРОЧНЫЙ ЧАЙ'!$F$49+'ПОДАРОЧНЫЙ КОФЕ'!F23+'ОТКРЫТКИ С ПРЯНИКАМИ'!F11+'ОТКРЫТКИ С ЛЕДЕНЦАМИ'!F17+'КРЕМ-МЕД'!F13+'НОСКИ В БАНКЕ'!F13+'АРАХИСОВАЯ ПАСТА'!F11+ЭКОБАНТОНЧИКИ!F9+F19+'КОФЕ В СТАКАНАХ ПОДАРОЧНЫЙ'!F15 -> 130

Sheet НОСКИ В БАНКЕ
A1: ВСЯКИЕ ШТУКИ -НОСКИ В БАНКЕ
A2: Фото | B2: Наименование | C2: Состав | D2: Оптовая цена | E2: Ваш заказ | F2: Сумма
B3: Носки в банке "С Днем защитника отечества" | C3: В банке надёжно законсервировано то, что понравится каждому мужчине: НОСКИ *чистые, *целые, *парные, *одинаковые. Носки мужские. Размер: 42-48 (универсальный). Состав: 75% хлопок, 20% спандекс, 5% л/а. Размер банки: высота - 9,5 см, диаметр - 7,5 см. | D3: 120 | E3: 0 | F3: =E3*D3 -> 0
B4: Носки в банке "Носки рыбака" | C4: В банке надёжно законсервировано то, что понравится каждому мужчине: НОСКИ *чистые, *целые, *парные, *одинаковые. Носки мужские. Размер: 42-48 (универсальный). Состав: 75% хлопок, 20% спандекс, 5% л/а. Размер банки: высота - 9,5 см, диаметр - 7,5 см. | D4: 120 | E4: 0 | F4: =E4*D4 -> 0
B5: Носки в банке "Носки меткого охотника" | C5: В банке надёжно законсервировано то, что понравится каждому мужчине: НОСКИ *чистые, *целые, *парные, *одинаковые. Носки мужские. Размер: 42-48 (универсальный). Состав: 75% хлопок, 20% спандекс, 5% л/а. Размер банки: высота - 9,5 см, диаметр - 7,5 см. | D5: 120 | E5: 0 | F5: =E5*D5 -> 0
B6: Носки в банке "Носки для реального пацана" | C6: В банке надёжно законсервировано то, что понравится каждому мужчине: НОСКИ *чистые, *целые, *парные, *одинаковые. Носки мужские. Размер: 42-48 (универсальный). Состав: 75% хлопок, 20% спандекс, 5% л/а. Размер банки: высота - 9,5 см, диаметр - 7,5 см. | D6: 120 | E6: 0 | F6: =E6*D6 -> 0
B7: Носки в банке "Носки любимому мужу" | C7: В банке надёжно законсервировано то, что понравится каждому мужчине: НОСКИ *чистые, *целые, *парные, *одинаковые. Носки мужские. Размер: 42-48 (универсальный). Состав: 75% хлопок, 20% спандекс, 5% л/а. Размер банки: высота - 9,5 см, диаметр - 7,5 см. | D7: 120 | E7: 0 | F7: =E7*D7 -> 0
B8: Носки в банке "Разыскиваются носки для настоящего мужика" | C8: В банке надёжно законсервировано то, что понравится каждому мужчине: НОСКИ *чистые, *целые, *парные, *одинаковые. Носки мужские. Размер: 42-48 (универсальный). Состав: 80% хлопок, 15% полиамид, 5% лайкра. Размер банки: высота - 9,5 см, диаметр - 7,5 см. | D8: 120 | E8: 0 | F8: =E8*D8 -> 0
B9: Носки в банке "НЗ" | C9: В банке надёжно законсервировано то, что понравится каждому мужчине: НОСКИ *чистые, *целые, *парные, *одинаковые. Носки мужские. Размер: 42-48 (универсальный). Состав: 80% хлопок, 15% полиамид, 5% лайкра. Размер банки: высота - 9,5 см, диаметр - 7,5 см. | D9: 120 | E9: 0 | F9: =E9*D9 -> 0
B10: Носки в банке "Лучшему папе" | C10: В банке надёжно законсервировано то, что понравится каждому мужчине: НОСКИ *чистые, *целые, *парные, *одинаковые. Носки мужские. Размер: 42-48 (универсальный). Состав: 75% хлопок, 20% спандекс, 5% л/а. Размер банки: высота - 9,5 см, диаметр - 7,5 см. | D10: 120 | E10: 0 | F10: =E10*D10 -> 0
B11: Носки в банке "Для VIP персоны" | C11: В банке надёжно законсервировано то, что понравится каждому мужчине: НОСКИ *чистые, *целые, *парные, *одинаковые. Носки мужские. Размер: 42-48 (универсальный). Состав: 75% хлопок, 20% спандекс, 5% л/а. Размер банки: высота - 9,5 см, диаметр - 7,5 см. | D11: 120 | E11: 0 | F11: =E11*D11 -> 0
B12: Носки в банке "Носки без дырок" | C12: В банке надёжно законсервировано то, что понравится каждому мужчине: НОСКИ *чистые, *целые, *парные, *одинаковые. Носки мужские. Размер: 42-48 (универсальный). Состав: 75% хлопок, 20% спандекс, 5% л/а. Размер банки: высота - 9,5 см, диаметр - 7,5 см. | D12: 120 | E12: 0 | F12: =E12*D12 -> 0
E13: Итоговая сумма | F13: =SUM(F3:F12) -> 0
E14: Общая сумма по всем прайсам | F14: ='НОВОГОДНЯЯ КОЛЛЕКЦИЯ'!F21+'КОНВЕРТЫТ С ШОКОЛАДОМ'!F15+'ОТКРЫТКИ С ШОКОЛАДОМ'!F28+'КАРТОЧКИ С ШОКОЛАДОМ'!F11+'МИНИ-ОТКРЫТКИ С ШОКОЛАДОМ'!F7+'НАБОР ШОКОЛАДА 12 КОНФЕТ'!F15+'ПОДАРОЧНЫЙ ЧАЙ'!F49+'ПОДАРОЧНЫЙ КОФЕ'!F23+'ОТКРЫТКИ С ПРЯНИКАМИ'!F11+'ОТКРЫТКИ С ЛЕДЕНЦАМИ'!F17+'КРЕМ-МЕД'!F13+'НОСКИ В БАНКЕ'!F13+'АРАХИСОВАЯ ПАСТА'!F11+ЭКОБАНТОНЧИКИ!F9+'ШОКОЛАДНЫЕ МЕДАЛИ'!F19 -> 0

Sheet ПОДАРОЧНЫЙ ЧАЙ
A1: ВСЯКИЕ ШТУКИ -ЧАЙ
A2: Фото | B2: Наименование | C2: Состав | D2: Оптовая цена | E2: Ваш заказ | F2: Сумма
B3: Чай к торту С днём рождения | C3: Чёрный чай, душица, лист мелиссы. Вес: 50 гр. | D3: 110 | F3: =E3*D3 -> 0 | G3: НОВИНКА!
B4: Чай для праздника Поздравляю | C4: Зелёный чай сенча, рябина черноплодная, рябина красноплодная, ананас, календула, роза, ароматизатор “Персик”, ароматизатор “Смородина”. Вес 50 гр | D4: 110 | F4: =E4*D4 -> 0 | G4: НОВИНКА!
B5: Чай Отличной подруге | C5: Чёрный чай, гвоздика, корица, имбирь, ароматизатор “Шоколад”. Вес: 50 гр. | D5: 110 | F5: =E5*D5 -> 0 | G5: НОВИНКА!
B6: Чай Любимой мамочке | C6: Чёрный крупнолистовой чай Вес: 50 гр. | D6: 110 | F6: =E6*D6 -> 0 | G6: НОВИНКА!
B7: Крепкий чай Для крепких мужчин | C7: Чёрный крупнолистовой чай Вес: 50 гр. | D7: 110 | F7: =E7*D7 -> 0 | G7: НОВИНКА!
B8: Горячий чай Для уютного вечера | C8: Зелёный чай сенча, кусочки яблока, цукаты ананаса, кокос стружка, календула, ароматизатор “Малина”, ароматизатор “Клубника”. Вес: 50 гр. | D8: 110 | F8: =E8*D8 -> 0 | G8: НОВИНКА!
B9: Чай Всё будет в шоколаде | C9: Купаж классических сортов чёрного чая, кусочки шоколада, какао, ароматизатор “Шоколад”. Вес: 50 гр. | D9: 110 | E9: 0 | F9: =E9*D9 -> 0 | G9: НОВИНКА!
B10: Чай Исполняющий желания | C10: Зелёный чай сенча, корица, календула, шиповник, меллисса, лист смородины, ароматизатор “Клубника”. Вес: 50 гр. | D10: 110 | E10: 0 | F10: =E10*D10 -> 0 | G10: НОВИНКА!
B11: Чай Замечательному преподавателю | C11: Смесь сортов чёрного чая, кусочки яблока, цукаты, лепестки розы и календулы, натуральные ароматические масла. Вес: 50 гр. | D11: 110 | E11: 0 | F11: =E11*D11 -> 0
B12: Чай романтичный | C12: Зелёный чай ганпаудер, стружка кокоса, лепестки василька, натуральные ароматические масла. Вес - 50 гр. | D12: 110 | E12: 0 | F12: =E12*D12 -> 0
B13: Чай моей любимой | C13: Кусочки яблока, цукаты ананаса и кокоса, кокосовая стружка, каркаде, шиповник, календула, василёк, натуральные ароматические масла. Вес — 50 гр. | D13: 110 | E13: 0 | F13: =E13*D13 -> 0
B14: Чай для горячего парня | C14: Зелёный чай ганпаудер, цукаты, ягоды чёрной смородины. Вес — 50 гр. | D14: 110 | E14: 0 | F14: =E14*D14 -> 0
B15: Чай для настоящих леди | C15: Ройбуш, кусочки горького шоколада, стружка кокоса и кокосовые цукаты. Вес — 50 гр. | D15: 110 | E15: 0 | F15: =E15*D15 -> 0
B16: Чай лучшей подружке | C16: Зелёный чай ганпаудер, смесь из кусочков фруктов, лепестков календулы, синего василька, нежной чайной розы и гибискуса. Вес — 50 гр. | D16: 110 | E16: 0 | F16: =E16*D16 -> 0
B17: Чай любимому папе | C17: Смесь сортов чёрного чая, дикий чабрец, календула. Вес — 50 гр. | D17: 110 | E17: 0 | F17: =E17*D17 -> 0
B18: Чай Люблю тебя | C18: Смесь сортов чёрного чая, кусочки яблока, цукаты, лепестки розы и календулы. Вес — 50 гр. | D18: 110 | E18: 0 | F18: =E18*D18 -> 0
B19: Чай Самой лучшей маме | C19: Зеленый чай сенча, кусочки персика, календула. Вес — 50 гр. | D19: 110 | E19: 0 | F19: =E19*D19 -> 0
B20: Чай суровый мужской | C20: Смесь классических сортов чёрного чая, имбирь, чёрный перец, гвоздика, кусочки корицы, фенхель и анис. Вес — 50 гр. | D20: 110 | E20: 0 | F20: =E20*D20 -> 0
B21: Чай Хранительнице очага | C21: Зелёный чай сенча, ягоды клюквы и годжи. Вес — 50 гр. | D21: 110 | E21: 0 | F21: =E21*D21 -> 0
B22: Чай Для яркого утра | C22: Цейлонский чёрный чай, перечная мята. Вес — 50 гр. | D22: 110 | E22: 0 | F22: =E22*D22 -> 0
... B48: Набор чая "Для бесценных моментов". | C48: Подарочный чай "Антигрустин", Подарочный чай "На все случаи", Подарочный чай "100 чешек хорошего настроения" Вес — 150 гр. | D48: 265 | E48: 0 | F48: =E48*D48 -> 0
E49: Итоговая сумма | F49: =SUM(F11:F48) -> 0
E50: Общая сумма по всем прайсам | F50: ='НОВОГОДНЯЯ КОЛЛЕКЦИЯ'!F21+'КОНВЕРТЫТ С ШОКОЛАДОМ'!F15+'ОТКРЫТКИ С ШОКОЛАДОМ'!F28+'КАРТОЧКИ С ШОКОЛАДОМ'!F11+'МИНИ-ОТКРЫТКИ С ШОКОЛАДОМ'!F7+'НАБОР ШОКОЛАДА 12 КОНФЕТ'!F15+'ПОДАРОЧНЫЙ ЧАЙ'!F49+'ПОДАРОЧНЫЙ КОФЕ'!F23+'ОТКРЫТКИ С ПРЯНИКАМИ'!F11+'ОТКРЫТКИ С ЛЕДЕНЦАМИ'!F17+'КРЕМ-МЕД'!F13+'НОСКИ В БАНКЕ'!F13+'АРАХИСОВАЯ ПАСТА'!F11+ЭКОБАНТОНЧИКИ!F9+'ШОКОЛАДНЫЕ МЕДАЛИ'!F19+'КОФЕ В СТАКАНАХ ПОДАРОЧНЫЙ'!F15 -> 130

Sheet ПОДАРОЧНЫЙ КОФЕ
A1: ВСЯКИЕ ШТУКИ -КОФЕ
A2: Фото | B2: Наименование | C2: Состав | D2: Оптовая цена | E2: Ваш заказ | F2: Сумма
B3: Кофе Для - кофемана | C3: Кофе натуральный молотый, ароматизатор “Красный апельсин”. 100% Арабика. Сорт высший. Обжарка средняя, помол средний. Вес - 100 гр. | D3: 170 | E3: 0 | F3: =E3*D3 -> 0 | G3: НОВИНКА!
B4: Кофе Для лучших подружек НОВЫЙ | C4: Кофе натуральный молотый, ароматизатор “Бейлиз”. 100% Арабика. Сорт высший. Обжарка средняя, помол средний. Вес - 100 гр. | D4: 170 | E4: 0 | F4: =E4*D4 -> 0 | G4: НОВИНКА!
B5: Кофе Кофемен | C5: Кофе натуральный молотый, ароматизатор “Бразилия Серрадо”. 100% Арабика. Сорт высший. Обжарка средняя, помол средний. Вес - 100 гр. | D5: 170 | E5: 0 | F5: =E5*D5 -> 0 | G5: НОВИНКА!
B6: Кофе Мистер и миссис кофе | C6: Кофе натуральный молотый Арабика Бразилия Сантос - 70%, Робуста Уганда - 30%. Сорт высший. Обжарка средняя, помол средний. Вес - 100 гр. | D6: 170 | E6: 0 | F6: =E6*D6 -> 0 | G6: НОВИНКА!
B7: Кофе Офисный | C7: Кофе натуральный молотый, ароматизатор “Лесной орех”. 100% Арабика. Сорт высший. Обжарка средняя, помол средний. Вес - 100 гр. | D7: 170 | E7: 0 | F7: =E7*D7 -> 0 | G7: НОВИНКА!
B8: Кофе Антизасыпин | C8: Кофе натуральный молотый, ароматизатор “Трюфель”. 100% Арабика. Сорт высший. Обжарка средняя, помол средний. Вес - 100 гр. | D8: 170 | E8: 0 | F8: =E8*D8 -> 0 | G8: НОВИНКА!
B9: Кофе С лучшими пожеланиями лучшему учителю | C9: Натуральный молотый кофе “Капучино”. 100% Арабика, сорт высший, обжарка средняя, помол средний. Вес - 100 гр. | D9: 170 | E9: 0 | F9: =E9*D9 -> 0
B10: Кофе 100 чашек улучшателя настроения | C10: Натуральный молотый кофе с ароматом банана в шоколаде. Вес 100 гр. | D10: 170 | E10: 0 | F10: =E10*D10 -> 0
B11: Кофе Вдохновляющий | C11: Натуральный молотый кофе с ароматом ванили. Вес 100 гр. | D11: 170 | E11: 0 | F11: =E11*D11 -> 0
B12: Крепкий кофе для Крепких мужчин | C12: Натуральный молотый кофе Santos Эспрессо. Вес 100 гр. | D12: 170 | E12: 0 | F12: =E12*D12 -> 0
B13: Кофе Взбодрись и улыбнись | C13: Натуральный молотый кофе "Ирландский крем". Вес 100 гр. | D13: 170 | E13: 0 | F13: =E13*D13 -> 0
B14: Кофе Для кофеманов | C14: Натуральный молотый кофе "Капучино". Вес 100 гр. | D14: 170 | E14: 0 | F14: =E14*D14 -> 0
B15: Кофе Для хорошей компании | C15: Натуральный молотый кофе с ароматом шоколада. Вес 100 гр. | D15: 170 | E15: 0 | F15: =E15*D15 -> 0
B16: Кофе Поздравляю с днем рождения | C16: Натуральный молотый кофе Santos. Вес 100 гр. | D16: 170 | E16: 0 | F16: =E16*D16 -> 0
B17: Кофе Для хорошего человека | C17: Натуральный молотый кофе с ароматом кокоса. Вес 100 гр. | D17: 170 | E17: 0 | F17: =E17*D17 -> 0
B18: Подарочный набор из 3 продуктов "Для любимой мамочки" | C18: Кофе «Вдохновляющий», крем-мед «Любимой мамочке», чай «Самой лучшей мамочке» | D18: 650 | E18: 0 | F18: =E18*D18 -> 0
B19: Подарочный набор из 3 продуктов "Для настоящего мужчины" | C19: Кофе «Для крепких мужчин», крем-мед «Настоящий мужской», чай «Суровый мужской» | D19: 650 | E19: 0 | F19: =E19*D19 -> 0
B20: Подарочный набор из 3 продуктов "На все случаи жизни" | C20: Кофе «Взбодрись и улыбнись», крем-мед «С сибирским характером», чай «К печенькам» | D20: 650 | E20: 0 | F20: =E20*D20 -> 0
... B22: Подарочный набор из 3 продуктов "С Днем рождения" | C22: Кофе «Поздравляю с днем рождения», крем-мед «Для душевного чаепития», чай «С Днем рождения» | D22: 650 | E22: 0 | F22: =E22*D22 -> 0
E23: Итоговая сумма | F23: =SUM(F3:F22) -> 0
E24: Общая сумма по всем прайсам | F24: ='НОВОГОДНЯЯ КОЛЛЕКЦИЯ'!F21+'КОНВЕРТЫТ С ШОКОЛАДОМ'!F15+'ОТКРЫТКИ С ШОКОЛАДОМ'!F28+'КАРТОЧКИ С ШОКОЛАДОМ'!F11+'МИНИ-ОТКРЫТКИ С ШОКОЛАДОМ'!F7+'НАБОР ШОКОЛАДА 12 КОНФЕТ'!F15+'ПОДАРОЧНЫЙ ЧАЙ'!F49+'ПОДАРОЧНЫЙ КОФЕ'!F23+'ОТКРЫТКИ С ПРЯНИКАМИ'!F11+'ОТКРЫТКИ С ЛЕДЕНЦАМИ'!F17+'КРЕМ-МЕД'!F13+'НОСКИ В БАНКЕ'!F13+'АРАХИСОВАЯ ПАСТА'!F11+ЭКОБАНТОНЧИКИ!F9+'ШОКОЛАДНЫЕ МЕДАЛИ'!F19+'КОФЕ В СТАКАНАХ ПОДАРОЧНЫЙ'!F15 -> 130

Sheet ОТКРЫТКИ С ПРЯНИКАМИ
A1: ВСЯКИЕ ШТУКИ -ОТКРЫТКИ С ПРЯНИКАМИ
A2: Фото | B2: Наименование | C2: Состав | D2: Оптовая цена | E2: Ваш заказ | F2: Сумма
B3: Открытка с пряником “Моему золотцу” | C3: Мука пшеничная хлебопекарная в/с, сахар, маргарин, желток яичный сухой, какао-порошок, сахарная пудра, яичный белок сухой, красители Е102, Е122, Е133, ароматизатор пищевой ванилин, разрыхлитель, соль. Вес - 17 гр. | D3: 78 | E3: 0 | F3: =E3*D3 -> 0 | G3: Новинка!
B4: Открытка с пряником “Любимому медвежонку” | C4: Мука пшеничная хлебопекарная в/с, сахар, маргарин, желток яичный сухой, какао-порошок, сахарная пудра, яичный белок сухой, красители Е102, Е122, Е133, ароматизатор пищевой ванилин, разрыхлитель, соль. Вес - 17 гр. | D4: 78 | E4: 0 | F4: =E4*D4 -> 0 | G4: Новинка!
B5: Открытка с пряником “Маленькому герою”. Щенок | C5: Мука пшеничная хлебопекарная в/с, сахар, маргарин, желток яичный сухой, какао-порошок, сахарная пудра, яичный белок сухой, красители Е102, Е122, Е133, ароматизатор пищевой ванилин, разрыхлитель, соль. Вес - 17 гр. | D5: 78 | E5: 0 | F5: =E5*D5 -> 0 | G5: Новинка!
B6: Открытка с пряником “Маленькому исследователю” | C6: Мука пшеничная хлебопекарная в/с, сахар, маргарин, желток яичный сухой, какао-порошок, сахарная пудра, яичный белок сухой, красители Е102, Е122, Е133, ароматизатор пищевой ванилин, разрыхлитель, соль. Вес - 17 гр. | D6: 78 | E6: 0 | F6: =E6*D6 -> 0 | G6: Новинка!
B7: Открытка с пряником “Моему котёнку” | C7: Мука пшеничная хлебопекарная в/с, сахар, маргарин, желток яичный сухой, какао-порошок, сахарная пудра, яичный белок сухой, красители Е102, Е122, Е133, ароматизатор пищевой ванилин, разрыхлитель, соль. Вес - 17 гр. | D7: 78 | E7: 0 | F7: =E7*D7 -> 0 | G7: Новинка!
B8: Открытка с пряником “Прекрасной принцессе” | C8: Мука пшеничная хлебопекарная в/с, сахар, маргарин, желток яичный сухой, какао-порошок, сахарная пудра, яичный белок сухой, красители Е102, Е122, Е133, ароматизатор пищевой ванилин, разрыхлитель, соль. Вес - 17 гр. | D8: 78 | E8: 0 | F8: =E8*D8 -> 0 | G8: Новинка!
B9: Открытка с пряником “Яркой звёздочке” | C9: Мука пшеничная хлебопекарная в/с, сахар, маргарин, желток яичный сухой, какао-порошок, сахарная пудра, яичный белок сухой, красители Е102, Е122, Е133, ароматизатор пищевой ванилин, разрыхлитель, соль. Вес - 17 гр. | D9: 78 | E9: 0 | F9: =E9*D9 -> 0 | G9: Новинка!
B10: Открытка с пряником “Сладкому зайчонку” | C10: Мука пшеничная хлебопекарная в/с, сахар, маргарин, желток яичный сухой, какао-порошок, сахарная пудра, яичный белок сухой, красители Е102, Е122, Е133, ароматизатор пищевой ванилин, разрыхлитель, соль. Вес - 17 гр. | D10: 78 | E10: 0 | F10: =E10*D10 -> 0 | G10: Новинка!
E11: Итоговая сумма | F11: =SUM(F3:F10) -> 0
E12: Общая сумма по всем прайсам | F12: ='НОВОГОДНЯЯ КОЛЛЕКЦИЯ'!F21+'КОНВЕРТЫТ С ШОКОЛАДОМ'!F15+'ОТКРЫТКИ С ШОКОЛАДОМ'!F28+'КАРТОЧКИ С ШОКОЛАДОМ'!F11+'МИНИ-ОТКРЫТКИ С ШОКОЛАДОМ'!F7+'НАБОР ШОКОЛАДА 12 КОНФЕТ'!F15+'ПОДАРОЧНЫЙ ЧАЙ'!F49+'ПОДАРОЧНЫЙ КОФЕ'!F23+'ОТКРЫТКИ С ПРЯНИКАМИ'!F11+'ОТКРЫТКИ С ЛЕДЕНЦАМИ'!F17+'КРЕМ-МЕД'!F13+'НОСКИ В БАНКЕ'!F13+ЭКОБАНТОНЧИКИ!F9+'АРАХИСОВАЯ ПАСТА'!F11+'ШОКОЛАДНЫЕ МЕДАЛИ'!F19 -> 0

Sheet ОТКРЫТКИ С ЛЕДЕНЦАМИ
A1: ВСЯКИЕ ШТУКИ -ОТКРЫТКИ С ЛЕДЕНЦАМИ
A2: Фото | B2: Наименование | C2: Состав | D2: Оптовая цена | E2: Ваш заказ | F2: Сумма
B3: Открытка с леденцом Любимой озорнице | C3: Внутри леденец “Завиток”. Вес 40гр. | D3: 55 | E3: 0 | F3: =E3*D3 -> 0
B4: Открытка с леденцом Юному открывателю миров | C4: Внутри леденец "Сатурн". Вес 22 гр. | D4: 55 | E4: 0 | F4: =E4*D4 -> 0
B5: Открытка с леденцом Весёлого дня рождения | C5: Внутри леденец “Подарок”. Вес 40 гр. | D5: 55 | E5: 0 | F5: =E5*D5 -> 0
B6: Открытка с леденцом Самой прекрасной | C6: Внутри леденец "Тюльпан". Вес 30 гр. | D6: 55 | E6: 0 | F6: =E6*D6 -> 0
B7: Открытка с леденцом Улыбнись | C7: Внутри круглый леденец “Смайл”. Вес 40гр. | D7: 55 | E7: 0 | F7: =E7*D7 -> 0
B8: Открытка с леденцом С днём рождения | C8: Внутри леденец “Подарок”. Вес 50гр. | D8: 55 | E8: 0 | F8: =E8*D8 -> 0
B9: Открытка с леденцом Дарю тебе сладкие мгновения | C9: Внутри леденец “Завиток”. Вес 40гр. | D9: 55 | E9: 0 | F9: =E9*D9 -> 0
B10: Открытка с леденцом Доза позитива | C10: Внутри леденец “Ананас”. Вес 30гр. | D10: 55 | E10: 0 | F10: =E10*D10 -> 0
B11: Открытка с леденцом Настройся на лучшее | C11: Внутри леденец “Завиток”. Вес 40гр. | D11: 55 | E11: 0 | F11: =E11*D11 -> 0
B12: Открытка с леденцом Молодец! Возьми с полки леденец | C12: Внутри леденец “Арбуз”. Вес 40 гр. | D12: 55 | E12: 0 | F12: =E12*D12 -> 0
B13: Открытка с леденцом Моё сердце принадлежит тебе | C13: Внутри леденец “Сердце”. Вес 50гр. | D13: 55 | E13: 0 | F13: =E13*D13 -> 0
B14: Открытка с леденцом Поработал-отдохни | C14: Внутри леденец “Дельфин”. Вес 25 гр. | D14: 55 | E14: 0 | F14: =E14*D14 -> 0
... B16: Открытка с леденцом Моей маленькой феечке | C16: Внутри леденец “Завиток”. Вес 50 гр. | D16: 55 | E16: 0 | F16: =E16*D16 -> 0
E17: Итоговая сумма | F17: =SUM(F3:F16) -> 0
E18: Общая сумма по всем прайсам | F18: ='НОВОГОДНЯЯ КОЛЛЕКЦИЯ'!F21+'КОНВЕРТЫТ С ШОКОЛАДОМ'!F15+'ОТКРЫТКИ С ШОКОЛАДОМ'!F28+'КАРТОЧКИ С ШОКОЛАДОМ'!F11+'МИНИ-ОТКРЫТКИ С ШОКОЛАДОМ'!F7+'НАБОР ШОКОЛАДА 12 КОНФЕТ'!F15+'ПОДАРОЧНЫЙ ЧАЙ'!F49+'ПОДАРОЧНЫЙ КОФЕ'!F23+'ОТКРЫТКИ С ПРЯНИКАМИ'!F11+'ОТКРЫТКИ С ЛЕДЕНЦАМИ'!F17+'КРЕМ-МЕД'!F13+'НОСКИ В БАНКЕ'!F13+'АРАХИСОВАЯ ПАСТА'!F11+ЭКОБАНТОНЧИКИ!F9+'ШОКОЛАДНЫЕ МЕДАЛИ'!F19 -> 0

Sheet КРЕМ-МЕД
A1: ВСЯКИЕ ШТУКИ -КРЕМ-МЕД
A2: Фото | B2: Наименование | C2: Состав | D2: Оптовая цена | E2: Ваш заказ | F2: Сумма
B3: Крем-мёд "Банка позитива" | C3: Натуральный мёд, сушеный абрикос, сок абрикосовый, B-каротин. Вес 220 гр. | D3: 200 | E3: 0 | F3: =E3*D3 -> 0
B4: Крем-мёд "Для душевного чаепития" | C4: Натуральный мёд, экстракт какао. Вес 220 гр. | D4: 200 | E4: 0 | F4: =E4*D4 -> 0
B5: Крем-мёд "Для моей бабушки" | C5: Натуральный мёд, ягода черной смородины, сок черной смородины, сок черной моркови. Вес 220 гр. | D5: 200 | E5: 0 | F5: =E5*D5 -> 0
B6: Крем-мёд "Любимой мамочке" | C6: Натуральный мёд, клюква, сок клюквенный, кармин. Вес 220 гр. | D6: 200 | E6: 0 | F6: =E6*D6 -> 0
B7: Крем-мёд "Настоящий мужской" | C7: Натуральный мёд, кедровая живица. Вес 220 гр. | D7: 200 | E7: 0 | F7: =E7*D7 -> 0
B8: Крем-мёд "Для хорошего человека" | C8: Натуральный мёд, ядро грецкого ореха очищенное. Вес - 220 гр. | D8: 200 | E8: 0 | F8: =E8*D8 -> 0
B9: Крем-мёд "Зая не болей" | C9: Натуральный мёд, апельсиновый сок, апельсин, B-каротин. Вес 220 гр. | D9: 200 | E9: 0 | F9: =E9*D9 -> 0
B10: Крем-мёд "От всего сердца" | C10: Натуральный мёд, клубника, сок клубники, кармин. Вес 220 гр. | D10: 200 | E10: 0 | F10: =E10*D10 -> 0
B11: Крем-мёд "С сибирским характером" | C11: Натуральный мёд, хлопковый. Вес 220 гр. | D11: 200 | E11: 0 | F11: =E11*D11 -> 0
B12: Крем-мёд "С супер силой" | C12: Натуральный мёд, сок малины, ягода спелой малины, кармин. Вес 220 гр. | D12: 200 | E12: 0 | F12: =E12*D12 -> 0
E13: Итоговая сумма | F13: =SUM(F3:F12) -> 0
E14: Общая сумма по всем прайсам | F14: ='НОВОГОДНЯЯ КОЛЛЕКЦИЯ'!F21+'КОНВЕРТЫТ С ШОКОЛАДОМ'!F15+'ОТКРЫТКИ С ШОКОЛАДОМ'!F28+'КАРТОЧКИ С ШОКОЛАДОМ'!F11+'МИНИ-ОТКРЫТКИ С ШОКОЛАДОМ'!F7+'НАБОР ШОКОЛАДА 12 КОНФЕТ'!F15+'ПОДАРОЧНЫЙ ЧАЙ'!F49+'ПОДАРОЧНЫЙ КОФЕ'!F23+'ОТКРЫТКИ С ПРЯНИКАМИ'!F11+'ОТКРЫТКИ С ЛЕДЕНЦАМИ'!F17+'КРЕМ-МЕД'!F13+'НОСКИ В БАНКЕ'!F13+'АРАХИСОВАЯ ПАСТА'!F11+ЭКОБАНТОНЧИКИ!F9+'ШОКОЛАДНЫЕ МЕДАЛИ'!F19+'КОФЕ В СТАКАНАХ ПОДАРОЧНЫЙ'!F15 -> 130

Sheet АРАХИСОВАЯ ПАСТА
A1: ВСЯКИЕ ШТУКИ -АРАХИСОВАЯ ПАСТА
A2: Фото | B2: Наименование | C2: Состав | D2: Оптовая цена | E2: Ваш заказ | F2: Сумма
B3: Арахисовая паста АССОРТИ "Для лучших завтраков" | C3: Арахисовая паста классическая Вес - 80 гр. Арахисовая паста с кокосом Вес - 80 гр. Арахисовая паста Сrunch Вес - 80 гр. | D3: 160 | E3: 0 | F3: =E3*D3 -> 0
B4: Арахисовая паста АССОРТИ "Для лучших десертов" | C4: Арахисовая паста с шоколадом Вес - 80 гр. Арахисовая паста с курагой Вес - 80 гр. Арахисовая паста с корицей Вес - 80 гр. | D4: 160 | E4: 0 | F4: =E4*D4 -> 0
B5: Арахисовая паста "Все хотят орехов" С курагой | C5: Арахис обжаренный, курага, сахар, соль. Вес — 330 гр. | D5: 145 | E5: 0 | F5: =E5*D5 -> 0
B6: Арахисовая паста "Все хотят орехов" Сrunch | C6: Арахис обжаренный, арахис обжаренный дроблёный, соль. Вес — 330 гр. | D6: 145 | E6: 0 | F6: =E6*D6 -> 0
B7: Арахисовая паста "Все хотят орехов" Классическая | C7: Арахис обжаренный, соль. Вес — 330 гр. | D7: 145 | E7: 0 | F7: =E7*D7 -> 0
B8: Арахисовая паста "Все хотят орехов" С кокосом | C8: Арахис обжаренный, мякоть кокоса (кокосовая стружка). Вес — 330 гр. | D8: 155 | E8: 0 | F8: =E8*D8 -> 0
B9: Арахисовая паста "Все хотят орехов" С корицей | C9: Арахис обжаренный, сахар, соль, корица. Вес — 330 гр. | D9: 155 | E9: 0 | F9: =E9*D9 -> 0
B10: Арахисовая паста "Все хотят орехов" С шоколадом | C10: Арахис обжаренный, шоколад молочный 32%. Вес — 330 гр. | D10: 155 | E10: 0 | F10: =E10*D10 -> 0
E11: Итоговая сумма | F11: =SUM(F3:F10) -> 0
E12: Общая сумма по всем прайсам | F12: ='НОВОГОДНЯЯ КОЛЛЕКЦИЯ'!F21+'КОНВЕРТЫТ С ШОКОЛАДОМ'!F15+'ОТКРЫТКИ С ШОКОЛАДОМ'!F28+'КАРТОЧКИ С ШОКОЛАДОМ'!F11+'МИНИ-ОТКРЫТКИ С ШОКОЛАДОМ'!F7+'НАБОР ШОКОЛАДА 12 КОНФЕТ'!F15+'ПОДАРОЧНЫЙ ЧАЙ'!F49+'ПОДАРОЧНЫЙ КОФЕ'!F23+'ОТКРЫТКИ С ПРЯНИКАМИ'!F11+'ОТКРЫТКИ С ЛЕДЕНЦАМИ'!F17+'КРЕМ-МЕД'!F13+'НОСКИ В БАНКЕ'!F13+'АРАХИСОВАЯ ПАСТА'!F11+ЭКОБАНТОНЧИКИ!F9+'ШОКОЛАДНЫЕ МЕДАЛИ'!F19+'КОФЕ В СТАКАНАХ ПОДАРОЧНЫЙ'!F15 -> 130

Sheet ЭКОБАНТОНЧИКИ
A1: ВСЯКИЕ ШТУКИ -ЭКОБАТОНЧИКИ
A2: Фото | B2: Наименование | C2: Состав | D2: Оптовая цена | E2: Ваш заказ | F2: Сумма
B3: Экобатончик "Подзарядка для работы" | C3: Финики, изюм, лен, кедровый орех, клюква, фундук. Вес: 75 гр. | D3: 87 | E3: 0 | F3: =E3*D3 -> 0
