Workbook

Sheet ТЛ
A30: прайс-лист
C32: Ваша скидка (основная) | G32: 0 | H32: %
C33: Ваша наценка | G33: 0 | H33: %
C34: СКИДКА на кухни и шкафы-купе (для крупного опта - 10%) | G34: 0 | H34: %
A35: Вставьте необходимые значения и получите готовый результат в 1 клик

Sheet Содерж
C6: Содержание, скидки (внизу листа)
A7: 1 | B7: Набор детской мебели "Почемучка"
A8: 2 | B8: Набор детской мебели "Настенька"
A9: 3 | B9: Набор детской мебели "Алиса"
A10: 4 | B10: Набор детской мебели "Алешка" (фасады ЛДСП)
A11: 4а | B11: Набор детской мебели "Алешка" (фасады МДФ с фрезеровкой)
A12: 5 | B12: Набор детской мебели "Юнга"
A13: 6
A14: 7 | B14: Набор для спальни "Квадро"
A15: 8 | B15: Набор для спальни "Селена"
A16: 9 | B16: Набор для спальни "Купидон"
A17: 10 | B17: Набор для спальни "Гармония"
A18: 11 | B18: Мебель для спальни
A19: 12 | B19: Кровати
A20: 13 | B20: Комоды
A21: 14 | B21: Шкафы
A22: 15 | B22: ТВА Вита
A23: 16 | B23: Тумбы телевизионные (ТВА)
A24: 17 | B24: Столы журнальные
A25: 18 | B25: Серия офисной мебели "Акцент"
... A33: 27 | B33: Используемые материалы для кухонных гарнитуров
A34: 28
A35: 29 | B35: Набор мебели для кухни "Золушка"
A36: 30 | B36: Набор мебели для кухни "Надежда"
A37: 31 | B37: Модульные кухни
A38: 32 | B38: Кухонные модули - тумбы
A39: 33 | B39: Кухонные модули - шкафы
A41: Срок исполнения заявки 2-4 недели. При наличии товара на складе возможна загрузка товара на следующий день после оплаты. Кровати матрасами не комплектуются, кухни не комплектуются мойками. Внимание!!! При сборке изделия обращать внимание на номер заказа (на этикетке он должен быть одинаковым на всех упаковках изделия). По всем вопросам комплектации, наличии и сроках изготовления обращаться к Вашему менеджеру.

Sheet 1
B14: Серия детской мебели "Почемучка"
B15: Тумба "Почемучка" | G15: Комод "Почемучка" | L15: Стол письменный "Почемучка"
B16: 1300 х 470 х 1060 | G16: 840 х 497 х 962 | L16: 1210 х 610 х 1608
E17: Вес,кг | J17: Вес,кг | O17: Вес,кг
E18: 65 | J18: 48 | O18: 56
E19: Объем,м3 | J19: Объем,м3 | O19: Объем,м3
E20: 0.11 | J20: 0.09 | O20: 0.11
E21: Кол-во упаковок | J21: Кол-во упаковок | O21: Кол-во упаковок
E22: 1 | J22: 1 | O22: 1
B23: ЦЕНА | D23: ='1р'!D2 -> 6545 | G23: ЦЕНА | I23: ='1р'!D4 -> 5695 | L23: ЦЕНА | N23: ='1р'!D6 -> 5185
B24: Шимо светл.+оранж+лайм+фотопечать | G24: Шимо светл.+оранж+лайм+фотопечать | L24: Шимо светл.+оранж+лайм
B25: Шимо светлый 5435р. | E25: ='1р'!D3 -> 6420 | G25: Шимо светл. | I25: ='1р'!D5 -> 5590 | L25: Шимо светл. | N25: ='1р'!D7 -> 5140
B27: Пенал "Почемучка" | G27: Пенал с угловыми полками "Почемучка" универсальн.сборка | L27: Пенал закрытый "Почемучка"
B28: 450 х 470 х 2160 | G28: 800 х 470 х 2160 | L28: 400 х 470 х 2160
E29: Вес,кг | J29: Вес,кг | O29: Вес,кг
E30: 50 | J30: 60 | O30: 20
E31: Объем,м3 | J31: Объем,м3 | O31: Объем,м3
E32: 0.11 | J32: 0.12 | O32: 0.07
E33: Кол-во упаковок | J33: Кол-во упаковок | O33: Кол-во упаковок
E34: 1 | J34: 1 | O34: 1
B35: ЦЕНА | D35: ='1р'!D8 -> 4795 | G35: ЦЕНА | I35: ='1р'!D10 -> 5055 | L35: ЦЕНА | N35: ='1р'!D12 -> 3650
B36: Шимо светл.+оранж+лайм+фотопечать | G36: Шимо светл.+оранж+лайм | L36: Шимо светл.+фотопечать
B37: Шимо светлый 3980р. | E37: ='1р'!D9 -> 4710 | G37: Шимо светлый 4200р. | J37: ='1р'!D11 -> 4965 | L37: Шимо светлый 2880р. | O37: ='1р'!D13 -> 3405
B39: Шкаф двухстворчатый "Почемучка" | G39: Шкаф трехстворчатый "Почемучка" | L39: Шкаф угловой "Почемучка"
B40: 800 х 470 х 2160 | G40: 1200 х 470 х 2160 | L40: 840 х 840 х 2160
E41: Вес,кг | J41: Вес,кг | O41: Вес,кг
E42: 40 | J42: 60 | O42: 93
E43: Объем,м3 | J43: Объем,м3 | O43: Объем,м3
E44: 0.16 | J44: 0.2 | O44: 0.3
E45: Кол-во упаковок | J45: Кол-во упаковок | O45: Кол-во упаковок
E46: 1 | J46: 2 | O46: 2
B47: ЦЕНА | D47: ='1р'!D14 -> 7220 | G47: ЦЕНА | I47: ='1р'!D16 -> 9780 | L47: ЦЕНА | N47: ='1р'!D18 -> 7020
B48: Шимо светл.+оранж+лайм+фотопечать | G48: Шимо светл+оранж+лайм+фотопечать | L48: Шимо светл.
B49: Шимо светлый без ф/п | E49: ='1р'!D15 -> 6850 | G49: Шимо светл. | I49: ='1р'!D17 -> 9265
B51: Кровать "Почемучка" с ящиками | G51: Кровать "Почемучка-2" (выдвижная) | L51: Кровать двухъярусная "Почемучка"
B52: 2032 х 837 х 860 | G52: 2042 х 865 х 930 | L52: 2032 х 1300 х 1900
E53: Вес,кг | J53: Вес,кг | O53: Вес,кг
E54: 84 | J54: 140 | O54: 160
E55: Объем,м3 | J55: Объем,м3 | O55: Объем,м3
E56: 0.2 | J56: 0.3 | O56: 0.34
...

Sheet 1р
A1: наименование | B1: цена | C1: со скидкой | D1: и наценкой
A2: Тумба Почемучка | B2: =CEILING((F2+F2*0.07),5) -> 6545 | C2: =B2-(B2/100*ТЛ!$G$32) -> 6545 | D2: =C2+(C2/100*ТЛ!$G$33) -> 6545 | F2: 6115
A3: Тумба Почемучка ясень | B3: =CEILING((F3+F3*0.07),5) -> 6420 | C3: =B3-(B3/100*ТЛ!$G$32) -> 6420 | D3: =C3+(C3/100*ТЛ!$G$33) -> 6420 | F3: 6000
A4: Комод | B4: =CEILING((F4+F4*0.07),5) -> 5695 | C4: =B4-(B4/100*ТЛ!$G$32) -> 5695 | D4: =C4+(C4/100*ТЛ!$G$33) -> 5695 | F4: 5320
A5: Комод ясень | B5: =CEILING((F5+F5*0.07),5) -> 5590 | C5: =B5-(B5/100*ТЛ!$G$32) -> 5590 | D5: =C5+(C5/100*ТЛ!$G$33) -> 5590 | F5: 5220
A6: Стол письм. | B6: =CEILING((F6+F6*0.07),5) -> 5185 | C6: =B6-(B6/100*ТЛ!$G$32) -> 5185 | D6: =C6+(C6/100*ТЛ!$G$33) -> 5185 | F6: 4845
A7: Стол письм. Ясень | B7: =CEILING((F7+F7*0.07),5) -> 5140 | C7: =B7-(B7/100*ТЛ!$G$32) -> 5140 | D7: =C7+(C7/100*ТЛ!$G$33) -> 5140 | F7: 4800
A8: Пенал | B8: =CEILING((F8+F8*0.07),5) -> 4795 | C8: =B8-(B8/100*ТЛ!$G$32) -> 4795 | D8: =C8+(C8/100*ТЛ!$G$33) -> 4795 | F8: 4480
A9: Пенал ясень | B9: =CEILING((F9+F9*0.07),5) -> 4710 | C9: =B9-(B9/100*ТЛ!$G$32) -> 4710 | D9: =C9+(C9/100*ТЛ!$G$33) -> 4710 | F9: 4400
A10: Пенал с угл. Полками | B10: =CEILING((F10+F10*0.07),5) -> 5055 | C10: =B10-(B10/100*ТЛ!$G$32) -> 5055 | D10: =C10+(C10/100*ТЛ!$G$33) -> 5055 | F10: 4720
A11: Пенал с угл. Полками ясень | B11: =CEILING((F11+F11*0.07),5) -> 4965 | C11: =B11-(B11/100*ТЛ!$G$32) -> 4965 | D11: =C11+(C11/100*ТЛ!$G$33) -> 4965 | F11: 4640
A12: Пенал закрытый | B12: =CEILING((F12+F12*0.07),5) -> 3650 | C12: =B12-(B12/100*ТЛ!$G$32) -> 3650 | D12: =C12+(C12/100*ТЛ!$G$33) -> 3650 | F12: 3410
A13: Пенал закрытый ясень | B13: =CEILING((F13+F13*0.07),5) -> 3405 | C13: =B13-(B13/100*ТЛ!$G$32) -> 3405 | D13: =C13+(C13/100*ТЛ!$G$33) -> 3405 | F13: 3180
... A18: Шкаф угловой | B18: =CEILING((F18+F18*0.07),5) -> 7020 | C18: =B18-(B18/100*ТЛ!$G$32) -> 7020 | D18: =C18+(C18/100*ТЛ!$G$33) -> 7020 | F18: 6560
A19: Кровать с ящиками | B19: 6615 | C19: =B19-(B19/100*ТЛ!$G$32) -> 6615 | D19: =C19+(C19/100*ТЛ!$G$33) -> 6615 | F19: 6100
A20: Кровать с ящиками ясень | B20: 6490 | C20: =B20-(B20/100*ТЛ!$G$32) -> 6490 | D20: =C20+(C20/100*ТЛ!$G$33) -> 6490 | F20: 5980
A21: Кровать Почемучка-2 | B21: =CEILING((F21+F21*0.07),5) -> 8005 | C21: =B21-(B21/100*ТЛ!$G$32) -> 8005 | D21: =C21+(C21/100*ТЛ!$G$33) -> 8005 | F21: 7480
A22: Кровать 2х-яр Почемучка | B22: 13875 | C22: =B22-(B22/100*ТЛ!$G$32) -> 13875 | D22: =C22+(C22/100*ТЛ!$G$33) -> 13875 | F22: 12860
A23: Полка навесная | B23: =CEILING((F23+F23*0.07),5) -> 2345 | C23: =B23-(B23/100*ТЛ!$G$32) -> 2345 | D23: =C23+(C23/100*ТЛ!$G$33) -> 2345 | F23: 2190
A24: Полка навесная ясень | B24: =CEILING((F24+F24*0.07),5) -> 2210 | C24: =B24-(B24/100*ТЛ!$G$32) -> 2210 | D24: =C24+(C24/100*ТЛ!$G$33) -> 2210 | F24: 2065
A25: Кровать Почемучка-2 шимо светлый | B25: 6960 | C25: =B25-(B25/100*ТЛ!$G$32) -> 6960 | D25: =C25+(C25/100*ТЛ!$G$33) -> 6960 | F25: 6450

Sheet 2
C4: Количество ограничено!!! Наличие уточнять у менеджера!!!
M5: ручка-цветочек
B6: Кровать "Настенька" | G6: Тумба прикроватная "Настенька" | L6: Кровать "Настенька-2" УНИВЕРСАЛЬНАЯ!
B7: 1848 х 1140 х 900 | G7: 500 х 430 х 525 | L7: 1948 х 880 х 994
E8: Вес,кг | J8: Вес,кг | O8: Вес,кг
E9: 50 | J9: 15 | O9: 48
E10: Объем,м3 | J10: Объем,м3 | O10: Объем,м3
E11: 0.14 | J11: 0.03 | O11: 0.09
E12: Кол-во упаковок | J12: Кол-во упаковок | O12: Кол-во упаковок
E13: 2 | J13: 1 | O13: 2
B14: ЦЕНА | D14: ='2р'!D2 -> 4710 | G14: ЦЕНА | I14: ='2р'!D4 -> 1700 | L14: ЦЕНА | N14: ='2р'!D9 -> 6810
B15: Корпус: ЛДСП белый. Фасады и декор.накладки: МДФ оранж, ваниль | G15: Корпус: ЛДСП белый. Фасады и декор.накладки: МДФ оранж, ваниль | L15: Корпус: ЛДСП белый. Фасады и декор.накладки: МДФ оранж, ваниль
B16: сп.м (1800 х 800) | L16: сп.м (1900х800)
B18: Комод "Настенька" с фрезеровкой | G18: Стол туалетный "Настенька" | L18: Стеллаж для книг "Настенька" с фрезеровкой
B19: 850 х 540 х 945 | G19: 1065 х 492 х 1360 | L19: 1600 х 450 х 1700
E20: Вес,кг | J20: Вес,кг | O20: Вес,кг
E21: 55 | J21: 35 | O21: 70
E22: Объем,м3 | J22: Объем,м3 | O22: Объем,м3
E23: 0.09 | J23: 0.07 | O23: 0.13
E24: Кол-во упаковок | J24: Кол-во упаковок | O24: Кол-во упаковок
E25: 1 | J25: 1 | O25: 1
B26: ЦЕНА | D26: ='2р'!D5 -> 5800 | G26: ЦЕНА | I26: ='2р'!D6 -> 4270 | L26: ЦЕНА | N26: ='2р'!D7 -> 6870
B27: Корпус: ЛДСП белый. Фасады и декор.накладки: МДФ оранж, ваниль | G27: Корпус: ЛДСП белый. Фасады и декор.накладки: МДФ оранж, ваниль | L27: Корпус: ЛДСП белый. Фасады и декор.накладки: МДФ оранж, ваниль
B30: Шкаф трехстворчатый "Настенька-2" с фрезеровкой
B31: 1200 х 520 х 1980
E32: Вес,кг
E33: 100
E34: Объем,м3
E35: 0.21
E36: Кол-во упаковок
E37: 2
B38: ЦЕНА | D38: ='2р'!D8 -> 7870
B39: Корпус: ЛДСП белый. Фасады и декор.накладки: МДФ оранж, ваниль

Sheet 2р
A1: наименование | B1: цена | C1: со скидкой | D1: и наценкой
A2: Кровать Настенька | B2: 4710 | C2: =B2-(B2/100*ТЛ!$G$32) -> 4710 | D2: =C2+(C2/100*ТЛ!$G$33) -> 4710
A3: Кровать Настенька не универс | B3: 5735 | C3: =B3-(B3/100*ТЛ!$G$32) -> 5735 | D3: =C3+(C3/100*ТЛ!$G$33) -> 5735
A4: Тумба прикр. | B4: 1700 | C4: =B4-(B4/100*ТЛ!$G$32) -> 1700 | D4: =C4+(C4/100*ТЛ!$G$33) -> 1700
A5: Комод | B5: 5800 | C5: =B5-(B5/100*ТЛ!$G$32) -> 5800 | D5: =C5+(C5/100*ТЛ!$G$33) -> 5800
A6: СТ | B6: 4270 | C6: =B6-(B6/100*ТЛ!$G$32) -> 4270 | D6: =C6+(C6/100*ТЛ!$G$33) -> 4270
A7: Стеллаж | B7: 6870 | C7: =B7-(B7/100*ТЛ!$G$32) -> 6870 | D7: =C7+(C7/100*ТЛ!$G$33) -> 6870
A8: Шкаф 3хст.Настенька-2 | B8: 7870 | C8: =B8-(B8/100*ТЛ!$G$32) -> 7870 | D8: =C8+(C8/100*ТЛ!$G$33) -> 7870
A9: Кровать Настенька-2 с оранжевым углом из мдф Универсальн) | B9: 6810 | C9: =B9-(B9/100*ТЛ!$G$32) -> 6810 | D9: =C9+(C9/100*ТЛ!$G$33) -> 6810

Sheet 3
B14: Серия детской мебели "Алиса"
B15: Кровать с выкатным столом "Алиса" (универсал.сборка) | G15: Комод "Алиса" | L15: Полка навесная "Алиса"
B16: 2042 х 1095 х 1170 | G16: 800 х 470 х 906 | L16: 600 х 300 х 600
E17: Вес,кг | J17: Вес,кг | O17: Вес,кг
E18: 138 | J18: 45 | O18: 15
E19: Объем,м3 | J19: Объем,м3 | O19: Объем,м3
E20: 0.3 | J20: 0.08 | O20: 0.03
E21: Кол-во упаковок | J21: Кол-во упаковок | O21: Кол-во упаковок
E22: 3 | J22: 1 | O22: 1
B23: ЦЕНА | D23: ='3р'!D2 -> 11595 | G23: ЦЕНА | I23: ='3р'!D3 -> 4445 | L23: ЦЕНА | N23: ='3р'!D4 -> 1630
B24: Шимо светл.+Шимо темн.+фотопечать | G24: Шимо светл.+Шимо темн.+фотопечать | L24: Шимо светл.+Шимо темн.+фотопечать
B25: сп.м. (2000х900)
B27: Пенал 1 "Алиса" (3 ящика) | G27: Пенал 2 "Алиса" (5 ящиков) | L27: Пенал с угловыми полками "Алиса"
B28: 450 х 470 х 1700 | G28: 450 х 470 х 1700 | L28: 470 х 470 х 1700
E29: Вес,кг | J29: Вес,кг | O29: Вес,кг
E30: 42 | J30: 45 | O30: 26
E31: Объем,м3 | J31: Объем,м3 | O31: Объем,м3
E32: 0.08 | J32: 0.08 | O32: 0.09
E33: Кол-во упаковок | J33: Кол-во упаковок | O33: Кол-во упаковок
E34: 1 | J34: 1 | O34: 1
B35: ЦЕНА | D35: ='3р'!D5 -> 3715 | G35: ЦЕНА | I35: ='3р'!D6 -> 4445 | L35: ЦЕНА | N35: ='3р'!D7 -> 2055
B36: Шимо светл.+Шимо темн.+фотопечать | G36: Шимо светл.+Шимо темн.+фотопечать | L36: Шимо светл.+Шимо темн.+фотопечать
B38: Пенал закрытый "Алиса" | G38: Шкаф двухстворчатый "Алиса" | L38: Шкаф трехстворчатый "Алиса"
B39: 600 х 470 х 1960 | G39: 800 х 470 х 2160 | L39: 1200 х 470 х 2160
E40: Вес,кг | J40: Вес,кг | O40: Вес,кг
E41: 60 | J41: 58 | O41: 93
E42: Объем,м3 | J42: Объем,м3 | O42: Объем,м3
E43: 0.13 | J43: 0.13 | O43: 0.21
E44: Кол-во упаковок | J44: Кол-во упаковок | O44: Кол-во упаковок
E45: 1 | J45: 1 | O45: 2
B46: ЦЕНА | D46: ='3р'!D8 -> 6050 | G46: ЦЕНА | I46: ='3р'!D9 -> 5375 | L46: ЦЕНА | N46: ='3р'!D10 -> 8090
B47: Шимо светл.+Шимо темн.+фотопечать | G47: Шимо светл.+Шимо темн.+фотопечать | L47: Шимо светл.+Шимо темн.+фотопечать
B49: Тумба выкатная "Алиса"
B50: 500 х 500 х 510
E51: Вес,кг
E52: 14
E53: Объем,м3
E54: 0.03
E55: Кол-во упаковок
B56: откидная крышка | E56: 1
...

Sheet 3р
A1: наименование | B1: цена | C1: со скидкой | D1: и наценкой
A2: Кровать Алиса | B2: =CEILING((F2+F2*0.07),5) -> 11595 | C2: =B2-(B2/100*ТЛ!$G$32) -> 11595 | D2: =C2+(C2/100*ТЛ!$G$33) -> 11595 | F2: 10835
A3: Комод Алиса | B3: =CEILING((F3+F3*0.07),5) -> 4445 | C3: =B3-(B3/100*ТЛ!$G$32) -> 4445 | D3: =C3+(C3/100*ТЛ!$G$33) -> 4445 | F3: 4150
A4: Полка Навесная | B4: =CEILING((F4+F4*0.07),5) -> 1630 | C4: =B4-(B4/100*ТЛ!$G$32) -> 1630 | D4: =C4+(C4/100*ТЛ!$G$33) -> 1630 | F4: 1520
A5: Пенал 1 | B5: =CEILING((F5+F5*0.07),5) -> 3715 | C5: =B5-(B5/100*ТЛ!$G$32) -> 3715 | D5: =C5+(C5/100*ТЛ!$G$33) -> 3715 | F5: 3470
A6: Пенал 2 | B6: =CEILING((F6+F6*0.07),5) -> 4445 | C6: =B6-(B6/100*ТЛ!$G$32) -> 4445 | D6: =C6+(C6/100*ТЛ!$G$33) -> 4445 | F6: 4150
A7: Пенал с угл.полками | B7: =CEILING((F7+F7*0.07),5) -> 2055 | C7: =B7-(B7/100*ТЛ!$G$32) -> 2055 | D7: =C7+(C7/100*ТЛ!$G$33) -> 2055 | F7: 1920
A8: Пенал закрытый | B8: =CEILING((F8+F8*0.07),5) -> 6050 | C8: =B8-(B8/100*ТЛ!$G$32) -> 6050 | D8: =C8+(C8/100*ТЛ!$G$33) -> 6050 | F8: 5650
A9: Шкаф 2хств | B9: =CEILING((F9+F9*0.07),5) -> 5375 | C9: =B9-(B9/100*ТЛ!$G$32) -> 5375 | D9: =C9+(C9/100*ТЛ!$G$33) -> 5375 | F9: 5020
A10: Шкаф 3хств. | B10: =CEILING((F10+F10*0.07),5) -> 8090 | C10: =B10-(B10/100*ТЛ!$G$32) -> 8090 | D10: =C10+(C10/100*ТЛ!$G$33) -> 8090 | F10: 7560
A11: Тумба Алиса | B11: =CEILING((F11+F11*0.07),5) -> 1125 | C11: =B11-(B11/100*ТЛ!$G$32) -> 1125 | D11: =C11+(C11/100*ТЛ!$G$33) -> 1125 | F11: 1050
B12: =F12+F12*0.05 -> 0 | F12: =J12+J12*0.05 -> 0

Sheet 4
B14: Серия детской мебели "Алешка" (ЛДСП-фасады)
B15: Кровать двухъярусная "Алешка" | G15: Кровать "Алешка-2" | L15: Комод "Алешка"
B16: 2042 х 1206 х 1930 (левая/правая) | G16: 1940 х 840 х 700 | L16: 1100 х 470 х 956
E17: Вес,кг | J17: Вес,кг | O17: Вес,кг
E18: 123 | J18: 40 | O18: 65
E19: Объем,м3 | J19: Объем,м3 | O19: Объем,м3
E20: 0.3 | J20: 0.11 | O20: 0.12
E21: Кол-во упаковок | J21: Кол-во упаковок | O21: Кол-во упаковок
E22: 3 | J22: 2 | O22: 2
B23: ЦЕНА | D23: ='4р'!D2 -> 9955 | G23: ЦЕНА | I23: ='4р'!D4 -> 3110 | L23: ЦЕНА | N23: ='4р'!D9 -> 5060
B24: Шимо светл.+Шимо темн. | G24: Шимо светл.+Шимо темн. | L24: Шимо светл.+Шимо темн.
B25: сп.м (2000х800) | G25: сп.м. (1900х800)
B27: Стол. к кровати "Алешка" | G27: Стол компьютерный угловой "Алешка" | L27: Стол письменный (прямой) "Алешка"
B28: 1244 х 840 (левый/правый) | G28: 1204 х 884 х 750 (левый/правый) | L28: 1204 х 554 х 750
E29: Вес,кг | J29: Вес,кг | O29: Вес,кг
E30: 10 | J30: 26 | O30: 25
E31: Объем,м3 | J31: Объем,м3 | O31: Объем,м3
E32: 0.02 | J32: 0.07 | O32: 0.07
E33: Кол-во упаковок | J33: Кол-во упаковок | O33: Кол-во упаковок
E34: 1 | J34: 1 | O34: 1
B35: ЦЕНА | D35: ='4ар'!D5 -> 1275 | G35: ЦЕНА | I35: ='4ар'!D6 -> 1975 | L35: ЦЕНА | N35: ='4ар'!D4 -> 1590
B36: Шимо светл. | G36: Шимо светл. | L36: Шимо светл.
B39: Тумба прикроватная "Алешка" | G39: Тумба выкатная "Алешка" | L39: Полка навесная "Алешка"
B40: 390 х 380 х 460 | G40: 400 х 450 х 550 | L40: 1100 х 300 х 600
E41: Вес,кг | J41: Вес,кг | O41: Вес,кг
E42: 19 | J42: 15 | O42: 19
E43: Объем,м3 | J43: Объем,м3 | O43: Объем,м3
E44: 0.03 | J44: 0.03 | O44: 0.05
E45: Кол-во упаковок | J45: Кол-во упаковок | O45: Кол-во упаковок
E46: 1 | J46: 1 | O46: 1
B47: ЦЕНА | D47: ='4р'!D6 -> 1295 | G47: ЦЕНА | I47: ='4р'!D7 -> 2085 | L47: ЦЕНА | N47: ='4р'!D8 -> 1940
B48: Шимо светл.+Шимо темн. | G48: Шимо светл.+Шимо темн | L48: Шимо светл.+Шимо темн.
B51: Стеллаж для книг и игрушек "Алешка" | G51: Шкаф трехстворчатый "Алешка" | L51: Шкаф двухстворчатый с открытыми полками "Алешка"
B52: 1100 х 470 х 1260 | G52: 1200 х 470 х 2160 | L52: 1400 х 470 х 2160
E53: Вес,кг | J53: Вес,кг | O53: Вес,кг
E54: 66 | J54: 106 | O54: 141
E55: Объем,м3 | J55: Объем,м3 | O55: Объем,м3
E56: 0.14 | J56: 0.2 | O56: 0.26
E57: Кол-во упаковок | J57: Кол-во упаковок | O57: Кол-во упаковок
E58: 1 | J58: 2 | O58: 2
...

Sheet 4р
A1: наименование | B1: цена | C1: со скидкой | D1: и наценкой
A2: Кровать Алешка 2х-яр | B2: =CEILING((F2+F2*0.07),5) -> 9955 | C2: =B2-(B2/100*ТЛ!$G$32) -> 9955 | D2: =C2+(C2/100*ТЛ!$G$33) -> 9955 | F2: 9300
A3: Стол компьют. | B3: =CEILING((F3+F3*0.07),5) -> 2085 | C3: =B3-(B3/100*ТЛ!$G$32) -> 2085 | D3: =C3+(C3/100*ТЛ!$G$33) -> 2085 | F3: 1945
A4: Кровать Алешка-2 | B4: =CEILING((F4+F4*0.07),5) -> 3110 | C4: =B4-(B4/100*ТЛ!$G$32) -> 3110 | D4: =C4+(C4/100*ТЛ!$G$33) -> 3110 | F4: 2905
A5: Кровать Алешка-3 | B5: 0 | C5: =B5-(B5/100*ТЛ!$G$32) -> 0 | D5: =C5+(C5/100*ТЛ!$G$33) -> 0 | F5: 2615
A6: Тумба прикроват. | B6: 1295 | C6: =B6-(B6/100*ТЛ!$G$32) -> 1295 | D6: =C6+(C6/100*ТЛ!$G$33) -> 1295 | F6: 1170
A7: Тумба выкатная | B7: 2085 | C7: =B7-(B7/100*ТЛ!$G$32) -> 2085 | D7: =C7+(C7/100*ТЛ!$G$33) -> 2085 | F7: 1935
A8: Полка навесная | B8: =CEILING((F8+F8*0.07),5) -> 1940 | C8: =B8-(B8/100*ТЛ!$G$32) -> 1940 | D8: =C8+(C8/100*ТЛ!$G$33) -> 1940 | F8: 1810
A9: Комод | B9: 5060 | C9: =B9-(B9/100*ТЛ!$G$32) -> 5060 | D9: =C9+(C9/100*ТЛ!$G$33) -> 5060 | F9: 4660
A10: Стеллаж | B10: =CEILING((F10+F10*0.07),5) -> 5245 | C10: =B10-(B10/100*ТЛ!$G$32) -> 5245 | D10: =C10+(C10/100*ТЛ!$G$33) -> 5245 | F10: 4900
A11: Шкаф 3хств. | B11: 7480 | C11: =B11-(B11/100*ТЛ!$G$32) -> 7480 | D11: =C11+(C11/100*ТЛ!$G$33) -> 7480 | F11: 6800
A12: Шкаф 2хств. с откр.полками | B12: =CEILING((F12+F12*0.07),5) -> 9580 | C12: =B12-(B12/100*ТЛ!$G$32) -> 9580 | D12: =C12+(C12/100*ТЛ!$G$33) -> 9580 | F12: 8950
A13: Шкаф 2хств. | B13: 4990 | C13: =B13-(B13/100*ТЛ!$G$32) -> 4990 | D13: =C13+(C13/100*ТЛ!$G$33) -> 4990 | F13: 4650
A14: Пенал | B14: 4645 | C14: =B14-(B14/100*ТЛ!$G$32) -> 4645 | D14: =C14+(C14/100*ТЛ!$G$33) -> 4645 | F14: 4200
A15: Шкаф 1ств. С откр.полками | B15: =CEILING((F15+F15*0.07),5) -> 6370 | C15: =B15-(B15/100*ТЛ!$G$32) -> 6370 | D15: =C15+(C15/100*ТЛ!$G$33) -> 6370 | F15: 5950
A16: Шкаф угловой | B16: =CEILING((F16+F16*0.07),5) -> 6530 | C16: =B16-(B16/100*ТЛ!$G$32) -> 6530 | D16: =C16+(C16/100*ТЛ!$G$33) -> 6530 | F16: 6100

Sheet 4а
B1: Корпус: шимо светлый. Фасады: МДФ глянец желтый металлик/серый металлик фрезеровка "Дюны" | H1: Корпус: шимо светлый. Фасады: МДФ глянец желтый металлик/лазурный металлик фрезеровка "Импульс"
B15: Корпус: шимо светлый. Фасады: МДФ глянец ваниль/мозаика виолетт/мозаика лайм
B30: Серия детской мебели "Алешка" (МДФ-фасады)
B31: Кровать двухъярусная "Алешка" | G31: Кровать "Алешка-2" | L31: Стол письменный (прямой) "Алешка"
B32: 2042 х 1206 х 1930 (левая/правая) | G32: 1940 х 840 х 700 | L32: 1204 х 554 х 750
E33: Вес,кг | J33: Вес,кг | O33: Вес,кг
E34: 123 | J34: 40 | O34: 25
E35: Объем,м3 | J35: Объем,м3 | O35: Объем,м3
E36: 0.3 | J36: 0.11 | O36: 0.07
E37: Кол-во упаковок | J37: Кол-во упаковок | O37: Кол-во упаковок
E38: 3 | J38: 2 | O38: 1
B39: ЦЕНА | D39: ='4ар'!D2 -> 10725 | G39: ЦЕНА | I39: ='4ар'!D3 -> 4595 | L39: ЦЕНА | N39: ='4ар'!D4 -> 1590
B40: Шимо светл.+МДФ фасады | G40: Шимо светл.+МДФ фасады | L40: Шимо светл.
B41: сп.м (2000х800) | G41: сп.м. (1900х800)
B43: Стол. к кровати "Алешка" | G43: Стол компьютерный угловой "Алешка" | L43: Полка навесная "Алешка"
B44: 1244 х 840 (левый/правый) | G44: 1204 х 884 х 750 (левый/правый) | L44: 1100 х 300 х 6000
E45: Вес,кг | J45: Вес,кг | O45: Вес,кг
E46: 10 | J46: 26 | O46: 19
E47: Объем,м3 | J47: Объем,м3 | O47: Объем,м3
E48: 0.02 | J48: 0.07 | O48: 0.05
E49: Кол-во упаковок | J49: Кол-во упаковок | O49: Кол-во упаковок
E50: 1 | J50: 1 | O50: 1
B51: ЦЕНА | D51: ='4ар'!D5 -> 1275 | G51: ЦЕНА | I51: ='4ар'!D6 -> 1975 | L51: ЦЕНА | N51: ='4ар'!D9 -> 2195
B52: Шимо светл. | G52: Шимо светл. | L52: Шимо светл.+МДФ фасады
B55: Тумба выкатная "Алешка" | G55: Тумба прикроватная "Алешка" | L55: Стеллаж для книг и игрушек "Алешка"
B56: 400 х 450 х 550 | G56: 390 х 380 х460 | L56: 1100 х 470 х 1260
E57: Вес,кг | J57: Вес,кг | O57: Вес,кг
E58: 15 | J58: 15 | O58: 66
E59: Объем,м3 | J59: Объем,м3 | O59: Объем,м3
E60: 0.03 | J60: 0.03 | O60: 0.14
E61: Кол-во упаковок | J61: Кол-во упаковок | O61: Кол-во упаковок
E62: 1 | J62: 1 | O62: 2
B63: ЦЕНА | D63: ='4ар'!D8 -> 2340 | G63: ЦЕНА | I63: ='4ар'!D7 -> 1385 | L63: ЦЕНА | N63: ='4ар'!D11 -> 6455
B64: Шимо светл.+МДФ фасады | G64: Шимо светл.+МДФ фасады | L64: Шимо светл.+МДФ фасады
B67: Комод "Алешка" | G67: Пенал "Алешка" | L67: Шкаф одностворчатый с открытыми полками "Алешка"
B68: 1100 х 470 х 956 | G68: 700 х 470 х 1960 | L68: 900 х 470 х 2160
E69: Вес,кг | J69: Вес,кг | O69: Вес,кг
E70: 65 | J70: 63 | O70: 63
E71: Объем,м3 | J71: Объем,м3 | O71: Объем,м3
E72: 0.12 | J72: 0.12 | O72: 0.12
...

Sheet 4ар
A1: наименование | B1: цена | C1: со скидкой | D1: и наценкой
A2: Кровать Алешка 2х-яр | B2: =CEILING((F2+F2*0.07),5) -> 10725 | C2: =B2-(B2/100*ТЛ!$G$32) -> 10725 | D2: =C2+(C2/100*ТЛ!$G$33) -> 10725 | F2: 10020
A3: Кровать Алешка-2 | B3: =CEILING((F3+F3*0.07),5) -> 4595 | C3: =B3-(B3/100*ТЛ!$G$32) -> 4595 | D3: =C3+(C3/100*ТЛ!$G$33) -> 4595 | F3: 4290
A4: Стол письм.прямой | B4: 1590 | C4: =B4-(B4/100*ТЛ!$G$32) -> 1590 | D4: =C4+(C4/100*ТЛ!$G$33) -> 1590 | F4: 1750
A5: Стол к кровати | B5: 1275 | C5: =B5-(B5/100*ТЛ!$G$32) -> 1275 | D5: =C5+(C5/100*ТЛ!$G$33) -> 1275 | F5: 1175
A6: Стол угловой | B6: 1975 | C6: =B6-(B6/100*ТЛ!$G$32) -> 1975 | D6: =C6+(C6/100*ТЛ!$G$33) -> 1975 | F6: 1840
A7: Тумба прикроват. | B7: 1385 | C7: =B7-(B7/100*ТЛ!$G$32) -> 1385 | D7: =C7+(C7/100*ТЛ!$G$33) -> 1385 | F7: 1285
A8: Тумба выкатная с ящ | B8: =CEILING((F8+F8*0.07),5) -> 2340 | C8: =B8-(B8/100*ТЛ!$G$32) -> 2340 | D8: =C8+(C8/100*ТЛ!$G$33) -> 2340 | F8: 2185
A9: Полка навесная | B9: =CEILING((F9+F9*0.07),5) -> 2195 | C9: =B9-(B9/100*ТЛ!$G$32) -> 2195 | D9: =C9+(C9/100*ТЛ!$G$33) -> 2195 | F9: 2050
A10: Комод | B10: =CEILING((F10+F10*0.07),5) -> 6175 | C10: =B10-(B10/100*ТЛ!$G$32) -> 6175 | D10: =C10+(C10/100*ТЛ!$G$33) -> 6175 | F10: 5770
A11: Стеллаж | B11: =CEILING((F11+F11*0.07),5) -> 6455 | C11: =B11-(B11/100*ТЛ!$G$32) -> 6455 | D11: =C11+(C11/100*ТЛ!$G$33) -> 6455 | F11: 6030
A12: Шкаф 3хств. | B12: =CEILING((F12+F12*0.07),5) -> 10660 | C12: =B12-(B12/100*ТЛ!$G$32) -> 10660 | D12: =C12+(C12/100*ТЛ!$G$33) -> 10660 | F12: 9960
A13: Шкаф 2хств. с откр.полками | B13: =CEILING((F13+F13*0.07),5) -> 11880 | C13: =B13-(B13/100*ТЛ!$G$32) -> 11880 | D13: =C13+(C13/100*ТЛ!$G$33) -> 11880 | F13: 11100
A14: Шкаф 2хств. | B14: =CEILING((F14+F14*0.07),5) -> 7095 | C14: =B14-(B14/100*ТЛ!$G$32) -> 7095 | D14: =C14+(C14/100*ТЛ!$G$33) -> 7095 | F14: 6630
A15: Пенал | B15: =CEILING((F15+F15*0.07),5) -> 5410 | C15: =B15-(B15/100*ТЛ!$G$32) -> 5410 | D15: =C15+(C15/100*ТЛ!$G$33) -> 5410 | F15: 5055
A16: Шкаф 1ств. С откр.полками | B16: =CEILING((F16+F16*0.07),5) -> 7335 | C16: =B16-(B16/100*ТЛ!$G$32) -> 7335 | D16: =C16+(C16/100*ТЛ!$G$33) -> 7335 | F16: 6855
A17: Шкаф угловой | B17: =CEILING((F17+F17*0.07),5) -> 7460 | C17: =B17-(B17/100*ТЛ!$G$32) -> 7460 | D17: =C17+(C17/100*ТЛ!$G$33) -> 7460 | F17: 6970

Sheet 5
F7: фотопечать в иллюминаторах
B13: Серия детской мебели "Юнга" (МДФ) с фрезеровкой
B14: Кровать двухъярусная "Юнга" (с фрезеровкой дельфинчики) | G14: Кровать "Юнга" (с фрезеровкой дельфинчики) | L14: Тумба прикроватная "Юнга" (с фрезеровкой якорь)
B15: 2994 х 909 х 2025 | G15: 2440 х 920 х 750 | L15: 810 х 350 х 682
E16: Вес,кг | J16: Вес,кг | O16: Вес,кг
E17: 179 | J17: 86 | O17: 26
E18: Объем,м3 | J18: Объем,м3 | O18: Объем,м3
E19: 0.38 | J19: 0.22 | O19: 0.06
E20: Кол-во упаковок | J20: Кол-во упаковок | O20: Кол-во упаковок
E21: 3 | J21: 2 | O21: 1
B22: ЦЕНА | D22: ='5р'!D2 -> 17960 | G22: ЦЕНА | I22: ='5р'!D3 -> 8085 | L22: ЦЕНА | N22: ='5р'!D4 -> 2670
B23: Корпус: ЛДСП шимо светлый. Фасады: МДФ голубой, ваниль | G23: Корпус: ЛДСП шимо светлый. Фасады: МДФ голубой, ваниль | L23: Корпус: ЛДСП шимо светлый. Фасады: МДФ голубой, ваниль
B24: сп.м (2000х800) | G24: сп.м. (2000х800)
B26: Комод "Юнга" (с фрезеровкой кораблик) | G26: Тумба (рундук) "Юнга" | L26: Полка навесная "Юнга"
B27: 850 х 493 х 900 | G27: 700 х 540 х 460 | L27: 835 х 180 х 812
E28: Вес,кг | J28: Вес,кг | O28: Вес,кг
E29: 52 | J29: 21 | O29: 8
E30: Объем,м3 | J30: Объем,м3 | O30: Объем,м3
E31: 0.09 | J31: 0.05 | O31: 0.02
E32: Кол-во упаковок | J32: Кол-во упаковок | O32: Кол-во упаковок
E33: 1 | J33: 1 | O33: 1
B34: ЦЕНА | D34: ='5р'!D5 -> 4495 | G34: ЦЕНА | I34: ='5р'!D6 -> 2010 | L34: ЦЕНА | N34: ='5р'!D7 -> 1465
B35: Корпус: ЛДСП шимо светлый. Фасады: МДФ голубой, ваниль | G35: Корпус: ЛДСП шимо светлый. Фасады: МДФ голубой, ваниль | L35: Корпус: ЛДСП шимо светлый. Фасады: МДФ голубой, ваниль
B38: Стеллаж для книг и игрушек "Юнга" (с фрезеровкой) | G38: Стол компьютерный "Юнга" | L38: Стол компьютерный (угловой) "Юнга"
B39: 1445 х 460 х 2068 | G39: 1920 х 620 х 1820 | L39: 1920 х 910 х 2062
E40: Вес,кг | J40: Вес,кг | O40: Вес,кг
E41: 76 | J41: 81 | O41: 90
E42: Объем,м3 | J42: Объем,м3 | O42: Объем,м3
E43: 0.15 | J43: 0.17 | O43: 0.2
E44: Кол-во упаковок | J44: Кол-во упаковок | O44: Кол-во упаковок
E45: 2 | J45: 2 | O45: 2
B46: ЦЕНА | D46: ='5р'!D8 -> 8770 | G46: ЦЕНА | I46: ='5р'!D9 -> 9715 | L46: ЦЕНА | N46: ='5р'!D10 -> 11090
B47: Корпус: ЛДСП шимо светлый. Фасады: МДФ голубой, ваниль | G47: Корпус: ЛДСП шимо светлый. Фасады: МДФ голубой, ваниль | L47: Корпус: ЛДСП шимо светлый. Фасады: МДФ голубой, ваниль
B50: Пенал с углоыми полками "Юнга" | G50: Шкаф двухстворчатый "Юнга" (с фрезеровкой кораблики) | L50: Шкаф трехстворчатый "Юнга" (с фрезеровкой кораблики)
B51: 442 х 450 х 1810 | G51: 900 х 530 х 2085 | L51: 1333 х 530 х 2085
E52: Вес,кг | J52: Вес,кг | O52: Вес,кг
E53: 18 | J53: 91 | O53: 128
E54: Объем,м3 | J54: Объем,м3 | O54: Объем,м3
E55: 0.04 | J55: 0.17 | O55: 0.6
E56: Кол-во упаковок | J56: Кол-во упаковок | O56: Кол-во упаковок
...

Sheet 6
B1: Серия детской мебели "Акварель" (МДФ-фасады)
B2: Кровать двухъярусная "Алешка" | G2: Лестница | L2: Лестница-2
B3: 2042 х 858 х 2180 | G3: 1800 х 1815 х 608 | L3: 557 х 340 х 1760
E4: Вес,кг | J4: Вес,кг | O4: Вес,кг
E6: Объем,м3 | J6: Объем,м3 | O6: Объем,м3
E8: Кол-во упаковок | J8: Кол-во упаковок | O8: Кол-во упаковок
B10: ЦЕНА | D10: ='6р'!D2 -> 11100 | G10: ЦЕНА | I10: ='6р'!D4 -> 12145 | L10: ЦЕНА | N10: ='6р'!D3 -> 2550
B11: Шимо светл.+МДФ фасады | G11: Шимо светл.+МДФ фасады | L11: Шимо светл.+МДФ накладка
B12: сп.м (2000х800)
B14: Кровать-2 | G14: Стол письменный | L14: Полка навесная
B15: 840 х 814 х 1940 | G15: 900 х 600 х 756 | L15: 900 х 300 х 800
E16: Вес,кг | J16: Вес,кг | O16: Вес,кг
E18: Объем,м3 | J18: Объем,м3 | O18: Объем,м3
E20: Кол-во упаковок | J20: Кол-во упаковок | O20: Кол-во упаковок
B22: ЦЕНА | D22: ='6р'!D5 -> 3800 | G22: ЦЕНА | I22: ='6р'!D12 -> 2550 | L22: ЦЕНА | N22: ='6р'!D8 -> 1955
B23: Шимо светл.+МДФ фасады | G23: Шимо светл.+МДФ фасады | L23: Шимо светл.+МДФ фасады
B26: Пенал | G26: Пенал закрытый | L26: Пенал с угловыми полками
B27: 450 х 470 х 2160 | G27: 800 х 470 х 2160 | L27: 566 х 470 х 2160
E28: Вес,кг | J28: Вес,кг | O28: Вес,кг
E30: Объем,м3 | J30: Объем,м3 | O30: Объем,м3
E32: Кол-во упаковок | J32: Кол-во упаковок | O32: Кол-во упаковок
B34: ЦЕНА | D34: ='6р'!D6 -> 3430 | G34: ЦЕНА | I34: ='6р'!D7 -> 6865 | L34: ЦЕНА | N34: ='6р'!D16 -> 2900
B35: Шимо светл.+МДФ фасады | G35: Шимо светл.+МДФ фасады | L35: Шимо светл.+МДФ фасады
B38: Пенал-2 | G38: Пенал-3 | L38: Шкаф двухстворчатый
B39: 450 х 470 х 2160 | G39: 900 х 470 х 2160 | L39: 800 х 470 х 2160
E40: Вес,кг | J40: Вес,кг | O40: Вес,кг
E42: Объем,м3 | J42: Объем,м3 | O42: Объем,м3
E44: Кол-во упаковок | J44: Кол-во упаковок | O44: Кол-во упаковок
B46: ЦЕНА | D46: ='6р'!D15 -> 2465 | G46: ЦЕНА | I46: ='6р'!D17 -> 7880 | L46: ЦЕНА | N46: ='6р'!D18 -> 5770
B47: Шимо светл.+МДФ фасады | G47: Шимо светл.+МДФ фасады | L47: Шимо светл.+МДФ фасады
B50: Шкаф трехстворчатый | G50: Шкаф книжный | L50: Стеллаж для книг и игрушек
B51: 1200 х 470 х 2160 | G51: 1900 х 470 х 1960 | L51: 1350 х 470 х 960
E52: Вес,кг | J52: Вес,кг | O52: Вес,кг
E54: Объем,м3 | J54: Объем,м3 | O54: Объем,м3
E56: Кол-во упаковок | J56: Кол-во упаковок | O56: Кол-во упаковок
B58: ЦЕНА | D58: ='6р'!D9 -> 8300 | G58: ЦЕНА | I58: ='6р'!D19 -> 10720 | L58: ЦЕНА | N58: ='6р'!D13 -> 5775
B59: Шимо светл.+МДФ фасады | G59: Шимо светл.+МДФ фасады | L59: Шимо светл.+МДФ фасады
B62: Комод | G62: Тумба | L62: Подушка (для тумбы)
B63: 1384 х 470 х 960 | G63: 860 х 560 х 415 | L63: 860 х 560 х 20
E64: Вес,кг | J64: Вес,кг | O64: Вес,кг
...

Sheet 6р
A1: наименование | B1: цена | C1: со скидкой | D1: и наценкой
A2: Кровать 2хярусная | B2: 11100 | C2: =B2-(B2/100*ТЛ!$G$32) -> 11100 | D2: =C2+(C2/100*ТЛ!$G$33) -> 11100
A3: Лестница-2 | B3: 2550 | C3: =B3-(B3/100*ТЛ!$G$32) -> 2550 | D3: =C3+(C3/100*ТЛ!$G$33) -> 2550
A4: лестница | B4: 12145 | C4: =B4-(B4/100*ТЛ!$G$32) -> 12145 | D4: =C4+(C4/100*ТЛ!$G$33) -> 12145
A5: Кровать -2 | B5: 3800 | C5: =B5-(B5/100*ТЛ!$G$32) -> 3800 | D5: =C5+(C5/100*ТЛ!$G$33) -> 3800
A6: Пенал | B6: 3430 | C6: =B6-(B6/100*ТЛ!$G$32) -> 3430 | D6: =C6+(C6/100*ТЛ!$G$33) -> 3430
A7: Пенал закрытый | B7: 6865 | C7: =B7-(B7/100*ТЛ!$G$32) -> 6865 | D7: =C7+(C7/100*ТЛ!$G$33) -> 6865
A8: Полка навесная | B8: 1955 | C8: =B8-(B8/100*ТЛ!$G$32) -> 1955 | D8: =C8+(C8/100*ТЛ!$G$33) -> 1955
A9: Шкаф 3х-ств | B9: 8300 | C9: =B9-(B9/100*ТЛ!$G$32) -> 8300 | D9: =C9+(C9/100*ТЛ!$G$33) -> 8300
A10: Тумба | B10: 2440 | C10: =B10-(B10/100*ТЛ!$G$32) -> 2440 | D10: =C10+(C10/100*ТЛ!$G$33) -> 2440
A11: подушка | B11: 460 | C11: =B11-(B11/100*ТЛ!$G$32) -> 460 | D11: =C11+(C11/100*ТЛ!$G$33) -> 460
A12: Стол письменный | B12: 2550 | C12: =B12-(B12/100*ТЛ!$G$32) -> 2550 | D12: =C12+(C12/100*ТЛ!$G$33) -> 2550
A13: Стеллаж | B13: 5775 | C13: =B13-(B13/100*ТЛ!$G$32) -> 5775 | D13: =C13+(C13/100*ТЛ!$G$33) -> 5775
... A19: Шкаф книжный | B19: 10720 | C19: =B19-(B19/100*ТЛ!$G$32) -> 10720 | D19: =C19+(C19/100*ТЛ!$G$33) -> 10720

Sheet 5р
A1: наименование | B1: цена | C1: со скидкой | D1: и наценкой
A2: Кровать Юнга 2х-яр | B2: =CEILING((F2+F2*0.07),5) -> 17960 | C2: =B2-(B2/100*ТЛ!$G$32) -> 17960 | D2: =C2+(C2/100*ТЛ!$G$33) -> 17960 | F2: 16785
A3: Кровать Юнга | B3: 8085 | C3: =B3-(B3/100*ТЛ!$G$32) -> 8085 | D3: =C3+(C3/100*ТЛ!$G$33) -> 8085 | F3: 7415
A4: Тумба прикроват. | B4: =CEILING((F4+F4*0.07),5) -> 2670 | C4: =B4-(B4/100*ТЛ!$G$32) -> 2670 | D4: =C4+(C4/100*ТЛ!$G$33) -> 2670 | F4: 2495
A5: Комод | B5: 4495 | C5: =B5-(B5/100*ТЛ!$G$32) -> 4495 | D5: =C5+(C5/100*ТЛ!$G$33) -> 4495 | F5: 4275
A6: Тумба (рундук) | B6: =CEILING((F6+F6*0.07),5) -> 2010 | C6: =B6-(B6/100*ТЛ!$G$32) -> 2010 | D6: =C6+(C6/100*ТЛ!$G$33) -> 2010 | F6: 1875
A7: Полка навесная | B7: =CEILING((F7+F7*0.07),5) -> 1465 | C7: =B7-(B7/100*ТЛ!$G$32) -> 1465 | D7: =C7+(C7/100*ТЛ!$G$33) -> 1465 | F7: 1365
A8: Стеллаж | B8: 8770 | C8: =B8-(B8/100*ТЛ!$G$32) -> 8770 | D8: =C8+(C8/100*ТЛ!$G$33) -> 8770 | F8: 8160
A9: Стол компьютерный | B9: 9715 | C9: =B9-(B9/100*ТЛ!$G$32) -> 9715 | D9: =C9+(C9/100*ТЛ!$G$33) -> 9715 | F9: 8975
A10: Стол компьютерный угловой | B10: 11090 | C10: =B10-(B10/100*ТЛ!$G$32) -> 11090 | D10: =C10+(C10/100*ТЛ!$G$33) -> 11090 | F10: 10290
A11: Пенал с угл.полками | B11: =CEILING((F11+F11*0.07),5) -> 2355 | C11: =B11-(B11/100*ТЛ!$G$32) -> 2355 | D11: =C11+(C11/100*ТЛ!$G$33) -> 2355 | F11: 2200
A12: Шкаф 2хств. | B12: 8785 | C12: =B12-(B12/100*ТЛ!$G$32) -> 8785 | D12: =C12+(C12/100*ТЛ!$G$33) -> 8785 | F12: 7850
A13: Шкаф 3хств. | B13: 12380 | C13: =B13-(B13/100*ТЛ!$G$32) -> 12380 | D13: =C13+(C13/100*ТЛ!$G$33) -> 12380 | F13: 10890
A16: СМАРТИ
A18: Кровать 1,6м | B18: 2760 | C18: =B18-(B18/100*ТЛ!$G$32) -> 2760 | D18: =C18+(C18/100*ТЛ!$G$33) -> 2760 | F18: 2360
A19: Пенал открытый | B19: 2200 | C19: =B19-(B19/100*ТЛ!$G$32) -> 2200 | D19: =C19+(C19/100*ТЛ!$G$33) -> 2200 | F19: 2205
A20: Дверка к пеналу открытому | B20: 350 | C20: =B20-(B20/100*ТЛ!$G$32) -> 350 | D20: =C20+(C20/100*ТЛ!$G$33) -> 350 | F20: 300
A21: Шкаф 2-х створч | B21: 4710 | C21: =B21-(B21/100*ТЛ!$G$32) -> 4710 | D21: =C21+(C21/100*ТЛ!$G$33) -> 4710 | F21: 4350
A22: Комод | B22: =CEILING((F22+F22*0.07),5) -> 3105 | C22: =B22-(B22/100*ТЛ!$G$32) -> 3105 | D22: =C22+(C22/100*ТЛ!$G$33) -> 3105 | F22: 2900
A23: Полка | B23: =CEILING((F23+F23*0.07),5) -> 1265 | C23: =B23-(B23/100*ТЛ!$G$32) -> 1265 | D23: =C23+(C23/100*ТЛ!$G$33) -> 1265 | F23: 1180
A24: Стол письменный | B24: 2580 | C24: =B24-(B24/100*ТЛ!$G$32) -> 2580 | D24: =C24+(C24/100*ТЛ!$G$33) -> 2580 | F24: 2315
A25: Тумба прикроватная | B25: 1600 | C25: =B25-(B25/100*ТЛ!$G$32) -> 1600 | D25: =C25+(C25/100*ТЛ!$G$33) -> 1600 | F25: 1410
A26: Бортик к кровати | B26: 520 | C26: =B26-(B26/100*ТЛ!$G$32) -> 520 | D26: =C26+(C26/100*ТЛ!$G$33) -> 520
A27: Кровать Смарти-2 | B27: 3000 | C27: =B27-(B27/100*ТЛ!$G$32) -> 3000 | D27: =C27+(C27/100*ТЛ!$G$33) -> 3000
A28: Кровать Смарти-3 | B28: 7960 | C28: =B28-(B28/100*ТЛ!$G$32) -> 7960 | D28: =C28+(C28/100*ТЛ!$G$33) -> 7960
A29: Лестница к Смарти-3 | B29: 720 | C29: =B29-(B29/100*ТЛ!$G$32) -> 720 | D29: =C29+(C29/100*ТЛ!$G$33) -> 720
A30: Тумба Смарти | B30: 3410 | C30: =B30-(B30/100*ТЛ!$G$32) -> 3410 | D30: =C30+(C30/100*ТЛ!$G$33) -> 3410
A31: Жемчужина
A33: Кровать 1,6м | B33: 8190 | C33: =B33-(B33/100*ТЛ!$G$32) -> 8190 | D33: =C33+(C33/100*ТЛ!$G$33) -> 8190 | F33: 8890
A34: Пенал | B34: 4800 | C34: =B34-(B34/100*ТЛ!$G$32) -> 4800 | D34: =C34+(C34/100*ТЛ!$G$33) -> 4800 | F34: 4350
A35: Шкаф одностворч. с зеркалом | B35: 8700 | C35: =B35-(B35/100*ТЛ!$G$32) -> 8700 | D35: =C35+(C35/100*ТЛ!$G$33) -> 8700 | F35: 7800
A36: Тумба прикров. | B36: 2120 | C36: =B36-(B36/100*ТЛ!$G$32) -> 2120 | D36: =C36+(C36/100*ТЛ!$G$33) -> 2120 | F36: 1950
A37: Трельяж | B37: 11900 | C37: =B37-(B37/100*ТЛ!$G$32) -> 11900 | D37: =C37+(C37/100*ТЛ!$G$33) -> 11900 | F37: 10500
A38: Шкаф 2-х створч. С зерк. | B38: 14850 | C38: =B38-(B38/100*ТЛ!$G$32) -> 14850 | D38: =C38+(C38/100*ТЛ!$G$33) -> 14850 | F38: 13550
A39: Шкаф угловой с зерк. | B39: 11580 | C39: =B39-(B39/100*ТЛ!$G$32) -> 11580 | D39: =C39+(C39/100*ТЛ!$G$33) -> 11580 | F39: 10050
A40: комод | B40: 5470 | C40: =B40-(B40/100*ТЛ!$G$32) -> 5470 | D40: =C40+(C40/100*ТЛ!$G$33) -> 5470 | F40: 4850
A41: стол туал | B41: 9620 | C41: =B41-(B41/100*ТЛ!$G$32) -> 9620 | D41: =C41+(C41/100*ТЛ!$G$33) -> 9620 | F41: 8600
A42: Шкаф 2-х створч. Без зерк. | B42: 13370 | C42: =B42-(B42/100*ТЛ!$G$32) -> 13370 | D42: =C42+(C42/100*ТЛ!$G$33) -> 13370
A43: Шкаф угловой без зерк. | B43: 10290 | C43: =B43-(B43/100*ТЛ!$G$32) -> 10290 | D43: =C43+(C43/100*ТЛ!$G$33) -> 10290
A44: ортопед 1,6м | B44: 2860 | C44: =B44-(B44/100*ТЛ!$G$32) -> 2860 | D44: =C44+(C44/100*ТЛ!$G$33) -> 2860
...

Sheet Дельта
B13: Серия детской мебели "Дельта", цвет белый ЛДСП комб. с лайм или оранж с ф/п
B14: Кровать "Дельта" | G14: Комод "Дельта" | L14: Короб выдвижной (универсальный)
B15: 2040х950х920 | G15: 720х466х750 | L15: 980х463х200
E16: Вес,кг | J16: Вес,кг | O16: Вес,кг
E18: Объем,м3 | J18: Объем,м3 | O18: Объем,м3
E20: Кол-во упаковок | J20: Кол-во упаковок | O20: Кол-во упаковок
L21: на колесиках
B22: ЦЕНА | D22: ='5р'!D50 -> 3970 | G22: ЦЕНА | I22: ='5р'!D51 -> 3290 | L22: ЦЕНА | N22: ='5р'!D52 -> 880
B23: мдф настил
B24: сп.м (2000х900)
B26: Тумба прикроватная "Дельта" | G26: Стол комьютерный "Дельта" | L26: Шкаф 3-х створч. "Дельта"
B27: 450х440х520 | G27: 1200х600х1850 | L27: 1500х600х2000
E28: Вес,кг | J28: Вес,кг | O28: Вес,кг
E30: Объем,м3 | J30: Объем,м3 | O30: Объем,м3
E32: Кол-во упаковок | J32: Кол-во упаковок | O32: Кол-во упаковок
B34: ЦЕНА | D34: ='5р'!D53 -> 2050 | G34: ЦЕНА | I34: ='5р'!D54 -> 5650 | L34: ЦЕНА | N34: ='5р'!D55 -> 9670
B38: Полка навесная "Дельта"
B39: 1100х316х340
E40: Вес,кг
E42: Объем,м3
E44: Кол-во упаковок
B46: ЦЕНА | D46: ='5р'!D56 -> 1265

Sheet СМАРТИ
B13: Серия детской мебели "Смарти", цвет белый ЛДСП
B14: Кровать "Смарти" | G14: Пенал открытый "Смарти" | L14: Дверка к пеналу открытому "Смарти"
B15: 850х1640х860 | G15: 350х450х2030 | L15: 350х450х2030
E16: Вес,кг | J16: Вес,кг | O16: Вес,кг
E18: Объем,м3 | J18: Объем,м3 | O18: Объем,м3
E20: Кол-во упаковок | J20: Кол-во упаковок | O20: Кол-во упаковок
B22: ЦЕНА | D22: ='5р'!D18 -> 2760 | G22: ЦЕНА | I22: ='5р'!D19 -> 2200 | L22: ЦЕНА | N22: ='5р'!D20 -> 350
B23: мдф настил
B24: сп.м (1600х800)
B26: Шкаф 2-х створч. "Смарти" (штанга и полки) | G26: Комод "Смарти" | L26: Полка навесная "Смарти"
B27: 700х450х2030 | G27: 720х466х750 | L27: 1100х316х340
E28: Вес,кг | J28: Вес,кг | O28: Вес,кг
E30: Объем,м3 | J30: Объем,м3 | O30: Объем,м3
E32: Кол-во упаковок | J32: Кол-во упаковок | O32: Кол-во упаковок
B34: ЦЕНА | D34: ='5р'!D21 -> 4710 | G34: ЦЕНА | I34: ='5р'!D22 -> 3105 | L34: ЦЕНА | N34: ='5р'!D23 -> 1265
B38: Стол письменный "Смарти" | G38: Тумба прикроватная "Смарти" | L38: Бортик к кровати "Смарти" (универсальный)
B39: 1100х600х750 | G39: 370х466х460 | L39: 800х336х48
E40: Вес,кг | J40: Вес,кг | O40: Вес,кг
E42: Объем,м3 | J42: Объем,м3 | O42: Объем,м3
E44: Кол-во упаковок | J44: Кол-во упаковок | O44: Кол-во упаковок
B46: ЦЕНА | D46: ='5р'!D24 -> 2580 | G46: ЦЕНА | I46: ='5р'!D25 -> 1600 | L46: ЦЕНА | N46: ='5р'!D26 -> 520
B50: Кровать "Смарти-2" | G50: Кровать "Смарти-3" | L50: Лестница (приставная)к кровати "Смарти-3"
B51: 850х2030х860 | G51: 840х1940х840 | L51: 500х280х640
E52: Вес,кг | J52: Вес,кг | O52: Вес,кг
E54: Объем,м3 | J54: Объем,м3 | O54: Объем,м3
E56: Кол-во упаковок | J56: Кол-во упаковок | O56: Кол-во упаковок
B58: ЦЕНА | D58: ='5р'!D27 -> 3000 | G58: ЦЕНА | I58: ='5р'!D28 -> 7960 | L58: ЦЕНА | N58: ='5р'!D29 -> 720
B59: мдф настил | G59: дно у кровати лдсп
B60: сп.м (2000х800) | G60: сп.м (1900х800)
B62: Тумба "Смарти" | G62: Короб выдвижной (универсальный) на колесн. опорах
B63: 800х466х750 | G63: 980х463х180
E64: Вес,кг | J64: Вес,кг
E66: Объем,м3 | J66: Объем,м3
E68: Кол-во упаковок | J68: Кол-во упаковок
B70: ЦЕНА | D70: ='5р'!D30 -> 3410 | G70: ЦЕНА | I70: ='5р'!D46 -> 880
G71: подходит к кровати Смарти и Смарти-2

Sheet Жемчужина
B13: Набор для спальни "Жемчужина"
B14: Кровать "Жемчужина" | G14: Пенал "Жемчужина" | L14: Шкаф одностворч. с зеркалом "Жемчужина"
B15: 1940х1040х2042 | G15: 450х616х2100 | L15: 550х616х2100
E16: Вес,кг | J16: Вес,кг | O16: Вес,кг
E18: Объем,м3 | J18: Объем,м3 | O18: Объем,м3
E20: Кол-во упаковок | J20: Кол-во упаковок | O20: Кол-во упаковок
B22: ЦЕНА | D22: ='5р'!D33 -> 8190 | G22: ЦЕНА | I22: ='5р'!D34 -> 4800 | L22: ЦЕНА | N22: ='5р'!D35 -> 8700
B23: ортопед | D23: ='5р'!D44 -> 2860
B24: сп.м (1600х800)
B26: Тумба прикроватн. "Жемчужина" | G26: Трельяж "Жемчужина" | L26: Шкаф 2-х дверн. "Жемчужина"
B27: 420х426х490 | G27: 1128х450х1686 | L27: 1100х616х2100
E28: Вес,кг | G28: за зеркалами полки | J28: Вес,кг | O28: Вес,кг
E30: Объем,м3 | J30: Объем,м3 | O30: Объем,м3
E32: Кол-во упаковок | J32: Кол-во упаковок | O32: Кол-во упаковок
B34: ЦЕНА | D34: ='5р'!D36 -> 2120 | G34: ЦЕНА | I34: ='5р'!D37 -> 11900 | L34: ЦЕНА с зеркалами | N34: ='5р'!D38 -> 14850
L35: ЦЕНА без зеркал | N35: ='5р'!D42 -> 13370
B38: Шкаф угловой "Жемчужина" | G38: Комод "Жемчужина"
B39: 1100х600х750
E40: Вес,кг | J40: Вес,кг | L40: Столик туалетный "Жемчужина"
E42: Объем,м3 | J42: Объем,м3 | O42: Вес,кг
E44: Кол-во упаковок | J44: Кол-во упаковок | O44: Объем,м3
B46: ЦЕНА с зеркалом | D46: ='5р'!D39 -> 11580 | G46: ЦЕНА | I46: ='5р'!D40 -> 5470 | O46: Кол-во упаковок
B47: ЦЕНА без зеркал | D47: ='5р'!D43 -> 10290
L48: ЦЕНА | N48: ='5р'!D41 -> 9620

Sheet 7
A7: Количество ограничено!!! Цена без подорожания! Уточнять по наличию у менеджера!!!
D14: Цена всего комплекта | G14: =SUM(D25,I25*2,N25,N38,D38) -> 22885
B16: Набор для спальни "Квадро"
B17: Кровать "Квадро" 1,6 | G17: Тумба прикроватная "Квадро" | L17: Комод "Квадро"
B18: 1716 х 2134 х 922(сп.м.1600х2000) | G18: 560 х 390 х 430 | L18: 900 х 460 х 850
E19: Вес,кг | J19: Вес,кг | O19: Вес,кг
E20: 74 | J20: 20 | O20: 48
E21: Объем,м3 | J21: Объем,м3 | O21: Объем,м3
E22: 0.14 | J22: 0.04 | O22: 0.14
E23: Кол-во упаковок | J23: Кол-во упаковок | O23: Кол-во упаковок
E24: 2 | J24: 1 | O24: 1
B25: ЦЕНА без учета орт. основания | D25: ='7р'!D2 -> 4300 | G25: ЦЕНА | I25: ='7р'!D4 -> 2080 | L25: ЦЕНА | N25: ='7р'!D5 -> 5020
G26: Шимо светлый | L26: Шимо светлый
B27: Ортопед на ножках 1,6* | E27: ='7р'!D3 -> 2860
B28: Шимо светлый
B30: Шкаф для одежды и белья "Квадро" | G30: Стол туалетный "Квадро" | L30: Зеркало "Квадро"
B31: 1500 х 600 х 2020 | G31: 900 х 415 х 770 | L31: 900 х 16 х 600
E32: Вес,кг | J32: Вес,кг | O32: Вес,кг
E33: 122 | J33: 24 | O33: 22
E34: Объем,м3 | J34: Объем,м3 | O34: Объем,м3
E35: 0.25 | J35: 0.05 | O35: 0.05
E36: Кол-во упаковок | J36: Кол-во упаковок | O36: Кол-во упаковок
E37: 3 | J37: 1 | O37: 1
B38: ЦЕНА | D38: ='7р'!D6 -> 8380 | G38: ЦЕНА | I38: ='7р'!D7 -> 2295 | L38: ЦЕНА | N38: ='7р'!D8 -> 1025
B39: Шимо светлый | G39: Шимо светлый | L39: Шимо светлый

Sheet 7р
A1: наименование | B1: цена | C1: со скидкой | D1: и наценкой
A2: Кровать квадро без учета орт.ос. | B2: 4300 | C2: =B2-(B2/100*ТЛ!$G$32) -> 4300 | D2: =C2+(C2/100*ТЛ!$G$33) -> 4300
A3: Ортопед 1,6 | B3: 2860 | C3: =B3 -> 2860 | D3: =C3+(C3/100*ТЛ!$G$33) -> 2860
A4: Тумба прикроват. квадро | B4: 2080 | C4: =B4-(B4/100*ТЛ!$G$32) -> 2080 | D4: =C4+(C4/100*ТЛ!$G$33) -> 2080
A5: Комод квадро | B5: 5020 | C5: =B5-(B5/100*ТЛ!$G$32) -> 5020 | D5: =C5+(C5/100*ТЛ!$G$33) -> 5020
A6: Шкаф для одежды квадро | B6: 8380 | C6: =B6-(B6/100*ТЛ!$G$32) -> 8380 | D6: =C6+(C6/100*ТЛ!$G$33) -> 8380
A7: СТ квадро | B7: 2295 | C7: =B7-(B7/100*ТЛ!$G$32) -> 2295 | D7: =C7+(C7/100*ТЛ!$G$33) -> 2295
A8: Зеркало квадро | B8: 1025 | C8: =B8-(B8/100*ТЛ!$G$32) -> 1025 | D8: =C8+(C8/100*ТЛ!$G$33) -> 1025

Sheet 8
C8: Фотопечать
D14: Цена комплекта | G14: =SUM(D25,I25*2,N25,D38,I38,N38,E27) -> 36700
B16: Набор для спальни "Селена"
B17: Кровать "Селена" 1,6 | G17: Тумба прикроватная "Селена" | L17: Комод "Селена"
B18: 1650х 2040 х1000 (сп.м.1600х2000) | G18: 550 х 380 х 440 | L18: 900 х 440 х 960
E19: Вес,кг | J19: Вес,кг | O19: Вес,кг
E20: 44 | J20: 17 | O20: 56
E21: Объем,м3 | J21: Объем,м3 | O21: Объем,м3
E22: 0.15 | J22: 0.04 | O22: 0.15
E23: Кол-во упаковок | J23: Кол-во упаковок | O23: Кол-во упаковок
E24: 3 | J24: 1 | O24: 2
B25: ЦЕНА без учета орт.основания | D25: ='8р'!D2 -> 5620 | G25: ЦЕНА | I25: ='8р'!D4 -> 2000 | L25: ЦЕНА | N25: ='8р'!D5 -> 5300
G26: шимо темн.+МДФ белый глянец+ф/п | L26: шимо темн.+МДФ белый глянец+ф/п
B27: Ортопед на ножках 1,6* | E27: ='8р'!D3 -> 2860
B28: шимо темн.+МДФ белый глянец+ф/п
B30: Шкаф для одежды и белья "Селена" | G30: Стол туалетный "Селена" | L30: Зеркало "Селена"
B31: 1500 х 570 х 2260 | G31: 900 х 405 х 820 | L31: 896 х 16 х 750
E32: Вес,кг | J32: Вес,кг | O32: Вес,кг
E33: 142 | J33: 24 | O33: 14
E34: Объем,м3 | J34: Объем,м3 | O34: Объем,м3
E35: 0.27 | J35: 0.05 | O35: 0.03
E36: Кол-во упаковок | J36: Кол-во упаковок | O36: Кол-во упаковок
E37: 3 | J37: 1 | O37: 1
B38: ЦЕНА | D38: ='8р'!D6 -> 14800 | G38: ЦЕНА | I38: ='8р'!D7 -> 1905 | L38: ЦЕНА | N38: ='8р'!D8 -> 2215
B39: шимо темн.+МДФ белый глянец+ф/п | G39: шимо темн.+МДФ белый глянец+ф/п | L39: шимо темн.+МДФ белый глянец+ф/п

Sheet 8р
A1: наименование | B1: цена | C1: со скидкой | D1: и наценкой
A2: Кровать селена без уч.орт. | B2: =CEILING((F2+F2*0.07),5) -> 5620 | C2: =B2-(B2/100*ТЛ!$G$32) -> 5620 | D2: =C2+(C2/100*ТЛ!$G$33) -> 5620 | F2: 5250
A3: Ортопед 1,6 | B3: 2860 | C3: =B3 -> 2860 | D3: =C3+(C3/100*ТЛ!$G$33) -> 2860 | F3: 2190
A4: Тумба прикроват. Селена | B4: =CEILING((F4+F4*0.07),5) -> 2000 | C4: =B4-(B4/100*ТЛ!$G$32) -> 2000 | D4: =C4+(C4/100*ТЛ!$G$33) -> 2000 | F4: 1865
A5: Комод селена | B5: =CEILING((F5+F5*0.07),5) -> 5300 | C5: =B5-(B5/100*ТЛ!$G$32) -> 5300 | D5: =C5+(C5/100*ТЛ!$G$33) -> 5300 | F5: 4950
A6: Шкаф для одежды селена | B6: =CEILING((F6+F6*0.07),5) -> 14800 | C6: =B6-(B6/100*ТЛ!$G$32) -> 14800 | D6: =C6+(C6/100*ТЛ!$G$33) -> 14800 | F6: 13830
A7: СТ селена | B7: =CEILING((F7+F7*0.07),5) -> 1905 | C7: =B7-(B7/100*ТЛ!$G$32) -> 1905 | D7: =C7+(C7/100*ТЛ!$G$33) -> 1905 | F7: 1780
A8: Зеркало селена | B8: =CEILING((F8+F8*0.07),5) -> 2215 | C8: =B8-(B8/100*ТЛ!$G$32) -> 2215 | D8: =C8+(C8/100*ТЛ!$G$33) -> 2215 | F8: 2070

Sheet 9
C7: Цена комплекта со шкафом трехстворчатым и кроватью 1,6, цвет белый + МДФ патина
G8: =SUM(D23,I36*2,N36,D36,N47) -> 37495
B15: Кровать двухспальная"Купидон" | G15: Кровать двухспальная"Купидон"
B16: 1650х 2040 х1000 (сп.м.1600х2000) | G16: 1250х 2040 х1000 (сп.м.1200х2000)
E17: Вес,кг | J17: Вес,кг
E18: 44 | J18: 30
E19: Объем,м3 | J19: Объем,м3
E20: 0.15 | J20: 0.12
E21: Кол-во упаковок | J21: Кол-во упаковок
E22: 3 | J22: 3
B23: ЦЕНА без учета орт.основания | D23: ='9р'!D2 -> 5065 | G23: ЦЕНА без учета орт.основания | I23: ='9р'!D9 -> 3955
B25: Ортопед на ножках 1,6* | E25: ='9р'!D3 -> 2860 | G25: Ортопед на ножках 1,2* | J25: ='9р'!D10 -> 2700
B26: Белый + МДФ патина | G26: Белый + МДФ патина
B28: Стол туалетный "Купидон" | G28: Тумба прикроватная "Купидон" | L28: Комод "Купидон"
B29: 900 х 530 х 1460 | G29: 570 х 400 х 530 | L29: 920 х 456 х 930
E30: Вес,кг | J30: Вес,кг | O30: Вес,кг
E31: 42 | J31: 22 | O31: 54
E32: Объем,м3 | J32: Объем,м3 | O32: Объем,м3
E33: 0.06 | J33: 0.04 | O33: 0.14
E34: Кол-во упаковок | J34: Кол-во упаковок | O34: Кол-во упаковок
E35: 1 | J35: 1 | O35: 2
B36: ЦЕНА | D36: ='9р'!D6 -> 5475 | G36: ЦЕНА | I36: ='9р'!D4 -> 2380 | L36: ЦЕНА | N36: ='9р'!D5 -> 6365
B37: Белый + МДФ патина | G37: Белый + МДФ патина | L37: Белый + МДФ патина
G39: Шкаф для одежды и белья двухстворчатый "Купидон" | L39: Шкаф для одежды и белья трехстворчатый "Купидон"
G40: 1000 х 570 х 2200 | L40: 1500 х 570 х 2200
J41: Вес,кг | O41: Вес,кг
J42: 122 | O42: 155
J43: Объем,м3 | O43: Объем,м3
J44: 0.2 | O44: 0.27
J45: Кол-во упаковок | O45: Кол-во упаковок
J46: 3 | O46: 3
G47: ЦЕНА | I47: ='9р'!D7 -> 10620 | L47: ЦЕНА | N47: ='9р'!D8 -> 15830
G48: Белый + МДФ патина | L48: Белый + МДФ патина

Sheet 9р
A1: наименование | B1: цена | C1: со скидкой | D1: и наценкой
A2: Кровать Купидон 1,6 без орт.ос | B2: =CEILING((F2+F2*0.07),5) -> 5065 | C2: =B2-(B2/100*ТЛ!$G$32) -> 5065 | D2: =C2+(C2/100*ТЛ!$G$33) -> 5065 | F2: 4730
A3: ортопед 1,6 | B3: 2860 | C3: =B3 -> 2860 | D3: =C3+(C3/100*ТЛ!$G$33) -> 2860 | F3: 2190
A4: Тумба прикроват. Купидон | B4: =CEILING((F4+F4*0.07),5) -> 2380 | C4: =B4-(B4/100*ТЛ!$G$32) -> 2380 | D4: =C4+(C4/100*ТЛ!$G$33) -> 2380 | F4: 2220
A5: Комод Купидон | B5: =CEILING((F5+F5*0.07),5) -> 6365 | C5: =B5-(B5/100*ТЛ!$G$32) -> 6365 | D5: =C5+(C5/100*ТЛ!$G$33) -> 6365 | F5: 5945
A6: СТ Купидон | B6: =CEILING((F6+F6*0.07),5) -> 5475 | C6: =B6-(B6/100*ТЛ!$G$32) -> 5475 | D6: =C6+(C6/100*ТЛ!$G$33) -> 5475 | F6: 5115
A7: Шкаф Купидон 1,0 | B7: =CEILING((F7+F7*0.07),5) -> 10620 | C7: =B7-(B7/100*ТЛ!$G$32) -> 10620 | D7: =C7+(C7/100*ТЛ!$G$33) -> 10620 | F7: 9925
A8: Шкаф Купидон 1,5 | B8: =CEILING((F8+F8*0.07),5) -> 15830 | C8: =B8-(B8/100*ТЛ!$G$32) -> 15830 | D8: =C8+(C8/100*ТЛ!$G$33) -> 15830 | F8: 14790
A9: Кровать Купидон 1,2 без орт.осн. | B9: =CEILING((F9+F9*0.07),5) -> 3955 | C9: =B9-(B9/100*ТЛ!$G$32) -> 3955 | D9: =C9+(C9/100*ТЛ!$G$33) -> 3955 | F9: 3695
A10: ортопед 1,2 | B10: 2700 | C10: =B10 -> 2700 | D10: =C10+(C10/100*ТЛ!$G$33) -> 2700 | F10: 2025

Sheet 10
B15: Кровать двухспальная "Гармония" | G15: Тумба прикроватная "Гармония" со стеклян. полкой | L15: Комод "Гармония"
B16: 1766 х 2037 х 855 | G16: 400 х 400 х 495 | L16: 800 х 450 х 895
E17: Вес,кг | J17: Вес,кг | O17: Вес,кг
E18: 43 | J18: 14 | O18: 43
E19: Объем,м3 | J19: Объем,м3 | O19: Объем,м3
E20: 0.12 | J20: 0.03 | O20: 0.09
E21: Кол-во упаковок | J21: Кол-во упаковок | O21: Кол-во упаковок
E22: 3 | J22: 1 | O22: 1
B23: ЦЕНА без учета орт.основания | D23: ='10р'!D2 -> 3480 | G23: ЦЕНА | I23: ='10р'!D4 -> 1575 | L23: ЦЕНА | N23: ='10р'!D5 -> 4645
G24: Шимо светл. | L24: Шимо светл.
B25: Ортопед на ножках 1,6* | E25: ='10р'!D3 -> 2860
B26: Шимо светл.
B27: Стол туалетный "Гармония" | G27: Шкаф двухстворчатый "Гармония" | L27: Шкаф трехстворчатый "Гармония"
B28: 1000 х 400 х 1420 | G28: 800 х 568 х 2200 | L28: 1200 х 568 х 2200
E29: Вес,кг | J29: Вес,кг | O29: Вес,кг
E30: 34 | J30: 69 | O30: 120
E31: Объем,м3 | J31: Объем,м3 | O31: Объем,м3
E32: 0.06 | J32: 0.13 | O32: 0.28
E33: Кол-во упаковок | J33: Кол-во упаковок | O33: Кол-во упаковок
E34: 1 | J34: 2 | O34: 3
B35: ЦЕНА | D35: ='10р'!D6 -> 3525 | G35: ЦЕНА (без зеркал) | I35: ='10р'!D7 -> 4710 | L35: ЦЕНА | N35: ='10р'!D12 -> 9760
B36: Шимо светл. | G36: с зеркалами | I36: ='10р'!D8 -> 6900 | L36: без зеркала | N36: ='10р'!D23 -> 8700
G37: Шимо светл. | L37: Шимо светл.
B39: Шкаф четырехстворчатый "Гармония" | G39: Шкаф двухстворчатый с ящиками "Гармония" | L39: Шкаф угловой "Гармония"
B40: 1600 х 568 х 2200 | G40: 800 х 568 х 2200 | L40: 900 х 900 х 2200
E41: Вес,кг | J41: Вес,кг | O41: Вес,кг
E42: 182 | J42: 101 | O42: 106
E43: Объем,м3 | J43: Объем,м3 | O43: Объем,м3
E44: 0.36 | J44: 0.18 | O44: 0.22
E45: Кол-во упаковок | J45: Кол-во упаковок | O45: Кол-во упаковок
E46: 3 | J46: 3 | O46: 2
B47: ЦЕНА | G47: ЦЕНА | L47: ЦЕНА
B48: с зеркалами и накладками | E48: ='10р'!D13 -> 15020 | G48: с зеркалами и накладками | J48: ='10р'!D11 -> 9300 | L48: с зеркалами и накладками | O48: ='10р'!D17 -> 8775
B49: без зеркал | E49: ='10р'!D14 -> 13910 | G49: без зеркал - | J49: ='10р'!D10 -> 7955 | L49: без зеркал - | O49: ='10р'!D16 -> 7440
B50: глухое ЛДСП - | E50: ='10р'!D15 -> 11825 | G50: Шимо светл. | L50: Шимо светл.
B51: Шимо светл.
B53: Пенал "Гармония" | G53: Пенал с угловыми полками "Гармония" | L53: Полки к шкафу двухстворчатому "Гармония"
B54: 400 х 568 х 2200 | G54: 295 х 568 х 2200
E55: Вес,кг | J55: Вес,кг | O55: Вес,кг
E56: 35 | J56: 30 | O56: 6
...

Sheet 10р
A1: наименование | B1: цена | C1: со скидкой | D1: и наценкой
A2: Кровать Гармония без орт.осн | B2: =CEILING((F2+F2*0.07),5) -> 3480 | C2: =B2-(B2/100*ТЛ!$G$32) -> 3480 | D2: =C2+(C2/100*ТЛ!$G$33) -> 3480 | F2: 3250
A3: ортопед 1,6 | B3: 2860 | C3: =B3 -> 2860 | D3: =C3+(C3/100*ТЛ!$G$33) -> 2860 | F3: 2190
A4: Тумба прикроват. Гармония | B4: =CEILING((F4+F4*0.07),5) -> 1575 | C4: =B4-(B4/100*ТЛ!$G$32) -> 1575 | D4: =C4+(C4/100*ТЛ!$G$33) -> 1575 | F4: 1470
A5: Комод Гармония | B5: 4645 | C5: =B5-(B5/100*ТЛ!$G$32) -> 4645 | D5: =C5+(C5/100*ТЛ!$G$33) -> 4645 | F5: 4385
A6: СТ Гармония | B6: =CEILING((F6+F6*0.07),5) -> 3525 | C6: =B6-(B6/100*ТЛ!$G$32) -> 3525 | D6: =C6+(C6/100*ТЛ!$G$33) -> 3525 | F6: 3290
A7: Шкаф 2хств. Гармония | B7: =CEILING((F7+F7*0.07),5) -> 4710 | C7: =B7-(B7/100*ТЛ!$G$32) -> 4710 | D7: =C7+(C7/100*ТЛ!$G$33) -> 4710 | F7: 4400
A8: Шкаф 2хств. Гармония с зеркалами | B8: =CEILING((F8+F8*0.07),5) -> 6900 | C8: =B8-(B8/100*ТЛ!$G$32) -> 6900 | D8: =C8+(C8/100*ТЛ!$G$33) -> 6900 | F8: 6445
A9: Полки к шкафу 2хств. Гармония | B9: 705 | C9: =B9-(B9/100*ТЛ!$G$32) -> 705 | D9: =C9+(C9/100*ТЛ!$G$33) -> 705 | F9: 650
A10: Шкаф 2хств. С ящ Гармония без зеркал | B10: =CEILING((F10+F10*0.07),5) -> 7955 | C10: =B10-(B10/100*ТЛ!$G$32) -> 7955 | D10: =C10+(C10/100*ТЛ!$G$33) -> 7955 | F10: 7430
A11: Шкаф 2хств. С ящ Гармония с зерк | B11: =CEILING((F11+F11*0.07),5) -> 9300 | C11: =B11-(B11/100*ТЛ!$G$32) -> 9300 | D11: =C11+(C11/100*ТЛ!$G$33) -> 9300 | F11: 8690
A12: Шкаф 3хств. Гармония с зерк | B12: =CEILING((F12+F12*0.07),5) -> 9760 | C12: =B12-(B12/100*ТЛ!$G$32) -> 9760 | D12: =C12+(C12/100*ТЛ!$G$33) -> 9760 | F12: 9120
A13: Шкаф 4хств. Гармония с зерк и накл | B13: =CEILING((F13+F13*0.07),5) -> 15020 | C13: =B13-(B13/100*ТЛ!$G$32) -> 15020 | D13: =C13+(C13/100*ТЛ!$G$33) -> 15020 | F13: 14035
A14: Шкаф 4хств. Гармония без зеркал | B14: =CEILING((F14+F14*0.07),5) -> 13910 | C14: =B14-(B14/100*ТЛ!$G$32) -> 13910 | D14: =C14+(C14/100*ТЛ!$G$33) -> 13910 | F14: 13000
A15: Шкаф 4хств. Гармония ЛДСП | B15: =CEILING((F15+F15*0.07),5) -> 11825 | C15: =B15-(B15/100*ТЛ!$G$32) -> 11825 | D15: =C15+(C15/100*ТЛ!$G$33) -> 11825 | F15: 11050
A16: Шкаф угл. Гармония | B16: =CEILING((F16+F16*0.07),5) -> 7440 | C16: =B16-(B16/100*ТЛ!$G$32) -> 7440 | D16: =C16+(C16/100*ТЛ!$G$33) -> 7440 | F16: 6950
A17: Шкаф угл. Гармония с зеркалом | B17: =CEILING((F17+F17*0.07),5) -> 8775 | C17: =B17-(B17/100*ТЛ!$G$32) -> 8775 | D17: =C17+(C17/100*ТЛ!$G$33) -> 8775 | F17: 8200
A18: Пенал Гармония | B18: =CEILING((F18+F18*0.07),5) -> 4015 | C18: =B18-(B18/100*ТЛ!$G$32) -> 4015 | D18: =C18+(C18/100*ТЛ!$G$33) -> 4015 | F18: 3750
A19: Пенал с угл.полками Гармония | B19: =CEILING((F19+F19*0.07),5) -> 2245 | C19: =B19-(B19/100*ТЛ!$G$32) -> 2245 | D19: =C19+(C19/100*ТЛ!$G$33) -> 2245 | F19: 2095
A20: Полка навесная Гармония | B20: =CEILING((F20+F20*0.07),5) -> 1790 | C20: =B20-(B20/100*ТЛ!$G$32) -> 1790 | D20: =C20+(C20/100*ТЛ!$G$33) -> 1790 | F20: 1670
A21: Кровать с ящиками Гармония | B21: =CEILING((F21+F21*0.07),5) -> 6665 | C21: =B21-(B21/100*ТЛ!$G$32) -> 6665 | D21: =C21+(C21/100*ТЛ!$G$33) -> 6665 | F21: 6225
A22: Набор №1 | B22: =CEILING((F22+F22*0.07),5) -> 0 | C22: =B22-(B22/100*ТЛ!$G$32) -> 0 | D22: =C22+(C22/100*ТЛ!$G$33) -> 0
A23: Шкаф 3-х створч. Гармония без зеркала | B23: =CEILING((F23+F23*0.07),5) -> 8700 | C23: =B23-(B23/100*ТЛ!$G$32) -> 8700 | D23: =C23+(C23/100*ТЛ!$G$33) -> 8700 | F23: 8130

Sheet 11
B4: Прикроватные тумбы, столы туалетные
B5: Тумба прикроватная | G5: Тумба прикроватная с ящиками | L5: Тумба прикр. с ящиками ф/п
B6: 412 х 416 х 486 | G6: 430 х 420 х 486 | L6: 430 х 420 х 486
E7: Вес,кг | J7: Вес,кг | O7: Вес,кг
E8: 4 | J8: 4 | O8: 4
E9: Объем,м3 | J9: Объем,м3 | O9: Объем,м3
E10: 0.02 | J10: 0.02 | O10: 0.02
E11: Кол-во упаковок | J11: Кол-во упаковок | O11: Кол-во упаковок
E12: 1 | J12: 1 | O12: 1
B13: ЦЕНА | D13: ='11р'!D2 -> 1095 | G13: ЦЕНА | I13: ='11р'!D3 -> 1525 | L13: ЦЕНА | N13: ='11р'!D4 -> 1530
B14: Ольха, шимо светл. | G14: Ольха, шимо светл | L14: Венге+шимо светл
G15: Венге + шимо светл
B17: Тумба прикроватная "Квадро" Количество ограничено! | G17: Тумба прикроватная "Селена" | L17: Тумба прикроватная "Гармония"
B18: 560 х 390 х 430 | G18: 550 х 380 х 440 | L18: 400 х 400 х 495
E19: Вес,кг | J19: Вес,кг | O19: Вес,кг
E20: 20 | J20: 17 | O20: 22
E21: Объем,м3 | J21: Объем,м3 | O21: Объем,м3
E22: 0.04 | J22: 0.04 | O22: 0.04
E23: Кол-во упаковок | J23: Кол-во упаковок | O23: Кол-во упаковок
E24: 1 | J24: 1 | O24: 1
B25: ЦЕНА | D25: ='7р'!D4 -> 2080 | G25: ЦЕНА | I25: ='8р'!D4 -> 2000 | L25: ЦЕНА | N25: ='10р'!D4 -> 1575
B26: шимо светл. | G26: шимо темн.+МДФ белый глянец +ф/п | L26: шимо светл.
B29: Тумба прикроватная "Купидон" | G29: Тумба прикроватная "Алешка" | L29: Стол туалетный "Гармония"
B30: 570 х 400 х 530 | G30: 390 х 380 х 460 | L30: 1000 х 400 х 1420
E31: Вес,кг | J31: Вес,кг | O31: Вес,кг
E32: 22 | J32: 19
E33: Объем,м3 | J33: Объем,м3 | O33: Объем,м3
E34: 0.04 | J34: 0.03
E35: Кол-во упаковок | J35: Кол-во упаковок | O35: Кол-во упаковок
E36: 1 | J36: 1
B37: ЦЕНА | D37: ='9р'!D4 -> 2380 | G37: ЦЕНА | I37: ='4р'!D6 -> 1295 | L37: ЦЕНА | N37: ='10р'!D6 -> 3525
B38: Белый + МДФ патина | G38: шимо светл+шимо темн | L38: шимо светл
B41: Стол туалетный СТ-01 | G41: Стол туалетный СТ-01 МДФ | L41: Стол туалетный СТ-01 с ф/п
B42: 900 х 400 х 1560 | G42: 900 х 400 х 1560 | L42: 900 х 400 х 1560
E43: Вес,кг | J43: Вес,кг | O43: Вес,кг
E44: 40 | J44: 40 | O44: 40
E45: Объем,м3 | J45: Объем,м3 | O45: Объем,м3
E46: 0.05 | J46: 0.05 | O46: 0.05
E47: Кол-во упаковок | J47: Кол-во упаковок | O47: Кол-во упаковок
E48: 2 | J48: 2 | O48: 2
...

Sheet 11р
A1: наименование | B1: цена | C1: со скидкой | D1: и наценкой
A2: Тумба прикроватная с дверкой | B2: =CEILING((F2+F2*0.07),5) -> 1095 | C2: =B2-(B2/100*ТЛ!$G$32) -> 1095 | D2: =C2+(C2/100*ТЛ!$G$33) -> 1095 | F2: 1020
A3: Тумба прикроватная с ящ | B3: 1525 | C3: =B3-(B3/100*ТЛ!$G$32) -> 1525 | D3: =C3+(C3/100*ТЛ!$G$33) -> 1525 | F3: 1385
A4: Тумба прикроватная с ящ ф/п | B4: 1530 | C4: =B4-(B4/100*ТЛ!$G$32) -> 1530 | D4: =C4+(C4/100*ТЛ!$G$33) -> 1530 | F4: 1390
A5: СТ-01 | B5: =CEILING((F5+F5*0.07),5) -> 3685 | C5: =B5-(B5/100*ТЛ!$G$32) -> 3685 | D5: =C5+(C5/100*ТЛ!$G$33) -> 3685 | F5: 3440
A6: СТ-01 МДФ | B6: =CEILING((F6+F6*0.07),5) -> 4325 | C6: =B6-(B6/100*ТЛ!$G$32) -> 4325 | D6: =C6+(C6/100*ТЛ!$G$33) -> 4325 | F6: 4040
A7: СТ-01 ф/п | B7: =CEILING((F7+F7*0.07),5) -> 3690 | C7: =B7-(B7/100*ТЛ!$G$32) -> 3690 | D7: =C7+(C7/100*ТЛ!$G$33) -> 3690 | F7: 3445
A8: СТ-02 | B8: =CEILING((F8+F8*0.07),5) -> 6715 | C8: =B8-(B8/100*ТЛ!$G$32) -> 6715 | D8: =C8+(C8/100*ТЛ!$G$33) -> 6715 | F8: 6275

Sheet 12
A4: Мебель для спальни. Кровати
A6: Кровать одинарная 950 | F6: Кровать двойная 1450 | K6: Кровать двойная 1650
A7: 950 х 2032 х 800 | F7: 1450 х 2032 х 800 | K7: 1650 х 2032 х 800
D8: Вес,кг | I8: Вес,кг | N8: Вес,кг
D9: 42 | I9: 59 | N9: 64
D10: Объем,м3 | I10: Объем,м3 | N10: Объем,м3
D11: 0.11 | I11: 0.15 | N11: 0.16
D12: Кол-во упаковок | I12: Кол-во упаковок | N12: Кол-во упаковок
D13: 2 | I13: 2 | N13: 2
A14: ЦЕНА | C14: ='12р'!D2 -> 3180 | F14: ЦЕНА без учета орт.основания | H14: ='12р'!D3 -> 2300 | K14: ЦЕНА без учета орт.основания | M14: ='12р'!D4 -> 2425
A15: Ольха, шимо светл. Основание-МДФ перекрытие
F16: ольха, венге комб. с шимо светл. | K16: ольха, шимо светл.
A17: Спальное место 2000х900 | F17: Ортопед на ножках 1,4* | I17: ='12р'!D13 -> 2760 | K17: Ортопед на ножках 1,6* | N17: ='12р'!D14 -> 2860
A19: Кровать двойная 1450 с ф/п | F19: Формы спинок для кроватей:
A20: 1450 х 2032 х 800 | F20: 950, 1450, 1650
D21: Вес,кг
D22: 59
D23: Объем,м3
D24: 0.15 | G24: Форма 1
D25: Кол-во упаковок
D26: 2
A27: ЦЕНА без учета орт.основания | C27: ='12р'!D6 -> 2310
A29: венге+шимо светл.
A30: Ортопед на ножках 1,4* | D30: ='12р'!D13 -> 2760 | G30: Форма 2
A32: Кровать Юниор | F32: Кровать с мягкой спинкой ВИТА
A33: 950 х 2000 х 800 | F33: 1680 х 2140 х 930
D34: Вес,кг | I34: Вес,кг
D35: 82 | I35: 74
D36: Объем,м3 | I36: Объем,м3
D37: 0.3 | I37: 0.14
D38: Кол-во упаковок | I38: Кол-во упаковок
D39: 2 | I39: 2
A40: ЦЕНА | C40: ='12р'!D5 -> 5780 | F40: ЦЕНА без учета орт.основания | H40: ='12р'!D10 -> 6930
A41: Ольха, шимо светл.
A42: Подъемный механизм | F42: Ортопед на ножках 1,6* | I42: ='12р'!D14 -> 2860
F43: кожа бежевая, белая, черная
A45: Кровать двухъярусная Соня | F45: Кровать Алиса (универсал.сборка) | K45: Кровать Алиса (цветная) (универсал.сборка)
A46: 2040х842х1830 (без учета лестницы) | F46: 2030 х 1082 х 1150 | K46: 2030 х1082 х 1150
D47: Вес,кг | I47: Вес,кг | N47: Вес,кг
D48: 151 | I48: 135 | N48: 135
...

Sheet 12р
A1: наименование | B1: цена | C1: со скидкой | D1: и наценкой
A2: Кровать одинарная 950 | B2: 3180 | C2: =B2-(B2/100*ТЛ!$G$32) -> 3180 | D2: =C2+(C2/100*ТЛ!$G$33) -> 3180 | F2: 2850
A3: Кровать двойная 1450 | B3: =CEILING((F3+F3*0.07),5) -> 2300 | C3: =B3-(B3/100*ТЛ!$G$32) -> 2300 | D3: =C3+(C3/100*ТЛ!$G$33) -> 2300 | F3: 2145
A4: Кровать двойная 1650 | B4: =CEILING((F4+F4*0.07),5) -> 2425 | C4: =B4-(B4/100*ТЛ!$G$32) -> 2425 | D4: =C4+(C4/100*ТЛ!$G$33) -> 2425 | F4: 2265
A5: Кровать Юниор | B5: =CEILING((F5+F5*0.07),5) -> 5780 | C5: =B5-(B5/100*ТЛ!$G$32) -> 5780 | D5: =C5+(C5/100*ТЛ!$G$33) -> 5780 | F5: 5400
A6: Кровать двойная 1450 ф/п | B6: =CEILING((F6+F6*0.07),5) -> 2310 | C6: =B6-(B6/100*ТЛ!$G$32) -> 2310 | D6: =C6+(C6/100*ТЛ!$G$33) -> 2310 | F6: 2155
A7: Кровать Соня | B7: =CEILING((F7+F7*0.07),5) -> 10490 | C7: =B7-(B7/100*ТЛ!$G$32) -> 10490 | D7: =C7+(C7/100*ТЛ!$G$33) -> 10490 | F7: 9800
A8: Кровать Алиса Ясень | B8: =CEILING((F8+F8*0.07),5) -> 11200 | C8: =B8-(B8/100*ТЛ!$G$32) -> 11200 | D8: =C8+(C8/100*ТЛ!$G$33) -> 11200 | F8: 10465
A9: Кровать Алиса Ясень + манго+лайм | B9: =CEILING((F9+F9*0.07),5) -> 11425 | C9: =B9-(B9/100*ТЛ!$G$32) -> 11425 | D9: =C9+(C9/100*ТЛ!$G$33) -> 11425 | F9: 10675
A10: Кровать с мzur.спин. Без ортоп | B10: =CEILING((F10+F10*0.07),5) -> 6930 | C10: =B10-(B10/100*ТЛ!$G$32) -> 6930 | D10: =C10+(C10/100*ТЛ!$G$33) -> 6930 | F10: 6475
B11: =CEILING((F11+F11*0.07),5) -> 0 | C11: =B11-(B11/100*ТЛ!$G$32) -> 0 | D11: =C11+(C11/100*ТЛ!$G$33) -> 0 | F11: 0
A12: ортопед 1,2 | B12: 2700 | C12: =B12 -> 2700 | D12: =C12+(C12/100*ТЛ!$G$33) -> 2700 | F12: 2025
A13: ортопед 1,4 | B13: 2760 | C13: =B13 -> 2760 | D13: =C13+(C13/100*ТЛ!$G$33) -> 2760 | F13: 2075
