Workbook

Sheet ТЛ
A30: прайс-лист
C32: Ваша скидка (основная) | G32: 0 | H32: %
C33: Ваша наценка | G33: 0 | H33: %
C34: СКИДКА на кухни и шкафы-купе (для крупного опта - 10%) | G34: 0 | H34: %
A35: Вставьте необходимые значения и получите готовый результат в 1 клик

Sheet Содерж
C6: Содержание, скидки (внизу листа)
A7: 1 | B7: Набор детской мебели "Почемучка"
A8: 2 | B8: Набор детской мебели "Настенька"
A9: 3 | B9: Набор детской мебели "Алиса"
A10: 4 | B10: Набор детской мебели "Алешка" (фасады ЛДСП)
A11: 4а | B11: Набор детской мебели "Алешка" (фасады МДФ с фрезеровкой)
A12: 5 | B12: Набор детской мебели "Юнга"
A13: 6
A14: 7 | B14: Набор для спальни "Квадро"
A15: 8 | B15: Набор для спальни "Селена"
A16: 9 | B16: Набор для спальни "Купидон"
A17: 10 | B17: Набор для спальни "Гармония"
A18: 11 | B18: Мебель для спальни
A19: 12 | B19: Кровати
A20: 13 | B20: Комоды
A21: 14 | B21: Шкафы
A22: 15 | B22: ТВА Вита
A23: 16 | B23: Тумбы телевизионные (ТВА)
A24: 17 | B24: Столы журнальные
A25: 18 | B25: Серия офисной мебели "Акцент"
... A33: 27 | B33: Используемые материалы для кухонных гарнитуров
A34: 28
A35: 29 | B35: Набор мебели для кухни "Золушка"
A36: 30 | B36: Набор мебели для кухни "Надежда"
A37: 31 | B37: Модульные кухни
A38: 32 | B38: Кухонные модули - тумбы
A39: 33 | B39: Кухонные модули - шкафы
A41: Срок исполнения заявки 2-4 недели. При наличии товара на складе возможна загрузка товара на следующий день после оплаты. Кровати матрасами не комплектуются, кухни не комплектуются мойками. Внимание!!! При сборке изделия обращать внимание на номер заказа (на этикетке он должен быть одинаковым на всех упаковках изделия). По всем вопросам комплектации, наличии и сроках изготовления обращаться к Вашему менеджеру.

Sheet 1
B14: Серия детской мебели "Почемучка"
B15: Тумба "Почемучка" | G15: Комод "Почемучка" | L15: Стол письменный "Почемучка"
B16: 1300 х 470 х 1060 | G16: 840 х 497 х 962 | L16: 1210 х 610 х 1608
E17: Вес,кг | J17: Вес,кг | O17: Вес,кг
E18: 65 | J18: 48 | O18: 56
E19: Объем,м3 | J19: Объем,м3 | O19: Объем,м3
E20: 0.11 | J20: 0.09 | O20: 0.11
E21: Кол-во упаковок | J21: Кол-во упаковок | O21: Кол-во упаковок
E22: 1 | J22: 1 | O22: 1
B23: ЦЕНА | D23: ='1р'!D2 -> 6545 | G23: ЦЕНА | I23: ='1р'!D4 -> 5695 | L23: ЦЕНА | N23: ='1р'!D6 -> 5185
B24: Шимо светл.+оранж+лайм+фотопечать | G24: Шимо светл.+оранж+лайм+фотопечать | L24: Шимо светл.+оранж+лайм
B25: Шимо светлый 5435р. | E25: ='1р'!D3 -> 6420 | G25: Шимо светл. | I25: ='1р'!D5 -> 5590 | L25: Шимо светл. | N25: ='1р'!D7 -> 5140
B27: Пенал "Почемучка" | G27: Пенал с угловыми полками "Почемучка" универсальн.сборка | L27: Пенал закрытый "Почемучка"
B28: 450 х 470 х 2160 | G28: 800 х 470 х 2160 | L28: 400 х 470 х 2160
E29: Вес,кг | J29: Вес,кг | O29: Вес,кг
E30: 50 | J30: 60 | O30: 20
E31: Объем,м3 | J31: Объем,м3 | O31: Объем,м3
E32: 0.11 | J32: 0.12 | O32: 0.07
E33: Кол-во упаковок | J33: Кол-во упаковок | O33: Кол-во упаковок
E34: 1 | J34: 1 | O34: 1
B35: ЦЕНА | D35: ='1р'!D8 -> 4795 | G35: ЦЕНА | I35: ='1р'!D10 -> 5055 | L35: ЦЕНА | N35: ='1р'!D12 -> 3650
B36: Шимо светл.+оранж+лайм+фотопечать | G36: Шимо светл.+оранж+лайм | L36: Шимо светл.+фотопечать
B37: Шимо светлый 3980р. | E37: ='1р'!D9 -> 4710 | G37: Шимо светлый 4200р. | J37: ='1р'!D11 -> 4965 | L37: Шимо светлый 2880р. | O37: ='1р'!D13 -> 3405
B39: Шкаф двухстворчатый "Почемучка" | G39: Шкаф трехстворчатый "Почемучка" | L39: Шкаф угловой "Почемучка"
B40: 800 х 470 х 2160 | G40: 1200 х 470 х 2160 | L40: 840 х 840 х 2160
E41: Вес,кг | J41: Вес,кг | O41: Вес,кг
E42: 40 | J42: 60 | O42: 93
E43: Объем,м3 | J43: Объем,м3 | O43: Объем,м3
E44: 0.16 | J44: 0.2 | O44: 0.3
E45: Кол-во упаковок | J45: Кол-во упаковок | O45: Кол-во упаковок
E46: 1 | J46: 2 | O46: 2
B47: ЦЕНА | D47: ='1р'!D14 -> 7220 | G47: ЦЕНА | I47: ='1р'!D16 -> 9780 | L47: ЦЕНА | N47: ='1р'!D18 -> 7020
B48: Шимо светл.+оранж+лайм+фотопечать | G48: Шимо светл+оранж+лайм+фотопечать | L48: Шимо светл.
B49: Шимо светлый без ф/п | E49: ='1р'!D15 -> 6850 | G49: Шимо светл. | I49: ='1р'!D17 -> 9265
B51: Кровать "Почемучка" с ящиками | G51: Кровать "Почемучка-2" (выдвижная) | L51: Кровать двухъярусная "Почемучка"
B52: 2032 х 837 х 860 | G52: 2042 х 865 х 930 | L52: 2032 х 1300 х 1900
E53: Вес,кг | J53: Вес,кг | O53: Вес,кг
E54: 84 | J54: 140 | O54: 160
E55: Объем,м3 | J55: Объем,м3 | O55: Объем,м3
E56: 0.2 | J56: 0.3 | O56: 0.34
E57: Кол-во упаковок | J57: Кол-во упаковок | O57: Кол-во упаковок
E58: 2 | G58: Сп.м (верхнее 2000х800, нижнее 1950х800) | J58: 2 | L58: Сп.м (2000х800) | O58: 4
B59: ЦЕНА | D59: ='1р'!D19 -> 6615 | G59: ЦЕНА | I59: ='1р'!D21 -> 8005 | L59: ЦЕНА | N59: ='1р'!D22 -> 13875
B60: Шимо светл.+оранж+лайм+фотопечать | G60: Шимо светл.+оранж+лайм | L60: Шимо светл.+оранж+лайм
B61: Шимо светл. | D61: ='1р'!D20 -> 6490 | G61: Шимо светлый | J61: ='1р'!D25 -> 6960
B63: Полка навесная "Почемучка"
B64: 1300 х 280 х 500
E65: Вес,кг
E66: 9
E67: Объем,м3
E68: 0.02
E69: Кол-во упаковок
E70: 1
B71: ЦЕНА | D71: ='1р'!D23 -> 2345
B72: Шимо светл.+оранж+лайм+фотопечать
B73: Шимо светл. | D73: ='1р'!D24 -> 2210

Sheet 1р
A1: наименование | B1: цена | C1: со скидкой | D1: и наценкой
A2: Тумба Почемучка | B2: =CEILING((F2+F2*0.07),5) -> 6545 | C2: =B2-(B2/100*ТЛ!$G$32) -> 6545 | D2: =C2+(C2/100*ТЛ!$G$33) -> 6545 | F2: 6115
A3: Тумба Почемучка ясень | B3: =CEILING((F3+F3*0.07),5) -> 6420 | C3: =B3-(B3/100*ТЛ!$G$32) -> 6420 | D3: =C3+(C3/100*ТЛ!$G$33) -> 6420 | F3: 6000
A4: Комод | B4: =CEILING((F4+F4*0.07),5) -> 5695 | C4: =B4-(B4/100*ТЛ!$G$32) -> 5695 | D4: =C4+(C4/100*ТЛ!$G$33) -> 5695 | F4: 5320
A5: Комод ясень | B5: =CEILING((F5+F5*0.07),5) -> 5590 | C5: =B5-(B5/100*ТЛ!$G$32) -> 5590 | D5: =C5+(C5/100*ТЛ!$G$33) -> 5590 | F5: 5220
A6: Стол письм. | B6: =CEILING((F6+F6*0.07),5) -> 5185 | C6: =B6-(B6/100*ТЛ!$G$32) -> 5185 | D6: =C6+(C6/100*ТЛ!$G$33) -> 5185 | F6: 4845
A7: Стол письм. Ясень | B7: =CEILING((F7+F7*0.07),5) -> 5140 | C7: =B7-(B7/100*ТЛ!$G$32) -> 5140 | D7: =C7+(C7/100*ТЛ!$G$33) -> 5140 | F7: 4800
A8: Пенал | B8: =CEILING((F8+F8*0.07),5) -> 4795 | C8: =B8-(B8/100*ТЛ!$G$32) -> 4795 | D8: =C8+(C8/100*ТЛ!$G$33) -> 4795 | F8: 4480
A9: Пенал ясень | B9: =CEILING((F9+F9*0.07),5) -> 4710 | C9: =B9-(B9/100*ТЛ!$G$32) -> 4710 | D9: =C9+(C9/100*ТЛ!$G$33) -> 4710 | F9: 4400
A10: Пенал с угл. Полками | B10: =CEILING((F10+F10*0.07),5) -> 5055 | C10: =B10-(B10/100*ТЛ!$G$32) -> 5055 | D10: =C10+(C10/100*ТЛ!$G$33) -> 5055 | F10: 4720
A11: Пенал с угл. Полками ясень | B11: =CEILING((F11+F11*0.07),5) -> 4965 | C11: =B11-(B11/100*ТЛ!$G$32) -> 4965 | D11: =C11+(C11/100*ТЛ!$G$33) -> 4965 | F11: 4640
A12: Пенал закрытый | B12: =CEILING((F12+F12*0.07),5) -> 3650 | C12: =B12-(B12/100*ТЛ!$G$32) -> 3650 | D12: =C12+(C12/100*ТЛ!$G$33) -> 3650 | F12: 3410
A13: Пенал закрытый ясень | B13: =CEILING((F13+F13*0.07),5) -> 3405 | C13: =B13-(B13/100*ТЛ!$G$32) -> 3405 | D13: =C13+(C13/100*ТЛ!$G$33) -> 3405 | F13: 3180
... A18: Шкаф угловой | B18: =CEILING((F18+F18*0.07),5) -> 7020 | C18: =B18-(B18/100*ТЛ!$G$32) -> 7020 | D18: =C18+(C18/100*ТЛ!$G$33) -> 7020 | F18: 6560
A19: Кровать с ящиками | B19: 6615 | C19: =B19-(B19/100*ТЛ!$G$32) -> 6615 | D19: =C19+(C19/100*ТЛ!$G$33) -> 6615 | F19: 6100
A20: Кровать с ящиками ясень | B20: 6490 | C20: =B20-(B20/100*ТЛ!$G$32) -> 6490 | D20: =C20+(C20/100*ТЛ!$G$33) -> 6490 | F20: 5980
A21: Кровать Почемучка-2 | B21: =CEILING((F21+F21*0.07),5) -> 8005 | C21: =B21-(B21/100*ТЛ!$G$32) -> 8005 | D21: =C21+(C21/100*ТЛ!$G$33) -> 8005 | F21: 7480
A22: Кровать 2х-яр Почемучка | B22: 13875 | C22: =B22-(B22/100*ТЛ!$G$32) -> 13875 | D22: =C22+(C22/100*ТЛ!$G$33) -> 13875 | F22: 12860
A23: Полка навесная | B23: =CEILING((F23+F23*0.07),5) -> 2345 | C23: =B23-(B23/100*ТЛ!$G$32) -> 2345 | D23: =C23+(C23/100*ТЛ!$G$33) -> 2345 | F23: 2190
A24: Полка навесная ясень | B24: =CEILING((F24+F24*0.07),5) -> 2210 | C24: =B24-(B24/100*ТЛ!$G$32) -> 2210 | D24: =C24+(C24/100*ТЛ!$G$33) -> 2210 | F24: 2065
A25: Кровать Почемучка-2 шимо светлый | B25: 6960 | C25: =B25-(B25/100*ТЛ!$G$32) -> 6960 | D25: =C25+(C25/100*ТЛ!$G$33) -> 6960 | F25: 6450

Sheet 2
C4: Количество ограничено!!! Наличие уточнять у менеджера!!!
M5: ручка-цветочек
B6: Кровать "Настенька" | G6: Тумба прикроватная "Настенька" | L6: Кровать "Настенька-2" УНИВЕРСАЛЬНАЯ!
B7: 1848 х 1140 х 900 | G7: 500 х 430 х 525 | L7: 1948 х 880 х 994
E8: Вес,кг | J8: Вес,кг | O8: Вес,кг
E9: 50 | J9: 15 | O9: 48
E10: Объем,м3 | J10: Объем,м3 | O10: Объем,м3
E11: 0.14 | J11: 0.03 | O11: 0.09
E12: Кол-во упаковок | J12: Кол-во упаковок | O12: Кол-во упаковок
E13: 2 | J13: 1 | O13: 2
B14: ЦЕНА | D14: ='2р'!D2 -> 4710 | G14: ЦЕНА | I14: ='2р'!D4 -> 1700 | L14: ЦЕНА | N14: ='2р'!D9 -> 6810
B15: Корпус: ЛДСП белый. Фасады и декор.накладки: МДФ оранж, ваниль | G15: Корпус: ЛДСП белый. Фасады и декор.накладки: МДФ оранж, ваниль | L15: Корпус: ЛДСП белый. Фасады и декор.накладки: МДФ оранж, ваниль
B16: сп.м (1800 х 800) | L16: сп.м (1900х800)
B18: Комод "Настенька" с фрезеровкой | G18: Стол туалетный "Настенька" | L18: Стеллаж для книг "Настенька" с фрезеровкой
B19: 850 х 540 х 945 | G19: 1065 х 492 х 1360 | L19: 1600 х 450 х 1700
E20: Вес,кг | J20: Вес,кг | O20: Вес,кг
E21: 55 | J21: 35 | O21: 70
E22: Объем,м3 | J22: Объем,м3 | O22: Объем,м3
E23: 0.09 | J23: 0.07 | O23: 0.13
E24: Кол-во упаковок | J24: Кол-во упаковок | O24: Кол-во упаковок
E25: 1 | J25: 1 | O25: 1
B26: ЦЕНА | D26: ='2р'!D5 -> 5800 | G26: ЦЕНА | I26: ='2р'!D6 -> 4270 | L26: ЦЕНА | N26: ='2р'!D7 -> 6870
B27: Корпус: ЛДСП белый. Фасады и декор.накладки: МДФ оранж, ваниль | G27: Корпус: ЛДСП белый. Фасады и декор.накладки: МДФ оранж, ваниль | L27: Корпус: ЛДСП белый. Фасады и декор.накладки: МДФ оранж, ваниль
B30: Шкаф трехстворчатый "Настенька-2" с фрезеровкой
B31: 1200 х 520 х 1980
E32: Вес,кг
E33: 100
E34: Объем,м3
E35: 0.21
E36: Кол-во упаковок
E37: 2
B38: ЦЕНА | D38: ='2р'!D8 -> 7870
B39: Корпус: ЛДСП белый. Фасады и декор.накладки: МДФ оранж, ваниль

Sheet 2р
A1: наименование | B1: цена | C1: со скидкой | D1: и наценкой
A2: Кровать Настенька | B2: 4710 | C2: =B2-(B2/100*ТЛ!$G$32) -> 4710 | D2: =C2+(C2/100*ТЛ!$G$33) -> 4710
A3: Кровать Настенька не универс | B3: 5735 | C3: =B3-(B3/100*ТЛ!$G$32) -> 5735 | D3: =C3+(C3/100*ТЛ!$G$33) -> 5735
A4: Тумба прикр. | B4: 1700 | C4: =B4-(B4/100*ТЛ!$G$32) -> 1700 | D4: =C4+(C4/100*ТЛ!$G$33) -> 1700
A5: Комод | B5: 5800 | C5: =B5-(B5/100*ТЛ!$G$32) -> 5800 | D5: =C5+(C5/100*ТЛ!$G$33) -> 5800
A6: СТ | B6: 4270 | C6: =B6-(B6/100*ТЛ!$G$32) -> 4270 | D6: =C6+(C6/100*ТЛ!$G$33) -> 4270
A7: Стеллаж | B7: 6870 | C7: =B7-(B7/100*ТЛ!$G$32) -> 6870 | D7: =C7+(C7/100*ТЛ!$G$33) -> 6870
A8: Шкаф 3хст.Настенька-2 | B8: 7870 | C8: =B8-(B8/100*ТЛ!$G$32) -> 7870 | D8: =C8+(C8/100*ТЛ!$G$33) -> 7870
A9: Кровать Настенька-2 с оранжевым углом из мдф Универсальн) | B9: 6810 | C9: =B9-(B9/100*ТЛ!$G$32) -> 6810 | D9: =C9+(C9/100*ТЛ!$G$33) -> 6810

Sheet 3
B14: Серия детской мебели "Алиса"
B15: Кровать с выкатным столом "Алиса" (универсал.сборка) | G15: Комод "Алиса" | L15: Полка навесная "Алиса"
B16: 2042 х 1095 х 1170 | G16: 800 х 470 х 906 | L16: 600 х 300 х 600
E17: Вес,кг | J17: Вес,кг | O17: Вес,кг
E18: 138 | J18: 45 | O18: 15
E19: Объем,м3 | J19: Объем,м3 | O19: Объем,м3
E20: 0.3 | J20: 0.08 | O20: 0.03
E21: Кол-во упаковок | J21: Кол-во упаковок | O21: Кол-во упаковок
E22: 3 | J22: 1 | O22: 1
B23: ЦЕНА | D23: ='3р'!D2 -> 11595 | G23: ЦЕНА | I23: ='3р'!D3 -> 4445 | L23: ЦЕНА | N23: ='3р'!D4 -> 1630
B24: Шимо светл.+Шимо темн.+фотопечать | G24: Шимо светл.+Шимо темн.+фотопечать | L24: Шимо светл.+Шимо темн.+фотопечать
B25: сп.м. (2000х900)
B27: Пенал 1 "Алиса" (3 ящика) | G27: Пенал 2 "Алиса" (5 ящиков) | L27: Пенал с угловыми полками "Алиса"
B28: 450 х 470 х 1700 | G28: 450 х 470 х 1700 | L28: 470 х 470 х 1700
E29: Вес,кг | J29: Вес,кг | O29: Вес,кг
E30: 42 | J30: 45 | O30: 26
E31: Объем,м3 | J31: Объем,м3 | O31: Объем,м3
E32: 0.08 | J32: 0.08 | O32: 0.09
E33: Кол-во упаковок | J33: Кол-во упаковок | O33: Кол-во упаковок
E34: 1 | J34: 1 | O34: 1
B35: ЦЕНА | D35: ='3р'!D5 -> 3715 | G35: ЦЕНА | I35: ='3р'!D6 -> 4445 | L35: ЦЕНА | N35: ='3р'!D7 -> 2055
B36: Шимо светл.+Шимо темн.+фотопечать | G36: Шимо светл.+Шимо темн.+фотопечать | L36: Шимо светл.+Шимо темн.+фотопечать
B38: Пенал закрытый "Алиса" | G38: Шкаф двухстворчатый "Алиса" | L38: Шкаф трехстворчатый "Алиса"
B39: 600 х 470 х 1960 | G39: 800 х 470 х 2160 | L39: 1200 х 470 х 2160
E40: Вес,кг | J40: Вес,кг | O40: Вес,кг
E41: 60 | J41: 58 | O41: 93
E42: Объем,м3 | J42: Объем,м3 | O42: Объем,м3
E43: 0.13 | J43: 0.13 | O43: 0.21
E44: Кол-во упаковок | J44: Кол-во упаковок | O44: Кол-во упаковок
E45: 1 | J45: 1 | O45: 2
B46: ЦЕНА | D46: ='3р'!D8 -> 6050 | G46: ЦЕНА | I46: ='3р'!D9 -> 5375 | L46: ЦЕНА | N46: ='3р'!D10 -> 8090
B47: Шимо светл.+Шимо темн.+фотопечать | G47: Шимо светл.+Шимо темн.+фотопечать | L47: Шимо светл.+Шимо темн.+фотопечать
B49: Тумба выкатная "Алиса"
B50: 500 х 500 х 510
E51: Вес,кг
E52: 14
E53: Объем,м3
E54: 0.03
E55: Кол-во упаковок
B56: откидная крышка | E56: 1
B57: ЦЕНА | D57: ='3р'!D11 -> 1125
B58: Шимо светл.+Шимо темн.+фотопечать

Sheet 3р
A1: наименование | B1: цена | C1: со скидкой | D1: и наценкой
A2: Кровать Алиса | B2: =CEILING((F2+F2*0.07),5) -> 11595 | C2: =B2-(B2/100*ТЛ!$G$32) -> 11595 | D2: =C2+(C2/100*ТЛ!$G$33) -> 11595 | F2: 10835
A3: Комод Алиса | B3: =CEILING((F3+F3*0.07),5) -> 4445 | C3: =B3-(B3/100*ТЛ!$G$32) -> 4445 | D3: =C3+(C3/100*ТЛ!$G$33) -> 4445 | F3: 4150
A4: Полка Навесная | B4: =CEILING((F4+F4*0.07),5) -> 1630 | C4: =B4-(B4/100*ТЛ!$G$32) -> 1630 | D4: =C4+(C4/100*ТЛ!$G$33) -> 1630 | F4: 1520
A5: Пенал 1 | B5: =CEILING((F5+F5*0.07),5) -> 3715 | C5: =B5-(B5/100*ТЛ!$G$32) -> 3715 | D5: =C5+(C5/100*ТЛ!$G$33) -> 3715 | F5: 3470
A6: Пенал 2 | B6: =CEILING((F6+F6*0.07),5) -> 4445 | C6: =B6-(B6/100*ТЛ!$G$32) -> 4445 | D6: =C6+(C6/100*ТЛ!$G$33) -> 4445 | F6: 4150
A7: Пенал с угл.полками | B7: =CEILING((F7+F7*0.07),5) -> 2055 | C7: =B7-(B7/100*ТЛ!$G$32) -> 2055 | D7: =C7+(C7/100*ТЛ!$G$33) -> 2055 | F7: 1920
A8: Пенал закрытый | B8: =CEILING((F8+F8*0.07),5) -> 6050 | C8: =B8-(B8/100*ТЛ!$G$32) -> 6050 | D8: =C8+(C8/100*ТЛ!$G$33) -> 6050 | F8: 5650
A9: Шкаф 2хств | B9: =CEILING((F9+F9*0.07),5) -> 5375 | C9: =B9-(B9/100*ТЛ!$G$32) -> 5375 | D9: =C9+(C9/100*ТЛ!$G$33) -> 5375 | F9: 5020
A10: Шкаф 3хств. | B10: =CEILING((F10+F10*0.07),5) -> 8090 | C10: =B10-(B10/100*ТЛ!$G$32) -> 8090 | D10: =C10+(C10/100*ТЛ!$G$33) -> 8090 | F10: 7560
A11: Тумба Алиса | B11: =CEILING((F11+F11*0.07),5) -> 1125 | C11: =B11-(B11/100*ТЛ!$G$32) -> 1125 | D11: =C11+(C11/100*ТЛ!$G$33) -> 1125 | F11: 1050
B12: =F12+F12*0.05 -> 0 | F12: =J12+J12*0.05 -> 0

Sheet 4
B14: Серия детской мебели "Алешка" (ЛДСП-фасады)
B15: Кровать двухъярусная "Алешка" | G15: Кровать "Алешка-2" | L15: Комод "Алешка"
B16: 2042 х 1206 х 1930 (левая/правая) | G16: 1940 х 840 х 700 | L16: 1100 х 470 х 956
E17: Вес,кг | J17: Вес,кг | O17: Вес,кг
E18: 123 | J18: 40 | O18: 65
E19: Объем,м3 | J19: Объем,м3 | O19: Объем,м3
E20: 0.3 | J20: 0.11 | O20: 0.12
E21: Кол-во упаковок | J21: Кол-во упаковок | O21: Кол-во упаковок
E22: 3 | J22: 2 | O22: 2
B23: ЦЕНА | D23: ='4р'!D2 -> 9955 | G23: ЦЕНА | I23: ='4р'!D4 -> 3110 | L23: ЦЕНА | N23: ='4р'!D9 -> 5060
B24: Шимо светл.+Шимо темн. | G24: Шимо светл.+Шимо темн. | L24: Шимо светл.+Шимо темн.
B25: сп.м (2000х800) | G25: сп.м. (1900х800)
B27: Стол. к кровати "Алешка" | G27: Стол компьютерный угловой "Алешка" | L27: Стол письменный (прямой) "Алешка"
B28: 1244 х 840 (левый/правый) | G28: 1204 х 884 х 750 (левый/правый) | L28: 1204 х 554 х 750
E29: Вес,кг | J29: Вес,кг | O29: Вес,кг
E30: 10 | J30: 26 | O30: 25
E31: Объем,м3 | J31: Объем,м3 | O31: Объем,м3
E32: 0.02 | J32: 0.07 | O32: 0.07
E33: Кол-во упаковок | J33: Кол-во упаковок | O33: Кол-во упаковок
E34: 1 | J34: 1 | O34: 1
B35: ЦЕНА | D35: ='4ар'!D5 -> 1275 | G35: ЦЕНА | I35: ='4ар'!D6 -> 1975 | L35: ЦЕНА | N35: ='4ар'!D4 -> 1590
B36: Шимо светл. | G36: Шимо светл. | L36: Шимо светл.
B39: Тумба прикроватная "Алешка" | G39: Тумба выкатная "Алешка" | L39: Полка навесная "Алешка"
B40: 390 х 380 х 460 | G40: 400 х 450 х 550 | L40: 1100 х 300 х 600
E41: Вес,кг | J41: Вес,кг | O41: Вес,кг
E42: 19 | J42: 15 | O42: 19
E43: Объем,м3 | J43: Объем,м3 | O43: Объем,м3
E44: 0.03 | J44: 0.03 | O44: 0.05
E45: Кол-во упаковок | J45: Кол-во упаковок | O45: Кол-во упаковок
E46: 1 | J46: 1 | O46: 1
B47: ЦЕНА | D47: ='4р'!D6 -> 1295 | G47: ЦЕНА | I47: ='4р'!D7 -> 2085 | L47: ЦЕНА | N47: ='4р'!D8 -> 1940
B48: Шимо светл.+Шимо темн. | G48: Шимо светл.+Шимо темн | L48: Шимо светл.+Шимо темн.
B51: Стеллаж для книг и игрушек "Алешка" | G51: Шкаф трехстворчатый "Алешка" | L51: Шкаф двухстворчатый с открытыми полками "Алешка"
B52: 1100 х 470 х 1260 | G52: 1200 х 470 х 2160 | L52: 1400 х 470 х 2160
E53: Вес,кг | J53: Вес,кг | O53: Вес,кг
E54: 66 | J54: 106 | O54: 141
E55: Объем,м3 | J55: Объем,м3 | O55: Объем,м3
E56: 0.14 | J56: 0.2 | O56: 0.26
E57: Кол-во упаковок | J57: Кол-во упаковок | O57: Кол-во упаковок
E58: 1 | J58: 2 | O58: 2
B59: ЦЕНА | D59: ='4р'!D10 -> 5245 | G59: ЦЕНА | I59: ='4р'!D11 -> 7480 | L59: ЦЕНА | N59: ='4р'!D12 -> 9580
B60: Шимо светл.+Шимо темн. | G60: Шимо светл.+Шимо темн. | L60: Шимо светл.+Шимо темн.
B63: Шкаф двухстворчатый "Алешка" | G63: Пенал "Алешка" | L63: Шкаф одностворчатый с открытыми полками "Алешка"
B64: 800 х 470 х 2160 | G64: 700 х 470 х 1960 | L64: 900 х 470 х 2160
E65: Вес,кг | J65: Вес,кг | O65: Вес,кг
E66: 69 | J66: 63 | O66: 63
E67: Объем,м3 | J67: Объем,м3 | O67: Объем,м3
E68: 0.13 | J68: 0.12 | O68: 0.12
E69: Кол-во упаковок | J69: Кол-во упаковок | O69: Кол-во упаковок
E70: 1 | J70: 1 | O70: 2
B71: ЦЕНА | D71: ='4р'!D13 -> 4990 | G71: ЦЕНА | I71: ='4р'!D14 -> 4645 | L71: ЦЕНА | N71: ='4р'!D15 -> 6370
B72: Шимо светл.+Шимо темн. | G72: Шимо светл.+Шимо темн. | L72: Шимо светл.+Шимо темн.
B75: Шкаф угловой "Алешка"
B76: 840 х 840 х 2160
E77: Вес,кг
E78: 93
E79: Объем,м3
E80: 0.3
E81: Кол-во упаковок
E82: 2
B83: ЦЕНА | D83: ='4р'!D16 -> 6530
B84: Шимо светл.+Шимо темн.

Sheet 4р
A1: наименование | B1: цена | C1: со скидкой | D1: и наценкой
A2: Кровать Алешка 2х-яр | B2: =CEILING((F2+F2*0.07),5) -> 9955 | C2: =B2-(B2/100*ТЛ!$G$32) -> 9955 | D2: =C2+(C2/100*ТЛ!$G$33) -> 9955 | F2: 9300
A3: Стол компьют. | B3: =CEILING((F3+F3*0.07),5) -> 2085 | C3: =B3-(B3/100*ТЛ!$G$32) -> 2085 | D3: =C3+(C3/100*ТЛ!$G$33) -> 2085 | F3: 1945
A4: Кровать Алешка-2 | B4: =CEILING((F4+F4*0.07),5) -> 3110 | C4: =B4-(B4/100*ТЛ!$G$32) -> 3110 | D4: =C4+(C4/100*ТЛ!$G$33) -> 3110 | F4: 2905
A5: Кровать Алешка-3 | B5: 0 | C5: =B5-(B5/100*ТЛ!$G$32) -> 0 | D5: =C5+(C5/100*ТЛ!$G$33) -> 0 | F5: 2615
A6: Тумба прикроват. | B6: 1295 | C6: =B6-(B6/100*ТЛ!$G$32) -> 1295 | D6: =C6+(C6/100*ТЛ!$G$33) -> 1295 | F6: 1170
A7: Тумба выкатная | B7: 2085 | C7: =B7-(B7/100*ТЛ!$G$32) -> 2085 | D7: =C7+(C7/100*ТЛ!$G$33) -> 2085 | F7: 1935
A8: Полка навесная | B8: =CEILING((F8+F8*0.07),5) -> 1940 | C8: =B8-(B8/100*ТЛ!$G$32) -> 1940 | D8: =C8+(C8/100*ТЛ!$G$33) -> 1940 | F8: 1810
A9: Комод | B9: 5060 | C9: =B9-(B9/100*ТЛ!$G$32) -> 5060 | D9: =C9+(C9/100*ТЛ!$G$33) -> 5060 | F9: 4660
A10: Стеллаж | B10: =CEILING((F10+F10*0.07),5) -> 5245 | C10: =B10-(B10/100*ТЛ!$G$32) -> 5245 | D10: =C10+(C10/100*ТЛ!$G$33) -> 5245 | F10: 4900
A11: Шкаф 3хств. | B11: 7480 | C11: =B11-(B11/100*ТЛ!$G$32) -> 7480 | D11: =C11+(C11/100*ТЛ!$G$33) -> 7480 | F11: 6800
A12: Шкаф 2хств. с откр.полками | B12: =CEILING((F12+F12*0.07),5) -> 9580 | C12: =B12-(B12/100*ТЛ!$G$32) -> 9580 | D12: =C12+(C12/100*ТЛ!$G$33) -> 9580 | F12: 8950
A13: Шкаф 2хств. | B13: 4990 | C13: =B13-(B13/100*ТЛ!$G$32) -> 4990 | D13: =C13+(C13/100*ТЛ!$G$33) -> 4990 | F13: 4650
A14: Пенал | B14: 4645 | C14: =B14-(B14/100*ТЛ!$G$32) -> 4645 | D14: =C14+(C14/100*ТЛ!$G$33) -> 4645 | F14: 4200
A15: Шкаф 1ств. С откр.полками | B15: =CEILING((F15+F15*0.07),5) -> 6370 | C15: =B15-(B15/100*ТЛ!$G$32) -> 6370 | D15: =C15+(C15/100*ТЛ!$G$33) -> 6370 | F15: 5950
A16: Шкаф угловой | B16: =CEILING((F16+F16*0.07),5) -> 6530 | C16: =B16-(B16/100*ТЛ!$G$32) -> 6530 | D16: =C16+(C16/100*ТЛ!$G$33) -> 6530 | F16: 6100

Sheet 4а
B1: Корпус: шимо светлый. Фасады: МДФ глянец желтый металлик/серый металлик фрезеровка "Дюны" | H1: Корпус: шимо светлый. Фасады: МДФ глянец желтый металлик/лазурный металлик фрезеровка "Импульс"
B15: Корпус: шимо светлый. Фасады: МДФ глянец ваниль/мозаика виолетт/мозаика лайм
B30: Серия детской мебели "Алешка" (МДФ-фасады)
B31: Кровать двухъярусная "Алешка" | G31: Кровать "Алешка-2" | L31: Стол письменный (прямой) "Алешка"
B32: 2042 х 1206 х 1930 (левая/правая) | G32: 1940 х 840 х 700 | L32: 1204 х 554 х 750
E33: Вес,кг | J33: Вес,кг | O33: Вес,кг
E34: 123 | J34: 40 | O34: 25
E35: Объем,м3 | J35: Объем,м3 | O35: Объем,м3
E36: 0.3 | J36: 0.11 | O36: 0.07
E37: Кол-во упаковок | J37: Кол-во упаковок | O37: Кол-во упаковок
E38: 3 | J38: 2 | O38: 1
B39: ЦЕНА | D39: ='4ар'!D2 -> 10725 | G39: ЦЕНА | I39: ='4ар'!D3 -> 4595 | L39: ЦЕНА | N39: ='4ар'!D4 -> 1590
B40: Шимо светл.+МДФ фасады | G40: Шимо светл.+МДФ фасады | L40: Шимо светл.
B41: сп.м (2000х800) | G41: сп.м. (1900х800)
B43: Стол. к кровати "Алешка" | G43: Стол компьютерный угловой "Алешка" | L43: Полка навесная "Алешка"
B44: 1244 х 840 (левый/правый) | G44: 1204 х 884 х 750 (левый/правый) | L44: 1100 х 300 х 6000
E45: Вес,кг | J45: Вес,кг | O45: Вес,кг
E46: 10 | J46: 26 | O46: 19
E47: Объем,м3 | J47: Объем,м3 | O47: Объем,м3
E48: 0.02 | J48: 0.07 | O48: 0.05
E49: Кол-во упаковок | J49: Кол-во упаковок | O49: Кол-во упаковок
E50: 1 | J50: 1 | O50: 1
B51: ЦЕНА | D51: ='4ар'!D5 -> 1275 | G51: ЦЕНА | I51: ='4ар'!D6 -> 1975 | L51: ЦЕНА | N51: ='4ар'!D9 -> 2195
B52: Шимо светл. | G52: Шимо светл. | L52: Шимо светл.+МДФ фасады
B55: Тумба выкатная "Алешка" | G55: Тумба прикроватная "Алешка" | L55: Стеллаж для книг и игрушек "Алешка"
B56: 400 х 450 х 550 | G56: 390 х 380 х460 | L56: 1100 х 470 х 1260
E57: Вес,кг | J57: Вес,кг | O57: Вес,кг
E58: 15 | J58: 15 | O58: 66
E59: Объем,м3 | J59: Объем,м3 | O59: Объем,м3
E60: 0.03 | J60: 0.03 | O60: 0.14
E61: Кол-во упаковок | J61: Кол-во упаковок | O61: Кол-во упаковок
E62: 1 | J62: 1 | O62: 2
B63: ЦЕНА | D63: ='4ар'!D8 -> 2340 | G63: ЦЕНА | I63: ='4ар'!D7 -> 1385 | L63: ЦЕНА | N63: ='4ар'!D11 -> 6455
B64: Шимо светл.+МДФ фасады | G64: Шимо светл.+МДФ фасады | L64: Шимо светл.+МДФ фасады
B67: Комод "Алешка" | G67: Пенал "Алешка" | L67: Шкаф одностворчатый с открытыми полками "Алешка"
B68: 1100 х 470 х 956 | G68: 700 х 470 х 1960 | L68: 900 х 470 х 2160
E69: Вес,кг | J69: Вес,кг | O69: Вес,кг
E70: 65 | J70: 63 | O70: 63
E71: Объем,м3 | J71: Объем,м3 | O71: Объем,м3
E72: 0.12 | J72: 0.12 | O72: 0.12
E73: Кол-во упаковок | J73: Кол-во упаковок | O73: Кол-во упаковок
E74: 2 | J74: 2 | O74: 2
B75: ЦЕНА | D75: ='4ар'!D10 -> 6175 | G75: ЦЕНА | I75: ='4ар'!D15 -> 5410 | L75: ЦЕНА | N75: ='4ар'!D16 -> 7335
B76: Шимо светл.+МДФ фасады | G76: Шимо светл.+МДФ фасады | L76: Шимо светл.+МДФ фасады
B79: Шкаф двухстворчатый "Алешка" | G79: Шкаф трехстворчатый "Алешка" | L79: Шкаф двухстворчатый с открытыми полками "Алешка"
B80: 800 х 470 х 2160 | G80: 1200 х 470 х 2160 | L80: 1400 х 470 х 2160
E81: Вес,кг | J81: Вес,кг | O81: Вес,кг
E82: 69 | J82: 106 | O82: 141
E83: Объем,м3 | J83: Объем,м3 | O83: Объем,м3
E84: 0.13 | J84: 0.2 | O84: 0.26
E85: Кол-во упаковок | J85: Кол-во упаковок | O85: Кол-во упаковок
E86: 2 | J86: 2 | O86: 2
B87: ЦЕНА | D87: ='4ар'!D14 -> 7095 | G87: ЦЕНА | I87: ='4ар'!D12 -> 10660 | L87: ЦЕНА | N87: ='4ар'!D13 -> 11880
B88: Шимо светл.+МДФ фасады | G88: Шимо светл.+МДФ фасады | L88: Шимо светл.+МДФ фасады
B91: Шкаф угловой "Алешка"
B92: 830 х 830 х 2160
E93: Вес,кг
E94: 93
E95: Объем,м3
E96: 0.3
E97: Кол-во упаковок
E98: 2
B99: ЦЕНА | D99: ='4ар'!D17 -> 7460
B100: Шимо светл.+МДФ фасады

Sheet 4ар
A1: наименование | B1: цена | C1: со скидкой | D1: и наценкой
A2: Кровать Алешка 2х-яр | B2: =CEILING((F2+F2*0.07),5) -> 10725 | C2: =B2-(B2/100*ТЛ!$G$32) -> 10725 | D2: =C2+(C2/100*ТЛ!$G$33) -> 10725 | F2: 10020
A3: Кровать Алешка-2 | B3: =CEILING((F3+F3*0.07),5) -> 4595 | C3: =B3-(B3/100*ТЛ!$G$32) -> 4595 | D3: =C3+(C3/100*ТЛ!$G$33) -> 4595 | F3: 4290
A4: Стол письм.прямой | B4: 1590 | C4: =B4-(B4/100*ТЛ!$G$32) -> 1590 | D4: =C4+(C4/100*ТЛ!$G$33) -> 1590 | F4: 1750
A5: Стол к кровати | B5: 1275 | C5: =B5-(B5/100*ТЛ!$G$32) -> 1275 | D5: =C5+(C5/100*ТЛ!$G$33) -> 1275 | F5: 1175
A6: Стол угловой | B6: 1975 | C6: =B6-(B6/100*ТЛ!$G$32) -> 1975 | D6: =C6+(C6/100*ТЛ!$G$33) -> 1975 | F6: 1840
A7: Тумба прикроват. | B7: 1385 | C7: =B7-(B7/100*ТЛ!$G$32) -> 1385 | D7: =C7+(C7/100*ТЛ!$G$33) -> 1385 | F7: 1285
A8: Тумба выкатная с ящ | B8: =CEILING((F8+F8*0.07),5) -> 2340 | C8: =B8-(B8/100*ТЛ!$G$32) -> 2340 | D8: =C8+(C8/100*ТЛ!$G$33) -> 2340 | F8: 2185
A9: Полка навесная | B9: =CEILING((F9+F9*0.07),5) -> 2195 | C9: =B9-(B9/100*ТЛ!$G$32) -> 2195 | D9: =C9+(C9/100*ТЛ!$G$33) -> 2195 | F9: 2050
A10: Комод | B10: =CEILING((F10+F10*0.07),5) -> 6175 | C10: =B10-(B10/100*ТЛ!$G$32) -> 6175 | D10: =C10+(C10/100*ТЛ!$G$33) -> 6175 | F10: 5770
A11: Стеллаж | B11: =CEILING((F11+F11*0.07),5) -> 6455 | C11: =B11-(B11/100*ТЛ!$G$32) -> 6455 | D11: =C11+(C11/100*ТЛ!$G$33) -> 6455 | F11: 6030
A12: Шкаф 3хств. | B12: =CEILING((F12+F12*0.07),5) -> 10660 | C12: =B12-(B12/100*ТЛ!$G$32) -> 10660 | D12: =C12+(C12/100*ТЛ!$G$33) -> 10660 | F12: 9960
A13: Шкаф 2хств. с откр.полками | B13: =CEILING((F13+F13*0.07),5) -> 11880 | C13: =B13-(B13/100*ТЛ!$G$32) -> 11880 | D13: =C13+(C13/100*ТЛ!$G$33) -> 11880 | F13: 11100
A14: Шкаф 2хств. | B14: =CEILING((F14+F14*0.07),5) -> 7095 | C14: =B14-(B14/100*ТЛ!$G$32) -> 7095 | D14: =C14+(C14/100*ТЛ!$G$33) -> 7095 | F14: 6630
A15: Пенал | B15: =CEILING((F15+F15*0.07),5) -> 5410 | C15: =B15-(B15/100*ТЛ!$G$32) -> 5410 | D15: =C15+(C15/100*ТЛ!$G$33) -> 5410 | F15: 5055
A16: Шкаф 1ств. С откр.полками | B16: =CEILING((F16+F16*0.07),5) -> 7335 | C16: =B16-(B16/100*ТЛ!$G$32) -> 7335 | D16: =C16+(C16/100*ТЛ!$G$33) -> 7335 | F16: 6855
A17: Шкаф угловой | B17: =CEILING((F17+F17*0.07),5) -> 7460 | C17: =B17-(B17/100*ТЛ!$G$32) -> 7460 | D17: =C17+(C17/100*ТЛ!$G$33) -> 7460 | F17: 6970

Sheet 5
F7: фотопечать в иллюминаторах
B13: Серия детской мебели "Юнга" (МДФ) с фрезеровкой
B14: Кровать двухъярусная "Юнга" (с фрезеровкой дельфинчики) | G14: Кровать "Юнга" (с фрезеровкой дельфинчики) | L14: Тумба прикроватная "Юнга" (с фрезеровкой якорь)
B15: 2994 х 909 х 2025 | G15: 2440 х 920 х 750 | L15: 810 х 350 х 682
E16: Вес,кг | J16: Вес,кг | O16: Вес,кг
E17: 179 | J17: 86 | O17: 26
E18: Объем,м3 | J18: Объем,м3 | O18: Объем,м3
E19: 0.38 | J19: 0.22 | O19: 0.06
E20: Кол-во упаковок | J20: Кол-во упаковок | O20: Кол-во упаковок
E21: 3 | J21: 2 | O21: 1
B22: ЦЕНА | D22: ='5р'!D2 -> 17960 | G22: ЦЕНА | I22: ='5р'!D3 -> 8085 | L22: ЦЕНА | N22: ='5р'!D4 -> 2670
B23: Корпус: ЛДСП шимо светлый. Фасады: МДФ голубой, ваниль | G23: Корпус: ЛДСП шимо светлый. Фасады: МДФ голубой, ваниль | L23: Корпус: ЛДСП шимо светлый. Фасады: МДФ голубой, ваниль
B24: сп.м (2000х800) | G24: сп.м. (2000х800)
B26: Комод "Юнга" (с фрезеровкой кораблик) | G26: Тумба (рундук) "Юнга" | L26: Полка навесная "Юнга"
B27: 850 х 493 х 900 | G27: 700 х 540 х 460 | L27: 835 х 180 х 812
E28: Вес,кг | J28: Вес,кг | O28: Вес,кг
E29: 52 | J29: 21 | O29: 8
E30: Объем,м3 | J30: Объем,м3 | O30: Объем,м3
E31: 0.09 | J31: 0.05 | O31: 0.02
E32: Кол-во упаковок | J32: Кол-во упаковок | O32: Кол-во упаковок
E33: 1 | J33: 1 | O33: 1
B34: ЦЕНА | D34: ='5р'!D5 -> 4495 | G34: ЦЕНА | I34: ='5р'!D6 -> 2010 | L34: ЦЕНА | N34: ='5р'!D7 -> 1465
B35: Корпус: ЛДСП шимо светлый. Фасады: МДФ голубой, ваниль | G35: Корпус: ЛДСП шимо светлый. Фасады: МДФ голубой, ваниль | L35: Корпус: ЛДСП шимо светлый. Фасады: МДФ голубой, ваниль
B38: Стеллаж для книг и игрушек "Юнга" (с фрезеровкой) | G38: Стол компьютерный "Юнга" | L38: Стол компьютерный (угловой) "Юнга"
B39: 1445 х 460 х 2068 | G39: 1920 х 620 х 1820 | L39: 1920 х 910 х 2062
E40: Вес,кг | J40: Вес,кг | O40: Вес,кг
E41: 76 | J41: 81 | O41: 90
E42: Объем,м3 | J42: Объем,м3 | O42: Объем,м3
E43: 0.15 | J43: 0.17 | O43: 0.2
E44: Кол-во упаковок | J44: Кол-во упаковок | O44: Кол-во упаковок
E45: 2 | J45: 2 | O45: 2
B46: ЦЕНА | D46: ='5р'!D8 -> 8770 | G46: ЦЕНА | I46: ='5р'!D9 -> 9715 | L46: ЦЕНА | N46: ='5р'!D10 -> 11090
B47: Корпус: ЛДСП шимо светлый. Фасады: МДФ голубой, ваниль | G47: Корпус: ЛДСП шимо светлый. Фасады: МДФ голубой, ваниль | L47: Корпус: ЛДСП шимо светлый. Фасады: МДФ голубой, ваниль
B50: Пенал с углоыми полками "Юнга" | G50: Шкаф двухстворчатый "Юнга" (с фрезеровкой кораблики) | L50: Шкаф трехстворчатый "Юнга" (с фрезеровкой кораблики)
B51: 442 х 450 х 1810 | G51: 900 х 530 х 2085 | L51: 1333 х 530 х 2085
E52: Вес,кг | J52: Вес,кг | O52: Вес,кг
E53: 18 | J53: 91 | O53: 128
E54: Объем,м3 | J54: Объем,м3 | O54: Объем,м3
E55: 0.04 | J55: 0.17 | O55: 0.6
E56: Кол-во упаковок | J56: Кол-во упаковок | O56: Кол-во упаковок
E57: 1 | J57: 2 | O57: 3
B58: ЦЕНА | D58: ='5р'!D11 -> 2355 | G58: ЦЕНА | I58: ='5р'!D12 -> 8785 | L58: ЦЕНА | N58: ='5р'!D13 -> 12380
B59: Корпус: ЛДСП шимо светлый. Фасады: МДФ голубой, ваниль | G59: Корпус: ЛДСП шимо светлый. Фасады: МДФ голубой, ваниль | L59: Корпус: ЛДСП шимо светлый. Фасады: МДФ голубой, ваниль

Sheet 6
B1: Серия детской мебели "Акварель" (МДФ-фасады)
B2: Кровать двухъярусная "Алешка" | G2: Лестница | L2: Лестница-2
B3: 2042 х 858 х 2180 | G3: 1800 х 1815 х 608 | L3: 557 х 340 х 1760
E4: Вес,кг | J4: Вес,кг | O4: Вес,кг
E6: Объем,м3 | J6: Объем,м3 | O6: Объем,м3
E8: Кол-во упаковок | J8: Кол-во упаковок | O8: Кол-во упаковок
B10: ЦЕНА | D10: ='6р'!D2 -> 11100 | G10: ЦЕНА | I10: ='6р'!D4 -> 12145 | L10: ЦЕНА | N10: ='6р'!D3 -> 2550
B11: Шимо светл.+МДФ фасады | G11: Шимо светл.+МДФ фасады | L11: Шимо светл.+МДФ накладка
B12: сп.м (2000х800)
B14: Кровать-2 | G14: Стол письменный | L14: Полка навесная
B15: 840 х 814 х 1940 | G15: 900 х 600 х 756 | L15: 900 х 300 х 800
E16: Вес,кг | J16: Вес,кг | O16: Вес,кг
E18: Объем,м3 | J18: Объем,м3 | O18: Объем,м3
E20: Кол-во упаковок | J20: Кол-во упаковок | O20: Кол-во упаковок
B22: ЦЕНА | D22: ='6р'!D5 -> 3800 | G22: ЦЕНА | I22: ='6р'!D12 -> 2550 | L22: ЦЕНА | N22: ='6р'!D8 -> 1955
B23: Шимо светл.+МДФ фасады | G23: Шимо светл.+МДФ фасады | L23: Шимо светл.+МДФ фасады
B26: Пенал | G26: Пенал закрытый | L26: Пенал с угловыми полками
B27: 450 х 470 х 2160 | G27: 800 х 470 х 2160 | L27: 566 х 470 х 2160
E28: Вес,кг | J28: Вес,кг | O28: Вес,кг
E30: Объем,м3 | J30: Объем,м3 | O30: Объем,м3
E32: Кол-во упаковок | J32: Кол-во упаковок | O32: Кол-во упаковок
B34: ЦЕНА | D34: ='6р'!D6 -> 3430 | G34: ЦЕНА | I34: ='6р'!D7 -> 6865 | L34: ЦЕНА | N34: ='6р'!D16 -> 2900
B35: Шимо светл.+МДФ фасады | G35: Шимо светл.+МДФ фасады | L35: Шимо светл.+МДФ фасады
B38: Пенал-2 | G38: Пенал-3 | L38: Шкаф двухстворчатый
B39: 450 х 470 х 2160 | G39: 900 х 470 х 2160 | L39: 800 х 470 х 2160
E40: Вес,кг | J40: Вес,кг | O40: Вес,кг
E42: Объем,м3 | J42: Объем,м3 | O42: Объем,м3
E44: Кол-во упаковок | J44: Кол-во упаковок | O44: Кол-во упаковок
B46: ЦЕНА | D46: ='6р'!D15 -> 2465 | G46: ЦЕНА | I46: ='6р'!D17 -> 7880 | L46: ЦЕНА | N46: ='6р'!D18 -> 5770
B47: Шимо светл.+МДФ фасады | G47: Шимо светл.+МДФ фасады | L47: Шимо светл.+МДФ фасады
B50: Шкаф трехстворчатый | G50: Шкаф книжный | L50: Стеллаж для книг и игрушек
B51: 1200 х 470 х 2160 | G51: 1900 х 470 х 1960 | L51: 1350 х 470 х 960
E52: Вес,кг | J52: Вес,кг | O52: Вес,кг
E54: Объем,м3 | J54: Объем,м3 | O54: Объем,м3
E56: Кол-во упаковок | J56: Кол-во упаковок | O56: Кол-во упаковок
B58: ЦЕНА | D58: ='6р'!D9 -> 8300 | G58: ЦЕНА | I58: ='6р'!D19 -> 10720 | L58: ЦЕНА | N58: ='6р'!D13 -> 5775
B59: Шимо светл.+МДФ фасады | G59: Шимо светл.+МДФ фасады | L59: Шимо светл.+МДФ фасады
B62: Комод | G62: Тумба | L62: Подушка (для тумбы)
B63: 1384 х 470 х 960 | G63: 860 х 560 х 415 | L63: 860 х 560 х 20
E64: Вес,кг | J64: Вес,кг | O64: Вес,кг
E65: 93 | J65: 93 | O65: 93
E66: Объем,м3 | J66: Объем,м3 | O66: Объем,м3
E67: 0.3 | J67: 0.3 | O67: 0.3
E68: Кол-во упаковок | J68: Кол-во упаковок | O68: Кол-во упаковок
B70: ЦЕНА | D70: ='6р'!D14 -> 6225 | G70: ЦЕНА | I70: ='6р'!D10 -> 2440 | L70: ЦЕНА | N70: ='6р'!D11 -> 460
B71: Шимо светл.+МДФ фасады | G71: Шимо светл.+МДФ фасады | L71: кож.зам

Sheet 6р
A1: наименование | B1: цена | C1: со скидкой | D1: и наценкой
A2: Кровать 2хярусная | B2: 11100 | C2: =B2-(B2/100*ТЛ!$G$32) -> 11100 | D2: =C2+(C2/100*ТЛ!$G$33) -> 11100
A3: Лестница-2 | B3: 2550 | C3: =B3-(B3/100*ТЛ!$G$32) -> 2550 | D3: =C3+(C3/100*ТЛ!$G$33) -> 2550
A4: лестница | B4: 12145 | C4: =B4-(B4/100*ТЛ!$G$32) -> 12145 | D4: =C4+(C4/100*ТЛ!$G$33) -> 12145
A5: Кровать -2 | B5: 3800 | C5: =B5-(B5/100*ТЛ!$G$32) -> 3800 | D5: =C5+(C5/100*ТЛ!$G$33) -> 3800
A6: Пенал | B6: 3430 | C6: =B6-(B6/100*ТЛ!$G$32) -> 3430 | D6: =C6+(C6/100*ТЛ!$G$33) -> 3430
A7: Пенал закрытый | B7: 6865 | C7: =B7-(B7/100*ТЛ!$G$32) -> 6865 | D7: =C7+(C7/100*ТЛ!$G$33) -> 6865
A8: Полка навесная | B8: 1955 | C8: =B8-(B8/100*ТЛ!$G$32) -> 1955 | D8: =C8+(C8/100*ТЛ!$G$33) -> 1955
A9: Шкаф 3х-ств | B9: 8300 | C9: =B9-(B9/100*ТЛ!$G$32) -> 8300 | D9: =C9+(C9/100*ТЛ!$G$33) -> 8300
A10: Тумба | B10: 2440 | C10: =B10-(B10/100*ТЛ!$G$32) -> 2440 | D10: =C10+(C10/100*ТЛ!$G$33) -> 2440
A11: подушка | B11: 460 | C11: =B11-(B11/100*ТЛ!$G$32) -> 460 | D11: =C11+(C11/100*ТЛ!$G$33) -> 460
A12: Стол письменный | B12: 2550 | C12: =B12-(B12/100*ТЛ!$G$32) -> 2550 | D12: =C12+(C12/100*ТЛ!$G$33) -> 2550
A13: Стеллаж | B13: 5775 | C13: =B13-(B13/100*ТЛ!$G$32) -> 5775 | D13: =C13+(C13/100*ТЛ!$G$33) -> 5775
... A19: Шкаф книжный | B19: 10720 | C19: =B19-(B19/100*ТЛ!$G$32) -> 10720 | D19: =C19+(C19/100*ТЛ!$G$33) -> 10720

Sheet 5р
A1: наименование | B1: цена | C1: со скидкой | D1: и наценкой
A2: Кровать Юнга 2х-яр | B2: =CEILING((F2+F2*0.07),5) -> 17960 | C2: =B2-(B2/100*ТЛ!$G$32) -> 17960 | D2: =C2+(C2/100*ТЛ!$G$33) -> 17960 | F2: 16785
A3: Кровать Юнга | B3: 8085 | C3: =B3-(B3/100*ТЛ!$G$32) -> 8085 | D3: =C3+(C3/100*ТЛ!$G$33) -> 8085 | F3: 7415
A4: Тумба прикроват. | B4: =CEILING((F4+F4*0.07),5) -> 2670 | C4: =B4-(B4/100*ТЛ!$G$32) -> 2670 | D4: =C4+(C4/100*ТЛ!$G$33) -> 2670 | F4: 2495
A5: Комод | B5: 4495 | C5: =B5-(B5/100*ТЛ!$G$32) -> 4495 | D5: =C5+(C5/100*ТЛ!$G$33) -> 4495 | F5: 4275
A6: Тумба (рундук) | B6: =CEILING((F6+F6*0.07),5) -> 2010 | C6: =B6-(B6/100*ТЛ!$G$32) -> 2010 | D6: =C6+(C6/100*ТЛ!$G$33) -> 2010 | F6: 1875
A7: Полка навесная | B7: =CEILING((F7+F7*0.07),5) -> 1465 | C7: =B7-(B7/100*ТЛ!$G$32) -> 1465 | D7: =C7+(C7/100*ТЛ!$G$33) -> 1465 | F7: 1365
A8: Стеллаж | B8: 8770 | C8: =B8-(B8/100*ТЛ!$G$32) -> 8770 | D8: =C8+(C8/100*ТЛ!$G$33) -> 8770 | F8: 8160
A9: Стол компьютерный | B9: 9715 | C9: =B9-(B9/100*ТЛ!$G$32) -> 9715 | D9: =C9+(C9/100*ТЛ!$G$33) -> 9715 | F9: 8975
A10: Стол компьютерный угловой | B10: 11090 | C10: =B10-(B10/100*ТЛ!$G$32) -> 11090 | D10: =C10+(C10/100*ТЛ!$G$33) -> 11090 | F10: 10290
A11: Пенал с угл.полками | B11: =CEILING((F11+F11*0.07),5) -> 2355 | C11: =B11-(B11/100*ТЛ!$G$32) -> 2355 | D11: =C11+(C11/100*ТЛ!$G$33) -> 2355 | F11: 2200
A12: Шкаф 2хств. | B12: 8785 | C12: =B12-(B12/100*ТЛ!$G$32) -> 8785 | D12: =C12+(C12/100*ТЛ!$G$33) -> 8785 | F12: 7850
A13: Шкаф 3хств. | B13: 12380 | C13: =B13-(B13/100*ТЛ!$G$32) -> 12380 | D13: =C13+(C13/100*ТЛ!$G$33) -> 12380 | F13: 10890
A16: СМАРТИ
A18: Кровать 1,6м | B18: 2760 | C18: =B18-(B18/100*ТЛ!$G$32) -> 2760 | D18: =C18+(C18/100*ТЛ!$G$33) -> 2760 | F18: 2360
A19: Пенал открытый | B19: 2200 | C19: =B19-(B19/100*ТЛ!$G$32) -> 2200 | D19: =C19+(C19/100*ТЛ!$G$33) -> 2200 | F19: 2205
A20: Дверка к пеналу открытому | B20: 350 | C20: =B20-(B20/100*ТЛ!$G$32) -> 350 | D20: =C20+(C20/100*ТЛ!$G$33) -> 350 | F20: 300
A21: Шкаф 2-х створч | B21: 4710 | C21: =B21-(B21/100*ТЛ!$G$32) -> 4710 | D21: =C21+(C21/100*ТЛ!$G$33) -> 4710 | F21: 4350
A22: Комод | B22: =CEILING((F22+F22*0.07),5) -> 3105 | C22: =B22-(B22/100*ТЛ!$G$32) -> 3105 | D22: =C22+(C22/100*ТЛ!$G$33) -> 3105 | F22: 2900
A23: Полка | B23: =CEILING((F23+F23*0.07),5) -> 1265 | C23: =B23-(B23/100*ТЛ!$G$32) -> 1265 | D23: =C23+(C23/100*ТЛ!$G$33) -> 1265 | F23: 1180
A24: Стол письменный | B24: 2580 | C24: =B24-(B24/100*ТЛ!$G$32) -> 2580 | D24: =C24+(C24/100*ТЛ!$G$33) -> 2580 | F24: 2315
A25: Тумба прикроватная | B25: 1600 | C25: =B25-(B25/100*ТЛ!$G$32) -> 1600 | D25: =C25+(C25/100*ТЛ!$G$33) -> 1600 | F25: 1410
A26: Бортик к кровати | B26: 520 | C26: =B26-(B26/100*ТЛ!$G$32) -> 520 | D26: =C26+(C26/100*ТЛ!$G$33) -> 520
A27: Кровать Смарти-2 | B27: 3000 | C27: =B27-(B27/100*ТЛ!$G$32) -> 3000 | D27: =C27+(C27/100*ТЛ!$G$33) -> 3000
A28: Кровать Смарти-3 | B28: 7960 | C28: =B28-(B28/100*ТЛ!$G$32) -> 7960 | D28: =C28+(C28/100*ТЛ!$G$33) -> 7960
A29: Лестница к Смарти-3 | B29: 720 | C29: =B29-(B29/100*ТЛ!$G$32) -> 720 | D29: =C29+(C29/100*ТЛ!$G$33) -> 720
A30: Тумба Смарти | B30: 3410 | C30: =B30-(B30/100*ТЛ!$G$32) -> 3410 | D30: =C30+(C30/100*ТЛ!$G$33) -> 3410
A31: Жемчужина
A33: Кровать 1,6м | B33: 8190 | C33: =B33-(B33/100*ТЛ!$G$32) -> 8190 | D33: =C33+(C33/100*ТЛ!$G$33) -> 8190 | F33: 8890
A34: Пенал | B34: 4800 | C34: =B34-(B34/100*ТЛ!$G$32) -> 4800 | D34: =C34+(C34/100*ТЛ!$G$33) -> 4800 | F34: 4350
A35: Шкаф одностворч. с зеркалом | B35: 8700 | C35: =B35-(B35/100*ТЛ!$G$32) -> 8700 | D35: =C35+(C35/100*ТЛ!$G$33) -> 8700 | F35: 7800
A36: Тумба прикров. | B36: 2120 | C36: =B36-(B36/100*ТЛ!$G$32) -> 2120 | D36: =C36+(C36/100*ТЛ!$G$33) -> 2120 | F36: 1950
A37: Трельяж | B37: 11900 | C37: =B37-(B37/100*ТЛ!$G$32) -> 11900 | D37: =C37+(C37/100*ТЛ!$G$33) -> 11900 | F37: 10500
A38: Шкаф 2-х створч. С зерк. | B38: 14850 | C38: =B38-(B38/100*ТЛ!$G$32) -> 14850 | D38: =C38+(C38/100*ТЛ!$G$33) -> 14850 | F38: 13550
A39: Шкаф угловой с зерк. | B39: 11580 | C39: =B39-(B39/100*ТЛ!$G$32) -> 11580 | D39: =C39+(C39/100*ТЛ!$G$33) -> 11580 | F39: 10050
A40: комод | B40: 5470 | C40: =B40-(B40/100*ТЛ!$G$32) -> 5470 | D40: =C40+(C40/100*ТЛ!$G$33) -> 5470 | F40: 4850
A41: стол туал | B41: 9620 | C41: =B41-(B41/100*ТЛ!$G$32) -> 9620 | D41: =C41+(C41/100*ТЛ!$G$33) -> 9620 | F41: 8600
A42: Шкаф 2-х створч. Без зерк. | B42: 13370 | C42: =B42-(B42/100*ТЛ!$G$32) -> 13370 | D42: =C42+(C42/100*ТЛ!$G$33) -> 13370
A43: Шкаф угловой без зерк. | B43: 10290 | C43: =B43-(B43/100*ТЛ!$G$32) -> 10290 | D43: =C43+(C43/100*ТЛ!$G$33) -> 10290
A44: ортопед 1,6м | B44: 2860 | C44: =B44-(B44/100*ТЛ!$G$32) -> 2860 | D44: =C44+(C44/100*ТЛ!$G$33) -> 2860
C45: =B45-(B45/100*ТЛ!$G$32) -> 0 | D45: =C45+(C45/100*ТЛ!$G$33) -> 0
A46: Короб выдвижной универсальный | B46: 880 | C46: =B46-(B46/100*ТЛ!$G$32) -> 880 | D46: =C46+(C46/100*ТЛ!$G$33) -> 880
C47: =B47-(B47/100*ТЛ!$G$32) -> 0 | D47: =C47+(C47/100*ТЛ!$G$33) -> 0
C48: =B48-(B48/100*ТЛ!$G$32) -> 0 | D48: =C48+(C48/100*ТЛ!$G$33) -> 0
A49: Дельта | C49: =B49-(B49/100*ТЛ!$G$32) -> 0 | D49: =C49+(C49/100*ТЛ!$G$33) -> 0
A50: Кровать Дельта | B50: 3970 | C50: =B50-(B50/100*ТЛ!$G$32) -> 3970 | D50: =C50+(C50/100*ТЛ!$G$33) -> 3970
A51: Комод Дельта | B51: 3290 | C51: =B51-(B51/100*ТЛ!$G$32) -> 3290 | D51: =C51+(C51/100*ТЛ!$G$33) -> 3290
A52: Короб выдвижной (универс.) | B52: 880 | C52: =B52-(B52/100*ТЛ!$G$32) -> 880 | D52: =C52+(C52/100*ТЛ!$G$33) -> 880
A53: Тумба прикроватная Дельта | B53: 2050 | C53: =B53-(B53/100*ТЛ!$G$32) -> 2050 | D53: =C53+(C53/100*ТЛ!$G$33) -> 2050
A54: Стол компьютерный Дельта | B54: 5650 | C54: =B54-(B54/100*ТЛ!$G$32) -> 5650 | D54: =C54+(C54/100*ТЛ!$G$33) -> 5650
A55: Шкаф 3-створчатый Дельта | B55: 9670 | C55: =B55-(B55/100*ТЛ!$G$32) -> 9670 | D55: =C55+(C55/100*ТЛ!$G$33) -> 9670
A56: Полка навесная Дельта | B56: 1265 | C56: =B56-(B56/100*ТЛ!$G$32) -> 1265 | D56: =C56+(C56/100*ТЛ!$G$33) -> 1265

Sheet Дельта
B13: Серия детской мебели "Дельта", цвет белый ЛДСП комб. с лайм или оранж с ф/п
B14: Кровать "Дельта" | G14: Комод "Дельта" | L14: Короб выдвижной (универсальный)
B15: 2040х950х920 | G15: 720х466х750 | L15: 980х463х200
E16: Вес,кг | J16: Вес,кг | O16: Вес,кг
E18: Объем,м3 | J18: Объем,м3 | O18: Объем,м3
E20: Кол-во упаковок | J20: Кол-во упаковок | O20: Кол-во упаковок
L21: на колесиках
B22: ЦЕНА | D22: ='5р'!D50 -> 3970 | G22: ЦЕНА | I22: ='5р'!D51 -> 3290 | L22: ЦЕНА | N22: ='5р'!D52 -> 880
B23: мдф настил
B24: сп.м (2000х900)
B26: Тумба прикроватная "Дельта" | G26: Стол комьютерный "Дельта" | L26: Шкаф 3-х створч. "Дельта"
B27: 450х440х520 | G27: 1200х600х1850 | L27: 1500х600х2000
E28: Вес,кг | J28: Вес,кг | O28: Вес,кг
E30: Объем,м3 | J30: Объем,м3 | O30: Объем,м3
E32: Кол-во упаковок | J32: Кол-во упаковок | O32: Кол-во упаковок
B34: ЦЕНА | D34: ='5р'!D53 -> 2050 | G34: ЦЕНА | I34: ='5р'!D54 -> 5650 | L34: ЦЕНА | N34: ='5р'!D55 -> 9670
B38: Полка навесная "Дельта"
B39: 1100х316х340
E40: Вес,кг
E42: Объем,м3
E44: Кол-во упаковок
B46: ЦЕНА | D46: ='5р'!D56 -> 1265

Sheet СМАРТИ
B13: Серия детской мебели "Смарти", цвет белый ЛДСП
B14: Кровать "Смарти" | G14: Пенал открытый "Смарти" | L14: Дверка к пеналу открытому "Смарти"
B15: 850х1640х860 | G15: 350х450х2030 | L15: 350х450х2030
E16: Вес,кг | J16: Вес,кг | O16: Вес,кг
E18: Объем,м3 | J18: Объем,м3 | O18: Объем,м3
E20: Кол-во упаковок | J20: Кол-во упаковок | O20: Кол-во упаковок
B22: ЦЕНА | D22: ='5р'!D18 -> 2760 | G22: ЦЕНА | I22: ='5р'!D19 -> 2200 | L22: ЦЕНА | N22: ='5р'!D20 -> 350
B23: мдф настил
B24: сп.м (1600х800)
B26: Шкаф 2-х створч. "Смарти" (штанга и полки) | G26: Комод "Смарти" | L26: Полка навесная "Смарти"
B27: 700х450х2030 | G27: 720х466х750 | L27: 1100х316х340
E28: Вес,кг | J28: Вес,кг | O28: Вес,кг
E30: Объем,м3 | J30: Объем,м3 | O30: Объем,м3
E32: Кол-во упаковок | J32: Кол-во упаковок | O32: Кол-во упаковок
B34: ЦЕНА | D34: ='5р'!D21 -> 4710 | G34: ЦЕНА | I34: ='5р'!D22 -> 3105 | L34: ЦЕНА | N34: ='5р'!D23 -> 1265
B38: Стол письменный "Смарти" | G38: Тумба прикроватная "Смарти" | L38: Бортик к кровати "Смарти" (универсальный)
B39: 1100х600х750 | G39: 370х466х460 | L39: 800х336х48
E40: Вес,кг | J40: Вес,кг | O40: Вес,кг
E42: Объем,м3 | J42: Объем,м3 | O42: Объем,м3
E44: Кол-во упаковок | J44: Кол-во упаковок | O44: Кол-во упаковок
B46: ЦЕНА | D46: ='5р'!D24 -> 2580 | G46: ЦЕНА | I46: ='5р'!D25 -> 1600 | L46: ЦЕНА | N46: ='5р'!D26 -> 520
B50: Кровать "Смарти-2" | G50: Кровать "Смарти-3" | L50: Лестница (приставная)к кровати "Смарти-3"
B51: 850х2030х860 | G51: 840х1940х840 | L51: 500х280х640
E52: Вес,кг | J52: Вес,кг | O52: Вес,кг
E54: Объем,м3 | J54: Объем,м3 | O54: Объем,м3
E56: Кол-во упаковок | J56: Кол-во упаковок | O56: Кол-во упаковок
B58: ЦЕНА | D58: ='5р'!D27 -> 3000 | G58: ЦЕНА | I58: ='5р'!D28 -> 7960 | L58: ЦЕНА | N58: ='5р'!D29 -> 720
B59: мдф настил | G59: дно у кровати лдсп
B60: сп.м (2000х800) | G60: сп.м (1900х800)
B62: Тумба "Смарти" | G62: Короб выдвижной (универсальный) на колесн. опорах
B63: 800х466х750 | G63: 980х463х180
E64: Вес,кг | J64: Вес,кг
E66: Объем,м3 | J66: Объем,м3
E68: Кол-во упаковок | J68: Кол-во упаковок
B70: ЦЕНА | D70: ='5р'!D30 -> 3410 | G70: ЦЕНА | I70: ='5р'!D46 -> 880
G71: подходит к кровати Смарти и Смарти-2

Sheet Жемчужина
B13: Набор для спальни "Жемчужина"
B14: Кровать "Жемчужина" | G14: Пенал "Жемчужина" | L14: Шкаф одностворч. с зеркалом "Жемчужина"
B15: 1940х1040х2042 | G15: 450х616х2100 | L15: 550х616х2100
E16: Вес,кг | J16: Вес,кг | O16: Вес,кг
E18: Объем,м3 | J18: Объем,м3 | O18: Объем,м3
E20: Кол-во упаковок | J20: Кол-во упаковок | O20: Кол-во упаковок
B22: ЦЕНА | D22: ='5р'!D33 -> 8190 | G22: ЦЕНА | I22: ='5р'!D34 -> 4800 | L22: ЦЕНА | N22: ='5р'!D35 -> 8700
B23: ортопед | D23: ='5р'!D44 -> 2860
B24: сп.м (1600х800)
B26: Тумба прикроватн. "Жемчужина" | G26: Трельяж "Жемчужина" | L26: Шкаф 2-х дверн. "Жемчужина"
B27: 420х426х490 | G27: 1128х450х1686 | L27: 1100х616х2100
E28: Вес,кг | G28: за зеркалами полки | J28: Вес,кг | O28: Вес,кг
E30: Объем,м3 | J30: Объем,м3 | O30: Объем,м3
E32: Кол-во упаковок | J32: Кол-во упаковок | O32: Кол-во упаковок
B34: ЦЕНА | D34: ='5р'!D36 -> 2120 | G34: ЦЕНА | I34: ='5р'!D37 -> 11900 | L34: ЦЕНА с зеркалами | N34: ='5р'!D38 -> 14850
L35: ЦЕНА без зеркал | N35: ='5р'!D42 -> 13370
B38: Шкаф угловой "Жемчужина" | G38: Комод "Жемчужина"
B39: 1100х600х750
E40: Вес,кг | J40: Вес,кг | L40: Столик туалетный "Жемчужина"
E42: Объем,м3 | J42: Объем,м3 | O42: Вес,кг
E44: Кол-во упаковок | J44: Кол-во упаковок | O44: Объем,м3
B46: ЦЕНА с зеркалом | D46: ='5р'!D39 -> 11580 | G46: ЦЕНА | I46: ='5р'!D40 -> 5470 | O46: Кол-во упаковок
B47: ЦЕНА без зеркал | D47: ='5р'!D43 -> 10290
L48: ЦЕНА | N48: ='5р'!D41 -> 9620

Sheet 7
A7: Количество ограничено!!! Цена без подорожания! Уточнять по наличию у менеджера!!!
D14: Цена всего комплекта | G14: =SUM(D25,I25*2,N25,N38,D38) -> 22885
B16: Набор для спальни "Квадро"
B17: Кровать "Квадро" 1,6 | G17: Тумба прикроватная "Квадро" | L17: Комод "Квадро"
B18: 1716 х 2134 х 922(сп.м.1600х2000) | G18: 560 х 390 х 430 | L18: 900 х 460 х 850
E19: Вес,кг | J19: Вес,кг | O19: Вес,кг
E20: 74 | J20: 20 | O20: 48
E21: Объем,м3 | J21: Объем,м3 | O21: Объем,м3
E22: 0.14 | J22: 0.04 | O22: 0.14
E23: Кол-во упаковок | J23: Кол-во упаковок | O23: Кол-во упаковок
E24: 2 | J24: 1 | O24: 1
B25: ЦЕНА без учета орт. основания | D25: ='7р'!D2 -> 4300 | G25: ЦЕНА | I25: ='7р'!D4 -> 2080 | L25: ЦЕНА | N25: ='7р'!D5 -> 5020
G26: Шимо светлый | L26: Шимо светлый
B27: Ортопед на ножках 1,6* | E27: ='7р'!D3 -> 2860
B28: Шимо светлый
B30: Шкаф для одежды и белья "Квадро" | G30: Стол туалетный "Квадро" | L30: Зеркало "Квадро"
B31: 1500 х 600 х 2020 | G31: 900 х 415 х 770 | L31: 900 х 16 х 600
E32: Вес,кг | J32: Вес,кг | O32: Вес,кг
E33: 122 | J33: 24 | O33: 22
E34: Объем,м3 | J34: Объем,м3 | O34: Объем,м3
E35: 0.25 | J35: 0.05 | O35: 0.05
E36: Кол-во упаковок | J36: Кол-во упаковок | O36: Кол-во упаковок
E37: 3 | J37: 1 | O37: 1
B38: ЦЕНА | D38: ='7р'!D6 -> 8380 | G38: ЦЕНА | I38: ='7р'!D7 -> 2295 | L38: ЦЕНА | N38: ='7р'!D8 -> 1025
B39: Шимо светлый | G39: Шимо светлый | L39: Шимо светлый

Sheet 7р
A1: наименование | B1: цена | C1: со скидкой | D1: и наценкой
A2: Кровать квадро без учета орт.ос. | B2: 4300 | C2: =B2-(B2/100*ТЛ!$G$32) -> 4300 | D2: =C2+(C2/100*ТЛ!$G$33) -> 4300
A3: Ортопед 1,6 | B3: 2860 | C3: =B3 -> 2860 | D3: =C3+(C3/100*ТЛ!$G$33) -> 2860
A4: Тумба прикроват. квадро | B4: 2080 | C4: =B4-(B4/100*ТЛ!$G$32) -> 2080 | D4: =C4+(C4/100*ТЛ!$G$33) -> 2080
A5: Комод квадро | B5: 5020 | C5: =B5-(B5/100*ТЛ!$G$32) -> 5020 | D5: =C5+(C5/100*ТЛ!$G$33) -> 5020
A6: Шкаф для одежды квадро | B6: 8380 | C6: =B6-(B6/100*ТЛ!$G$32) -> 8380 | D6: =C6+(C6/100*ТЛ!$G$33) -> 8380
A7: СТ квадро | B7: 2295 | C7: =B7-(B7/100*ТЛ!$G$32) -> 2295 | D7: =C7+(C7/100*ТЛ!$G$33) -> 2295
A8: Зеркало квадро | B8: 1025 | C8: =B8-(B8/100*ТЛ!$G$32) -> 1025 | D8: =C8+(C8/100*ТЛ!$G$33) -> 1025

Sheet 8
C8: Фотопечать
D14: Цена комплекта | G14: =SUM(D25,I25*2,N25,D38,I38,N38,E27) -> 36700
B16: Набор для спальни "Селена"
B17: Кровать "Селена" 1,6 | G17: Тумба прикроватная "Селена" | L17: Комод "Селена"
B18: 1650х 2040 х1000 (сп.м.1600х2000) | G18: 550 х 380 х 440 | L18: 900 х 440 х 960
E19: Вес,кг | J19: Вес,кг | O19: Вес,кг
E20: 44 | J20: 17 | O20: 56
E21: Объем,м3 | J21: Объем,м3 | O21: Объем,м3
E22: 0.15 | J22: 0.04 | O22: 0.15
E23: Кол-во упаковок | J23: Кол-во упаковок | O23: Кол-во упаковок
E24: 3 | J24: 1 | O24: 2
B25: ЦЕНА без учета орт.основания | D25: ='8р'!D2 -> 5620 | G25: ЦЕНА | I25: ='8р'!D4 -> 2000 | L25: ЦЕНА | N25: ='8р'!D5 -> 5300
G26: шимо темн.+МДФ белый глянец+ф/п | L26: шимо темн.+МДФ белый глянец+ф/п
B27: Ортопед на ножках 1,6* | E27: ='8р'!D3 -> 2860
B28: шимо темн.+МДФ белый глянец+ф/п
B30: Шкаф для одежды и белья "Селена" | G30: Стол туалетный "Селена" | L30: Зеркало "Селена"
B31: 1500 х 570 х 2260 | G31: 900 х 405 х 820 | L31: 896 х 16 х 750
E32: Вес,кг | J32: Вес,кг | O32: Вес,кг
E33: 142 | J33: 24 | O33: 14
E34: Объем,м3 | J34: Объем,м3 | O34: Объем,м3
E35: 0.27 | J35: 0.05 | O35: 0.03
E36: Кол-во упаковок | J36: Кол-во упаковок | O36: Кол-во упаковок
E37: 3 | J37: 1 | O37: 1
B38: ЦЕНА | D38: ='8р'!D6 -> 14800 | G38: ЦЕНА | I38: ='8р'!D7 -> 1905 | L38: ЦЕНА | N38: ='8р'!D8 -> 2215
B39: шимо темн.+МДФ белый глянец+ф/п | G39: шимо темн.+МДФ белый глянец+ф/п | L39: шимо темн.+МДФ белый глянец+ф/п

Sheet 8р
A1: наименование | B1: цена | C1: со скидкой | D1: и наценкой
A2: Кровать селена без уч.орт. | B2: =CEILING((F2+F2*0.07),5) -> 5620 | C2: =B2-(B2/100*ТЛ!$G$32) -> 5620 | D2: =C2+(C2/100*ТЛ!$G$33) -> 5620 | F2: 5250
A3: Ортопед 1,6 | B3: 2860 | C3: =B3 -> 2860 | D3: =C3+(C3/100*ТЛ!$G$33) -> 2860 | F3: 2190
A4: Тумба прикроват. Селена | B4: =CEILING((F4+F4*0.07),5) -> 2000 | C4: =B4-(B4/100*ТЛ!$G$32) -> 2000 | D4: =C4+(C4/100*ТЛ!$G$33) -> 2000 | F4: 1865
A5: Комод селена | B5: =CEILING((F5+F5*0.07),5) -> 5300 | C5: =B5-(B5/100*ТЛ!$G$32) -> 5300 | D5: =C5+(C5/100*ТЛ!$G$33) -> 5300 | F5: 4950
A6: Шкаф для одежды селена | B6: =CEILING((F6+F6*0.07),5) -> 14800 | C6: =B6-(B6/100*ТЛ!$G$32) -> 14800 | D6: =C6+(C6/100*ТЛ!$G$33) -> 14800 | F6: 13830
A7: СТ селена | B7: =CEILING((F7+F7*0.07),5) -> 1905 | C7: =B7-(B7/100*ТЛ!$G$32) -> 1905 | D7: =C7+(C7/100*ТЛ!$G$33) -> 1905 | F7: 1780
A8: Зеркало селена | B8: =CEILING((F8+F8*0.07),5) -> 2215 | C8: =B8-(B8/100*ТЛ!$G$32) -> 2215 | D8: =C8+(C8/100*ТЛ!$G$33) -> 2215 | F8: 2070

Sheet 9
C7: Цена комплекта со шкафом трехстворчатым и кроватью 1,6, цвет белый + МДФ патина
G8: =SUM(D23,I36*2,N36,D36,N47) -> 37495
B15: Кровать двухспальная"Купидон" | G15: Кровать двухспальная"Купидон"
B16: 1650х 2040 х1000 (сп.м.1600х2000) | G16: 1250х 2040 х1000 (сп.м.1200х2000)
E17: Вес,кг | J17: Вес,кг
E18: 44 | J18: 30
E19: Объем,м3 | J19: Объем,м3
E20: 0.15 | J20: 0.12
E21: Кол-во упаковок | J21: Кол-во упаковок
E22: 3 | J22: 3
B23: ЦЕНА без учета орт.основания | D23: ='9р'!D2 -> 5065 | G23: ЦЕНА без учета орт.основания | I23: ='9р'!D9 -> 3955
B25: Ортопед на ножках 1,6* | E25: ='9р'!D3 -> 2860 | G25: Ортопед на ножках 1,2* | J25: ='9р'!D10 -> 2700
B26: Белый + МДФ патина | G26: Белый + МДФ патина
B28: Стол туалетный "Купидон" | G28: Тумба прикроватная "Купидон" | L28: Комод "Купидон"
B29: 900 х 530 х 1460 | G29: 570 х 400 х 530 | L29: 920 х 456 х 930
E30: Вес,кг | J30: Вес,кг | O30: Вес,кг
E31: 42 | J31: 22 | O31: 54
E32: Объем,м3 | J32: Объем,м3 | O32: Объем,м3
E33: 0.06 | J33: 0.04 | O33: 0.14
E34: Кол-во упаковок | J34: Кол-во упаковок | O34: Кол-во упаковок
E35: 1 | J35: 1 | O35: 2
B36: ЦЕНА | D36: ='9р'!D6 -> 5475 | G36: ЦЕНА | I36: ='9р'!D4 -> 2380 | L36: ЦЕНА | N36: ='9р'!D5 -> 6365
B37: Белый + МДФ патина | G37: Белый + МДФ патина | L37: Белый + МДФ патина
G39: Шкаф для одежды и белья двухстворчатый "Купидон" | L39: Шкаф для одежды и белья трехстворчатый "Купидон"
G40: 1000 х 570 х 2200 | L40: 1500 х 570 х 2200
J41: Вес,кг | O41: Вес,кг
J42: 122 | O42: 155
J43: Объем,м3 | O43: Объем,м3
J44: 0.2 | O44: 0.27
J45: Кол-во упаковок | O45: Кол-во упаковок
J46: 3 | O46: 3
G47: ЦЕНА | I47: ='9р'!D7 -> 10620 | L47: ЦЕНА | N47: ='9р'!D8 -> 15830
G48: Белый + МДФ патина | L48: Белый + МДФ патина

Sheet 9р
A1: наименование | B1: цена | C1: со скидкой | D1: и наценкой
A2: Кровать Купидон 1,6 без орт.ос | B2: =CEILING((F2+F2*0.07),5) -> 5065 | C2: =B2-(B2/100*ТЛ!$G$32) -> 5065 | D2: =C2+(C2/100*ТЛ!$G$33) -> 5065 | F2: 4730
A3: ортопед 1,6 | B3: 2860 | C3: =B3 -> 2860 | D3: =C3+(C3/100*ТЛ!$G$33) -> 2860 | F3: 2190
A4: Тумба прикроват. Купидон | B4: =CEILING((F4+F4*0.07),5) -> 2380 | C4: =B4-(B4/100*ТЛ!$G$32) -> 2380 | D4: =C4+(C4/100*ТЛ!$G$33) -> 2380 | F4: 2220
A5: Комод Купидон | B5: =CEILING((F5+F5*0.07),5) -> 6365 | C5: =B5-(B5/100*ТЛ!$G$32) -> 6365 | D5: =C5+(C5/100*ТЛ!$G$33) -> 6365 | F5: 5945
A6: СТ Купидон | B6: =CEILING((F6+F6*0.07),5) -> 5475 | C6: =B6-(B6/100*ТЛ!$G$32) -> 5475 | D6: =C6+(C6/100*ТЛ!$G$33) -> 5475 | F6: 5115
A7: Шкаф Купидон 1,0 | B7: =CEILING((F7+F7*0.07),5) -> 10620 | C7: =B7-(B7/100*ТЛ!$G$32) -> 10620 | D7: =C7+(C7/100*ТЛ!$G$33) -> 10620 | F7: 9925
A8: Шкаф Купидон 1,5 | B8: =CEILING((F8+F8*0.07),5) -> 15830 | C8: =B8-(B8/100*ТЛ!$G$32) -> 15830 | D8: =C8+(C8/100*ТЛ!$G$33) -> 15830 | F8: 14790
A9: Кровать Купидон 1,2 без орт.осн. | B9: =CEILING((F9+F9*0.07),5) -> 3955 | C9: =B9-(B9/100*ТЛ!$G$32) -> 3955 | D9: =C9+(C9/100*ТЛ!$G$33) -> 3955 | F9: 3695
A10: ортопед 1,2 | B10: 2700 | C10: =B10 -> 2700 | D10: =C10+(C10/100*ТЛ!$G$33) -> 2700 | F10: 2025

Sheet 10
B15: Кровать двухспальная "Гармония" | G15: Тумба прикроватная "Гармония" со стеклян. полкой | L15: Комод "Гармония"
B16: 1766 х 2037 х 855 | G16: 400 х 400 х 495 | L16: 800 х 450 х 895
E17: Вес,кг | J17: Вес,кг | O17: Вес,кг
E18: 43 | J18: 14 | O18: 43
E19: Объем,м3 | J19: Объем,м3 | O19: Объем,м3
E20: 0.12 | J20: 0.03 | O20: 0.09
E21: Кол-во упаковок | J21: Кол-во упаковок | O21: Кол-во упаковок
E22: 3 | J22: 1 | O22: 1
B23: ЦЕНА без учета орт.основания | D23: ='10р'!D2 -> 3480 | G23: ЦЕНА | I23: ='10р'!D4 -> 1575 | L23: ЦЕНА | N23: ='10р'!D5 -> 4645
G24: Шимо светл. | L24: Шимо светл.
B25: Ортопед на ножках 1,6* | E25: ='10р'!D3 -> 2860
B26: Шимо светл.
B27: Стол туалетный "Гармония" | G27: Шкаф двухстворчатый "Гармония" | L27: Шкаф трехстворчатый "Гармония"
B28: 1000 х 400 х 1420 | G28: 800 х 568 х 2200 | L28: 1200 х 568 х 2200
E29: Вес,кг | J29: Вес,кг | O29: Вес,кг
E30: 34 | J30: 69 | O30: 120
E31: Объем,м3 | J31: Объем,м3 | O31: Объем,м3
E32: 0.06 | J32: 0.13 | O32: 0.28
E33: Кол-во упаковок | J33: Кол-во упаковок | O33: Кол-во упаковок
E34: 1 | J34: 2 | O34: 3
B35: ЦЕНА | D35: ='10р'!D6 -> 3525 | G35: ЦЕНА (без зеркал) | I35: ='10р'!D7 -> 4710 | L35: ЦЕНА | N35: ='10р'!D12 -> 9760
B36: Шимо светл. | G36: с зеркалами | I36: ='10р'!D8 -> 6900 | L36: без зеркала | N36: ='10р'!D23 -> 8700
G37: Шимо светл. | L37: Шимо светл.
B39: Шкаф четырехстворчатый "Гармония" | G39: Шкаф двухстворчатый с ящиками "Гармония" | L39: Шкаф угловой "Гармония"
B40: 1600 х 568 х 2200 | G40: 800 х 568 х 2200 | L40: 900 х 900 х 2200
E41: Вес,кг | J41: Вес,кг | O41: Вес,кг
E42: 182 | J42: 101 | O42: 106
E43: Объем,м3 | J43: Объем,м3 | O43: Объем,м3
E44: 0.36 | J44: 0.18 | O44: 0.22
E45: Кол-во упаковок | J45: Кол-во упаковок | O45: Кол-во упаковок
E46: 3 | J46: 3 | O46: 2
B47: ЦЕНА | G47: ЦЕНА | L47: ЦЕНА
B48: с зеркалами и накладками | E48: ='10р'!D13 -> 15020 | G48: с зеркалами и накладками | J48: ='10р'!D11 -> 9300 | L48: с зеркалами и накладками | O48: ='10р'!D17 -> 8775
B49: без зеркал | E49: ='10р'!D14 -> 13910 | G49: без зеркал - | J49: ='10р'!D10 -> 7955 | L49: без зеркал - | O49: ='10р'!D16 -> 7440
B50: глухое ЛДСП - | E50: ='10р'!D15 -> 11825 | G50: Шимо светл. | L50: Шимо светл.
B51: Шимо светл.
B53: Пенал "Гармония" | G53: Пенал с угловыми полками "Гармония" | L53: Полки к шкафу двухстворчатому "Гармония"
B54: 400 х 568 х 2200 | G54: 295 х 568 х 2200
E55: Вес,кг | J55: Вес,кг | O55: Вес,кг
E56: 35 | J56: 30 | O56: 6
E57: Объем,м3 | J57: Объем,м3 | O57: Объем,м3
E58: 0.09 | J58: 0.09 | O58: 0.01
E59: Кол-во упаковок | J59: Кол-во упаковок | O59: Кол-во упаковок
E60: 1 | J60: 1 | O60: 1
B61: ЦЕНА | D61: ='10р'!D18 -> 4015 | G61: ЦЕНА | I61: ='10р'!D19 -> 2245 | L61: ЦЕНА | N61: ='10р'!D9 -> 705
B62: Шимо светл. | G62: Шимо светл. | L62: Шимо светл.
B64: Кровать "Гармония" с 3 ящиками | G64: Полка навесная "Гармония"
B65: 2042 х 840 х 750 | G65: 1020 х 350 х 340
E66: Вес,кг | J66: Вес,кг
E67: 85 | J67: 20
E68: Объем,м3 | J68: Объем,м3
E69: 0.2 | J69: 0.04
E70: Кол-во упаковок | J70: Кол-во упаковок
E71: 2 | J71: 1
B72: ЦЕНА | D72: ='10р'!D21 -> 6665 | G72: ЦЕНА | I72: ='10р'!D20 -> 1790
B73: Шимо светл. | G73: Шимо светл.
B75: Набор №1 "Гармония" (для детской)
B76: 3642 х 840 х 2200 | F76: В набор входит:
E77: Вес,кг | F77: Шкаф двухстворчатый - 2шт
F78: Полки к шкафу двухстворч. - 1шт
E79: Объем,м3 | F79: Полка навесная - 2шт
F80: Кровать с ящиками - 1шт
E81: Кол-во упаковок
F82: Составленный набор указан для примера, в заявке и накладной выписывается по модулям
B83: ЦЕНА
B84: Шимо светл.

Sheet 10р
A1: наименование | B1: цена | C1: со скидкой | D1: и наценкой
A2: Кровать Гармония без орт.осн | B2: =CEILING((F2+F2*0.07),5) -> 3480 | C2: =B2-(B2/100*ТЛ!$G$32) -> 3480 | D2: =C2+(C2/100*ТЛ!$G$33) -> 3480 | F2: 3250
A3: ортопед 1,6 | B3: 2860 | C3: =B3 -> 2860 | D3: =C3+(C3/100*ТЛ!$G$33) -> 2860 | F3: 2190
A4: Тумба прикроват. Гармония | B4: =CEILING((F4+F4*0.07),5) -> 1575 | C4: =B4-(B4/100*ТЛ!$G$32) -> 1575 | D4: =C4+(C4/100*ТЛ!$G$33) -> 1575 | F4: 1470
A5: Комод Гармония | B5: 4645 | C5: =B5-(B5/100*ТЛ!$G$32) -> 4645 | D5: =C5+(C5/100*ТЛ!$G$33) -> 4645 | F5: 4385
A6: СТ Гармония | B6: =CEILING((F6+F6*0.07),5) -> 3525 | C6: =B6-(B6/100*ТЛ!$G$32) -> 3525 | D6: =C6+(C6/100*ТЛ!$G$33) -> 3525 | F6: 3290
A7: Шкаф 2хств. Гармония | B7: =CEILING((F7+F7*0.07),5) -> 4710 | C7: =B7-(B7/100*ТЛ!$G$32) -> 4710 | D7: =C7+(C7/100*ТЛ!$G$33) -> 4710 | F7: 4400
A8: Шкаф 2хств. Гармония с зеркалами | B8: =CEILING((F8+F8*0.07),5) -> 6900 | C8: =B8-(B8/100*ТЛ!$G$32) -> 6900 | D8: =C8+(C8/100*ТЛ!$G$33) -> 6900 | F8: 6445
A9: Полки к шкафу 2хств. Гармония | B9: 705 | C9: =B9-(B9/100*ТЛ!$G$32) -> 705 | D9: =C9+(C9/100*ТЛ!$G$33) -> 705 | F9: 650
A10: Шкаф 2хств. С ящ Гармония без зеркал | B10: =CEILING((F10+F10*0.07),5) -> 7955 | C10: =B10-(B10/100*ТЛ!$G$32) -> 7955 | D10: =C10+(C10/100*ТЛ!$G$33) -> 7955 | F10: 7430
A11: Шкаф 2хств. С ящ Гармония с зерк | B11: =CEILING((F11+F11*0.07),5) -> 9300 | C11: =B11-(B11/100*ТЛ!$G$32) -> 9300 | D11: =C11+(C11/100*ТЛ!$G$33) -> 9300 | F11: 8690
A12: Шкаф 3хств. Гармония с зерк | B12: =CEILING((F12+F12*0.07),5) -> 9760 | C12: =B12-(B12/100*ТЛ!$G$32) -> 9760 | D12: =C12+(C12/100*ТЛ!$G$33) -> 9760 | F12: 9120
A13: Шкаф 4хств. Гармония с зерк и накл | B13: =CEILING((F13+F13*0.07),5) -> 15020 | C13: =B13-(B13/100*ТЛ!$G$32) -> 15020 | D13: =C13+(C13/100*ТЛ!$G$33) -> 15020 | F13: 14035
A14: Шкаф 4хств. Гармония без зеркал | B14: =CEILING((F14+F14*0.07),5) -> 13910 | C14: =B14-(B14/100*ТЛ!$G$32) -> 13910 | D14: =C14+(C14/100*ТЛ!$G$33) -> 13910 | F14: 13000
A15: Шкаф 4хств. Гармония ЛДСП | B15: =CEILING((F15+F15*0.07),5) -> 11825 | C15: =B15-(B15/100*ТЛ!$G$32) -> 11825 | D15: =C15+(C15/100*ТЛ!$G$33) -> 11825 | F15: 11050
A16: Шкаф угл. Гармония | B16: =CEILING((F16+F16*0.07),5) -> 7440 | C16: =B16-(B16/100*ТЛ!$G$32) -> 7440 | D16: =C16+(C16/100*ТЛ!$G$33) -> 7440 | F16: 6950
A17: Шкаф угл. Гармония с зеркалом | B17: =CEILING((F17+F17*0.07),5) -> 8775 | C17: =B17-(B17/100*ТЛ!$G$32) -> 8775 | D17: =C17+(C17/100*ТЛ!$G$33) -> 8775 | F17: 8200
A18: Пенал Гармония | B18: =CEILING((F18+F18*0.07),5) -> 4015 | C18: =B18-(B18/100*ТЛ!$G$32) -> 4015 | D18: =C18+(C18/100*ТЛ!$G$33) -> 4015 | F18: 3750
A19: Пенал с угл.полками Гармония | B19: =CEILING((F19+F19*0.07),5) -> 2245 | C19: =B19-(B19/100*ТЛ!$G$32) -> 2245 | D19: =C19+(C19/100*ТЛ!$G$33) -> 2245 | F19: 2095
A20: Полка навесная Гармония | B20: =CEILING((F20+F20*0.07),5) -> 1790 | C20: =B20-(B20/100*ТЛ!$G$32) -> 1790 | D20: =C20+(C20/100*ТЛ!$G$33) -> 1790 | F20: 1670
A21: Кровать с ящиками Гармония | B21: =CEILING((F21+F21*0.07),5) -> 6665 | C21: =B21-(B21/100*ТЛ!$G$32) -> 6665 | D21: =C21+(C21/100*ТЛ!$G$33) -> 6665 | F21: 6225
A22: Набор №1 | B22: =CEILING((F22+F22*0.07),5) -> 0 | C22: =B22-(B22/100*ТЛ!$G$32) -> 0 | D22: =C22+(C22/100*ТЛ!$G$33) -> 0
A23: Шкаф 3-х створч. Гармония без зеркала | B23: =CEILING((F23+F23*0.07),5) -> 8700 | C23: =B23-(B23/100*ТЛ!$G$32) -> 8700 | D23: =C23+(C23/100*ТЛ!$G$33) -> 8700 | F23: 8130

Sheet 11
B4: Прикроватные тумбы, столы туалетные
B5: Тумба прикроватная | G5: Тумба прикроватная с ящиками | L5: Тумба прикр. с ящиками ф/п
B6: 412 х 416 х 486 | G6: 430 х 420 х 486 | L6: 430 х 420 х 486
E7: Вес,кг | J7: Вес,кг | O7: Вес,кг
E8: 4 | J8: 4 | O8: 4
E9: Объем,м3 | J9: Объем,м3 | O9: Объем,м3
E10: 0.02 | J10: 0.02 | O10: 0.02
E11: Кол-во упаковок | J11: Кол-во упаковок | O11: Кол-во упаковок
E12: 1 | J12: 1 | O12: 1
B13: ЦЕНА | D13: ='11р'!D2 -> 1095 | G13: ЦЕНА | I13: ='11р'!D3 -> 1525 | L13: ЦЕНА | N13: ='11р'!D4 -> 1530
B14: Ольха, шимо светл. | G14: Ольха, шимо светл | L14: Венге+шимо светл
G15: Венге + шимо светл
B17: Тумба прикроватная "Квадро" Количество ограничено! | G17: Тумба прикроватная "Селена" | L17: Тумба прикроватная "Гармония"
B18: 560 х 390 х 430 | G18: 550 х 380 х 440 | L18: 400 х 400 х 495
E19: Вес,кг | J19: Вес,кг | O19: Вес,кг
E20: 20 | J20: 17 | O20: 22
E21: Объем,м3 | J21: Объем,м3 | O21: Объем,м3
E22: 0.04 | J22: 0.04 | O22: 0.04
E23: Кол-во упаковок | J23: Кол-во упаковок | O23: Кол-во упаковок
E24: 1 | J24: 1 | O24: 1
B25: ЦЕНА | D25: ='7р'!D4 -> 2080 | G25: ЦЕНА | I25: ='8р'!D4 -> 2000 | L25: ЦЕНА | N25: ='10р'!D4 -> 1575
B26: шимо светл. | G26: шимо темн.+МДФ белый глянец +ф/п | L26: шимо светл.
B29: Тумба прикроватная "Купидон" | G29: Тумба прикроватная "Алешка" | L29: Стол туалетный "Гармония"
B30: 570 х 400 х 530 | G30: 390 х 380 х 460 | L30: 1000 х 400 х 1420
E31: Вес,кг | J31: Вес,кг | O31: Вес,кг
E32: 22 | J32: 19
E33: Объем,м3 | J33: Объем,м3 | O33: Объем,м3
E34: 0.04 | J34: 0.03
E35: Кол-во упаковок | J35: Кол-во упаковок | O35: Кол-во упаковок
E36: 1 | J36: 1
B37: ЦЕНА | D37: ='9р'!D4 -> 2380 | G37: ЦЕНА | I37: ='4р'!D6 -> 1295 | L37: ЦЕНА | N37: ='10р'!D6 -> 3525
B38: Белый + МДФ патина | G38: шимо светл+шимо темн | L38: шимо светл
B41: Стол туалетный СТ-01 | G41: Стол туалетный СТ-01 МДФ | L41: Стол туалетный СТ-01 с ф/п
B42: 900 х 400 х 1560 | G42: 900 х 400 х 1560 | L42: 900 х 400 х 1560
E43: Вес,кг | J43: Вес,кг | O43: Вес,кг
E44: 40 | J44: 40 | O44: 40
E45: Объем,м3 | J45: Объем,м3 | O45: Объем,м3
E46: 0.05 | J46: 0.05 | O46: 0.05
E47: Кол-во упаковок | J47: Кол-во упаковок | O47: Кол-во упаковок
E48: 2 | J48: 2 | O48: 2
B49: ЦЕНА | D49: ='11р'!D5 -> 3685 | G49: ЦЕНА | I49: ='11р'!D6 -> 4325 | L49: ЦЕНА | N49: ='11р'!D7 -> 3690
B50: Венге+шимо светл | G50: Венге+шимо светл | L50: Венге+шимо светл
G51: Фасады и столешница МДФ
B53: Стол туалетный СТ-02 | G53: Стол туалетный "Квадро" | L53: Зеркало "Квадро"
B54: 1140 х 450 х 1570 | G54: 900 х 415 х 770 | L54: 900 х 16 х 600
E55: Вес,кг | J55: Вес,кг | O55: Вес,кг
E56: 60 | J56: 24 | O56: 22
E57: Объем,м3 | J57: Объем,м3 | O57: Объем,м3
E58: 0.12 | J58: 0.05 | O58: 0.05
E59: Кол-во упаковок | J59: Кол-во упаковок | O59: Кол-во упаковок
E60: 2 | J60: 1 | O60: 1
B61: ЦЕНА | D61: ='11р'!D8 -> 6715 | G61: ЦЕНА | I61: ='7р'!D7 -> 2295 | L61: ЦЕНА | N61: ='7р'!D8 -> 1025
B62: Венге+шимо светл | G62: шимо светл | L62: шимо светл
B65: Стол туалетный "Селена" | G65: Зеркало "Селена" | L65: Стол туалетный "Купидон"
B66: 900 х 405 х 820 | G66: 896 х 16 х 750 | L66: 900 х 530 х 1460
E67: Вес,кг | J67: Вес,кг | O67: Вес,кг
E68: 24 | J68: 14 | O68: 42
E69: Объем,м3 | J69: Объем,м3 | O69: Объем,м3
E70: 0.05 | J70: 0.03 | O70: 0.06
E71: Кол-во упаковок | J71: Кол-во упаковок | O71: Кол-во упаковок
E72: 1 | J72: 1 | O72: 1
B73: ЦЕНА | D73: ='8р'!D7 -> 1905 | G73: ЦЕНА | I73: ='8р'!D8 -> 2215 | L73: ЦЕНА | N73: ='9р'!D6 -> 5475
B74: шимо темн.+МДФ белый глянец+ф/п | G74: шимо темн.+МДФ белый глянец+ф/п | L74: Белый + МДФ патина

Sheet 11р
A1: наименование | B1: цена | C1: со скидкой | D1: и наценкой
A2: Тумба прикроватная с дверкой | B2: =CEILING((F2+F2*0.07),5) -> 1095 | C2: =B2-(B2/100*ТЛ!$G$32) -> 1095 | D2: =C2+(C2/100*ТЛ!$G$33) -> 1095 | F2: 1020
A3: Тумба прикроватная с ящ | B3: 1525 | C3: =B3-(B3/100*ТЛ!$G$32) -> 1525 | D3: =C3+(C3/100*ТЛ!$G$33) -> 1525 | F3: 1385
A4: Тумба прикроватная с ящ ф/п | B4: 1530 | C4: =B4-(B4/100*ТЛ!$G$32) -> 1530 | D4: =C4+(C4/100*ТЛ!$G$33) -> 1530 | F4: 1390
A5: СТ-01 | B5: =CEILING((F5+F5*0.07),5) -> 3685 | C5: =B5-(B5/100*ТЛ!$G$32) -> 3685 | D5: =C5+(C5/100*ТЛ!$G$33) -> 3685 | F5: 3440
A6: СТ-01 МДФ | B6: =CEILING((F6+F6*0.07),5) -> 4325 | C6: =B6-(B6/100*ТЛ!$G$32) -> 4325 | D6: =C6+(C6/100*ТЛ!$G$33) -> 4325 | F6: 4040
A7: СТ-01 ф/п | B7: =CEILING((F7+F7*0.07),5) -> 3690 | C7: =B7-(B7/100*ТЛ!$G$32) -> 3690 | D7: =C7+(C7/100*ТЛ!$G$33) -> 3690 | F7: 3445
A8: СТ-02 | B8: =CEILING((F8+F8*0.07),5) -> 6715 | C8: =B8-(B8/100*ТЛ!$G$32) -> 6715 | D8: =C8+(C8/100*ТЛ!$G$33) -> 6715 | F8: 6275

Sheet 12
A4: Мебель для спальни. Кровати
A6: Кровать одинарная 950 | F6: Кровать двойная 1450 | K6: Кровать двойная 1650
A7: 950 х 2032 х 800 | F7: 1450 х 2032 х 800 | K7: 1650 х 2032 х 800
D8: Вес,кг | I8: Вес,кг | N8: Вес,кг
D9: 42 | I9: 59 | N9: 64
D10: Объем,м3 | I10: Объем,м3 | N10: Объем,м3
D11: 0.11 | I11: 0.15 | N11: 0.16
D12: Кол-во упаковок | I12: Кол-во упаковок | N12: Кол-во упаковок
D13: 2 | I13: 2 | N13: 2
A14: ЦЕНА | C14: ='12р'!D2 -> 3180 | F14: ЦЕНА без учета орт.основания | H14: ='12р'!D3 -> 2300 | K14: ЦЕНА без учета орт.основания | M14: ='12р'!D4 -> 2425
A15: Ольха, шимо светл. Основание-МДФ перекрытие
F16: ольха, венге комб. с шимо светл. | K16: ольха, шимо светл.
A17: Спальное место 2000х900 | F17: Ортопед на ножках 1,4* | I17: ='12р'!D13 -> 2760 | K17: Ортопед на ножках 1,6* | N17: ='12р'!D14 -> 2860
A19: Кровать двойная 1450 с ф/п | F19: Формы спинок для кроватей:
A20: 1450 х 2032 х 800 | F20: 950, 1450, 1650
D21: Вес,кг
D22: 59
D23: Объем,м3
D24: 0.15 | G24: Форма 1
D25: Кол-во упаковок
D26: 2
A27: ЦЕНА без учета орт.основания | C27: ='12р'!D6 -> 2310
A29: венге+шимо светл.
A30: Ортопед на ножках 1,4* | D30: ='12р'!D13 -> 2760 | G30: Форма 2
A32: Кровать Юниор | F32: Кровать с мягкой спинкой ВИТА
A33: 950 х 2000 х 800 | F33: 1680 х 2140 х 930
D34: Вес,кг | I34: Вес,кг
D35: 82 | I35: 74
D36: Объем,м3 | I36: Объем,м3
D37: 0.3 | I37: 0.14
D38: Кол-во упаковок | I38: Кол-во упаковок
D39: 2 | I39: 2
A40: ЦЕНА | C40: ='12р'!D5 -> 5780 | F40: ЦЕНА без учета орт.основания | H40: ='12р'!D10 -> 6930
A41: Ольха, шимо светл.
A42: Подъемный механизм | F42: Ортопед на ножках 1,6* | I42: ='12р'!D14 -> 2860
F43: кожа бежевая, белая, черная
A45: Кровать двухъярусная Соня | F45: Кровать Алиса (универсал.сборка) | K45: Кровать Алиса (цветная) (универсал.сборка)
A46: 2040х842х1830 (без учета лестницы) | F46: 2030 х 1082 х 1150 | K46: 2030 х1082 х 1150
D47: Вес,кг | I47: Вес,кг | N47: Вес,кг
D48: 151 | I48: 135 | N48: 135
D49: Объем,м3 | I49: Объем,м3 | N49: Объем,м3
D50: 0.33 | I50: 0.32 | N50: 0.32
D51: Кол-во упаковок | I51: Кол-во упаковок | N51: Кол-во упаковок
D52: 3 | I52: 3 | N52: 3
A53: ЦЕНА | C53: ='12р'!D7 -> 10490 | F53: ЦЕНА | H53: ='12р'!D8 -> 11200 | K53: ЦЕНА | M53: ='12р'!D9 -> 11425
A54: шимо светл.+шимо темн | F54: шимо светл | K54: шимо светл.+оранж+лайм
A55: Спальное место 2000х800 | F55: Кровать с выкатным столом | K55: Кровать с выкатным столом
F56: Спальное место 2000х900 | K56: Спальное место 2000х900

Sheet 12р
A1: наименование | B1: цена | C1: со скидкой | D1: и наценкой
A2: Кровать одинарная 950 | B2: 3180 | C2: =B2-(B2/100*ТЛ!$G$32) -> 3180 | D2: =C2+(C2/100*ТЛ!$G$33) -> 3180 | F2: 2850
A3: Кровать двойная 1450 | B3: =CEILING((F3+F3*0.07),5) -> 2300 | C3: =B3-(B3/100*ТЛ!$G$32) -> 2300 | D3: =C3+(C3/100*ТЛ!$G$33) -> 2300 | F3: 2145
A4: Кровать двойная 1650 | B4: =CEILING((F4+F4*0.07),5) -> 2425 | C4: =B4-(B4/100*ТЛ!$G$32) -> 2425 | D4: =C4+(C4/100*ТЛ!$G$33) -> 2425 | F4: 2265
A5: Кровать Юниор | B5: =CEILING((F5+F5*0.07),5) -> 5780 | C5: =B5-(B5/100*ТЛ!$G$32) -> 5780 | D5: =C5+(C5/100*ТЛ!$G$33) -> 5780 | F5: 5400
A6: Кровать двойная 1450 ф/п | B6: =CEILING((F6+F6*0.07),5) -> 2310 | C6: =B6-(B6/100*ТЛ!$G$32) -> 2310 | D6: =C6+(C6/100*ТЛ!$G$33) -> 2310 | F6: 2155
A7: Кровать Соня | B7: =CEILING((F7+F7*0.07),5) -> 10490 | C7: =B7-(B7/100*ТЛ!$G$32) -> 10490 | D7: =C7+(C7/100*ТЛ!$G$33) -> 10490 | F7: 9800
A8: Кровать Алиса Ясень | B8: =CEILING((F8+F8*0.07),5) -> 11200 | C8: =B8-(B8/100*ТЛ!$G$32) -> 11200 | D8: =C8+(C8/100*ТЛ!$G$33) -> 11200 | F8: 10465
A9: Кровать Алиса Ясень + манго+лайм | B9: =CEILING((F9+F9*0.07),5) -> 11425 | C9: =B9-(B9/100*ТЛ!$G$32) -> 11425 | D9: =C9+(C9/100*ТЛ!$G$33) -> 11425 | F9: 10675
A10: Кровать с мzur.спин. Без ортоп | B10: =CEILING((F10+F10*0.07),5) -> 6930 | C10: =B10-(B10/100*ТЛ!$G$32) -> 6930 | D10: =C10+(C10/100*ТЛ!$G$33) -> 6930 | F10: 6475
B11: =CEILING((F11+F11*0.07),5) -> 0 | C11: =B11-(B11/100*ТЛ!$G$32) -> 0 | D11: =C11+(C11/100*ТЛ!$G$33) -> 0 | F11: 0
A12: ортопед 1,2 | B12: 2700 | C12: =B12 -> 2700 | D12: =C12+(C12/100*ТЛ!$G$33) -> 2700 | F12: 2025
A13: ортопед 1,4 | B13: 2760 | C13: =B13 -> 2760 | D13: =C13+(C13/100*ТЛ!$G$33) -> 2760 | F13: 2075
A14: ортопед 1,6 | B14: 2860 | C14: =B14 -> 2860 | D14: =C14+(C14/100*ТЛ!$G$33) -> 2860 | F14: 2190

Sheet 13
B2: Комоды
B3: Волжанка | G3: Волжанка с фотопечатью | L3: Волжанка с полноцветной ф/п
B4: 835 х 500 х 886 | G4: 835 х 500 х 886 | L4: 835 х 500 х 886
E5: Вес,кг | J5: Вес,кг | O5: Вес,кг
E6: 45 | J6: 45 | O6: 45
E7: Объем,м3 | J7: Объем,м3 | O7: Объем,м3
E8: 0.12 | J8: 0.12 | O8: 0.12
E9: Кол-во упаковок | J9: Кол-во упаковок | O9: Кол-во упаковок
E10: 2 | J10: 2 | O10: 2
B11: ЦЕНА | D11: ='13р'!D2 -> 4110 | G11: ЦЕНА | I11: ='13р'!D3 -> 4270 | L11: ЦЕНА | N11: ='13р'!D4 -> 5160
B12: Корпус: венге, ольха, шимо св, шимо т. | G12: Корпус: венге, ольха, шимо св, шимо т. | L12: Корпус: венге, ольха, шимо св, шимо т.
B13: Фасады: венге, ольха, шимо св, шимо т. | G13: Фасады: шимо светлый, белый | L13: Фасады: белый
B15: Волжанка с фасадами МДФ с фрезеровкой | G15: Волжанка -2 | L15: Волжанка -2 с фотопечатью
B16: 835 х 500 х 886 | G16: 835 х 500 х 1000 | L16: 835 х 500 х 1000
E17: Вес,кг | J17: Вес,кг | O17: Вес,кг
E18: 45 | J18: 50 | O18: 50
E19: Объем,м3 | J19: Объем,м3 | O19: Объем,м3
E20: 0.12 | J20: 0.12 | O20: 0.12
E21: Кол-во упаковок | J21: Кол-во упаковок | O21: Кол-во упаковок
E22: 2 | J22: 2 | O22: 2
B23: ЦЕНА | D23: ='13р'!D5 -> 4625 | G23: ЦЕНА | I23: ='13р'!D6 -> 4545 | L23: ЦЕНА | N23: ='13р'!D7 -> 4705
B24: Корпус: венге, ольха, шимо св, шимо т. | G24: Корпус: венге, ольха, шимо св, шимо т. | L24: Корпус: венге, ольха, шимо св, шимо т.
B25: Фасады: пленка МДФ | G25: Фасады: венге, ольха, шимо св, шимо т. | L25: Фасады: шимо светлый, белый
B27: Волжанка -2 с полноцвет. ф/п | G27: Волжанка - 4 | L27: Волжанка -2 с фасадами МДФ
B28: 835 х 500 х 1000 | G28: 1200 х 450 х 1250 | L28: 835 х 500 х 1000
E29: Вес,кг | J29: Вес,кг | O29: Вес,кг
E30: 50 | J30: 66 | O30: 50
E31: Объем,м3 | J31: Объем,м3 | O31: Объем,м3
E32: 0.12 | J32: 0.2 | O32: 0.12
E33: Кол-во упаковок | J33: Кол-во упаковок | O33: Кол-во упаковок
E34: 2 | J34: 2 | O34: 2
B35: ЦЕНА | D35: ='13р'!D8 -> 5690 | G35: ЦЕНА | I35: ='13р'!D10 -> 6420 | L35: ЦЕНА | N35: ='13р'!D9 -> 5030
B36: Корпус: венге, ольха, шимо св, шимо т. | G36: Венге+ш.св. | L36: Корпус: венге, ольха, шимо св, шимо т.
B37: Фасады: белый | L37: Фасады: глянец, матовый МДФ
B39: Волжанка - 5 с зеркалом | G39: Волжанка -5 с фотопечатью с зеркалом | L39: Комод "Купидон"
B40: 800 х 485 х 1000 | G40: 800 х 485 х 1000 | L40: 920 х 456 х 930
E41: Вес,кг | J41: Вес,кг | O41: Вес,кг
E42: 61 | J42: 61 | O42: 54
E43: Объем,м3 | J43: Объем,м3 | O43: Объем,м3
E44: 0.16 | J44: 0.16 | O44: 0.14
E45: Кол-во упаковок | J45: Кол-во упаковок | O45: Кол-во упаковок
E46: 2 | J46: 2 | O46: 2
B47: ЦЕНА | D47: ='13р'!D11 -> 4570 | G47: ЦЕНА | I47: ='13р'!D12 -> 4765 | L47: ЦЕНА | N47: ='9р'!D5 -> 6365
B48: Венге+ш.св. | G48: Венге+ ш.св. | L48: Белый + МДФ патина
B50: Волжанка - 6 | G50: Волжанка-6 с фотопечатью | L50: Комод "Селена"
B51: 605 х 510 х 956 | G51: 605 х 510 х 956 | L51: 900 х 440 х 960
E52: Вес,кг | J52: Вес,кг | O52: Вес,кг
E53: 45 | J53: 45 | O53: 56
E54: Объем,м3 | J54: Объем,м3 | O54: Объем,м3
E55: 0.1 | J55: 0.1 | O55: 0.15
E56: Кол-во упаковок | J56: Кол-во упаковок | O56: Кол-во упаковок
E57: 1 | J57: 1 | O57: 2
B58: ЦЕНА | D58: ='13р'!D13 -> 3820 | G58: ЦЕНА | I58: ='13р'!D14 -> 3890 | L58: ЦЕНА | N58: ='8р'!D5 -> 5300
B59: Венге+шимо светл. | G59: Венге+шимо светл. | L59: Шимо темн.+МДФ белый глянец+ф/п
B61: Волжанка - 7 | G61: Волжанка -7 с фотопечатью | L61: Комод "Гармония"
B62: 780 х 780 х 840 | G62: 780 х 780 х 840 | L62: 800 х 450 х 895
E63: Вес,кг | J63: Вес,кг | O63: Вес,кг
E64: 65 | J64: 65
E65: Объем,м3 | J65: Объем,м3 | O65: Объем,м3
E66: 0.12 | J66: 0.12
E67: Кол-во упаковок | J67: Кол-во упаковок | O67: Кол-во упаковок
E68: 1 | J68: 1
B69: ЦЕНА | D69: ='13р'!D15 -> 4950 | G69: ЦЕНА | I69: ='13р'!D16 -> 5105 | L69: ЦЕНА | N69: ='10р'!D5 -> 4645
B70: Ольха | G70: Венге+шимо светл. | L70: шимо св.
B71: Венге+шимо светл.
B73: КМ - 04 | G73: КМ - 05 | L73: КМ - 08
B74: 500 х 420 х 900 | G74: 500 х 420 х 1115 | L74: 1200 х 420 х 900
E75: Вес,кг | J75: Вес,кг | O75: Вес,кг
E76: 40 | J76: 40 | O76: 68
E77: Объем,м3 | J77: Объем,м3 | O77: Объем,м3
E78: 0.07 | J78: 0.07 | O78: 0.12
E79: Кол-во упаковок | J79: Кол-во упаковок | O79: Кол-во упаковок
E80: 1 | J80: 1 | O80: 1
B81: ЦЕНА | D81: ='13р'!D17 -> 2950 | G81: ЦЕНА | I81: ='13р'!D18 -> 3545 | L81: ЦЕНА | N81: ='13р'!D19 -> 5950
B82: Венге+шимо светл. | G82: Венге+шимо светл. | L82: Венге+шимо светл.
B85: Тумба общего назначения "Милан-1" | G85: Тумба общего назначения "Милан-1" с фотопечатью | L85: Комод "Алешка"
B86: 1200 х 400 х 1200 | G86: 1200 х 400 х 1200 | L86: 1100 х 433 х 960
E87: Вес,кг | J87: Вес,кг | O87: Вес,кг
E88: 50 | J88: 50 | O88: 65
E89: Объем,м3 | J89: Объем,м3 | O89: Объем,м3
E90: 0.12 | J90: 0.12 | O90: 0.12
E91: Кол-во упаковок | J91: Кол-во упаковок | O91: Кол-во упаковок
E92: 1 | J92: 1 | O92: 2
B93: ЦЕНА | D93: ='13р'!D20 -> 5715 | G93: ЦЕНА | I93: ='13р'!D21 -> 5775 | L93: ЦЕНА | N93: ='4р'!D9 -> 5060
B94: Венге+шимо светл. | G94: Венге+шимо светл.+фотопечать | L94: Шимо светл.+Шимо темн.
B96: Комод "Почемучка" | G96: Комод "Квадро" Количество ограничено!!! | L96: Комод "Марокко"
B97: 840 х 497 х 962 | G97: 900 х 460 х 850 | L97: 1245х465х835
E98: Вес,кг | J98: Вес,кг | O98: Вес,кг
E99: 48 | J99: 48
E100: Объем,м3 | J100: Объем,м3 | O100: Объем,м3
E101: 0.09 | J101: 0.14
E102: Кол-во упаковок | J102: Кол-во упаковок | O102: Кол-во упаковок
E103: 1 | J103: 1 | O103: 1
B104: ЦЕНА | D104: ='1р'!D5 -> 5590 | G104: ЦЕНА | I104: ='7р'!D5 -> 5020 | L104: ЦЕНА | N104: ='13р'!D22 -> 5365
B105: Шимо светл. | G105: Шимо светлый | L105: Шимо светлый, венге
B107: Комод "Валенсия №1" | G107: Комод "Валенсия №2" | L107: Комод "Валенсия №3"
B108: 858х450х876 | G108: 1642х450х876 | L108: 1950х450х876
E109: Вес,кг | J109: Вес,кг | O109: Вес,кг
E111: Объем,м3 | J111: Объем,м3 | O111: Объем,м3
E113: Кол-во упаковок | J113: Кол-во упаковок | O113: Кол-во упаковок
...

Sheet 12р2
A1: наименование | B1: цена | C1: со скидкой | D1: и наценкой
A2: Волжанка-7 | B2: =CEILING((F2+F2*0.07),5) -> 4470 | C2: =B2-(B2/100*ТЛ!$G$32) -> 4470 | D2: =C2+(C2/100*ТЛ!$G$33) -> 4470 | F2: 4175
A3: Волжанка-7 ф/п* | B3: =CEILING((F3+F3*0.07),5) -> 4625 | C3: =B3 -> 4625 | D3: =C3+(C3/100*ТЛ!$G$33) -> 4625 | F3: 4320
A4: Волжанка 8 | B4: =CEILING((F4+F4*0.07),5) -> 7205 | C4: =B4-(B4/100*ТЛ!$G$32) -> 7205 | D4: =C4+(C4/100*ТЛ!$G$33) -> 7205 | F4: 6730
A5: КМ-02 | B5: =CEILING((F5+F5*0.07),5) -> 1745 | C5: =B5-(B5/100*ТЛ!$G$32) -> 1745 | D5: =C5+(C5/100*ТЛ!$G$33) -> 1745 | F5: 1630
A6: КМ-04 | B6: =CEILING((F6+F6*0.07),5) -> 2665 | C6: =B6-(B6/100*ТЛ!$G$32) -> 2665 | D6: =C6+(C6/100*ТЛ!$G$33) -> 2665 | F6: 2490
A7: КМ-05 | B7: =CEILING((F7+F7*0.07),5) -> 3210 | C7: =B7-(B7/100*ТЛ!$G$32) -> 3210 | D7: =C7+(C7/100*ТЛ!$G$33) -> 3210 | F7: 3000
A8: КМ-08 | B8: =CEILING((F8+F8*0.07),5) -> 5385 | C8: =B8-(B8/100*ТЛ!$G$32) -> 5385 | D8: =C8+(C8/100*ТЛ!$G$33) -> 5385 | F8: 5030
A9: Милан-1 | B9: =CEILING((F9+F9*0.07),5) -> 5180 | C9: =B9-(B9/100*ТЛ!$G$32) -> 5180 | D9: =C9+(C9/100*ТЛ!$G$33) -> 5180 | F9: 4840
A10: Милан-1 ф/п* | B10: =CEILING((F10+F10*0.07),5) -> 5235 | C10: =B10 -> 5235 | D10: =C10+(C10/100*ТЛ!$G$33) -> 5235 | F10: 4890
A11: Милан-2 | B11: =CEILING((F11+F11*0.07),5) -> 5725 | C11: =B11-(B11/100*ТЛ!$G$32) -> 5725 | D11: =C11+(C11/100*ТЛ!$G$33) -> 5725 | F11: 5350
B12: =CEILING((F12+F12*0.07),5) -> 0

Sheet 13р
A1: наименование | B1: цена | C1: со скидкой | D1: и наценкой
A2: Волжанка | B2: 4110 | C2: =B2-(B2/100*ТЛ!$G$32) -> 4110 | D2: =C2+(C2/100*ТЛ!$G$33) -> 4110 | F2: 3770
A3: Волжанка ф/п | B3: 4270 | C3: =B3-(B3/100*ТЛ!$G$32) -> 4270 | D3: =C3+(C3/100*ТЛ!$G$33) -> 4270 | F3: 3950
A4: Волжанка полноцв. ф/п | B4: =CEILING((F4+F4*0.07),5) -> 5160 | C4: =B4-(B4/100*ТЛ!$G$32) -> 5160 | D4: =C4+(C4/100*ТЛ!$G$33) -> 5160 | F4: 4820
A5: Волжанка МДФ | B5: =CEILING((F5+F5*0.07),5) -> 4625 | C5: =B5-(B5/100*ТЛ!$G$32) -> 4625 | D5: =C5+(C5/100*ТЛ!$G$33) -> 4625 | F5: 4320
A6: Волжанка-2 | B6: 4545 | C6: =B6-(B6/100*ТЛ!$G$32) -> 4545 | D6: =C6+(C6/100*ТЛ!$G$33) -> 4545 | F6: 4215
A7: Волжанка-2 ф/п | B7: 4705 | C7: =B7-(B7/100*ТЛ!$G$32) -> 4705 | D7: =C7+(C7/100*ТЛ!$G$33) -> 4705 | F7: 4385
A8: Волжанка-2 полноцвет. ф/п | B8: =CEILING((F8+F8*0.07),5) -> 5690 | C8: =B8-(B8/100*ТЛ!$G$32) -> 5690 | D8: =C8+(C8/100*ТЛ!$G$33) -> 5690 | F8: 5315
A9: Волжанка-2 МДФ | B9: =CEILING((F9+F9*0.07),5) -> 5030 | C9: =B9-(B9/100*ТЛ!$G$32) -> 5030 | D9: =C9+(C9/100*ТЛ!$G$33) -> 5030 | F9: 4700
A10: Волжанка-4 | B10: 6420 | C10: =B10-(B10/100*ТЛ!$G$32) -> 6420 | D10: =C10+(C10/100*ТЛ!$G$33) -> 6420 | F10: 5750
A11: Волжанка-5 | B11: =CEILING((F11+F11*0.07),5) -> 4570 | C11: =B11-(B11/100*ТЛ!$G$32) -> 4570 | D11: =C11+(C11/100*ТЛ!$G$33) -> 4570 | F11: 4270
A12: Волжанка-5 ф/п | B12: =CEILING((F12+F12*0.07),5) -> 4765 | C12: =B12-(B12/100*ТЛ!$G$32) -> 4765 | D12: =C12+(C12/100*ТЛ!$G$33) -> 4765 | F12: 4450
A13: Волжанка-6 | B13: =CEILING((F13+F13*0.07),5) -> 3820 | C13: =B13-(B13/100*ТЛ!$G$32) -> 3820 | D13: =C13+(C13/100*ТЛ!$G$33) -> 3820 | F13: 3570
A14: Волжанка-6 ф/п | B14: =CEILING((F14+F14*0.07),5) -> 3890 | C14: =B14-(B14/100*ТЛ!$G$32) -> 3890 | D14: =C14+(C14/100*ТЛ!$G$33) -> 3890 | F14: 3635
A15: Волжанка-7 | B15: 4950 | C15: =B15-(B15/100*ТЛ!$G$32) -> 4950 | D15: =C15+(C15/100*ТЛ!$G$33) -> 4950 | F15: 4605
A16: Волжанка-7 ф/п | B16: =CEILING((F16+F16*0.07),5) -> 5105 | C16: =B16-(B16/100*ТЛ!$G$32) -> 5105 | D16: =C16+(C16/100*ТЛ!$G$33) -> 5105 | F16: 4770
A17: км-04 | B17: 2950 | C17: =B17-(B17/100*ТЛ!$G$32) -> 2950 | D17: =C17+(C17/100*ТЛ!$G$33) -> 2950 | F17: 2650
A18: км-05 | B18: 3545 | C18: =B18-(B18/100*ТЛ!$G$32) -> 3545 | D18: =C18+(C18/100*ТЛ!$G$33) -> 3545 | F18: 3190
A19: км-08 | B19: 5950 | C19: =B19-(B19/100*ТЛ!$G$32) -> 5950 | D19: =C19+(C19/100*ТЛ!$G$33) -> 5950 | F19: 5360
A20: милан-1 | B20: =CEILING((F20+F20*0.07),5) -> 5715 | C20: =B20-(B20/100*ТЛ!$G$32) -> 5715 | D20: =C20+(C20/100*ТЛ!$G$33) -> 5715 | F20: 5340
A21: милан-1 ф/п | B21: =CEILING((F21+F21*0.07),5) -> 5775 | C21: =B21-(B21/100*ТЛ!$G$32) -> 5775 | D21: =C21+(C21/100*ТЛ!$G$33) -> 5775 | F21: 5395
A22: Комод Марокко | B22: 5365 | C22: =B22-(B22/100*ТЛ!$G$32) -> 5365 | D22: =C22+(C22/100*ТЛ!$G$33) -> 5365 | F22: 4855
A23: Валенсия 1 | B23: 4670 | C23: =B23-(B23/100*[1]ТЛ!$G$32) -> 4670 | D23: =C23+(C23/100*[1]ТЛ!$G$33) -> 4670 | F23: 3825
A24: Валенсия 2 | B24: 8150 | C24: =B24-(B24/100*[1]ТЛ!$G$32) -> 8150 | D24: =C24+(C24/100*[1]ТЛ!$G$33) -> 8150 | F24: 6680
A25: Валенсия 3 | B25: 9140 | C25: =B25-(B25/100*[1]ТЛ!$G$32) -> 9140 | D25: =C25+(C25/100*[1]ТЛ!$G$33) -> 9140 | F25: 7490
A26: Валенсия 4 | B26: 10100 | C26: =B26-(B26/100*[1]ТЛ!$G$32) -> 10100 | D26: =C26+(C26/100*[1]ТЛ!$G$33) -> 10100 | F26: 8280

Sheet 14
B2: Шкафы для одежды и белья
B3: Шкаф-купе "Альянс" (1,2м) | G3: Шкаф-купе "Альянс" (1,4м) | L3: Шкаф-купе "Альянс" (1,6м)
B4: 1200 х 620 х 2200 | G4: 1400 х 620 х 2200 | L4: 1600 х 620 х 2200
E5: Вес,кг | J5: Вес,кг | O5: Вес,кг
E6: 136 | J6: 152 | O6: 160
E7: Объем,м3 | J7: Объем,м3 | O7: Объем,м3
E8: 0.3 | J8: 0.3 | O8: 0.3
E9: Кол-во упаковок | J9: Кол-во упаковок | O9: Кол-во упаковок
E10: 3 | J10: 3 | O10: 3
B11: ЦЕНА | D11: ='14р'!D2 -> 12275 | G11: ЦЕНА Версаль | I11: ='14р'!D3 -> 13100 | L11: ЦЕНА | N11: ='14р'!D4 -> 14990
G12: ЦЕНА Эко-Лайт без зеркал | I12: ='14р'!D9 -> 11900
B13: шимо светл + шимо темн | G13: шимо светл +шимо темн | L13: шимо светл + шимо темн
B14: система Версаль | G14: система Версаль, Эко-Лайт | L14: система Версаль
B16: Шкаф-купе "Альянс 2" (1,6м) ЛДСП | G16: Шкаф-купе "Альянс 2" (1,6м) ЛДСП с фотопечатью варианты ф/п внизу листа | L16: Шкаф-купе "Альянс 2" (1,4м) ЛДСП с фотопечатью
B17: 1600 х 620 х 2200 | G17: 1600 х 620 х 2200 | L17: 1400 х 620 х 2200
E18: Вес,кг | J18: Вес,кг | O18: Вес,кг
E19: 160 | J19: 160 | O19: 160
E20: Объем,м3 | J20: Объем,м3 | O20: Объем,м3
E21: 0.3 | J21: 0.3 | O21: 0.3
E22: Кол-во упаковок | J22: Кол-во упаковок | O22: Кол-во упаковок
E23: 3 | J23: 3 | O23: 3
L24: ЦЕНА рис.Эйфелева Башня, Водопад | N24: ='14р'!D8 -> 14115
B25: ЦЕНА | D25: ='14р'!D5 -> 12490 | G25: ЦЕНА | I25: ='14р'!D6 -> 14660 | L25: ЦЕНА рис.Морск. звезда | N25: ='14р'!D7 -> 12840
B26: шимо светл + шимо темн | G26: шимо светл + шимо темн | L26: шимо светл + шимо темн
B27: система "эко-лайт 999» серебро, двери ЛДСП в кромке 2мм | G27: система "эко-лайт 999» серебро, двери ЛДСП в кромке 2мм | L27: система "эко-лайт 999» серебро, двери ЛДСП в кромке 2мм
B29: Шкаф для одежды и белья 9 (0,9м) | G29: Шкаф для одежды и белья 9 с фотопечатью | L29: Шкаф двухстворчатый "Гармония" без зеркал
B30: 900 х 450 х 2140 | G30: 900 х 450 х 2140 | L30: 800 х 568 х 2200
E31: Вес,кг | J31: Вес,кг | O31: Вес,кг
E32: 75 | J32: 75 | O32: 69
E33: Объем,м3 | J33: Объем,м3 | O33: Объем,м3
E34: 0.1 | J34: 0.1 | O34: 0.13
E35: Кол-во упаковок | J35: Кол-во упаковок | O35: Кол-во упаковок
E36: 2 | J36: 2 | O36: 2
B37: ЦЕНА | D37: ='14р'!D17 -> 5405 | G37: ЦЕНА | I37: ='14р'!D18 -> 5515 | L37: ЦЕНА | N37: ='10р'!D7 -> 4710
B38: Венге + шимо светл | G38: Венге +шимо светл | L38: Шимо светл.
B40: Шкаф четырехстворчатый "Гармония" | G40: Шкаф трехстворчатый "Гармония" с зеркалом | L40: Шкаф двухстворчатый с ящиками "Гармония"
B41: 1600 х 568 х 2200 | G41: 1200 х 568 х 2200 | L41: 800 х 568 х 2200
E42: Вес,кг | J42: Вес,кг | O42: Вес,кг
E43: 182 | J43: 120 | O43: 101
E44: Объем,м3 | J44: Объем,м3 | O44: Объем,м3
E45: 0.36 | J45: 0.28 | O45: 0.18
E46: Кол-во упаковок | J46: Кол-во упаковок | O46: Кол-во упаковок
E47: 3 | J47: 3 | O47: 3
B48: ЦЕНА | G48: ЦЕНА | I48: ='10р'!D12 -> 9760 | L48: ЦЕНА
B49: с зеркалами и накладками | E49: ='10р'!D13 -> 15020 | G49: Шимо светл. | L49: с зеркалами и накладками | O49: ='10р'!D11 -> 9300
B50: без зеркал | E50: ='10р'!D14 -> 13910 | L50: без зеркал - | O50: ='10р'!D10 -> 7955
B51: глухое ЛДСП - | E51: ='10р'!D15 -> 11825 | L51: Шимо светл.
B52: Шимо светл.
B54: Шкаф угловой "Гармония" | G54: Шкаф для одежы и белья угловой | L54: Шкаф угловой "Алешка"
B55: 900 х 900 х 2200 | G55: 840 х 840 х 2130 | L55: 840 х 840 х 2160
E56: Вес,кг | J56: Вес,кг | O56: Вес,кг
E57: 106 | J57: 93 | O57: 93
E58: Объем,м3 | J58: Объем,м3 | O58: Объем,м3
E59: 0.22 | J59: 0.3 | O59: 0.3
E60: Кол-во упаковок | J60: Кол-во упаковок | O60: Кол-во упаковок
E61: 2 | J61: 2 | O61: 2
B62: ЦЕНА | G62: ЦЕНА | I62: ='14р'!D20 -> 6260 | L62: ЦЕНА | N62: ='4р'!D16 -> 6530
B63: с зеркалами и накладками | E63: ='10р'!D17 -> 8775 | G63: шимо светл | L63: Шимо светл.+Шимо темн.
B64: без зеркал - | E64: ='10р'!D16 -> 7440
B65: Шимо светл.
B67: Шкаф одностворчатый с открытыми полками "Алешка" | G67: Шкаф трехстворчатый "Алешка" | L67: Шкаф двухстворчатый с открытыми полками "Алешка"
B68: 900 х 470 х 2160 | G68: 1200 х 470 х 2160 | L68: 1400 х 470 х 2160
E69: Вес,кг | J69: Вес,кг | O69: Вес,кг
E70: 63 | J70: 106 | O70: 141
E71: Объем,м3 | J71: Объем,м3 | O71: Объем,м3
E72: 0.12 | J72: 0.2 | O72: 0.26
E73: Кол-во упаковок | J73: Кол-во упаковок | O73: Кол-во упаковок
E74: 2 | J74: 2 | O74: 2
B75: ЦЕНА | D75: ='4р'!D15 -> 6370 | G75: ЦЕНА | I75: ='4р'!D11 -> 7480 | L75: ЦЕНА | N75: ='4р'!D12 -> 9580
B76: Шимо светл.+Шимо темн. | G76: Шимо светл.+Шимо темн. | L76: Шимо светл.+Шимо темн.
B79: Шкаф двухстворчатый "Алешка" | G79: Шкаф трехстворчатый "Почемучка" | L79: Шкаф для одежды и белья "Квадро" Количество огрничено!
B80: 800 х 470 х 2160 | G80: 1200 х 470 х 2160 | L80: 1500 х 600 х 2020
E81: Вес,кг | J81: Вес,кг | O81: Вес,кг
E82: 69 | J82: 60 | O82: 122
E83: Объем,м3 | J83: Объем,м3 | O83: Объем,м3
E84: 0.13 | J84: 0.2 | O84: 0.25
E85: Кол-во упаковок | J85: Кол-во упаковок | O85: Кол-во упаковок
E86: 1 | J86: 2 | O86: 3
B87: ЦЕНА | D87: ='4р'!D13 -> 4990 | G87: ЦЕНА | I87: ='1р'!D17 -> 9265 | L87: ЦЕНА | N87: ='7р'!D6 -> 8380
B88: Шимо светл.+Шимо темн. | G88: Шимо светлый | L88: Шимо светлый
B90: Шкаф для одежды и белья "Селена" | G90: Шкаф для одежды и белья двухстворчатый "Купидон" | L90: Шкаф для одежды и белья трехстворчатый "Купидон"
B91: 1500 х 570 х 2260 | G91: 1000 х 570 х 2200 | L91: 1500 х 570 х 2200
E92: Вес,кг | J92: Вес,кг | O92: Вес,кг
E93: 142 | J93: 122 | O93: 155
E94: Объем,м3 | J94: Объем,м3 | O94: Объем,м3
E95: 0.27 | J95: 0.2 | O95: 0.27
E96: Кол-во упаковок | J96: Кол-во упаковок | O96: Кол-во упаковок
E97: 3 | J97: 3 | O97: 3
B98: ЦЕНА | D98: ='8р'!D6 -> 14800 | G98: ЦЕНА | I98: ='9р'!D7 -> 10620 | L98: ЦЕНА | N98: ='9'!N47:O47 -> 15830
B99: шимо темн+МДФ белый глянец+ф/п | G99: Белый + МДФ патина | L99: Белый + МДФ патина
B101: Шкаф для одежды и белья 1,2м. | G101: Шкаф для одежды и белья 1,2м. с ф/п
B102: 1200х568х2200 | G102: 1200х568х2200
E103: Вес,кг | J103: Вес,кг
E105: Объем,м3 | J105: Объем,м3
E107: Кол-во упаковок | J107: Кол-во упаковок
B109: ЦЕНА | D109: ='14р'!D11 -> 8250 | G109: ЦЕНА | I109: ='14р'!D12 -> 8290

Sheet 14р
A1: наименование | B1: цена | C1: со скидкой 10% | D1: и наценкой
A2: Шкаф Альянс 1,2 версаль | B2: =CEILING((F2+F2*0.07),5) -> 12275 | C2: =B2-(B2/100*ТЛ!$G$34) -> 12275 | D2: =C2+(C2/100*ТЛ!$G$33) -> 12275 | F2: 11470
A3: Шкаф Альянс 1,4 версаль | B3: =CEILING((F3+F3*0.07),5) -> 13100 | C3: =B3-(B3/100*ТЛ!$G$34) -> 13100 | D3: =C3+(C3/100*ТЛ!$G$33) -> 13100 | F3: 12240
A4: Шкаф Альянс 1,6 версаль | B4: =CEILING((F4+F4*0.07),5) -> 14990 | C4: =B4-(B4/100*ТЛ!$G$34) -> 14990 | D4: =C4+(C4/100*ТЛ!$G$33) -> 14990 | F4: 14005
A5: Шкаф Альянс 2 1,6 ЛДСП | B5: 12490 | C5: =B5-(B5/100*ТЛ!$G$34) -> 12490 | D5: =C5+(C5/100*ТЛ!$G$33) -> 12490 | F5: 11650
A6: Шкаф Альянс 2 1,6 ЛДСП +ф/п | B6: =CEILING((F6+F6*0.07),5) -> 14660 | C6: =B6-(B6/100*ТЛ!$G$34) -> 14660 | D6: =C6+(C6/100*ТЛ!$G$33) -> 14660 | F6: 13700
A7: Шкаф Альянс 2 1,4 ЛДСП +ф/п Морск. Звезда | B7: =CEILING((F7+F7*0.07),5) -> 12840 | C7: =B7-(B7/100*ТЛ!$G$34) -> 12840 | D7: =C7+(C7/100*ТЛ!$G$33) -> 12840 | F7: 12000
A8: Шкаф Альянс 2 1,4 ЛДСП +ф/п Эйф.башня, Водопад | B8: 14115 | C8: =B8-(B8/100*ТЛ!$G$34) -> 14115 | D8: =C8+(C8/100*ТЛ!$G$33) -> 14115
A9: Шкаф Альянс 2 1,4 ЛДСП без зеркала и ф/п | B9: 11900 | C9: =B9-(B9/100*ТЛ!$G$34) -> 11900 | D9: =C9+(C9/100*ТЛ!$G$33) -> 11900
B10: =CEILING((F10+F10*0.07),5) -> 0 | C10: =B10-(B10/100*ТЛ!$G$34) -> 0 | D10: =C10+(C10/100*ТЛ!$G$33) -> 0
A11: Шкаф 1,2м | B11: 8250 | C11: =B11-(B11/100*ТЛ!$G$34) -> 8250 | D11: =C11+(C11/100*ТЛ!$G$33) -> 8250
A12: Шкаф 1,2м. С ф/п | B12: 8290 | C12: =B12-(B12/100*ТЛ!$G$34) -> 8290 | D12: =C12+(C12/100*ТЛ!$G$33) -> 8290
B13: =CEILING((F13+F13*0.07),5) -> 0
B14: =CEILING((F14+F14*0.07),5) -> 0
B15: =CEILING((F15+F15*0.07),5) -> 0
B16: =CEILING((F16+F16*0.07),5) -> 0
A17: Шкаф 0,9 | B17: =CEILING((F17+F17*0.07),5) -> 5405 | C17: =B17-(B17/100*ТЛ!$G$34) -> 5405 | D17: =C17+(C17/100*ТЛ!$G$33) -> 5405 | F17: 5050
A18: Шкаф 0,9 ф/п* | B18: =CEILING((F18+F18*0.07),5) -> 5515 | C18: =B18-(B18/100*ТЛ!$G$34) -> 5515 | D18: =C18+(C18/100*ТЛ!$G$33) -> 5515 | F18: 5150
B19: =CEILING((F19+F19*0.07),5) -> 0
A20: Шкаф угловой | B20: =CEILING((F20+F20*0.07),5) -> 6260 | C20: =B20-(B20/100*ТЛ!$G$34) -> 6260 | D20: =C20+(C20/100*ТЛ!$G$33) -> 6260 | F20: 5850
B21: =CEILING((F21+F21*0.07),5) -> 0
B22: =CEILING((F22+F22*0.07),5) -> 0

Sheet 15
B6: Модуль 1 (штанга) | G6: Модуль 2 | L6: Модуль 3
B7: 800 х 470 х 2140 | G7: 850 х 470 х 2140 | L7: 1550 х 470 х 2140
E8: Вес,кг | J8: Вес,кг | O8: Вес,кг
E9: 55 | J9: 94 | O9: 136
E10: Объем,м3 | J10: Объем,м3 | O10: Объем,м3
E11: 0.15 | J11: 0.15 | O11: 0.31
E12: Кол-во упаковок | J12: Кол-во упаковок | O12: Кол-во упаковок
E13: 2 | J13: 3 | O13: 3
B14: ЦЕНА (МДФ-красный глянец, мокр. песок) | D14: ='15р'!D2 -> 6750 | G14: ЦЕНА (МДФ-красный глянец, мокр. песок) | I14: ='15р'!D3 -> 8445 | L14: ЦЕНА (МДФ-красный глянец, мокр. песок) | N14: ='15р'!D4 -> 11155
B16: ЦЕНА (ЛДСП) | D16: ='15р'!D9 -> 4540 | G16: ЦЕНА (ЛДСП) | I16: ='15р'!D10 -> 6985 | L16: ЦЕНА (ЛДСП) | N16: ='15р'!D11 -> 9285
B18: Модуль 4 | L18: Модуль 5 (штанга+полки)
B19: 500 х 470 х 2140 | L19: 800 х 470 х 2140
E20: Вес,кг | O20: Вес,кг
E21: 74 | O21: 55
E22: Объем,м3 | O22: Объем,м3
E23: 0.16 | O23: 0.15
E24: Кол-во упаковок | O24: Кол-во упаковок
E25: 2 | O25: 2
B26: ЦЕНА | D26: ='15р'!D5 -> 5590 | L26: ЦЕНА (МДФ-красный глянец, мокр. песок) | N26: ='15р'!D6 -> 7335
L28: ЦЕНА (ЛДСП) | N28: ='15р'!D13 -> 5560

Sheet 15р
A1: наименование | B1: цена | C1: со скидкой | D1: и наценкой
A2: модуль 1 красный | B2: =CEILING((F2+F2*0.07),5) -> 6750 | C2: =B2-(B2/100*ТЛ!$G$32) -> 6750 | D2: =C2+(C2/100*ТЛ!$G$33) -> 6750 | F2: 6305
A3: модуль 2 красный | B3: =CEILING((F3+F3*0.07),5) -> 8445 | C3: =B3-(B3/100*ТЛ!$G$32) -> 8445 | D3: =C3+(C3/100*ТЛ!$G$33) -> 8445 | F3: 7890
A4: модуль 3 красный | B4: =CEILING((F4+F4*0.07),5) -> 11155 | C4: =B4-(B4/100*ТЛ!$G$32) -> 11155 | D4: =C4+(C4/100*ТЛ!$G$33) -> 11155 | F4: 10425
A5: модуль 4 общая | B5: =CEILING((F5+F5*0.07),5) -> 5590 | C5: =B5-(B5/100*ТЛ!$G$32) -> 5590 | D5: =C5+(C5/100*ТЛ!$G$33) -> 5590 | F5: 5220
A6: модуль 5 глянец | B6: =CEILING((F6+F6*0.07),5) -> 7335 | C6: =B6-(B6/100*ТЛ!$G$32) -> 7335 | D6: =C6+(C6/100*ТЛ!$G$33) -> 7335 | F6: 6855
B7: =CEILING((F7+F7*0.07),5) -> 0 | C7: =B7-(B7/100*ТЛ!$G$32) -> 0 | D7: =C7+(C7/100*ТЛ!$G$33) -> 0 | F7: 0
B8: =CEILING((F8+F8*0.07),5) -> 0 | C8: =B8-(B8/100*ТЛ!$G$32) -> 0 | D8: =C8+(C8/100*ТЛ!$G$33) -> 0 | F8: 0
A9: модуль 1 лдсп | B9: 4540 | C9: =B9-(B9/100*ТЛ!$G$32) -> 4540 | D9: =C9+(C9/100*ТЛ!$G$33) -> 4540 | F9: 4220
A10: модуль 2 лдсп | B10: 6985 | C10: =B10-(B10/100*ТЛ!$G$32) -> 6985 | D10: =C10+(C10/100*ТЛ!$G$33) -> 6985 | F10: 6420
A11: модуль 3 лдсп | B11: 9285 | C11: =B11-(B11/100*ТЛ!$G$32) -> 9285 | D11: =C11+(C11/100*ТЛ!$G$33) -> 9285 | F11: 8650
A12: модуль 4 лдсп | B12: =CEILING((F12+F12*0.07),5) -> 5590 | C12: =B12-(B12/100*ТЛ!$G$32) -> 5590 | D12: =C12+(C12/100*ТЛ!$G$33) -> 5590 | F12: 5220
A13: модуль 5 лдсп | B13: 5560 | C13: =B13-(B13/100*ТЛ!$G$32) -> 5560 | D13: =C13+(C13/100*ТЛ!$G$33) -> 5560 | F13: 4930

Sheet 16
B4: Тумбы телевизионные (ТВА)
B5: ТВА - 2 | G5: ТВА "ОЛИМПИЯ" | L5: ТВА "ОРИОН"
B6: 800 х 500 х 542 | G6: 2950 х 500 х 2145 | L6: 2400 х 370 х 1932 (ниша1400х920)
E7: Вес,кг | J7: Вес,кг | O7: Вес,кг
E8: 26 | J8: 240 | O8: 165
E9: Объем,м3 | J9: Объем,м3 | O9: Объем,м3
E10: 0.08 | J10: 0.5 | O10: 0.33
E11: Кол-во упаковок | J11: Кол-во упаковок | O11: Кол-во упаковок
E12: 1 | J12: 5 | O12: 4
B13: ЦЕНА | D13: ='16р'!D2 -> 2360 | G13: ЦЕНА | I13: ='16р'!D9 -> 21460 | L13: ЦЕНА | N13: ='16р'!D8 -> 17180
B14: Ольха | G14: Венге | L14: венге, белый
G15: Фасады: МДФ глянец-белый | L15: Фасады: МДФ глянец-белый, глянец металлик-черный
B18: ТВА-14 | G18: ТВА-14 с фотопечатью | L18: ТВА "Марокко"
B19: 2000 х 470 х 2140 | G19: 2000 х 470 х 2140 | L19: 2590х596х2010
E20: Вес,кг | J20: Вес,кг | O20: Вес,кг
E21: 139 | J21: 139 | O21: 0
E22: Объем,м3 | J22: Объем,м3 | O22: Объем,м3
E23: 0.32 | J23: 0.32 | O23: 0
E24: Кол-во упаковок | J24: Кол-во упаковок | O24: Кол-во упаковок
E25: 4 | J25: 4 | O25: 0
B26: ЦЕНА | D26: ='16р'!D3 -> 12155 | G26: ЦЕНА | I26: ='16р'!D4 -> 12450 | L26: ЦЕНА | N26: ='16р'!D10 -> 18525
B27: Венге+Шимо светл. | G27: Венге+Шимо стветл. + фотопечать | L27: корпус Венге фасады МДФ Венге шелк _____________________________ корпус Шимо свтлый фасады МДФ Шимо светлый
B31: ТВА -15 | G31: ТВА-18 с фотопечатью | L31: ТВА -СИТИ
B32: 2200 х 450 х 2000 | G32: 1450 х 480 х 1630 | L32: 3534х542х2200
E33: Вес,кг | J33: Вес,кг | O33: Вес,кг
E34: 150 | J34: 79 | O34: 0
E35: Объем,м3 | J35: Объем,м3 | O35: Объем,м3
E36: 0.33 | J36: 0.15 | O36: 0
E37: Кол-во упаковок | J37: Кол-во упаковок | O37: Кол-во упаковок
E38: 3 | J38: 2
B39: ЦЕНА (без ф/п) | D39: ='16р'!D5 -> 11710 | G39: ЦЕНА | I39: ='16р'!D7 -> 6155 | L39: ЦЕНА (без зеркал и ф/п) | N39: ='16р'!D11 -> 21105
B40: ЦЕНА (с ф/п) | D40: ='16р'!D6 -> 11965 | L40: ЦЕНА (с зеркалами и с ф/п) | N40: ='16р'!D12 -> 23920
B41: Венге+Шимо светл. | G41: Шимо светл.+Шимо темн..+ фотопечать | L41: корпус: шимо светл., фасады лдсп венге+шимо светлый
B45: ТВА - 20 мод.7 НОВИНКА! | G45: ТВА - 6 Новинка! | L45: ТВА "Альфа" Новинка!
B46: 1060х490х640 | G46: 1600х450х1800 | L46: 1800х350х1710
E47: Вес,кг | J47: Вес,кг | O47: Вес,кг
E48: 150 | J48: 0 | O48: 0
E49: Объем,м3 | J49: Объем,м3 | O49: Объем,м3
E50: 0.33 | J50: 0 | O50: 0
E51: Кол-во упаковок | J51: Кол-во упаковок | O51: Кол-во упаковок
E52: 3 | J52: 0 | O52: 0
B53: ЦЕНА | D53: ='16р'!D13 -> 3310 | G53: ЦЕНА | I53: ='16р'!D14 -> 8200 | L53: ЦЕНА | N53: ='16р'!D15 -> 5220
D54: ='16р'!D20 -> 0 | I54: ='16р'!I20 -> 0 | N54: ='16р'!N20 -> 0
B55: Венге+Шимо светл. С МДФ столешницей и фасадами | G55: Корпус дуб сонома, фасады МДФ белый глянец с фрезеровкой | L55: венге/крафт
B58: ТВА - "Сатурн" Новинка!
B59: 1800х350х1550
E60: Вес,кг
E61: 0
E62: Объем,м3
E63: 0
E64: Кол-во упаковок
E65: 0
B66: ЦЕНА | D66: ='16р'!D16 -> 7500
D67: ='16р'!D33 -> 0
B68: венге/шимо светл.

Sheet 16р
A1: наименование | B1: цена | C1: со скидкой | D1: и наценкой
A2: ТВА-2 | B2: =CEILING((F2+F2*0.07),5) -> 2360 | C2: =B2-(B2/100*ТЛ!$G$32) -> 2360 | D2: =C2+(C2/100*ТЛ!$G$33) -> 2360 | F2: 2205
A3: ТВА-14 | B3: 12155 | C3: =B3-(B3/100*ТЛ!$G$32) -> 12155 | D3: =C3+(C3/100*ТЛ!$G$33) -> 12155 | F3: 11210
A4: ТВА-14 ф/п | B4: 12450 | C4: =B4-(B4/100*ТЛ!$G$32) -> 12450 | D4: =C4+(C4/100*ТЛ!$G$33) -> 12450 | F4: 11360
A5: ТВА-15 | B5: 11710 | C5: =B5-(B5/100*ТЛ!$G$32) -> 11710 | D5: =C5+(C5/100*ТЛ!$G$33) -> 11710 | F5: 10885
A6: ТВА-15 ф/п | B6: =CEILING((F6+F6*0.07),5) -> 11965 | C6: =B6-(B6/100*ТЛ!$G$32) -> 11965 | D6: =C6+(C6/100*ТЛ!$G$33) -> 11965 | F6: 11180
A7: ТВА-18 | B7: =CEILING((F7+F7*0.07),5) -> 6155 | C7: =B7-(B7/100*ТЛ!$G$32) -> 6155 | D7: =C7+(C7/100*ТЛ!$G$33) -> 6155 | F7: 5750
A8: ТВА Орион | B8: =CEILING((F8+F8*0.07),5) -> 17180 | C8: =B8-(B8/100*ТЛ!$G$32) -> 17180 | D8: =C8+(C8/100*ТЛ!$G$33) -> 17180 | F8: 16055
A9: ТВА ОЛИМПИЯ | B9: =CEILING((F9+F9*0.07),5) -> 21460 | C9: =B9-(B9/100*ТЛ!$G$32) -> 21460 | D9: =C9+(C9/100*ТЛ!$G$33) -> 21460 | F9: 20055
A10: Тва "Марокко" | B10: 18525 | C10: =B10-(B10/100*ТЛ!$G$32) -> 18525 | D10: =C10+(C10/100*ТЛ!$G$33) -> 18525 | F10: 16795
A11: Тва "Сити" без зеркал и ф/п | B11: 21105 | C11: =B11-(B11/100*ТЛ!$G$32) -> 21105 | D11: =C11+(C11/100*ТЛ!$G$33) -> 21105 | F11: 19200
A12: Тва "Сити" с зеркалами и с ф/п | B12: 23920 | C12: =B12-(B12/100*ТЛ!$G$32) -> 23920 | D12: =C12+(C12/100*ТЛ!$G$33) -> 23920 | F12: 21700
A13: Тва - 20 мод.6 | B13: 3310 | C13: =B13-(B13/100*ТЛ!$G$32) -> 3310 | D13: =C13+(C13/100*ТЛ!$G$33) -> 3310 | F13: 4500
A14: Тва - 6 | B14: 8200 | C14: =B14-(B14/100*ТЛ!$G$32) -> 8200 | D14: =C14+(C14/100*ТЛ!$G$33) -> 8200 | F14: 7250
A15: ТВА Альфа | B15: 5220 | C15: =B15-(B15/100*ТЛ!$G$32) -> 5220 | D15: =C15+(C15/100*ТЛ!$G$33) -> 5220 | F15: 7251
A16: ТВА Сатурн | B16: 7500 | C16: =B16-(B16/100*ТЛ!$G$32) -> 7500 | D16: =C16+(C16/100*ТЛ!$G$33) -> 7500 | F16: 7252
C17: =B17-(B17/100*ТЛ!$G$32) -> 0 | D17: =C17+(C17/100*ТЛ!$G$33) -> 0 | F17: 7253
C18: =B18-(B18/100*ТЛ!$G$32) -> 0 | D18: =C18+(C18/100*ТЛ!$G$33) -> 0 | F18: 7254

Sheet 17
B5: Столы журнальные
B6: СЖ - 1 | G6: СЖ - 1 со стеклом, столешница МДФ | L6: СЖ - 4
B7: 820 х 600 х 510 | G7: 820 х 600 х 510 | L7: 1000 х 660 х 550
E8: Вес,кг | J8: Вес,кг | O8: Вес,кг
E9: 14 | J9: 14 | O9: 20
E10: Объем,м3 | J10: Объем,м3 | O10: Объем,м3
E11: 0.04 | J11: 0.04 | O11: 0.05
E12: Кол-во упаковок | J12: Кол-во упаковок | O12: Кол-во упаковок
E13: 1 | J13: 1 | O13: 1
B14: ЦЕНА | D14: ='17р'!D2 -> 1620 | G14: ЦЕНА | I14: ='17р'!D3 -> 2495 | L14: ЦЕНА | N14: ='17р'!D4 -> 2045
G15: Венге+Шимо светл., | L15: Ольха, венге, шимо светлый
B16: Венге+Шимо светл., Шимо светл.+венге | G16: Шимо светл..+венге
B18: СЖ - 5 | G18: СЖ - 6 | L18: СЖ-6 со стеклом,столешница МДФ
B19: 1070 х 660 х 550 | G19: 550 х 550 х 530 | L19: 550 х 550 х 530
E20: Вес,кг | J20: Вес,кг | O20: Вес,кг
E21: 20 | J21: 15 | O21: 15
E22: Объем,м3 | J22: Объем,м3 | O22: Объем,м3
E23: 0.05 | J23: 0.03 | O23: 0.03
E24: Кол-во упаковок | J24: Кол-во упаковок | O24: Кол-во упаковок
E25: 1 | J25: 1 | O25: 1
B26: ЦЕНА | D26: ='17р'!D5 -> 2010 | G26: ЦЕНА | I26: ='17р'!D6 -> 1095 | L26: ЦЕНА | N26: ='17р'!D7 -> 1505
B27: Венге | G27: Венге+Шимо светл., | L27: Венге+Шимо светл.,
G28: Шимо светл..+венге | L28: Шимо светл..+венге
B30: СЖ-10 | G30: Стол журнальный СИТИ | L30: Стол журнальный СЖ-17 (раскладной)
B31: 800 (1600) х 700х 480 (800) | G31: 500 х 400 х 650 | L31: 800(1140) х 570(800) х 560 (544)
E32: Вес,кг | J32: Вес,кг | O32: Вес,кг
E33: 28 | J33: 16 | O33: 24
E34: Объем,м3 | J34: Объем,м3 | O34: Объем,м3
E35: 0.09 | J35: 0.03 | O35: 0.05
E36: Кол-во упаковок | J36: Кол-во упаковок | O36: Кол-во упаковок
E37: 2 | J37: 1 | O37: 1
B38: ЦЕНА | D38: ='17р'!D8 -> 7140 | G38: ЦЕНА | I38: ='17р'!D9 -> 1085 | L38: ЦЕНА | N38: ='17р'!D17 -> 2035
B39: Венге+Шимо светл., Шимо светл..+венге | G39: Венге, Шимо светл. | L39: Корпус: шимо светлый
L40: РАСКЛАДНОЙ
B42: Стол журнальный СЖ-16 (С ПОДСВЕТКОЙ, ЭФФЕКТ бесконечности!!!) Пульт в комплекте
B43: 900 х 600 х 550
E44: Вес,кг
E45: 32
E46: Объем,м3
E47: 0.08
E48: Кол-во упаковок
E49: 1
B50: ЦЕНА | D50: ='17р'!D16 -> 6105
B51: Корпус: шимо светлый,венге
B52: Столешница МДФ+стекло спец.обработка
B54: СЖ-13 | G54: СЖ-14 | L54: СЖ-15
B55: 650*650*550 | G55: 850 х 650 х 550 | L55: 1060 х 800 х 550
E56: Вес,кг | J56: Вес,кг | O56: Вес,кг
E57: 10 | J57: 14 | O57: 15
E58: Объем,м3 | J58: Объем,м3 | O58: Объем,м3
E59: 0.03 | J59: 0.04 | O59: 0.05
E60: Кол-во упаковок | J60: Кол-во упаковок | O60: Кол-во упаковок
E61: 1 | J61: 1 | O61: 1
B62: ЦЕНА | C62: тонир.стекло | E62: ='17р'!D10 -> 1890 | G62: ЦЕНА | H62: тонир.стекло | J62: ='17р'!D12 -> 2340 | L62: ЦЕНА | M62: тонир.стекло | O62: ='17р'!D14 -> 3065
C63: стекло с ф/п | E63: ='17р'!D11 -> 2560 | H63: стекло с ф/п | J63: ='17р'!D13 -> 3275 | M63: стекло с ф/п | O63: ='17р'!D15 -> 4655
B64: венге +шимо светлый | G64: венге +шимо светлый | L64: венге +шимо светлый
B65: венге + венге | G65: венге + венге | L65: венге + венге
A67: СЖ-13 | F67: СЖ-14 | K67: СЖ-15
D68: рис.34 | J68: рис.39 | O68: рис.39
D75: рис.35 | J75: рис.40 | O75: рис.40
D82: рис.36 | J82: рис.41 | O82: рис.41
D89: рис.37 | J89: рис.43 | O89: рис.43
D96: рис.38 | J96: рис.30 | O96: рис.30
D103: рис.30 | J103: рис.26 | O103: рис.26
D108: рис.56 | J108: рис.28 | O108: рис.28
D113: рис.57 | J113: рис.29 | O113: рис.29
O118: рис. 44
J121: рис. 44
O125: рис.45
J128: рис.45
O132: рис. 46
J135: рис. 46
O139: рис. 47
J142: рис. 47
O146: рис.48
J148: рис.48
J153: рис. 52 | O153: рис. 52
J160: рис. 31 | O160: рис. 54
J167: рис. 55 | O167: рис. 56
J174: рис. 56 | O174: рис. 57
J181: рис. 58 | O181: рис. 58

Sheet 17р
A1: наименование | B1: цена | C1: со скидкой | D1: и наценкой
A2: СЖ-1 | B2: =CEILING((F2+F2*0.07),5) -> 1620 | C2: =B2-(B2/100*ТЛ!$G$32) -> 1620 | D2: =C2+(C2/100*ТЛ!$G$33) -> 1620 | F2: 1510
A3: СЖ-1 со стеклом | B3: =CEILING((F3+F3*0.07),5) -> 2495 | C3: =B3-(B3/100*ТЛ!$G$32) -> 2495 | D3: =C3+(C3/100*ТЛ!$G$33) -> 2495 | F3: 2330
A4: СЖ-4 | B4: =CEILING((F4+F4*0.07),5) -> 2045 | C4: =B4-(B4/100*ТЛ!$G$32) -> 2045 | D4: =C4+(C4/100*ТЛ!$G$33) -> 2045 | F4: 1910
A5: СЖ-5 | B5: =CEILING((F5+F5*0.07),5) -> 2010 | C5: =B5-(B5/100*ТЛ!$G$32) -> 2010 | D5: =C5+(C5/100*ТЛ!$G$33) -> 2010 | F5: 1875
A6: СЖ-6 | B6: =CEILING((F6+F6*0.07),5) -> 1095 | C6: =B6-(B6/100*ТЛ!$G$32) -> 1095 | D6: =C6+(C6/100*ТЛ!$G$33) -> 1095 | F6: 1020
A7: СЖ-6 со стеклом | B7: =CEILING((F7+F7*0.07),5) -> 1505 | C7: =B7-(B7/100*ТЛ!$G$32) -> 1505 | D7: =C7+(C7/100*ТЛ!$G$33) -> 1505 | F7: 1405
A8: СЖ-10 | B8: =CEILING((F8+F8*0.07),5) -> 7140 | C8: =B8-(B8/100*ТЛ!$G$32) -> 7140 | D8: =C8+(C8/100*ТЛ!$G$33) -> 7140 | F8: 6670
A9: СИТИ | B9: =CEILING((F9+F9*0.07),5) -> 1085 | C9: =B9-(B9/100*ТЛ!$G$32) -> 1085 | D9: =C9+(C9/100*ТЛ!$G$33) -> 1085 | F9: 1010
A10: СЖ-13 тонир.стекло | B10: =CEILING((F10+F10*0.07),5) -> 1890 | C10: =B10-(B10/100*ТЛ!$G$32) -> 1890 | D10: =C10+(C10/100*ТЛ!$G$33) -> 1890 | F10: 1765
A11: СЖ-13 стекло ф/п | B11: =CEILING((F11+F11*0.07),5) -> 2560 | C11: =B11-(B11/100*ТЛ!$G$32) -> 2560 | D11: =C11+(C11/100*ТЛ!$G$33) -> 2560 | F11: 2390
A12: СЖ-14 тонир. | B12: =CEILING((F12+F12*0.07),5) -> 2340 | C12: =B12-(B12/100*ТЛ!$G$32) -> 2340 | D12: =C12+(C12/100*ТЛ!$G$33) -> 2340 | F12: 2185
A13: СЖ-14 ф/п. | B13: =CEILING((F13+F13*0.07),5) -> 3275 | C13: =B13-(B13/100*ТЛ!$G$32) -> 3275 | D13: =C13+(C13/100*ТЛ!$G$33) -> 3275 | F13: 3060
... A17: СЖ-17 | B17: =CEILING((F17+F17*0.07),5) -> 2035 | C17: =B17-(B17/100*ТЛ!$G$32) -> 2035 | D17: =C17+(C17/100*ТЛ!$G$33) -> 2035 | F17: 1900

Sheet 18
B11: Серия мебели для офиса "АКЦЕНТ"
B12: Стол письменный- 3 | G12: Стол письменный- 4 | L12: Шкаф для одежды и белья угл
B13: 1540 х 782 х 750 | G13: 1860 х 730 х 970 | L13: 840 х 840 х 2130
E14: Вес,кг | J14: Вес,кг | O14: Вес,кг
E15: 72 | J15: 56 | O15: 93
E16: Объем,м3 | J16: Объем,м3 | O16: Объем,м3
E17: 0.2 | J17: 0.14 | O17: 0.3
E18: Кол-во упаковок | J18: Кол-во упаковок | O18: Кол-во упаковок
E19: 2 | J19: 2 | O19: 2
B20: ЦЕНА | D20: ='18р'!D2 -> 6610 | G20: ЦЕНА | I20: ='18р'!D3 -> 4545 | L20: ЦЕНА | N20: ='18р'!D4 -> 6260
B21: шимо светлый | G21: шимо светлый | L21: шимо светлый
A23: НОВАЯ СЕРИЯ
B24: Шкаф для документов (модуль 1) | G24: Шкаф для документов (модуль 2) | L24: Шкаф для документов (модуль 3)
B25: 400 х 350 х 1770 | G25: 400 х 350 х 1770 | L25: 800 х 350 х 1770
E26: Вес,кг | J26: Вес,кг | O26: Вес,кг
J27: 56
E28: Объем,м3 | J28: Объем,м3 | O28: Объем,м3
E30: Кол-во упаковок | J30: Кол-во упаковок | O30: Кол-во упаковок
O31: 1
B32: ЦЕНА | D32: ='18р'!D5 -> 2000 | G32: ЦЕНА | I32: ='18р'!D6 -> 3075 | L32: ЦЕНА | N32: ='18р'!D7 -> 2895
B33: шимо светлый | G33: шимо светлый | L33: шимо светлый
B36: Шкаф для документов (модуль 4) | G36: Шкаф для документов (модуль 5) | L36: Шкаф для документов (модуль 6)
B37: 800 х 350 х 1770 | G37: 800 х 350 х 1770 | L37: 800 х 350 х 2120
E38: Вес,кг | J38: Вес,кг | O38: Вес,кг
E40: Объем,м3 | J40: Объем,м3 | O40: Объем,м3
E42: Кол-во упаковок | J42: Кол-во упаковок | O42: Кол-во упаковок
B44: ЦЕНА | D44: ='18р'!D8 -> 5075 | G44: ЦЕНА | I44: ='18р'!D9 -> 3730 | L44: ЦЕНА | N44: ='18р'!D10 -> 3650
B45: шимо светлый | G45: шимо светлый | L45: шимо светлый
B48: Шкаф для документов (модуль 7) | G48: Шкаф для документов (модуль 8) | L48: Шкаф для документов (модуль 9)
B49: 800 х 350 х 2120 | G49: 800 х 350 х 2120 | L49: 800 х 350 х 2120
E50: Вес,кг | J50: Вес,кг | O50: Вес,кг
E52: Объем,м3 | J52: Объем,м3 | O52: Объем,м3
E54: Кол-во упаковок | J54: Кол-во упаковок | O54: Кол-во упаковок
B56: ЦЕНА | D56: ='18р'!D11 -> 5925 | G56: ЦЕНА | I56: ='18р'!D12 -> 3985 | L56: ЦЕНА | N56: ='18р'!D13 -> 4135
B57: шимо светлый | G57: шимо светлый | L57: шимо светлый
B60: Шкаф для одежды (модуль 10) | G60: Шкаф для документов (модуль 11) | L60: Шкаф для одежды (модуль 12)
B61: 800 х 470 х 2120 | G61: 500 х 350 х 2120 | L61: 500 х 580 х 2120
E62: Вес,кг | J62: Вес,кг | O62: Вес,кг
E64: Объем,м3 | J64: Объем,м3 | O64: Объем,м3
E66: Кол-во упаковок | J66: Кол-во упаковок | O66: Кол-во упаковок
B68: ЦЕНА | D68: ='18р'!D14 -> 4175 | G68: ЦЕНА | I68: ='18р'!D15 -> 2955 | L68: ЦЕНА | N68: ='18р'!D16 -> 3470
B69: шимо светлый | G69: шимо светлый | L69: шимо светлый
B72: Шкаф для одежды (модуль 13) | G72: Тумба для документов 600 | L72: Тумба для документов 900
B73: 710 х 710 х 2120 | G73: 600 х 350 х 750 | L73: 900 х 350 х 750
E74: Вес,кг | J74: Вес,кг | O74: Вес,кг
E76: Объем,м3 | J76: Объем,м3 | O76: Объем,м3
E78: Кол-во упаковок | J78: Кол-во упаковок | O78: Кол-во упаковок
B80: ЦЕНА | D80: ='18р'!D17 -> 4010 | G80: ЦЕНА | I80: ='18р'!D18 -> 1580 | L80: ЦЕНА | N80: ='18р'!D19 -> 2305
B81: шимо светлый | G81: шимо светлый | L81: шимо светлый
B83: Тумба для документов 1000 | G83: Тумба для документов 800 | L83: Тумба для документов 1600 (столешница 22мм.)
B84: 1000 х 350 х 750 | G84: 800 х 350 х 1100 | L84: 1600 х 350 х 1100
E85: Вес,кг | J85: Вес,кг | O85: Вес,кг
J86: 56
E87: Объем,м3 | J87: Объем,м3 | O87: Объем,м3
E89: Кол-во упаковок | J89: Кол-во упаковок | O89: Кол-во упаковок
O90: 1
B91: ЦЕНА | D91: ='18р'!D20 -> 3065 | G91: ЦЕНА | I91: ='18р'!D21 -> 2435 | L91: ЦЕНА | N91: ='18р'!D22 -> 6255
B92: шимо светлый | G92: шимо светлый | L92: шимо светлый
B95: Тумба выкатная 400 | G95: Тумба приставная 400 | L95: Тумба выкатная 720
B96: 400 х 450 х 550 | G96: 400 х 480(600) х 750 | L96: 720 х 450 х 620
E97: Вес,кг | J97: Вес,кг | O97: Вес,кг
E99: Объем,м3 | J99: Объем,м3 | O99: Объем,м3
E101: Кол-во упаковок | J101: Кол-во упаковок | O101: Кол-во упаковок
B103: ЦЕНА | D103: ='18р'!D23 -> 2085 | G103: ЦЕНА | I103: ='18р'!D24 -> 2645 | L103: ЦЕНА | N103: ='18р'!D25 -> 3035
B104: шимо светлый | G104: шимо светлый | L104: шимо светлый
B107: Тумба приставная 1200 (столешница 22мм.) | G107: Стол письменный 1750 (столешница 22мм.) | L107: Стол приставной 800
B108: 1200 х 500 х 750 | G108: 1750 х 700 х 750 | L108: 800 х 700 х 730
E109: Вес,кг | J109: Вес,кг | O109: Вес,кг
E111: Объем,м3 | J111: Объем,м3 | O111: Объем,м3
E113: Кол-во упаковок | J113: Кол-во упаковок | O113: Кол-во упаковок
B115: ЦЕНА | D115: ='18р'!D26 -> 4405 | G115: ЦЕНА | I115: ='18р'!D27 -> 2825 | L115: ЦЕНА | N115: ='18р'!D28 -> 1180
B116: шимо светлый | G116: шимо светлый | L116: шимо светлый
B119: Стол приставной 1300 (столешница 22мм) | G119: Стол руководителя 1900 (столешница 22мм) | L119: Стол руководителя угл. (столешница 22мм)
B120: 1300 х 700 х 770 | G120: 1900 х 700 х 770 | L120: 1900 х 1600 х 770
E121: Вес,кг | J121: Вес,кг | O121: Вес,кг
E123: Объем,м3 | J123: Объем,м3 | O123: Объем,м3
E125: Кол-во упаковок | J125: Кол-во упаковок | O125: Кол-во упаковок
B127: ЦЕНА | D127: ='18р'!D29 -> 1615 | G127: ЦЕНА | I127: ='18р'!D30 -> 3225 | L127: ЦЕНА | N127: ='18р'!D31 -> 4370
B128: шимо светлый | G128: шимо светлый | L128: шимо светлый
B131: Стол письменный 1200 | G131: Стол компьютерный 1450 | L131: Стол письменный угловой
B132: 1200 х 600 х 750 | G132: 1450 х 600 х 750 | L132: 1200 х 1000 х 750
E133: Вес,кг | J133: Вес,кг | O133: Вес,кг
E135: Объем,м3 | J135: Объем,м3 | O135: Объем,м3
E137: Кол-во упаковок | J137: Кол-во упаковок | O137: Кол-во упаковок
B139: ЦЕНА | D139: ='18р'!D32 -> 1970 | G139: ЦЕНА | I139: ='18р'!D33 -> 2755 | L139: ЦЕНА | N139: ='18р'!D34 -> 2750
B140: шимо светлый | G140: шимо светлый | L140: шимо светлый
B143: Секция стола приставная 600 | G143: Секция стола приставная 1200 | L143: Перегородка разделительная
B144: 600 х 600 х 750 | G144: 1200 х 600 х 750 | L144: 1200 х 600 х 220
E145: Вес,кг | J145: Вес,кг | O145: Вес,кг
E147: Объем,м3 | J147: Объем,м3 | O147: Объем,м3
E149: Кол-во упаковок | J149: Кол-во упаковок | O149: Кол-во упаковок
B151: ЦЕНА | D151: ='18р'!D35 -> 1070 | G151: ЦЕНА | I151: ='18р'!D36 -> 1635 | L151: ЦЕНА | N151: ='18р'!D37 -> 410
B152: шимо светлый | G152: шимо светлый | L152: шимо светлый
B155: ПРИМЕРЫ КОМПАНОВКИ

Sheet 18р
A1: наименование | B1: цена | C1: со скидкой | D1: и наценкой
A2: Стол письм.-3 | B2: =CEILING((F2+F2*0.07),5) -> 6610 | C2: =B2-(B2/100*ТЛ!$G$32) -> 6610 | D2: =C2+(C2/100*ТЛ!$G$33) -> 6610 | F2: 6175
A3: Стол письм.-4 | B3: =CEILING((F3+F3*0.07),5) -> 4545 | C3: =B3-(B3/100*ТЛ!$G$32) -> 4545 | D3: =C3+(C3/100*ТЛ!$G$33) -> 4545 | F3: 4245
A4: Шкаф угловой | B4: =CEILING((F4+F4*0.07),5) -> 6260 | C4: =B4-(B4/100*ТЛ!$G$32) -> 6260 | D4: =C4+(C4/100*ТЛ!$G$33) -> 6260 | F4: ='14р'!F20 -> 5850
A5: Шкаф - модуль 1 | B5: =CEILING((F5+F5*0.07),5) -> 2000 | C5: =B5-(B5/100*ТЛ!$G$32) -> 2000 | D5: =C5+(C5/100*ТЛ!$G$33) -> 2000 | F5: 1865
A6: Шкаф - модуль 2 | B6: =CEILING((F6+F6*0.07),5) -> 3075 | C6: =B6-(B6/100*ТЛ!$G$32) -> 3075 | D6: =C6+(C6/100*ТЛ!$G$33) -> 3075 | F6: 2870
A7: Шкаф - модуль 3 | B7: =CEILING((F7+F7*0.07),5) -> 2895 | C7: =B7-(B7/100*ТЛ!$G$32) -> 2895 | D7: =C7+(C7/100*ТЛ!$G$33) -> 2895 | F7: 2705
A8: Шкаф - модуль 4 | B8: =CEILING((F8+F8*0.07),5) -> 5075 | C8: =B8-(B8/100*ТЛ!$G$32) -> 5075 | D8: =C8+(C8/100*ТЛ!$G$33) -> 5075 | F8: 4740
A9: Шкаф - модуль 5 | B9: =CEILING((F9+F9*0.07),5) -> 3730 | C9: =B9-(B9/100*ТЛ!$G$32) -> 3730 | D9: =C9+(C9/100*ТЛ!$G$33) -> 3730 | F9: 3485
A10: Шкаф - модуль 6 | B10: =CEILING((F10+F10*0.07),5) -> 3650 | C10: =B10-(B10/100*ТЛ!$G$32) -> 3650 | D10: =C10+(C10/100*ТЛ!$G$33) -> 3650 | F10: 3410
A11: Шкаф - модуль 7 | B11: =CEILING((F11+F11*0.07),5) -> 5925 | C11: =B11-(B11/100*ТЛ!$G$32) -> 5925 | D11: =C11+(C11/100*ТЛ!$G$33) -> 5925 | F11: 5535
A12: Шкаф - модуль 8 | B12: =CEILING((F12+F12*0.07),5) -> 3985 | C12: =B12-(B12/100*ТЛ!$G$32) -> 3985 | D12: =C12+(C12/100*ТЛ!$G$33) -> 3985 | F12: 3720
A13: Шкаф - модуль 9 | B13: 4135 | C13: =B13-(B13/100*ТЛ!$G$32) -> 4135 | D13: =C13+(C13/100*ТЛ!$G$33) -> 4135 | F13: 3800
A14: Шкаф - модуль 10 | B14: 4175 | C14: =B14-(B14/100*ТЛ!$G$32) -> 4175 | D14: =C14+(C14/100*ТЛ!$G$33) -> 4175 | F14: 3835
A15: Шкаф - модуль 11 | B15: =CEILING((F15+F15*0.07),5) -> 2955 | C15: =B15-(B15/100*ТЛ!$G$32) -> 2955 | D15: =C15+(C15/100*ТЛ!$G$33) -> 2955 | F15: 2760
A16: Шкаф - модуль 12 | B16: 3470 | C16: =B16-(B16/100*ТЛ!$G$32) -> 3470 | D16: =C16+(C16/100*ТЛ!$G$33) -> 3470 | F16: 3220
A17: Шкаф - модуль 13 | B17: 4010 | C17: =B17-(B17/100*ТЛ!$G$32) -> 4010 | D17: =C17+(C17/100*ТЛ!$G$33) -> 4010 | F17: 3740
A18: Тумба 600 | B18: 1580 | C18: =B18-(B18/100*ТЛ!$G$32) -> 1580 | D18: =C18+(C18/100*ТЛ!$G$33) -> 1580 | F18: 1470
A19: Тумба 900 | B19: =CEILING((F19+F19*0.07),5) -> 2305 | C19: =B19-(B19/100*ТЛ!$G$32) -> 2305 | D19: =C19+(C19/100*ТЛ!$G$33) -> 2305 | F19: 2150
A20: Тумба 1000 | B20: =CEILING((F20+F20*0.07),5) -> 3065 | C20: =B20-(B20/100*ТЛ!$G$32) -> 3065 | D20: =C20+(C20/100*ТЛ!$G$33) -> 3065 | F20: 2860
A21: Тумба 800 | B21: =CEILING((F21+F21*0.07),5) -> 2435 | C21: =B21-(B21/100*ТЛ!$G$32) -> 2435 | D21: =C21+(C21/100*ТЛ!$G$33) -> 2435 | F21: 2275
A22: Тумба 1600 | B22: =CEILING((F22+F22*0.07),5) -> 6255 | C22: =B22-(B22/100*ТЛ!$G$32) -> 6255 | D22: =C22+(C22/100*ТЛ!$G$33) -> 6255 | F22: 5845
A23: Тумба выкатная 400 | B23: =CEILING((F23+F23*0.07),5) -> 2085 | C23: =B23-(B23/100*ТЛ!$G$32) -> 2085 | D23: =C23+(C23/100*ТЛ!$G$33) -> 2085 | F23: 1945
A24: Тумба приставная 400 | B24: 2645 | C24: =B24-(B24/100*ТЛ!$G$32) -> 2645 | D24: =C24+(C24/100*ТЛ!$G$33) -> 2645 | F24: 2445
A25: Тумба выкатная 720 | B25: =CEILING((F25+F25*0.07),5) -> 3035 | C25: =B25-(B25/100*ТЛ!$G$32) -> 3035 | D25: =C25+(C25/100*ТЛ!$G$33) -> 3035 | F25: 2835
A26: Тумба приставная 1200 | B26: 4405 | C26: =B26-(B26/100*ТЛ!$G$32) -> 4405 | D26: =C26+(C26/100*ТЛ!$G$33) -> 4405 | F26: 4070
A27: Стол письменный 1750 | B27: 2825 | C27: =B27-(B27/100*ТЛ!$G$32) -> 2825 | D27: =C27+(C27/100*ТЛ!$G$33) -> 2825 | F27: 2605
A28: Стол приставной 800 | B28: =CEILING((F28+F28*0.07),5) -> 1180 | C28: =B28-(B28/100*ТЛ!$G$32) -> 1180 | D28: =C28+(C28/100*ТЛ!$G$33) -> 1180 | F28: 1100
A29: Стол приставной 1300 | B29: 1615 | C29: =B29-(B29/100*ТЛ!$G$32) -> 1615 | D29: =C29+(C29/100*ТЛ!$G$33) -> 1615 | F29: 1500
A30: Стол руководителя 1900 | B30: 3225 | C30: =B30-(B30/100*ТЛ!$G$32) -> 3225 | D30: =C30+(C30/100*ТЛ!$G$33) -> 3225 | F30: 3005
A31: Стол руководителя угловой | B31: 4370 | C31: =B31-(B31/100*ТЛ!$G$32) -> 4370 | D31: =C31+(C31/100*ТЛ!$G$33) -> 4370 | F31: 4050
A32: стол письм.1200 | B32: 1970 | C32: =B32-(B32/100*ТЛ!$G$32) -> 1970 | D32: =C32+(C32/100*ТЛ!$G$33) -> 1970 | F32: 1810
A33: Стол комп. 1450 | B33: 2755 | C33: =B33-(B33/100*ТЛ!$G$32) -> 2755 | D33: =C33+(C33/100*ТЛ!$G$33) -> 2755 | F33: 2550
A34: Стол письм. Угловой | B34: 2750 | C34: =B34-(B34/100*ТЛ!$G$32) -> 2750 | D34: =C34+(C34/100*ТЛ!$G$33) -> 2750 | F34: 2550
A35: Секция приставная 600 | B35: =CEILING((F35+F35*0.07),5) -> 1070 | C35: =B35-(B35/100*ТЛ!$G$32) -> 1070 | D35: =C35+(C35/100*ТЛ!$G$33) -> 1070 | F35: 1000
A36: Секция приставная 1200 | B36: 1635 | C36: =B36-(B36/100*ТЛ!$G$32) -> 1635 | D36: =C36+(C36/100*ТЛ!$G$33) -> 1635 | F36: 1510
A37: Перегородка разделит. | B37: =CEILING((F37+F37*0.07),5) -> 410 | C37: =B37-(B37/100*ТЛ!$G$32) -> 410 | D37: =C37+(C37/100*ТЛ!$G$33) -> 410 | F37: 380

Sheet 19
B4: Столы компьютерные
B5: Персона - 1 | G5: Персона-6 | L5: Персона - 7
B6: 900 х 670 х 1400 | G6: 1300 х 900 х 1800 | L6: 1265 х 600 х 1500
E7: Вес,кг | J7: Вес,кг | O7: Вес,кг
E8: 39 | J8: 61 | O8: 53
E9: Объем,м3 | J9: Объем,м3 | O9: Объем,м3
E10: 0.1 | J10: 0.16 | O10: 0.15
E11: Кол-во упаковок | J11: Кол-во упаковок | O11: Кол-во упаковок
E12: 1 | J12: 2 | O12: 2
B13: ЦЕНА | D13: ='19р'!D2 -> 3050 | G13: ЦЕНА | I13: ='19р'!D3 -> 5450 | L13: ЦЕНА | N13: ='19р'!D4 -> 4805
B14: венге+шимо светл. | G14: венге+шимо светл. | L14: Ольха, венге
B16: Персона - 8 | G16: Персона - 9 | L16: Персона - 10
B17: 1200 х 600 х 1850 | G17: 1190 х 550 х 750 | L17: 1200 х 600 х 1730
E18: Вес,кг | J18: Вес,кг | O18: Вес,кг
E19: 64 | J19: 46 | O19: 66
E20: Объем,м3 | J20: Объем,м3 | O20: Объем,м3
E21: 0.12 | J21: 0.09 | O21: 0.13
E22: Кол-во упаковок | J22: Кол-во упаковок | O22: Кол-во упаковок
E23: 1 | J23: 1 | O23: 2
B24: ЦЕНА | D24: ='19р'!D5 -> 5700 | G24: ЦЕНА | I24: ='19р'!D6 -> 3910 | L24: ЦЕНА | N24: ='19р'!D7 -> 5585
B25: шимо светл.+ шимо темн. | G25: шимо светл.+ шимо темн | L25: шимо светл.+ шимо темн
B27: Персона - 11 | G27: Стол письменный с дверкой | L27: Стол письменый с 3 ящиками
B28: 900 х 600 х 1610 | G28: 1100 х 550 х 766 | L28: 1100 х 550 х 766
E29: Вес,кг | J29: Вес,кг | O29: Вес,кг
E30: 43 | J30: 29 | O30: 35
E31: Объем,м3 | J31: Объем,м3 | O31: Объем,м3
E32: 0.09 | J32: 0.07 | O32: 0.07
E33: Кол-во упаковок | J33: Кол-во упаковок | O33: Кол-во упаковок
E34: 1 | J34: 1 | O34: 1
B35: ЦЕНА | D35: ='19р'!D8 -> 4145 | G35: ЦЕНА | I35: ='19р'!D9 -> 2275 | L35: ЦЕНА | N35: ='19р'!D10 -> 3080
B36: шимо светл.+ шимо темн | G36: Ольха, шимо светл | L36: Ольха, шимо светл.
G37: тумба справа | L37: тумба справа
B38: Стол письменный "Почемучка" | G38: Полка книжная навесная №1 | L38: Полка книжная навесная №2
B39: 1210 х 610 х 1608 | G39: 984 х 170 х 665 | L39: 900 х 240 х 340
E40: Вес,кг | J40: Вес,кг | O40: Вес,кг
E41: 56 | J41: 5 | O41: 7
E42: Объем,м3 | J42: Объем,м3 | O42: Объем,м3
E43: 0.11 | J43: 0.02 | O43: 0.02
E44: Кол-во упаковок | J44: Кол-во упаковок | O44: Кол-во упаковок
E45: 1 | J45: 1 | O45: 1
B46: ЦЕНА | D46: ='1р'!D7 -> 5140 | G46: ЦЕНА | I46: ='19р'!D12 -> 715 | L46: ЦЕНА | N46: ='19р'!D13 -> 715
B47: шимо светлый | G47: Ольха, венге, ш.св | L47: Ольха, венге, ш.св
B50: Полка книжная навесная №3 | G50: Полка книжная навесная №5 | L50: Полка книжная навесная №6
B51: 1564 х 170 х 600 | G51: 200 х 200 х 1200 | L51: 1190х240х600
E52: Вес,кг | J52: Вес,кг | O52: Вес,кг
E53: 8 | J53: 8 | O53: 9
E54: Объем,м3 | J54: Объем,м3 | O54: Объем,м3
E55: 0.02 | J55: 0.02 | O55: 0.02
E56: Кол-во упаковок | J56: Кол-во упаковок | O56: Кол-во упаковок
E57: 1 | J57: 1 | O57: 1
B58: ЦЕНА | D58: ='19р'!D14 -> 875 | G58: ЦЕНА | I58: ='19р'!D15 -> 550 | L58: ЦЕНА | N58: ='19р'!D16 -> 1575
B59: Ольха, венге, ш.св | G59: Ольха, венге, ш.св | L59: шимо темный
B61: Полка навесная "Почемучка" | G61: Полка навесная "Алешка" | L61: Стол Вита
B62: 1300 х 280 х 500 | G62: 1100 х 300 х 600 | L62: 800х500х760
E63: Вес,кг | J63: Вес,кг | O63: Вес,кг
E64: 9 | J64: 19
E65: Объем,м3 | J65: Объем,м3 | O65: Объем,м3
E66: 0.02 | J66: 0.05
E67: Кол-во упаковок | J67: Кол-во упаковок | O67: Кол-во упаковок
E68: 1 | J68: 1
B69: ЦЕНА | D69: ='19р'!D17 -> 2210 | G69: ЦЕНА | I69: ='19р'!D18 -> 1940 | L69: ЦЕНА | N69: ='19р'!D22 -> 995
B70: шимо светлый | G70: шимо св+ шимо темн | L70: венге
B72: Стол компьютерный "Компас-6" | G72: Стол компьютерный "Комфорт-4" | L72: Стол компьютерный "Комфорт-10"
B73: 1215x450x1465 | G73: 902х902х750 | L73: 1505х800х1715
E74: Вес,кг | J74: Вес,кг | O74: Вес,кг
E76: Объем,м3 | J76: Объем,м3 | O76: Объем,м3
E78: Кол-во упаковок | J78: Кол-во упаковок | O78: Кол-во упаковок
E79: 1 | J79: 1 | O79: 1
B80: ЦЕНА | D80: ='19р'!D19 -> 4065 | G80: ЦЕНА | I80: ='19р'!D20 -> 2150 | L80: ЦЕНА | N80: ='19р'!D21 -> 5490
B81: венге + шимо светлый | G81: венге + шимо светлый | L81: венге + шимо светлый
B83: Стол письменный "Диксон" | G83: Стол письменный-6 | L83: Стол универсальный Эдем
B84: 1350х610х750 | G84: 1140х630х750 | L84: 960х560х750
E85: Вес,кг | J85: Вес,кг | O85: Вес,кг
E87: Объем,м3 | J87: Объем,м3 | O87: Объем,м3
E89: Кол-во упаковок | J89: Кол-во упаковок | O89: Кол-во упаковок
E90: 1 | J90: 1 | O90: 1
B91: ЦЕНА | D91: ='19р'!D23 -> 3960 | G91: ЦЕНА | I91: ='19р'!D24 -> 3630 | L91: ЦЕНА | N91: ='19р'!D25 -> 2070
B92: венге + шимо светлый | G92: венге + шимо светлый | L92: шимо светлый

Sheet 19р
A1: наименование | B1: цена | C1: со скидкой | D1: и наценкой
A2: Персона 1 | B2: =CEILING((F2+F2*0.07),5) -> 3050 | C2: =B2-(B2/100*ТЛ!$G$32) -> 3050 | D2: =C2+(C2/100*ТЛ!$G$33) -> 3050 | F2: 2850
A3: Персона 6 | B3: 5450 | C3: =B3-(B3/100*ТЛ!$G$32) -> 5450 | D3: =C3+(C3/100*ТЛ!$G$33) -> 5450 | F3: 5030
A4: Персона 7 | B4: 4805 | C4: =B4-(B4/100*ТЛ!$G$32) -> 4805 | D4: =C4+(C4/100*ТЛ!$G$33) -> 4805 | F4: 4455
A5: Персона 8 | B5: 5700 | C5: =B5-(B5/100*ТЛ!$G$32) -> 5700 | D5: =C5+(C5/100*ТЛ!$G$33) -> 5700 | F5: 5250
A6: Персона 9 | B6: =CEILING((F6+F6*0.07),5) -> 3910 | C6: =B6-(B6/100*ТЛ!$G$32) -> 3910 | D6: =C6+(C6/100*ТЛ!$G$33) -> 3910 | F6: 3650
A7: Персона 10 | B7: 5585 | C7: =B7-(B7/100*ТЛ!$G$32) -> 5585 | D7: =C7+(C7/100*ТЛ!$G$33) -> 5585 | F7: 5205
A8: Персона 11 | B8: 4145 | C8: =B8-(B8/100*ТЛ!$G$32) -> 4145 | D8: =C8+(C8/100*ТЛ!$G$33) -> 4145 | F8: 3850
A9: Стол письм.с дверкой | B9: =CEILING((F9+F9*0.07),5) -> 2275 | C9: =B9-(B9/100*ТЛ!$G$32) -> 2275 | D9: =C9+(C9/100*ТЛ!$G$33) -> 2275 | F9: 2125
A10: Стол письм.с 3 ящиками | B10: 3080 | C10: =B10-(B10/100*ТЛ!$G$32) -> 3080 | D10: =C10+(C10/100*ТЛ!$G$33) -> 3080 | F10: 2780
A11: Стол Почемучка ясень | B11: =CEILING((F11+F11*0.07),5) -> 5140 | C11: =B11-(B11/100*ТЛ!$G$32) -> 5140 | D11: =C11+(C11/100*ТЛ!$G$33) -> 5140 | F11: ='1р'!F7 -> 4800
A12: Полка 1 | B12: 715 | C12: =B12-(B12/100*ТЛ!$G$32) -> 715 | D12: =C12+(C12/100*ТЛ!$G$33) -> 715 | F12: 655
A13: Полка 2 | B13: 715 | C13: =B13-(B13/100*ТЛ!$G$32) -> 715 | D13: =C13+(C13/100*ТЛ!$G$33) -> 715 | F13: 660
A14: Полка 3 | B14: =CEILING((F14+F14*0.07),5) -> 875 | C14: =B14-(B14/100*ТЛ!$G$32) -> 875 | D14: =C14+(C14/100*ТЛ!$G$33) -> 875 | F14: 815
A15: Полка 5 | B15: =CEILING((F15+F15*0.07),5) -> 550 | C15: =B15-(B15/100*ТЛ!$G$32) -> 550 | D15: =C15+(C15/100*ТЛ!$G$33) -> 550 | F15: 510
A16: Полка 6 | B16: =CEILING((F16+F16*0.07),5) -> 1575 | C16: =B16-(B16/100*ТЛ!$G$32) -> 1575 | D16: =C16+(C16/100*ТЛ!$G$33) -> 1575 | F16: 1470
A17: Полка Почемучка ясень | B17: =CEILING((F17+F17*0.07),5) -> 2210 | C17: =B17-(B17/100*ТЛ!$G$32) -> 2210 | D17: =C17+(C17/100*ТЛ!$G$33) -> 2210 | F17: ='1р'!F24 -> 2065
A18: Полка Алешка | B18: =CEILING((F18+F18*0.07),5) -> 1940 | C18: =B18-(B18/100*ТЛ!$G$32) -> 1940 | D18: =C18+(C18/100*ТЛ!$G$33) -> 1940 | F18: ='4р'!F8 -> 1810
A19: Стол компьют. Компас-6 | B19: 4065 | C19: =B19-(B19/100*ТЛ!$G$32) -> 4065 | D19: =C19+(C19/100*ТЛ!$G$33) -> 4065 | F19: 3700
A20: Стол компьют. Комфорт-4 | B20: 2150 | C20: =B20-(B20/100*ТЛ!$G$32) -> 2150 | D20: =C20+(C20/100*ТЛ!$G$33) -> 2150 | F20: 2000
A21: Стол компьют. Комфорт-10 | B21: 5490 | C21: =B21-(B21/100*ТЛ!$G$32) -> 5490 | D21: =C21+(C21/100*ТЛ!$G$33) -> 5490 | F21: 5050
A22: Стол Вита | B22: 995 | C22: =B22-(B22/100*ТЛ!$G$32) -> 995 | D22: =C22+(C22/100*ТЛ!$G$33) -> 995 | F22: 910
A23: Стол письменный Диксон | B23: =CEILING((F23+F23*0.07),5) -> 3960 | C23: =B23-(B23/100*ТЛ!$G$32) -> 3960 | D23: =C23+(C23/100*ТЛ!$G$33) -> 3960 | F23: 3700
A24: Стол письменный-6 | B24: 3630 | C24: =B24-(B24/100*ТЛ!$G$32) -> 3630 | D24: =C24+(C24/100*ТЛ!$G$33) -> 3630 | F24: 3350
A25: Стол Эдем | B25: 2070 | C25: =B25-(B25/100*ТЛ!$G$32) -> 2070 | D25: =C25+(C25/100*ТЛ!$G$33) -> 2070 | F25: 1695

Sheet шк1
A1: наименование | B1: цена | C1: со скидкой | D1: и наценкой
A2: ШК-1 | B2: 2405 | C2: =B2-(B2/100*ТЛ!$G$32) -> 2405 | D2: =C2+(C2/100*ТЛ!$G$33) -> 2405
A3: ШК-2 | B3: 1875 | C3: =B3-(B3/100*ТЛ!$G$32) -> 1875 | D3: =C3+(C3/100*ТЛ!$G$33) -> 1875
A4: ШК-3 | B4: 1375 | C4: =B4-(B4/100*ТЛ!$G$32) -> 1375 | D4: =C4+(C4/100*ТЛ!$G$33) -> 1375
A5: ШК-4 | B5: 2380 | C5: =B5-(B5/100*ТЛ!$G$32) -> 2380 | D5: =C5+(C5/100*ТЛ!$G$33) -> 2380
A6: ШК-5 | B6: 3180 | C6: =B6-(B6/100*ТЛ!$G$32) -> 3180 | D6: =C6+(C6/100*ТЛ!$G$33) -> 3180
A7: ШК-6 | B7: 1900 | C7: =B7-(B7/100*ТЛ!$G$32) -> 1900 | D7: =C7+(C7/100*ТЛ!$G$33) -> 1900

Sheet 20,21
B4: Гарнитур для прихожей "ПР"
B5: ПР - 3 (с выдвижной штангой) | G5: ПР - 4 | L5: ПР - 5
B6: 1200 х 400 х 2150 | G6: 900 х 320 х 2000 | L6: 900 х 360 х 1980
E7: Вес,кг | J7: Вес,кг | O7: Вес,кг
E8: 72 | J8: 42 | O8: 52
E9: Объем,м3 | J9: Объем,м3 | O9: Объем,м3
E10: 0.14 | J10: 0.14 | O10: 0.12
E11: Кол-во упаковок | J11: Кол-во упаковок | O11: Кол-во упаковок
E12: 2 | J12: 1 | O12: 1
B13: ЦЕНА | D13: ='22р'!D2 -> 6665 | G13: ЦЕНА | I13: ='22р'!D3 -> 3710 | L13: ЦЕНА | N13: ='22р'!D4 -> 4875
B14: Ольха | G14: шимо светл+шимо темн | L14: шимо светл+шимо темн
B15: Венге +шимо светл
B17: ПР - 6 | G17: ПР-8 (левая/правая) | L17: "Виктория" корп. №1 шкаф с антресолью и выдвижной штангой
B18: 920 х 320 х 1980 | G18: 1600 х 420 х 2100 | L18: 600х348х2200
E19: Вес,кг | J19: Вес,кг | O19: Вес,кг
E20: 44
E21: Объем,м3 | J21: Объем,м3 | O21: Объем,м3
E22: 0.12
E23: Кол-во упаковок | J23: Кол-во упаковок | O23: Кол-во упаковок
E24: 1
B25: ЦЕНА | D25: ='22р'!D5 -> 3630 | G25: ЦЕНА | I25: без ф/п | J25: ='22р'!D6 -> 10285 | L25: ЦЕНА | O25: ='22р'!D8 -> 4405
B26: шимо светл+шимо темн | I26: с ф/п | J26: ='22р'!D7 -> 10335 | L26: доп. полки (4 шт) к шкафу | O26: ='22р'!D11 -> 910
G27: венге+ шимо светлый | L27: шимо светлый с накладками МДФ
G28: шимо темный + шимо светлый
B30: "Виктория" корп. №2 зеркало с тумбой и ящиками | G30: "Виктория" корп. №3 вешалка с крючками и тумбой
B31: 600х348х2200 | G31: 600х348х2200
E32: Вес,кг | J32: Вес,кг
E34: Объем,м3 | J34: Объем,м3
E36: Кол-во упаковок | J36: Кол-во упаковок
B38: ЦЕНА | E38: ='22р'!D9 -> 5010 | G38: ЦЕНА | J38: ='22р'!D10 -> 3290
B40: шимо светлый с накладками МДФ | G40: шимо светлый с накладками МДФ
K42: 1800х2185х348
B43: ПР-9 | G43: ПР-10 | L43: "Веста", вешалка
B44: 800х380х2000 | G44: 800х350х2030 | L44: 550х16х1350
E45: Вес,кг | J45: Вес,кг | O45: Вес,кг
D46: за зеркалом полочки
E47: Объем,м3 | I47: за дверкой полки | J47: Объем,м3 | O47: Объем,м3
E49: Кол-во упаковок | J49: Кол-во упаковок | O49: Кол-во упаковок
B51: ЦЕНА | E51: ='22р'!D12 -> 5430 | G51: ЦЕНА | J51: ='22р'!D13 -> 4840 | L51: ЦЕНА | N51: дуб сонома/ белый МДФ | O51: ='22р'!D14 -> 1220
L52: ЦЕНА | N52: венге/крафт | O52: ='22р'!D18 -> 920
B53: венге/дуб сонома | G53: венге/дуб сонома | L53: дуб сонома/ белый МДФ
L54: венге/крафт ЛДСП
B57: "Веста", зеркало | G57: "Веста", обувница | L57: "Веста", шкаф
B58: 400х20х1100 | G58: 1000х324х855 | L58: 500х342х2000
E59: Вес,кг | J59: Вес,кг | O59: Вес,кг
E61: Объем,м3 | J61: Объем,м3 | O61: Объем,м3
E63: Кол-во упаковок | J63: Кол-во упаковок | O63: Кол-во упаковок
B65: ЦЕНА | D65: дуб сонома/ белый МДФ | E65: ='22р'!D15 -> 1385 | G65: ЦЕНА | I65: дуб сонома/ белый МДФ | J65: ='22р'!D16 -> 2530 | L65: ЦЕНА | N65: дуб сонома/ белый МДФ | O65: ='22р'!D17 -> 4110
B66: ЦЕНА | D66: венге/крафт | E66: ='22р'!D19 -> 1330 | G66: ЦЕНА | I66: венге/крафт | J66: ='22р'!D20 -> 2140 | L66: ЦЕНА | N66: венге/крафт | O66: ='22р'!D21 -> 3070
B67: дуб сонома/ белый МДФ | G67: дуб сонома/ белый МДФ | L67: дуб сонома/ белый МДФ
B68: венге/крафт ЛДСП | G68: венге/крафт ЛДСП | L68: венге/крафт ЛДСП
B71: Прихожая ПР - 7 (модульная)
B72: ПР - 7 (Модуль №1) | G72: ПР - 7 (Модуль №2) | L72: ПР - 7 (Модуль №3)
B73: 600 х 380 х 2020 | G73: 800 х 16 х 600 | L73: 400 х 400 х 2020
E74: Вес,кг | J74: Вес,кг | O74: Вес,кг
E76: Объем,м3 | J76: Объем,м3 | O76: Объем,м3
E78: Кол-во упаковок | J78: Кол-во упаковок | L78: 2 полки----- | O78: Кол-во упаковок
E79: 1 | J79: 1 | O79: 1
B80: ЦЕНА | D80: ='20р'!D2 -> 4825 | G80: ЦЕНА | I80: ='20р'!D3 -> 1265 | L80: ЦЕНА | N80: ='20р'!D4 -> 2715
B81: шимо светл+шимо темн | G81: шимо светл+шимо темн | L81: шимо светл+шимо темн
B84: ПР - 7 (Модуль №4) | G84: ПР - 7 (Модуль №6) | L84: ПР - 7 (Модуль №7)
B85: 600 х 266 х 1330 | G85: 1000 х 400 х 2020 (выдвижная штанга) | L85: 600 х 400 х 2020 (выдвижная штанга)
E86: Вес,кг | J86: Вес,кг | O86: Вес,кг
E88: Объем,м3 | J88: Объем,м3 | O88: Объем,м3
E90: Кол-во упаковок | J90: Кол-во упаковок | O90: Кол-во упаковок
E91: 1 | J91: 1 | O91: 1
B92: ЦЕНА | D92: ='20р'!D5 -> 1440 | G92: ЦЕНА | I92: ='20р'!D6 -> 5685 | L92: ЦЕНА | N92: ='20р'!D7 -> 3710
B93: шимо светл+шимо темн | G93: шимо светл+шимо темн | L93: шимо светл+шимо темн
B96: ПР - 7 (Модуль №9) | G96: ПР - 7 (Модуль №10) | L96: ПР - 7 (Модуль №11)
B97: 600 х 380 х 490 (направл. шариковые) | G97: 900 х 380 х 920 | L97: 850 х 850 х 2020 (штанга деревян.)
E98: Вес,кг | J98: Вес,кг | O98: Вес,кг
G99: 2 ящ | I99: обувница
E100: Объем,м3 | J100: Объем,м3 | O100: Объем,м3
B101: 2 ящ.
E102: Кол-во упаковок | G102: обувница | I102: дверка | J102: Кол-во упаковок | O102: Кол-во упаковок
E103: 1
B104: ЦЕНА | D104: ='20р'!D8 -> 1935 | G104: ЦЕНА | I104: ='20р'!D9 -> 3395 | L104: ЦЕНА | N104: ='20р'!D10 -> 6370
B105: шимо светл+шимо темн | G105: шимо светл+шимо темн | L105: шимо светл+шимо темн
B108: ПР - 7 (Вариант компановки № 1) | G108: ПР - 7 (Вариант компановки №2) | L108: ПР - 7 (Вариант компановки №3)
B109: мод.1, 2,3,4,6,7,9,10,11, 3050х2750 | G109: мод.2,3,10,11 1650х1250 | L109: мод.2,4,6,9,10 2400
E110: Вес,кг | J110: Вес,кг | O110: Вес,кг
E112: Объем,м3 | J112: Объем,м3 | O112: Объем,м3
E114: Кол-во упаковок | J114: Кол-во упаковок | O114: Кол-во упаковок
E115: 1 | J115: 1 | O115: 1
B117: ПР - 7 (Вариант компановки №4) | G117: ПР - 7 (Вариант компановки №5) | L117: ПР - 7 (Вариант компановки №6)
B118: мод.1,4,9,11 2050х850 | G118: мод.1,3,4,9,11 2450х850 | L118: мод.2,4,9,10 1400
E119: Вес,кг | J119: Вес,кг | O119: Вес,кг
E121: Объем,м3 | J121: Объем,м3 | O121: Объем,м3
E123: Кол-во упаковок | J123: Кол-во упаковок | O123: Кол-во упаковок
E124: 1 | J124: 1 | O124: 1

Sheet 20р
A1: наименование | B1: цена | C1: со скидкой | D1: и наценкой
A2: модуль 1 | B2: =CEILING((F2+F2*0.07),5) -> 4825 | C2: =B2-(B2/100*ТЛ!$G$32) -> 4825 | D2: =C2+(C2/100*ТЛ!$G$33) -> 4825 | F2: 4505
A3: модуль 2 | B3: =CEILING((F3+F3*0.07),5) -> 1265 | C3: =B3-(B3/100*ТЛ!$G$32) -> 1265 | D3: =C3+(C3/100*ТЛ!$G$33) -> 1265 | F3: 1180
A4: модуль 3 | B4: =CEILING((F4+F4*0.07),5) -> 2715 | C4: =B4-(B4/100*ТЛ!$G$32) -> 2715 | D4: =C4+(C4/100*ТЛ!$G$33) -> 2715 | F4: 2535
A5: модуль 4 | B5: =CEILING((F5+F5*0.07),5) -> 1440 | C5: =B5-(B5/100*ТЛ!$G$32) -> 1440 | D5: =C5+(C5/100*ТЛ!$G$33) -> 1440 | F5: 1345
A6: модуль 6 | B6: =CEILING((F6+F6*0.07),5) -> 5685 | C6: =B6-(B6/100*ТЛ!$G$32) -> 5685 | D6: =C6+(C6/100*ТЛ!$G$33) -> 5685 | F6: 5310
A7: модуль 7 | B7: =CEILING((F7+F7*0.07),5) -> 3710 | C7: =B7-(B7/100*ТЛ!$G$32) -> 3710 | D7: =C7+(C7/100*ТЛ!$G$33) -> 3710 | F7: 3465
A8: модуль 9 | B8: =CEILING((F8+F8*0.07),5) -> 1935 | C8: =B8-(B8/100*ТЛ!$G$32) -> 1935 | D8: =C8+(C8/100*ТЛ!$G$33) -> 1935 | F8: 1805
A9: модуль 10 | B9: =CEILING((F9+F9*0.07),5) -> 3395 | C9: =B9-(B9/100*ТЛ!$G$32) -> 3395 | D9: =C9+(C9/100*ТЛ!$G$33) -> 3395 | F9: 3170
A10: модуль 11 | B10: =CEILING((F10+F10*0.07),5) -> 6370 | C10: =B10-(B10/100*ТЛ!$G$32) -> 6370 | D10: =C10+(C10/100*ТЛ!$G$33) -> 6370 | F10: 5950
A11: Вар.№1
A12: Вар.№2
A13: Вар.№3
A14: Вар.№4
A15: Вар.№5
A16: Вар.№6

Sheet 22
B2: Модульная прихожая ПР-7
B3: Примеры компановки

Sheet 222
B1: ПРАЙС-ЛИСТ | E1: ООО "МК ПРЕМИУМ"
B2: 606000, Нижегородская область, г.Дзержинск, пр.Свердлова, 8
B3: www.premium-mk.ru
B4: Гарнитур для прихожей "ПР"
B5: ПР -3 | G5: ПР -4 | L5: ПР 5
B6: 1200 х 400 х 2150 | G6: 900 х 320 х 2000 | L6: 900 х 360 х 1980
E7: Вес,кг | J7: Вес,кг | O7: Вес,кг
E8: 72 | J8: 42 | O8: 52
E9: Объем,м3 | J9: Объем,м3 | O9: Объем,м3
E10: 0.14 | J10: 0.14 | O10: 0.12
E11: Кол-во упаковок | J11: Кол-во упаковок | O11: Кол-во упаковок
E12: 2 | J12: 1 | O12: 1
B13: ЦЕНА | D13: ='22р'!D2 -> 6665 | G13: ЦЕНА | I13: ='22р'!D3 -> 3710 | L13: ЦЕНА | N13: ='22р'!D4 -> 4875
B14: Ольха, орех | G14: шимо светл+шимо темн | L14: шимо светл+шимо темн
B15: Венге +шимо светл
B17: ПР -6 | G17: ПР-8
B18: 920 х 320 х 1980 | G18: 1600 х 420 х 2100
E19: Вес,кг | J19: Вес,кг
E20: 44
E21: Объем,м3 | J21: Объем,м3
E22: 0.12
E23: Кол-во упаковок | J23: Кол-во упаковок
E24: 1
B25: ЦЕНА | D25: ='22р'!D5 -> 3630 | G25: ЦЕНА | I25: без ф/п | J25: ='22р'!D6 -> 10285
B26: шимо светл+шимо темн | I26: с ф/п | J26: ='22р'!D7 -> 10335
G27: венге+ шимо светлый
G28: шимо темный + шимо светлый

Sheet 22р
A1: наименование | B1: цена | C1: со скидкой | D1: и наценкой
A2: пр-3 | B2: =CEILING((F2+F2*0.07),5) -> 6665 | C2: =B2-(B2/100*ТЛ!$G$32) -> 6665 | D2: =C2+(C2/100*ТЛ!$G$33) -> 6665 | F2: 6225
A3: пр-4 | B3: =CEILING((F3+F3*0.07),5) -> 3710 | C3: =B3-(B3/100*ТЛ!$G$32) -> 3710 | D3: =C3+(C3/100*ТЛ!$G$33) -> 3710 | F3: 3465
A4: пр-5 | B4: =CEILING((F4+F4*0.07),5) -> 4875 | C4: =B4-(B4/100*ТЛ!$G$32) -> 4875 | D4: =C4+(C4/100*ТЛ!$G$33) -> 4875 | F4: 4555
A5: пр-6 | B5: =CEILING((F5+F5*0.07),5) -> 3630 | C5: =B5-(B5/100*ТЛ!$G$32) -> 3630 | D5: =C5+(C5/100*ТЛ!$G$33) -> 3630 | F5: 3390
A6: пр-8 | B6: 10285 | C6: =B6-(B6/100*ТЛ!$G$32) -> 10285 | D6: =C6+(C6/100*ТЛ!$G$33) -> 10285 | F6: 9430
A7: пр-8 с ф/п | B7: 10335 | C7: =B7-(B7/100*ТЛ!$G$32) -> 10335 | D7: =C7+(C7/100*ТЛ!$G$33) -> 10335 | F7: 9505
A8: ПР Виктория мод.1 | B8: 4405 | C8: =B8-(B8/100*ТЛ!$G$32) -> 4405 | D8: =C8+(C8/100*ТЛ!$G$33) -> 4405
A9: ПР Виктория мод.2 | B9: 5010 | C9: =B9-(B9/100*ТЛ!$G$32) -> 5010 | D9: =C9+(C9/100*ТЛ!$G$33) -> 5010
A10: ПР Виктория мод.3 | B10: 3290 | C10: =B10-(B10/100*ТЛ!$G$32) -> 3290 | D10: =C10+(C10/100*ТЛ!$G$33) -> 3290
A11: ПР Виктория полки к мод.№1 | B11: 910 | C11: =B11-(B11/100*ТЛ!$G$32) -> 910 | D11: =C11+(C11/100*ТЛ!$G$33) -> 910
A12: ПР-9 | B12: 5430 | C12: =B12-(B12/100*ТЛ!$G$32) -> 5430 | D12: =C12+(C12/100*ТЛ!$G$33) -> 5430
A13: Пр-10 | B13: 4840 | C13: =B13-(B13/100*ТЛ!$G$32) -> 4840 | D13: =C13+(C13/100*ТЛ!$G$33) -> 4840
A14: Веста, вешалка сонома/бел. | B14: 1220 | C14: =B14-(B14/100*ТЛ!$G$32) -> 1220 | D14: =C14+(C14/100*ТЛ!$G$33) -> 1220
A15: Веста, зеркало сонома/бел. | B15: 1385 | C15: =B15-(B15/100*ТЛ!$G$32) -> 1385 | D15: =C15+(C15/100*ТЛ!$G$33) -> 1385
A16: Веста, обувница сонома/бел. | B16: 2530 | C16: =B16-(B16/100*ТЛ!$G$32) -> 2530 | D16: =C16+(C16/100*ТЛ!$G$33) -> 2530
A17: Веста, шкаф сонома/бел. | B17: 4110 | C17: =B17-(B17/100*ТЛ!$G$32) -> 4110 | D17: =C17+(C17/100*ТЛ!$G$33) -> 4110
A18: Веста, вешалка крафт | B18: 920 | C18: =B18-(B18/100*ТЛ!$G$32) -> 920 | D18: =C18+(C18/100*ТЛ!$G$33) -> 920
A19: Веста, зеркало крафт | B19: 1330 | C19: =B19-(B19/100*ТЛ!$G$32) -> 1330 | D19: =C19+(C19/100*ТЛ!$G$33) -> 1330
... A21: Веста, шкаф крафт | B21: 3070 | C21: =B21-(B21/100*ТЛ!$G$32) -> 3070 | D21: =C21+(C21/100*ТЛ!$G$33) -> 3070
C22: =B22-(B22/100*ТЛ!$G$32) -> 0 | D22: =C22+(C22/100*ТЛ!$G$33) -> 0
C23: =B23-(B23/100*ТЛ!$G$32) -> 0 | D23: =C23+(C23/100*ТЛ!$G$33) -> 0

Sheet 23
B4: Мебель для прихожей
B5: Пуфик | G5: Пуфик - 2 (крышка съемная) | L5: Пуфик - 6
B6: 400 х 400 х 400 | G6: 400 х 400 х 500 | L6: 400 х 400 х 450
E7: Вес,кг | J7: Вес,кг | O7: Вес,кг
E8: 10 | J8: 10 | O8: 10
E9: Объем,м3 | J9: Объем,м3 | O9: Объем,м3
E10: 0.08 | J10: 0.08 | O10: 0.08
E11: Кол-во упаковок | J11: Кол-во упаковок | O11: Кол-во упаковок
E12: 1 | J12: 1 | O12: 1
B13: ЦЕНА | D13: ='23р'!D2 -> 1420 | G13: ЦЕНА | L13: ЦЕНА | N13: ='23р'!D5 -> 1385
B14: Флок в ассортименте | G14: Флок 1 кат. | J14: ='23р'!D3 -> 1415 | L14: винилкожа 3 категории
G15: Флок 2 кат. | J15: ='23р'!D4 -> 1650
B17: Пуфик малый "Домино" | G17: Пуфик большой "Домино" | L17: Тумба для документов 800 "Акцент"
B18: 390 х 390 х 450 | G18: 820 х 390 х 450 | L18: 800 х 350 х 1100
E19: Вес,кг | J19: Вес,кг | O19: Вес,кг
E20: 8 | J20: 14 | O20: 56
E21: Объем,м3 | J21: Объем,м3 | O21: Объем,м3
E22: 0.07 | J22: 0.09
E23: Кол-во упаковок | J23: Кол-во упаковок | O23: Кол-во упаковок
E24: 1 | J24: 1
B25: ЦЕНА | D25: ='23р'!D7 -> 2095 | G25: ЦЕНА | I25: ='23р'!D8 -> 2605 | L25: ЦЕНА | N25: ='23р'!D17 -> 2435
B26: винилкожа 3 категории | G26: винилкожа 3 категории | L26: шимо светлый
B29: Тумба для обуви "София" №2 | G29: Тумба для обуви "София" №2 с фотопечатью | L29: Тумба
B30: 625 х 300 х 480 | G30: 625 х 300 х 480 | L30: 900 х 350 х 320
E31: Вес,кг | J31: Вес,кг | O31: Вес,кг
E32: 11 | J32: 11 | O32: 12.2
E33: Объем,м3 | J33: Объем,м3 | O33: Объем,м3
E34: 0.04 | J34: 0.04 | O34: 0.03
E35: Кол-во упаковок | J35: Кол-во упаковок | O35: Кол-во упаковок
E36: 1 | J36: 1 | O36: 1
B37: ЦЕНА | D37: ='23р'!D9 -> 1230 | G37: ЦЕНА | I37: ='23р'!D10 -> 1390 | L37: ЦЕНА | N37: ='23р'!D6 -> 985
B38: Ольха, венге+Шимо светл. | G38: Венге + ш.св.+фотопечать | L38: Ольха, Шимо светл.
B39: Сидушка к/з в цвет ламината | G39: Сидушка к/з в цвет ламината
B41: Вешалка для одежды "ВО-1" | G41: Тумба в прихожую "Комфорт" | L41: Тумба в прихожую "Комфорт" МДФ фасад
B42: 900 х 300 х 966 | G42: 900 х 450 х 920 | L42: 900 х 450 х 920
E43: Вес,кг | J43: Вес,кг | O43: Вес,кг
E44: 17 | J44: 28 | O44: 28
E45: Объем,м3 | J45: Объем,м3 | O45: Объем,м3
E46: 0.04 | J46: 0.08 | O46: 0.08
E47: Кол-во упаковок | J47: Кол-во упаковок | O47: Кол-во упаковок
E48: 1 | J48: 2 | O48: 2
B49: ЦЕНА | D49: ='23р'!D13 -> 1720 | G49: ЦЕНА | J49: ='23р'!D11 -> 2675 | L49: ЦЕНА | O49: ='23р'!D12 -> 2785
B50: Ольха, ш.св., венге
G51: Ольха, венге,ш.светл.
G52: Флок 2 категории, к/з 2 и 3 категории | L52: Венге + фасад МДФ шимо светлый
B54: Вешалка настенная с полкой* | G54: Обувница малая* | L54: Обувница большая*
B55: ширина 990х360х320 | G55: 520 х 350 х 460 | L55: 990 х 370 х 460
E56: Вес,кг | J56: Вес,кг | O56: Вес,кг
E57: 3.25 | J57: 3.25 | O57: 5.7
E58: Объем,м3 | J58: Объем,м3 | O58: Объем,м3
E59: 0.16 | J59: 0.08 | O59: 0.16
E60: Кол-во упаковок | J60: Кол-во упаковок | O60: Кол-во упаковок
E61: 1 | J61: 2 | O61: 2
B62: ЦЕНА | E62: ='23р'!D16 -> 1360 | G62: ЦЕНА | J62: ='23р'!D14 -> 1320 | L62: ЦЕНА | O62: ='23р'!D15 -> 1650
B64: Антик-медь | G64: Антик-медь | L64: Антик-медь
G65: Сидушка в ассортименте | L65: Сидушка в ассортименте
D66: Новинка!!!
B67: Тумба в прихож. "Визит" | G67: Тумба в прихож. "ТО-6" (3 обувных мех-ма+ящик) | L67: Тумба в прихож. "ТО-7" (2 обувных мех-ма+ящик)
B68: 1100х425х1295 | G68: 635х285х1260 | L68: 635х285х915
E69: Вес,кг | J69: Вес,кг | O69: Вес,кг
E71: Объем,м3 | J71: Объем,м3 | O71: Объем,м3
E73: Кол-во упаковок | J73: Кол-во упаковок | O73: Кол-во упаковок
E74: 1 | J74: 1 | O74: 1
B75: ЦЕНА | E75: ='23р'!D18 -> 5515 | G75: ЦЕНА | J75: ='23р'!D19 -> 2540 | L75: ЦЕНА | O75: ='23р'!D20 -> 1970
B76: с накладками МДФ
B77: шимо светл. | G77: венге комб. с шимо светл. | L77: венге комб. с шимо светл.
B79: Тумба для обуви "София-1"
B80: 500х320х500
E81: Вес,кг
E83: Объем,м3
E85: Кол-во упаковок
E86: 1
B87: ЦЕНА | E87: ='23р'!D21 -> 1350
B89: фасад, крышка, планки МДФ, шимо светл.

Sheet 23р
A1: наименование | B1: цена | C1: со скидкой | D1: и наценкой
A2: пуфик -1 | B2: 1420 | C2: =B2-(B2/100*ТЛ!$G$32) -> 1420 | D2: =C2+(C2/100*ТЛ!$G$33) -> 1420 | F2: 1240
A3: пуфик -2 1кат | B3: =CEILING((F3+F3*0.07),5) -> 1415 | C3: =B3-(B3/100*ТЛ!$G$32) -> 1415 | D3: =C3+(C3/100*ТЛ!$G$33) -> 1415 | F3: 1320
A4: пуфик -2 2кат | B4: =CEILING((F4+F4*0.07),5) -> 1650 | C4: =B4-(B4/100*ТЛ!$G$32) -> 1650 | D4: =C4+(C4/100*ТЛ!$G$33) -> 1650 | F4: 1540
A5: пуфик -6 | B5: =CEILING((F5+F5*0.07),5) -> 1385 | C5: =B5-(B5/100*ТЛ!$G$32) -> 1385 | D5: =C5+(C5/100*ТЛ!$G$33) -> 1385 | F5: 1290
A6: Тумба | B6: 985 | C6: =B6-(B6/100*ТЛ!$G$32) -> 985 | D6: =C6+(C6/100*ТЛ!$G$33) -> 985 | F6: 915
A7: пуф. Мал. Домино | B7: =CEILING((F7+F7*0.07),5) -> 2095 | C7: =B7-(B7/100*ТЛ!$G$32) -> 2095 | D7: =C7+(C7/100*ТЛ!$G$33) -> 2095 | F7: 1955
A8: пуф. бол. Домино | B8: =CEILING((F8+F8*0.07),5) -> 2605 | C8: =B8-(B8/100*ТЛ!$G$32) -> 2605 | D8: =C8+(C8/100*ТЛ!$G$33) -> 2605 | F8: 2430
A9: софия-2 | B9: =CEILING((F9+F9*0.07),5) -> 1230 | C9: =B9-(B9/100*ТЛ!$G$32) -> 1230 | D9: =C9+(C9/100*ТЛ!$G$33) -> 1230 | F9: 1145
A10: софия-2 ф/п* | B10: =CEILING((F10+F10*0.07),5) -> 1390 | C10: =B10-(B10/100*ТЛ!$G$32) -> 1390 | D10: =C10+(C10/100*ТЛ!$G$33) -> 1390 | F10: 1295
A11: Комфорт | B11: =CEILING((F11+F11*0.07),5) -> 2675 | C11: =B11-(B11/100*ТЛ!$G$32) -> 2675 | D11: =C11+(C11/100*ТЛ!$G$33) -> 2675 | F11: 2500
A12: Комфорт МДФ | B12: =CEILING((F12+F12*0.07),5) -> 2785 | C12: =B12-(B12/100*ТЛ!$G$32) -> 2785 | D12: =C12+(C12/100*ТЛ!$G$33) -> 2785 | F12: 2600
A13: Вешалка ВО-1 | B13: =CEILING((F13+F13*0.07),5) -> 1720 | C13: =B13-(B13/100*ТЛ!$G$32) -> 1720 | D13: =C13+(C13/100*ТЛ!$G$33) -> 1720 | F13: 1605
A14: Обувница малая 1шт | B14: 1320 | C14: =B14 -> 1320 | D14: =C14+(C14/100*ТЛ!$G$33) -> 1320 | F14: 1205
A15: Обувница большая 1шт | B15: 1650 | C15: =B15 -> 1650 | D15: =C15+(C15/100*ТЛ!$G$33) -> 1650 | F15: 1505
A16: Вешалка метал 1шт | B16: 1360 | C16: =B16 -> 1360 | D16: =C16+(C16/100*ТЛ!$G$33) -> 1360 | F16: 1200
A17: Тумба для док. 800 | B17: =CEILING((F17+F17*0.07),5) -> 2435 | C17: =B17 -> 2435 | D17: =C17+(C17/100*ТЛ!$G$33) -> 2435 | F17: ='18р'!F21 -> 2275
A18: Тумба в прих. Визит | B18: 5515 | C18: =B18 -> 5515 | D18: =C18+(C18/100*ТЛ!$G$33) -> 5515 | F18: 5055
A19: Тумба в прих. ТО-6 | B19: =CEILING((F19+F19*0.07),5) -> 2540 | C19: =B19 -> 2540 | D19: =C19+(C19/100*ТЛ!$G$33) -> 2540 | F19: 2370
A20: Тумба в прих. ТО-7 | B20: =CEILING((F20+F20*0.07),5) -> 1970 | C20: =B20 -> 1970 | D20: =C20+(C20/100*ТЛ!$G$33) -> 1970 | F20: 1840
A21: Тумба в прих. София-1 | B21: 1350 | C21: =B21 -> 1350 | D21: =C21+(C21/100*ТЛ!$G$33) -> 1350

Sheet 24
B3: www.premium-mk.ru | J3: комб.№1 на углы 4 категории | M3: комб. №2 на углы 4 категории
B4: Мебель для кухни. Обеденные группы
B5: Лагуна | G5: Эффект | L5: Тандем
B6: 1500 х 1100 х 870 | G6: 1500 х 1100 х 970 | L6: 1100 х 1100 х 870
E7: Вес,кг | J7: Вес,кг | O7: Вес,кг
E8: 67 | J8: 65 | O8: 62
E9: Объем,м3 | J9: Объем,м3 | O9: Объем,м3
E10: 0.4 | J10: 0.3 | O10: 0.4
E11: Кол-во упаковок | J11: Кол-во упаковок | O11: Кол-во упаковок
E12: 4 | J12: 3 | O12: 4
B13: Ольха, шимо светл., венге | G13: Ольха, шимо светл., венге | L13: Ольха, шимо светл., венге
B14: Флок 1 и 2кат, к/з 2 и 3 категории | G14: Флок 1 и 2кат, к/з 2 и 3 категории | L14: Флок 1 и 2кат, к/з 2 и 3 категории
B15: стол без ящика со столешницей ЛДСП 22мм | G15: стол без ящика со столешницей ЛДСП 22мм | L15: стол без ящика со столешницей ЛДСП 22мм
B16: Цена 1кат. | D16: ='24р'!D2 -> 0 | G16: Цена 1кат. | I16: ='24р'!D18 -> 0 | L16: Цена 1кат. | N16: ='24р'!D10 -> 0
B17: Цена 2кат. | D17: ='24р'!D3 -> 7065 | G17: Цена 2кат. | I17: ='24р'!D19 -> 6635 | L17: Цена 2кат. | N17: ='24р'!D11 -> 7065
B18: Цена 3кат. | D18: ='24р'!D4 -> 7385 | G18: Цена 3кат. | I18: ='24р'!D20 -> 6850 | L18: Цена 3кат. | N18: ='24р'!D12 -> 7280
B19: Цена 4кат. | D19: ='24р'!D5 -> 7815 | G19: Цена 4кат. | I19: ='24р'!D21 -> 7200 | L19: Цена 4кат. | N19: ='24р'!D13 -> 7600
B20: стол без ящика со столешницей постформинг 22мм | G20: стол без ящика со столешницей постформинг 22мм | L20: стол без ящика со столешницей постформинг 22мм
B21: Цена 1кат. | D21: ='24р'!D6 -> 0 | G21: Цена 1кат. | I21: ='24р'!D22 -> 0 | L21: Цена 1кат. | N21: ='24р'!D14 -> 0
B22: Цена 2кат. | D22: ='24р'!D7 -> 8025 | G22: Цена 2кат. | I22: ='24р'!D23 -> 7705 | L22: Цена 2кат. | N22: ='24р'!D15 -> 7920
B23: Цена 3кат. | D23: ='24р'!D8 -> 8350 | G23: Цена 3кат. | I23: ='24р'!D24 -> 7920 | L23: Цена 3кат. | N23: ='24р'!D16 -> 8240
B24: Цена 4кат. | D24: ='24р'!D9 -> 8775 | G24: Цена 4кат. | I24: ='24р'!D25 -> 8135 | L24: Цена 4кат. | N24: ='24р'!D17 -> 8670
B32: Оптима | G32: Блюз | L32: Блюз с Венским столом
B33: 1460 х 1100 х 800 | G33: 1100 х 1500 х 1069 | L33: 1100 х 1500 х 1069
E34: Вес,кг | J34: Вес,кг | O34: Вес,кг
E35: 60 | J35: 70 | O35: 74
E36: Объем,м3 | J36: Объем,м3 | O36: Объем,м3
E37: 0.3 | J37: 0.5 | O37: 0.55
E38: Кол-во упаковок | J38: Кол-во упаковок | O38: Кол-во упаковок
E39: 4 | J39: 5 | O39: 5
B40: Ольха, шимо светл., венге | G40: Ольха, шимо светл., венге | L40: Ольха, шимо светл., венге
B41: Флок 1 и 2кат, к/з 2 и 3 категории | G41: Флок 1 и 2кат, к/з 2 и 3 категории | L41: Флок 1 и 2кат, к/з 2 и 3 категории
B42: стол без ящика со столешницей ЛДСП 22мм | G42: стол со столешницей ЛДСП 22мм | L42: стол со столешницей ЛДСП 22мм
B43: Цена 1кат. | D43: ='24р'!D26 -> 5575 | G43: Цена 1кат. | I43: ='24р'!D35 -> 0 | L43: Цена 1кат. | N43: ='24р'!D43 -> 0
B44: Цена 2кат. | D44: ='24р'!D27 -> 5885 | G44: Цена 2кат. | I44: ='24р'!D36 -> 8885 | L44: Цена 2кат. | N44: ='24р'!D44 -> 9420
B45: Цена 3кат. | D45: ='24р'!D28 -> 6210 | G45: Цена 3кат. | I45: ='24р'!D37 -> 9095 | L45: Цена 3кат. | N45: ='24р'!D45 -> 9630
B46: Цена 4кат. | D46: _ | G46: Цена 4кат. | I46: ='24р'!D38 -> 9420 | L46: Цена 4кат. | N46: ='24р'!D46 -> 9845
B47: стол без ящика со столешницей постформинг 22мм | G47: стол со столешницей постформинг 22мм | L47: стол без ящика со столешницей постформинг 22мм
B48: Цена 1кат. | D48: ='24р'!D29 -> 6530 | G48: Цена 1кат. | I48: ='24р'!D39 -> 9310 | L48: Цена 1кат. | N48: ='24р'!D47 -> 0
B49: Цена 2кат. | D49: ='24р'!D30 -> 6955 | G49: Цена 2кат. | I49: ='24р'!D40 -> 9845 | L49: Цена 2кат. | N49: ='24р'!D48 -> 11025
B50: Цена 3кат. | D50: ='24р'!D31 -> 7170 | G50: Цена 3кат. | I50: ='24р'!D41 -> 10165 | L50: Цена 3кат. | N50: ='24р'!D49 -> 11235
B51: Цена 4кат. | D51: _ | G51: Цена 4кат. | I51: ='24р'!D42 -> 10380 | L51: Цена 4кат. | N51: ='24р'!D50 -> 11450
B59: Скамья угловая | G59: Скамья угловая Блюз | L59: Скамья прямая
B60: 1500 х 1100 х 870 | G60: 1100 х 1500 х 1069 | L60: 970 х 500 х 870
E61: Вес,кг | J61: Вес,кг | O61: Вес,кг
E62: 41 | J62: 51 | O62: 25
E63: Объем,м3 | J63: Объем,м3 | O63: Объем,м3
E64: 0.2 | J64: 0.2 | O64: 0.07
E65: Кол-во упаковок | J65: Кол-во упаковок | O65: Кол-во упаковок
E66: 3 | J66: 2 | O66: 2
B67: Ольха, шимо светл., венге | G67: Ольха, шимо светл., венге | L67: Ольха, шимо светл., венге
B68: Флок 1 и 2кат, к/з 2 и 3 категории | G68: Флок 1 и 2кат, к/з 2 и 3 категории | L68: Флок 1 и 2кат, к/з 2 и 3 категории
B69: Цена 1кат. | D69: ='24р'!D32 -> 0 | G69: Цена 1кат. | I69: ='24р'!D51 -> 0 | L69: Цена 1кат. | N69: ='24р'!D54 -> 0
B70: Цена 2кат. | D70: ='24р'!D33 -> 5565 | G70: Цена 2кат. | I70: ='24р'!D52 -> 6315 | L70: Цена 2кат. | N70: ='24р'!D55 -> 3320
B71: Цена 3кат. | D71: ='24р'!D34 -> 5780 | G71: Цена 3кат. | I71: ='24р'!D53 -> 6530 | L71: Цена 3кат. | N71: ='24р'!D56 -> 3425
B72: Цена 4кат. | D72: ='24р'!D103 -> 6030 | G72: Цена 4кат. | I72: ='24р'!D71 -> 6780 | L72: Цена 4кат. | N72: ='24р'!D104 -> 3625
B75: Скамья угловая "Венера" | G75: Скамья угловая "Мираж-2" | L75: Скамья угловая "Мираж"
B76: 1620 х 1020 х 520 | G76: 1530 х 1130 х 1069 (глубина 500 до стенки, глубина посадочного места 400) | L76: 1530 х 1130 х 850 (глубина 500 до стенки, глубина посадочного места 400)
E77: Вес,кг | J77: Вес,кг | O77: Вес,кг
E78: 80 | J78: 92 | O78: 92
E79: Объем,м3 | J79: Объем,м3 | O79: Объем,м3
E80: 0.25 | J80: 0.6 | O80: 0.6
E81: Кол-во упаковок | J81: Кол-во упаковок | O81: Кол-во упаковок
E82: 3 | J82: 5 | O82: 6
B83: Венге, ш.св.,к/з 3 категории | G83: Ольха, шимо светл., Венге | L83: Флок 2кат, к/з 3 категории
B84: Скамья угловая (без бутылочницы) | G84: Флок 2кат, к/з 3 категории | L84: Цена | N84: ='24р'!D62 -> 11665
B85: Цена | D85: ='24р'!D57 -> 6450 | G85: Цена | I85: ='24р'!D61 -> 10165
B86: Цена с ф/п | D86: ='24р'!D58 -> 6485
B87: бутылочница | G87: Скамья большая "Мираж" (1м) | L87: Скамья малая "Мираж" (0,6м)
B88: Цена | D88: ='24р'!D59 -> 1820 | G88: 1000 х 500 х 850 (глубина посадочного места 400, ящик 660х430х280) | L88: 600 х 500 х 850 (глубина посадочного места 400, ящик 260х430х280)
B89: Цена с ф/п | D89: ='24р'!D60 -> 1875 | J89: Вес,кг | O89: Вес,кг
J90: 45 | O90: 25
J91: Объем,м3 | O91: Объем,м3
J92: 0.2 | O92: 0.2
J93: Кол-во упаковок | O93: Кол-во упаковок
J94: 2 | O94: 2
G95: Флок 2кат, к/з 3 категории | L95: Флок 2кат, к/з 3 категории
G96: Цена | I96: ='24р'!D63 -> 5030 | L96: Цена | N96: ='24р'!D64 -> 3535
B98: Скамья угловая "Домино" | G98: Пуфик большой "Домино" | L98: Пуфик малый "Домино"
B99: 1740х1140х840 (сп.м 1650х840) (гл. сидения 490, глубина от спинки 570) | G99: 820 х 390 х 450 | L99: 390 х 390 х 450
E100: Вес,кг | J100: Вес,кг | O100: Вес,кг
E101: 84 | J101: 14 | O101: 8
E102: Объем,м3 | J102: Объем,м3 | O102: Объем,м3
E103: 1 | J103: 0.09 | O103: 0.07
E104: Кол-во упаковок | J104: Кол-во упаковок | O104: Кол-во упаковок
E105: 3 | J105: 1 | O105: 1
B106: к/з 3 категории | G106: к/з 3 категории | L106: к/з 3 категории
B107: Цена | D107: ='24р'!D65 -> 12630 | G107: Цена | I107: ='24р'!D66 -> 2675 | L107: Цена | N107: ='24р'!D67 -> 2140
L109: Ящик с столу обеденному (в комплекте шариковые направляющие )
L110: 495 х 120 х 366
O111: Вес,кг
O113: Объем,м3
O115: Кол-во упаковок
L117: ольха, шимо светл., венге
L118: Цена | N118: ='24р'!D70 -> 430

Sheet 24р
A1: наименование | B1: цена | C1: со скидкой | D1: и наценкой | G1: цена
A2: Лаг, 1 кат | B2: 0 | C2: =B2-(B2/100*ТЛ!$G$32) -> 0 | D2: =C2+(C2/100*ТЛ!$G$33) -> 0 | E2: лдсп | G2: 6300
A3: Лаг, 2 кат | B3: =CEILING((G3+G3*0.07),5) -> 7065 | C3: =B3-(B3/100*ТЛ!$G$32) -> 7065 | D3: =C3+(C3/100*ТЛ!$G$33) -> 7065 | G3: 6600
A4: Лаг, 3 кат | B4: =CEILING((G4+G4*0.07),5) -> 7385 | C4: =B4-(B4/100*ТЛ!$G$32) -> 7385 | D4: =C4+(C4/100*ТЛ!$G$33) -> 7385 | G4: 6900
A5: Лаг, 4 кат | B5: =CEILING((G5+G5*0.07),5) -> 7815 | C5: =B5-(B5/100*ТЛ!$G$32) -> 7815 | D5: =C5+(C5/100*ТЛ!$G$33) -> 7815 | G5: 7300
A6: Лаг, 1 кат | B6: 0 | C6: =B6-(B6/100*ТЛ!$G$32) -> 0 | D6: =C6+(C6/100*ТЛ!$G$33) -> 0 | E6: постформинг | G6: 7200
A7: Лаг, 2 кат | B7: =CEILING((G7+G7*0.07),5) -> 8025 | C7: =B7-(B7/100*ТЛ!$G$32) -> 8025 | D7: =C7+(C7/100*ТЛ!$G$33) -> 8025 | G7: 7500
A8: Лаг, 3 кат | B8: =CEILING((G8+G8*0.07),5) -> 8350 | C8: =B8-(B8/100*ТЛ!$G$32) -> 8350 | D8: =C8+(C8/100*ТЛ!$G$33) -> 8350 | G8: 7800
A9: Лаг, 4 кат | B9: =CEILING((G9+G9*0.07),5) -> 8775 | C9: =B9-(B9/100*ТЛ!$G$32) -> 8775 | D9: =C9+(C9/100*ТЛ!$G$33) -> 8775 | G9: 8200
A10: Тандем, 1 кат | B10: 0 | C10: =B10-(B10/100*ТЛ!$G$32) -> 0 | D10: =C10+(C10/100*ТЛ!$G$33) -> 0 | E10: лдсп | G10: 6200
A11: Тандем, 2 кат | B11: =CEILING((G11+G11*0.07),5) -> 7065 | C11: =B11-(B11/100*ТЛ!$G$32) -> 7065 | D11: =C11+(C11/100*ТЛ!$G$33) -> 7065 | G11: 6600
A12: Тандем, 3 кат | B12: =CEILING((G12+G12*0.07),5) -> 7280 | C12: =B12-(B12/100*ТЛ!$G$32) -> 7280 | D12: =C12+(C12/100*ТЛ!$G$33) -> 7280 | G12: 6800
A13: Тандем, 4 кат | B13: =CEILING((G13+G13*0.07),5) -> 7600 | C13: =B13-(B13/100*ТЛ!$G$32) -> 7600 | D13: =C13+(C13/100*ТЛ!$G$33) -> 7600 | G13: 7100
A14: Тандем, 1 кат | B14: 0 | C14: =B14-(B14/100*ТЛ!$G$32) -> 0 | D14: =C14+(C14/100*ТЛ!$G$33) -> 0 | E14: постформинг | G14: 7100
A15: Тандем, 2 кат | B15: =CEILING((G15+G15*0.07),5) -> 7920 | C15: =B15-(B15/100*ТЛ!$G$32) -> 7920 | D15: =C15+(C15/100*ТЛ!$G$33) -> 7920 | G15: 7400
A16: Тандем, 3 кат | B16: =CEILING((G16+G16*0.07),5) -> 8240 | C16: =B16-(B16/100*ТЛ!$G$32) -> 8240 | D16: =C16+(C16/100*ТЛ!$G$33) -> 8240 | G16: 7700
A17: Тандем, 4 кат | B17: =CEILING((G17+G17*0.07),5) -> 8670 | C17: =B17-(B17/100*ТЛ!$G$32) -> 8670 | D17: =C17+(C17/100*ТЛ!$G$33) -> 8670 | G17: 8100
A18: Эффект, 1 кат | B18: 0 | C18: =B18-(B18/100*ТЛ!$G$32) -> 0 | D18: =C18+(C18/100*ТЛ!$G$33) -> 0 | E18: лдсп | G18: 5900
A19: Эффект, 2 кат | B19: =CEILING((G19+G19*0.07),5) -> 6635 | C19: =B19-(B19/100*ТЛ!$G$32) -> 6635 | D19: =C19+(C19/100*ТЛ!$G$33) -> 6635 | G19: 6200
A20: Эффект, 3 кат | B20: =CEILING((G20+G20*0.07),5) -> 6850 | C20: =B20-(B20/100*ТЛ!$G$32) -> 6850 | D20: =C20+(C20/100*ТЛ!$G$33) -> 6850 | G20: 6400
A21: Эффект, 4 кат | B21: 7200 | C21: =B21-(B21/100*ТЛ!$G$32) -> 7200 | D21: =C21+(C21/100*ТЛ!$G$33) -> 7200 | G21: 6700
A22: Эффект, 1 кат | B22: 0 | C22: =B22-(B22/100*ТЛ!$G$32) -> 0 | D22: =C22+(C22/100*ТЛ!$G$33) -> 0 | E22: постформинг | G22: 6900
A23: Эффект, 2 кат | B23: =CEILING((G23+G23*0.07),5) -> 7705 | C23: =B23-(B23/100*ТЛ!$G$32) -> 7705 | D23: =C23+(C23/100*ТЛ!$G$33) -> 7705 | G23: 7200
A24: Эффект, 3 кат | B24: =CEILING((G24+G24*0.07),5) -> 7920 | C24: =B24-(B24/100*ТЛ!$G$32) -> 7920 | D24: =C24+(C24/100*ТЛ!$G$33) -> 7920 | G24: 7400
A25: Эффект, 4 кат | B25: =CEILING((G25+G25*0.07),5) -> 8135 | C25: =B25-(B25/100*ТЛ!$G$32) -> 8135 | D25: =C25+(C25/100*ТЛ!$G$33) -> 8135 | G25: 7600
A26: Оптима 1 кат | B26: 5575 | C26: =B26-(B26/100*ТЛ!$G$32) -> 5575 | D26: =C26+(C26/100*ТЛ!$G$33) -> 5575 | E26: лдсп | G26: 5100
A27: Оптима 2 кат | B27: =CEILING((G27+G27*0.07),5) -> 5885 | C27: =B27-(B27/100*ТЛ!$G$32) -> 5885 | D27: =C27+(C27/100*ТЛ!$G$33) -> 5885 | G27: 5500
A28: Оптима 3 кат | B28: =CEILING((G28+G28*0.07),5) -> 6210 | C28: =B28-(B28/100*ТЛ!$G$32) -> 6210 | D28: =C28+(C28/100*ТЛ!$G$33) -> 6210 | G28: 5800
A29: Оптима 1 кат | B29: =CEILING((G29+G29*0.07),5) -> 6530 | C29: =B29-(B29/100*ТЛ!$G$32) -> 6530 | D29: =C29+(C29/100*ТЛ!$G$33) -> 6530 | E29: постформинг | G29: 6100
A30: Оптима 2 кат | B30: =CEILING((G30+G30*0.07),5) -> 6955 | C30: =B30-(B30/100*ТЛ!$G$32) -> 6955 | D30: =C30+(C30/100*ТЛ!$G$33) -> 6955 | G30: 6500
A31: Оптима 3 кат | B31: =CEILING((G31+G31*0.07),5) -> 7170 | C31: =B31-(B31/100*ТЛ!$G$32) -> 7170 | D31: =C31+(C31/100*ТЛ!$G$33) -> 7170 | G31: 6700
A32: скамья угловая 1 кат | B32: 0 | C32: =B32-(B32/100*ТЛ!$G$32) -> 0 | D32: =C32+(C32/100*ТЛ!$G$33) -> 0 | G32: 4900
A33: скамья угловая 2 кат | B33: =CEILING((G33+G33*0.07),5) -> 5565 | C33: =B33-(B33/100*ТЛ!$G$32) -> 5565 | D33: =C33+(C33/100*ТЛ!$G$33) -> 5565 | G33: 5200
A34: скамья угловая 3 кат | B34: =CEILING((G34+G34*0.07),5) -> 5780 | C34: =B34-(B34/100*ТЛ!$G$32) -> 5780 | D34: =C34+(C34/100*ТЛ!$G$33) -> 5780 | G34: 5400
A35: Блюз 1 кат | B35: 0 | C35: =B35-(B35/100*ТЛ!$G$32) -> 0 | D35: =C35+(C35/100*ТЛ!$G$33) -> 0 | E35: лдсп | G35: 7800
A36: Блюз 2 кат | B36: =CEILING((G36+G36*0.07),5) -> 8885 | C36: =B36-(B36/100*ТЛ!$G$32) -> 8885 | D36: =C36+(C36/100*ТЛ!$G$33) -> 8885 | G36: 8300
A37: Блюз 3 кат | B37: =CEILING((G37+G37*0.07),5) -> 9095 | C37: =B37-(B37/100*ТЛ!$G$32) -> 9095 | D37: =C37+(C37/100*ТЛ!$G$33) -> 9095 | G37: 8500
A38: Блюз 4 кат | B38: =CEILING((G38+G38*0.07),5) -> 9420 | C38: =B38-(B38/100*ТЛ!$G$32) -> 9420 | D38: =C38+(C38/100*ТЛ!$G$33) -> 9420 | G38: 8800
A39: Блюз 1 кат | B39: =CEILING((G39+G39*0.07),5) -> 9310 | C39: =B39-(B39/100*ТЛ!$G$32) -> 9310 | D39: =C39+(C39/100*ТЛ!$G$33) -> 9310 | E39: постформинг | G39: 8700
A40: Блюз 2 кат | B40: =CEILING((G40+G40*0.07),5) -> 9845 | C40: =B40-(B40/100*ТЛ!$G$32) -> 9845 | D40: =C40+(C40/100*ТЛ!$G$33) -> 9845 | G40: 9200
A41: Блюз 3 кат | B41: =CEILING((G41+G41*0.07),5) -> 10165 | C41: =B41-(B41/100*ТЛ!$G$32) -> 10165 | D41: =C41+(C41/100*ТЛ!$G$33) -> 10165 | G41: 9500
A42: Блюз 4 кат | B42: =CEILING((G42+G42*0.07),5) -> 10380 | C42: =B42-(B42/100*ТЛ!$G$32) -> 10380 | D42: =C42+(C42/100*ТЛ!$G$33) -> 10380 | G42: 9700
A43: Блюз с Вен.столом 1кат | B43: 0 | C43: =B43-(B43/100*ТЛ!$G$32) -> 0 | D43: =C43+(C43/100*ТЛ!$G$33) -> 0 | E43: лдсп | G43: 8300
A44: Блюз с Вен.столом 2кат | B44: =CEILING((G44+G44*0.07),5) -> 9420 | C44: =B44-(B44/100*ТЛ!$G$32) -> 9420 | D44: =C44+(C44/100*ТЛ!$G$33) -> 9420 | G44: 8800
A45: Блюз с Вен.столом 3кат | B45: =CEILING((G45+G45*0.07),5) -> 9630 | C45: =B45-(B45/100*ТЛ!$G$32) -> 9630 | D45: =C45+(C45/100*ТЛ!$G$33) -> 9630 | G45: 9000
A46: Блюз с Вен.столом 4кат | B46: =CEILING((G46+G46*0.07),5) -> 9845 | C46: =B46-(B46/100*ТЛ!$G$32) -> 9845 | D46: =C46+(C46/100*ТЛ!$G$33) -> 9845 | G46: 9200
A47: Блюз с Вен.столом 1кат | B47: 0 | C47: =B47-(B47/100*ТЛ!$G$32) -> 0 | D47: =C47+(C47/100*ТЛ!$G$33) -> 0 | E47: постформинг | G47: 9800
A48: Блюз с Вен.столом 2кат | B48: =CEILING((G48+G48*0.07),5) -> 11025 | C48: =B48-(B48/100*ТЛ!$G$32) -> 11025 | D48: =C48+(C48/100*ТЛ!$G$33) -> 11025 | G48: 10300
A49: Блюз с Вен.столом 3кат | B49: =CEILING((G49+G49*0.07),5) -> 11235 | C49: =B49-(B49/100*ТЛ!$G$32) -> 11235 | D49: =C49+(C49/100*ТЛ!$G$33) -> 11235 | G49: 10500
A50: Блюз с Вен.столом 4кат | B50: =CEILING((G50+G50*0.07),5) -> 11450 | C50: =B50-(B50/100*ТЛ!$G$32) -> 11450 | D50: =C50+(C50/100*ТЛ!$G$33) -> 11450 | G50: 10700
A51: скамья угл. Блюз 1 кат | B51: 0 | C51: =B51-(B51/100*ТЛ!$G$32) -> 0 | D51: =C51+(C51/100*ТЛ!$G$33) -> 0 | G51: 5500
A52: скамья угл. Блюз 2 кат | B52: =CEILING((G52+G52*0.07),5) -> 6315 | C52: =B52-(B52/100*ТЛ!$G$32) -> 6315 | D52: =C52+(C52/100*ТЛ!$G$33) -> 6315 | G52: 5900
A53: скамья угл. Блюз 3 кат | B53: =CEILING((G53+G53*0.07),5) -> 6530 | C53: =B53-(B53/100*ТЛ!$G$32) -> 6530 | D53: =C53+(C53/100*ТЛ!$G$33) -> 6530 | G53: 6100
A54: скамья прямая 1 кат | B54: 0 | C54: =B54-(B54/100*ТЛ!$G$32) -> 0 | D54: =C54+(C54/100*ТЛ!$G$33) -> 0 | G54: 2800
A55: скамья прямая 2 кат | B55: =CEILING((G55+G55*0.07),5) -> 3320 | C55: =B55-(B55/100*ТЛ!$G$32) -> 3320 | D55: =C55+(C55/100*ТЛ!$G$33) -> 3320 | G55: 3100
A56: скамья прямая 3 кат | B56: =CEILING((G56+G56*0.07),5) -> 3425 | C56: =B56-(B56/100*ТЛ!$G$32) -> 3425 | D56: =C56+(C56/100*ТЛ!$G$33) -> 3425 | G56: 3200
A57: скамья Венера без бутыл | B57: 6450 | C57: =B57-(B57/100*ТЛ!$G$32) -> 6450 | D57: =C57+(C57/100*ТЛ!$G$33) -> 6450 | G57: 5900
A58: скамья Венера без бутыл с ф/п | B58: 6485 | C58: =B58-(B58/100*ТЛ!$G$32) -> 6485 | D58: =C58+(C58/100*ТЛ!$G$33) -> 6485 | G58: 6000
A59: бутылочница венера | B59: =CEILING((G59+G59*0.07),5) -> 1820 | C59: =B59-(B59/100*ТЛ!$G$32) -> 1820 | D59: =C59+(C59/100*ТЛ!$G$33) -> 1820 | G59: 1700
A60: бутылочница венера с ф/п | B60: =CEILING((G60+G60*0.07),5) -> 1875 | C60: =B60-(B60/100*ТЛ!$G$32) -> 1875 | D60: =C60+(C60/100*ТЛ!$G$33) -> 1875 | G60: 1750
A61: Мираж-2 | B61: =CEILING((G61+G61*0.07),5) -> 10165 | C61: =B61-(B61/100*ТЛ!$G$32) -> 10165 | D61: =C61+(C61/100*ТЛ!$G$33) -> 10165 | G61: 9500
A62: Мираж (6пак) | B62: =CEILING((G62+G62*0.07),5) -> 11665 | C62: =B62-(B62/100*ТЛ!$G$32) -> 11665 | D62: =C62+(C62/100*ТЛ!$G$33) -> 11665 | G62: 10900
A63: Скамья бол. Мираж | B63: =CEILING((G63+G63*0.07),5) -> 5030 | C63: =B63-(B63/100*ТЛ!$G$32) -> 5030 | D63: =C63+(C63/100*ТЛ!$G$33) -> 5030 | G63: 4700
A64: Скамья мал. Мираж | B64: =CEILING((G64+G64*0.07),5) -> 3535 | C64: =B64-(B64/100*ТЛ!$G$32) -> 3535 | D64: =C64+(C64/100*ТЛ!$G$33) -> 3535 | G64: 3300
A65: Домино | B65: =CEILING((G65+G65*0.07),5) -> 12630 | C65: =B65-(B65/100*ТЛ!$G$32) -> 12630 | D65: =C65+(C65/100*ТЛ!$G$33) -> 12630 | G65: 11800
A66: Пуф бол. Домино | B66: =CEILING((G66+G66*0.07),5) -> 2675 | C66: =B66-(B66/100*ТЛ!$G$32) -> 2675 | D66: =C66+(C66/100*ТЛ!$G$33) -> 2675 | G66: 2500
A67: Пуф мал. Домино | B67: =CEILING((G67+G67*0.07),5) -> 2140 | C67: =B67-(B67/100*ТЛ!$G$32) -> 2140 | D67: =C67+(C67/100*ТЛ!$G$33) -> 2140 | G67: 2000
A68: Скамья угл. Виктория | B68: 0 | C68: =B68-(B68/100*ТЛ!$G$32) -> 0 | D68: =C68+(C68/100*ТЛ!$G$33) -> 0 | G68: 6400
A69: Табурет Виктория | B69: 0 | C69: =B69-(B69/100*ТЛ!$G$32) -> 0 | D69: =C69+(C69/100*ТЛ!$G$33) -> 0 | G69: 1500
A70: Ящик к столу обеденному | B70: =CEILING((G70+G70*0.07),5) -> 430 | C70: =B70-(B70/100*ТЛ!$G$32) -> 430 | D70: =C70+(C70/100*ТЛ!$G$33) -> 430 | G70: 400
A71: Скамья угловая Блюз 4 кат. | B71: 6780 | C71: =B71-(B71/100*ТЛ!$G$32) -> 6780 | D71: =C71+(C71/100*ТЛ!$G$33) -> 6780
A72: Столешка МДФ | B72: =CEILING((G72+G72*0.07),5) -> 0
A73: Лаг, 1 кат | B73: 0 | C73: =B73-(B73/100*ТЛ!$G$32) -> 0 | D73: =C73+(C73/100*ТЛ!$G$33) -> 0 | G73: 6800
A74: Лаг, 2 кат | B74: 0 | C74: =B74-(B74/100*ТЛ!$G$32) -> 0 | D74: =C74+(C74/100*ТЛ!$G$33) -> 0 | G74: 7200
A75: Лаг, 3 кат | B75: 0 | C75: =B75-(B75/100*ТЛ!$G$32) -> 0 | D75: =C75+(C75/100*ТЛ!$G$33) -> 0 | G75: 7500
A76: Лаг, 4 кат | B76: 0 | C76: =B76-(B76/100*ТЛ!$G$32) -> 0 | D76: =C76+(C76/100*ТЛ!$G$33) -> 0 | G76: 7900
B77: =CEILING((G77+G77*0.07),5) -> 0
A78: Тандем, 1 кат | B78: =CEILING((G78+G78*0.07),5) -> 7280 | C78: =B78-(B78/100*ТЛ!$G$32) -> 7280 | D78: =C78+(C78/100*ТЛ!$G$33) -> 7280 | G78: 6800
A79: Тандем, 2 кат | B79: =CEILING((G79+G79*0.07),5) -> 7705 | C79: =B79-(B79/100*ТЛ!$G$32) -> 7705 | D79: =C79+(C79/100*ТЛ!$G$33) -> 7705 | G79: 7200
A80: Тандем, 3 кат | B80: =CEILING((G80+G80*0.07),5) -> 8025 | C80: =B80-(B80/100*ТЛ!$G$32) -> 8025 | D80: =C80+(C80/100*ТЛ!$G$33) -> 8025 | G80: 7500
A81: Тандем, 4 кат | B81: =CEILING((G81+G81*0.07),5) -> 8455 | C81: =B81-(B81/100*ТЛ!$G$32) -> 8455 | D81: =C81+(C81/100*ТЛ!$G$33) -> 8455 | G81: 7900
B82: =CEILING((G82+G82*0.07),5) -> 0
A83: Эффект, 1 кат | B83: =CEILING((G83+G83*0.07),5) -> 7065 | C83: =B83-(B83/100*ТЛ!$G$32) -> 7065 | D83: =C83+(C83/100*ТЛ!$G$33) -> 7065 | G83: 6600
A84: Эффект, 2 кат | B84: =CEILING((G84+G84*0.07),5) -> 7490 | C84: =B84-(B84/100*ТЛ!$G$32) -> 7490 | D84: =C84+(C84/100*ТЛ!$G$33) -> 7490 | G84: 7000
A85: Эффект, 3 кат | B85: =CEILING((G85+G85*0.07),5) -> 7705 | C85: =B85-(B85/100*ТЛ!$G$32) -> 7705 | D85: =C85+(C85/100*ТЛ!$G$33) -> 7705 | G85: 7200
A86: Эффект, 4 кат | B86: =CEILING((G86+G86*0.07),5) -> 7920 | C86: =B86-(B86/100*ТЛ!$G$32) -> 7920 | D86: =C86+(C86/100*ТЛ!$G$33) -> 7920 | G86: 7400
B87: =CEILING((G87+G87*0.07),5) -> 0
A88: Оптима 1 кат | B88: =CEILING((G88+G88*0.07),5) -> 6100 | C88: =B88-(B88/100*ТЛ!$G$32) -> 6100 | D88: =C88+(C88/100*ТЛ!$G$33) -> 6100 | G88: 5700
A89: Оптима 2 кат | B89: =CEILING((G89+G89*0.07),5) -> 6530 | C89: =B89-(B89/100*ТЛ!$G$32) -> 6530 | D89: =C89+(C89/100*ТЛ!$G$33) -> 6530 | G89: 6100
A90: Оптима 3 кат | B90: =CEILING((G90+G90*0.07),5) -> 6745 | C90: =B90-(B90/100*ТЛ!$G$32) -> 6745 | D90: =C90+(C90/100*ТЛ!$G$33) -> 6745 | G90: 6300
B91: =CEILING((G91+G91*0.07),5) -> 0 | C91: =B91-(B91/100*ТЛ!$G$32) -> 0 | D91: =C91+(C91/100*ТЛ!$G$33) -> 0
B92: =CEILING((G92+G92*0.07),5) -> 0
A93: Блюз 1 кат | B93: =CEILING((G93+G93*0.07),5) -> 8670 | C93: =B93-(B93/100*ТЛ!$G$32) -> 8670 | D93: =C93+(C93/100*ТЛ!$G$33) -> 8670 | G93: 8100
A94: Блюз 2 кат | B94: =CEILING((G94+G94*0.07),5) -> 9095 | C94: =B94-(B94/100*ТЛ!$G$32) -> 9095 | D94: =C94+(C94/100*ТЛ!$G$33) -> 9095 | G94: 8500
A95: Блюз 3 кат | B95: =CEILING((G95+G95*0.07),5) -> 9310 | C95: =B95-(B95/100*ТЛ!$G$32) -> 9310 | D95: =C95+(C95/100*ТЛ!$G$33) -> 9310 | G95: 8700
A96: Блюз 4 кат | B96: =CEILING((G96+G96*0.07),5) -> 9740 | C96: =B96-(B96/100*ТЛ!$G$32) -> 9740 | D96: =C96+(C96/100*ТЛ!$G$33) -> 9740 | G96: 9100
B97: =CEILING((G97+G97*0.07),5) -> 0
A98: Блюз с Вен.столом 1кат | B98: =CEILING((G98+G98*0.07),5) -> 9420 | C98: =B98-(B98/100*ТЛ!$G$32) -> 9420 | D98: =C98+(C98/100*ТЛ!$G$33) -> 9420 | G98: 8800
A99: Блюз с Вен.столом 2кат | B99: =CEILING((G99+G99*0.07),5) -> 9845 | C99: =B99-(B99/100*ТЛ!$G$32) -> 9845 | D99: =C99+(C99/100*ТЛ!$G$33) -> 9845 | G99: 9200
A100: Блюз с Вен.столом 3кат | B100: =CEILING((G100+G100*0.07),5) -> 10060 | C100: =B100-(B100/100*ТЛ!$G$32) -> 10060 | D100: =C100+(C100/100*ТЛ!$G$33) -> 10060 | G100: 9400
...

Sheet 25
B3: Столы обеденные
B4: Стол круглый*, кромка серебро 2мм | G4: Стол "Венский-2"*, кромка серебро 2мм | L4: Ящик с столу обеденному (в комплекте шариковые направляющие )
B5: диаметр 800 | G5: 1200 х 800 | L5: 495 х 120 х 366
E6: Вес,кг | J6: Вес,кг | O6: Вес,кг
E7: 13 | J7: 17
E8: Объем,м3 | J8: Объем,м3 | O8: Объем,м3
E9: 0.07 | J9: 0.08
E10: Кол-во упаковок | J10: Кол-во упаковок | O10: Кол-во упаковок
E11: 2 | J11: 2
B12: Столешница ЛДСП 22мм | G12: Столешница ЛДСП 22мм | L12: ольха, венге, шимо светл.
B13: ЦЕНА от 1 шт. | D13: ='25р'!D2 -> 1395 | G13: ЦЕНА от 1 шт. | I13: ='25р'!D6 -> 1820 | L13: Цена | N13: ='24р'!D70 -> 430
B14: Столешница постформинг 22мм | G14: Столешница постформинг 22мм
B15: ЦЕНА от 1 шт. | D15: ='25р'!D4 -> 2570 | G15: ЦЕНА от 1 шт. | I15: ='25р'!D8 -> 3640
B16: Столешница МДФ
B17: ЦЕНА от 1 шт. | D17: ='25р'!D29 -> 2310
B18: ЛДСП Ольха, ясень, венге Постформинг Ольха, венге, оникс, ясень | G18: ЛДСП Ольха, ясень, венге Постформинг Ольха, венге, оникс, ясень
B19: Ноги -металлик | G19: Ноги -металлик
B21: Стол "Венский-2"МДФ матовый* | G21: Стол "Венский-2"МДФ глянец*
B22: 1200 х 800 | G22: 1200 х 800
E23: Вес,кг | J23: Вес,кг
E24: 17 | J24: 17
E25: Объем,м3 | J25: Объем,м3
E26: 0.08 | J26: 0.08
E27: Кол-во упаковок | J27: Кол-во упаковок
E28: 2 | J28: 2
B29: ЦЕНА от 1 шт. | D29: ='25р'!D10 -> 2890 | G29: ЦЕНА от 1 шт. | I29: ='25р'!D12 -> 3320
B30: Ясень, венге | G30: сиренев., зеленое яблоко, оранж, розовый, капучино, красный, черный, белый
B31: Ноги-металлик | G31: Ноги -металлик
B33: Стол обеденный | G33: Стол обеденный СКР-1 | L33: Стол обеденный СКР-3 (раскладной)
B34: 1000 х 600 х 750 | G34: 625(1000) х 600 х 770 | L34: 750х740 х 530 (1060)
E35: Вес,кг | J35: Вес,кг | O35: Вес,кг
E36: 17 | J36: 24 | O36: 22
E37: Объем,м3 | J37: Объем,м3 | O37: Объем,м3
E38: 0.05 | J38: 0.07 | O38: 0.04
E39: Кол-во упаковок | J39: Кол-во упаковок | O39: Кол-во упаковок
E40: 1 | J40: 1 | O40: 1
B41: Столешница ЛДСП 22мм ольха, шимо светл. | G41: Столешница ЛДСП 22мм ольха, шимо светл. | L41: ЦЕНА | N41: ='25р'!D18 -> 1980
B42: ЦЕНА | D42: ='25р'!D14 -> 1395 | G42: ЦЕНА | I42: ='25р'!D16 -> 1525 | L42: Ольха, шимо св, венге
B43: Столешница постформинг 22мм | G43: Столешница постформинг 22мм
B44: ЦЕНА | D44: ='25р'!D15 -> 2355 | G44: ЦЕНА | I44: ='25р'!D17 -> 2465
B45: Столешница МДФ
B46: ЦЕНА | D46: ='25р'!D30 -> 2050
B47: Ольха, шимо светл., оникс | G47: Ольха, шимо.св, оникс
B49: Стол-тумба обеденный (овальный) | G49: Стол-тумба обеденный узкий(овальный) | L49: Стол-тумба обеденный (с 3 ящиками)
B50: 300 (1600) х 800 х 750 | G50: 120(1420) х 800 х 750 | L50: 400х800х750 (1710х800х750)
E51: Вес,кг | J51: Вес,кг | O51: Вес,кг
E52: 25 | J52: 25 | O52: 50
E53: Объем,м3 | J53: Объем,м3 | O53: Объем,м3
E54: 0.06 | J54: 0.06 | O54: 0.09
E55: Кол-во упаковок | J55: Кол-во упаковок | O55: Кол-во упаковок
E56: 1 | J56: 1 | O56: 1
B57: ЦЕНА | D57: ='25р'!D19 -> 2355 | G57: ЦЕНА | I57: ='25р'!D19 -> 2355 | L57: ЦЕНА | N57: ='25р'!D20 -> 3965
B58: Ольха, ш.св, венге, .ш.т. | G58: Ольха, ш.св, венге, .ш.т. | L58: венге/ шимо светлый
B61: Стол универсальный "Лира" | G61: Набор "Милена" | L61: Стол "Венера" №1
B62: 800х150(780)х1290 | G62: 900 х 700 х 750 | L62: 700 х 1100 х 765
E63: Вес,кг | J63: Вес,кг | O63: Вес,кг
E64: 18 | J64: 30 | O64: 26
E65: Объем,м3 | J65: Объем,м3 | O65: Объем,м3
E66: 0.03 | J66: 0.06 | O66: 0.06
E67: Кол-во упаковок | J67: Кол-во упаковок | O67: Кол-во упаковок
E68: 1 | J68: 1 | O68: 1
B69: ЦЕНА | D69: ='25р'!D21 -> 1930 | G69: ЦЕНА | I69: ='25р'!D23 -> 3425 | L69: ЦЕНА | N69: ='25р'!D24 -> 1715
B70: венге/ шимо светлый | G70: Комб: шимо тем/ шимо св | L70: шимо светл
L71: Столешница ЛДСП 22мм
B73: Стол "Люкс" (раздвижной) | G73: Стол "Камея" | L73: Угловой сегмент "Блюз"
B74: 1100 (1500) х 700 х 756 | G74: 1100 х 700 х 756 | L74: 520 х 520 х 1040
E75: Вес,кг | J75: Вес,кг | O75: Вес,кг
E76: 33 | J76: 25 | O76: 14
E77: Объем,м3 | J77: Объем,м3 | O77: Объем,м3
E78: 0.06 | J78: 0.06 | O78: 0.04
E79: Кол-во упаковок | J79: Кол-во упаковок | O79: Кол-во упаковок
E80: 1 | J80: 1 | O80: 1
B81: ЦЕНА | D81: ='25р'!D25 -> 6100 | G81: ЦЕНА | I81: ='25р'!D26 -> 4335 | L81: ЦЕНА | N81: ='25р'!D22 -> 1575
B82: Венге, столешница МДФ, вставки матовое стекло | G82: Венге, столешница МДФ, вставки матовое стекло | L82: Ольха, венге, ш.св.
B85: Стол обеденный "Шарм" НОВИНКА! На метал. Ногах с ЛДСП столешн.! С ящиком
B86: 860х570х750
E87: Вес,кг
E89: Объем,м3
E91: Кол-во упаковок
B93: ЦЕНА со столешн.ЛДСП | D93: ='25р'!D33 -> 2695
B94: ЦЕНА со столешн. МДФ | D94: ='25р'!D34 -> 3060
B95: с лдсп - дуб сонома с мдф - шимо светлый, шимо темный

Sheet 25р
A1: наименование | B1: цена | C1: со скидкой | D1: и наценкой
A2: Стол круглый лдсп 1шт | B2: =CEILING((F2+F2*0.07),5) -> 1395 | C2: =B2 -> 1395 | D2: =C2+(C2/100*ТЛ!$G$33) -> 1395 | F2: 1300
B3: =CEILING((F3+F3*0.07),5) -> 0
A4: Стол круглый постформинг 1 шт | B4: =CEILING((F4+F4*0.07),5) -> 2570 | C4: =B4 -> 2570 | D4: =C4+(C4/100*ТЛ!$G$33) -> 2570 | F4: 2400
B5: =CEILING((F5+F5*0.07),5) -> 0
A6: Стол венский лдсп 1шт | B6: =CEILING((F6+F6*0.07),5) -> 1820 | C6: =B6 -> 1820 | D6: =C6+(C6/100*ТЛ!$G$33) -> 1820 | F6: 1700
B7: =CEILING((F7+F7*0.07),5) -> 0
A8: Стол венский постформинг 1 шт | B8: =CEILING((F8+F8*0.07),5) -> 3640 | C8: =B8 -> 3640 | D8: =C8+(C8/100*ТЛ!$G$33) -> 3640 | F8: 3400
B9: =CEILING((F9+F9*0.07),5) -> 0
A10: Стол Венский-2 МДФ 1шт | B10: =CEILING((F10+F10*0.07),5) -> 2890 | C10: =B10 -> 2890 | D10: =C10+(C10/100*ТЛ!$G$33) -> 2890 | F10: 2700
B11: =CEILING((F11+F11*0.07),5) -> 0
A12: Стол Венский-2 МДФ глянец 1шт | B12: =CEILING((F12+F12*0.07),5) -> 3320 | C12: =B12 -> 3320 | D12: =C12+(C12/100*ТЛ!$G$33) -> 3320 | F12: 3100
B13: =CEILING((F13+F13*0.07),5) -> 0
A14: Стол обеденный лдсп | B14: =CEILING((F14+F14*0.07),5) -> 1395 | C14: =B14-(B14/100*ТЛ!$G$32) -> 1395 | D14: =C14+(C14/100*ТЛ!$G$33) -> 1395 | F14: 1300
A15: Стол обеденный постформинг | B15: =CEILING((F15+F15*0.07),5) -> 2355 | C15: =B15-(B15/100*ТЛ!$G$32) -> 2355 | D15: =C15+(C15/100*ТЛ!$G$33) -> 2355 | F15: 2200
A16: Стол СКР-1 лдсп | B16: 1525 | C16: =B16-(B16/100*ТЛ!$G$32) -> 1525 | D16: =C16+(C16/100*ТЛ!$G$33) -> 1525 | F16: 1400
A17: Стол СКР-1 постформинг | B17: =CEILING((F17+F17*0.07),5) -> 2465 | C17: =B17-(B17/100*ТЛ!$G$32) -> 2465 | D17: =C17+(C17/100*ТЛ!$G$33) -> 2465 | F17: 2300
A18: Стол СКР-3 | B18: =CEILING((F18+F18*0.07),5) -> 1980 | C18: =B18-(B18/100*ТЛ!$G$32) -> 1980 | D18: =C18+(C18/100*ТЛ!$G$33) -> 1980 | F18: 1850
A19: Стол-тумба | B19: =CEILING((F19+F19*0.07),5) -> 2355 | C19: =B19-(B19/100*ТЛ!$G$32) -> 2355 | D19: =C19+(C19/100*ТЛ!$G$33) -> 2355 | F19: 2200
A20: Стол-тумба (3 ящика) | B20: 3965 | C20: =B20-(B20/100*ТЛ!$G$32) -> 3965 | D20: =C20+(C20/100*ТЛ!$G$33) -> 3965 | F20: 3700
A21: Стол Лира | B21: =CEILING((F21+F21*0.07),5) -> 1930 | C21: =B21-(B21/100*ТЛ!$G$32) -> 1930 | D21: =C21+(C21/100*ТЛ!$G$33) -> 1930 | F21: 1800
A22: Сегмент Блюз | B22: =CEILING((F22+F22*0.07),5) -> 1575 | C22: =B22-(B22/100*ТЛ!$G$32) -> 1575 | D22: =C22+(C22/100*ТЛ!$G$33) -> 1575 | F22: 1470
A23: Милена (Грибок) | B23: =CEILING((F23+F23*0.07),5) -> 3425 | C23: =B23-(B23/100*ТЛ!$G$32) -> 3425 | D23: =C23+(C23/100*ТЛ!$G$33) -> 3425 | F23: 3200
A24: Стол Венера 1 | B24: =CEILING((F24+F24*0.07),5) -> 1715 | C24: =B24-(B24/100*ТЛ!$G$32) -> 1715 | D24: =C24+(C24/100*ТЛ!$G$33) -> 1715 | F24: 1600
A25: Стол Люкс | B25: =CEILING((F25+F25*0.07),5) -> 6100 | C25: =B25-(B25/100*ТЛ!$G$32) -> 6100 | D25: =C25+(C25/100*ТЛ!$G$33) -> 6100 | F25: 5700
A26: Стол Камея | B26: =CEILING((F26+F26*0.07),5) -> 4335 | C26: =B26-(B26/100*ТЛ!$G$32) -> 4335 | D26: =C26+(C26/100*ТЛ!$G$33) -> 4335 | F26: 4050
D27: =C27+(C27/100*ТЛ!$G$33) -> 0
A28: МДФ столешницы
A29: стол круглый МДФ | B29: 2310 | C29: =B29-(B29/100*ТЛ!$G$32) -> 2310 | D29: =C29+(C29/100*ТЛ!$G$33) -> 2310 | F29: 2100
A30: стол обеденный МДФ | B30: 2050 | C30: =B30-(B30/100*ТЛ!$G$32) -> 2050 | D30: =C30+(C30/100*ТЛ!$G$33) -> 2050 | F30: 1800
B31: =CEILING((F31+F31*0.07),5) -> 0 | C31: =B31-(B31/100*ТЛ!$G$32) -> 0 | D31: =C31+(C31/100*ТЛ!$G$33) -> 0
B32: =CEILING((F32+F32*0.07),5) -> 0 | C32: =B32-(B32/100*ТЛ!$G$32) -> 0 | D32: =C32+(C32/100*ТЛ!$G$33) -> 0
A33: Стол ШАРМ ЛДСП | B33: 2695 | C33: =B33-(B33/100*ТЛ!$G$32) -> 2695 | D33: =C33+(C33/100*ТЛ!$G$33) -> 2695
A34: Стол ШАРМ МДФ | B34: 3060 | C34: =B34-(B34/100*ТЛ!$G$32) -> 3060 | D34: =C34+(C34/100*ТЛ!$G$33) -> 3060

Sheet 26
B4: Стулья и табуреты
B5: Табурет круглый* | G5: Табурет квадратный* | L5: Табурет складной*
B6: Диаметр 320 | G6: 300х300х480 | L6: 380 х 300 х 450
E7: Вес,кг | J7: Вес,кг | O7: Вес,кг
E8: 4 | J8: 2 | O8: 4
E9: Объем,м3 | J9: Объем,м3 | O9: Объем,м3
E10: 0.2 | J10: 0.2 | O10: 0.02
E11: Кол-во упаковок | J11: Кол-во упаковок | O11: Кол-во упаковок
E12: 2 | J12: 2 | O12: 2
B13: ЦЕНА от 1 шт. | D13: ='26р'!D2 -> 520 | G13: ЦЕНА от 1 шт. | I13: ='26р'!D4 -> 540 | L13: ЦЕНА от 1 шт. | N13: ='26р'!D6 -> 680
B15: Метал.каркас, сидушка к/з, флок | G15: Метал.каркас, сидушка к/з, флок | L15: Метал.каркас, сидушка к/з, флок
B16: Ноги цвет-металлик | G16: Ноги цвет-металлик | L16: Ноги цвет-металлик
B18: Табурет (в 1уп. 4шт) * | G18: Табурет эконом (в 1уп. 4шт) * лдсп 16 мм. | L18: Стул "Венский"*
B19: 380 х 300 х 450 | G19: 380 х 300 х 450 | L19: 960 х 430 х 430
E20: Вес,кг | J20: Вес,кг | O20: Вес,кг
E21: 2.1 | J21: 2.1 | O21: 4
E22: Объем,м3 | J22: Объем,м3 | O22: Объем,м3
E23: 0.04 | J23: 0.04 | O23: 0.2
E24: Кол-во упаковок | J24: Кол-во упаковок | O24: Кол-во упаковок
E25: 2 | J25: 2 | O25: 2
B26: ЦЕНА от 1 уп. | D26: ='26р'!D8 -> 2340 | G26: ЦЕНА от 1 уп. | I26: ='26р'!D10 -> 1920 | L26: ЦЕНА от 1 шт. | N26: ='26р'!D12 -> 1125
B28: Ольха, ясень ш.св | G28: Ясень ш.св., ольха | L28: Метал.каркас, сидушка к/з, флок
B29: Сидушка: к/з, флок | G29: Сиденье ЛДСП | L29: Ноги цвет -металлик
B31: Стул "Премиум"* | G31: Стул "Версаль"* | L31: Стул "Визит" (раскладной)*
B32: 960 х 430 х 430 | G32: 960 х 430 х 430 | L32: 625(1000) х 600 х 770
E33: Вес,кг | J33: Вес,кг | O33: Вес,кг
E34: 4 | J34: 4 | O34: 5
E35: Объем,м3 | J35: Объем,м3 | O35: Объем,м3
E36: 0.2 | J36: 0.2 | O36: 0.1
E37: Кол-во упаковок | J37: Кол-во упаковок | O37: Кол-во упаковок
E38: 2 | J38: 2 | O38: 2
B39: ЦЕНА от 1 шт. | D39: ='26р'!D12 -> 1125 | G39: ЦЕНА от 1 шт. | I39: ='26р'!D12 -> 1125 | L39: ЦЕНА от 1 шт. | N39: ='26р'!D12 -> 1125
B41: Метал.каркас, сидушка к/з, флок | G41: Метал.каркас, сидушка к/з, флок | L41: Метал.каркас, сидушка к/з, флок
B42: Ноги цвет-металлик | G42: Ноги цвет-металлик | L42: Ноги цвет-металлик
B44: Стул "Венский" с мягкой спинкой* | G44: Стул "Трапеция"*
B45: 400х400х940 | G45: 420 х 360 х 900
E46: Вес,кг | J46: Вес,кг
E47: 2.7 | J47: 2.32
E48: Объем,м3 | J48: Объем,м3
E49: 0.2 | J49: 0.2
E50: Кол-во упаковок | J50: Кол-во упаковок
E51: 2 | J51: 2
B52: ЦЕНА от 1 шт. | D52: ='26р'!D14 -> 1250 | G52: ЦЕНА от 1 шт. | I52: ='26р'!D14 -> 1250
B54: Метал.каркас, сидушка к/з, флок | G54: Метал.каркас, сидушка к/з, флок
B55: Ноги цвет -антик-медь | G55: Ноги цвет-антик-медь

Sheet 26р
A1: наименование | B1: цена | C1: со скидкой | D1: и наценкой
A2: Табурет круглый* от 1 | B2: 520 | C2: =B2 -> 520 | D2: =C2+(C2/100*ТЛ!$G$33) -> 520 | F2: 400
A4: табурет квадрат* от 1 | B4: 540 | C4: =B4 -> 540 | D4: =C4+(C4/100*ТЛ!$G$33) -> 540 | F4: 420
A6: табурет складной* от 1 | B6: 680 | C6: =B6 -> 680 | D6: =C6+(C6/100*ТЛ!$G$33) -> 680 | F6: 550
A8: табурет-* от 1 | B8: 2340 | C8: =B8 -> 2340 | D8: =C8+(C8/100*ТЛ!$G$33) -> 2340 | F8: 2200
A10: табурет-эконом* от 1 | B10: 1920 | C10: =B10 -> 1920 | D10: =C10+(C10/100*ТЛ!$G$33) -> 1920 | F10: 1800
A12: стулья Вен, Прем, Верс, Визит | B12: 1125 | C12: =B12 -> 1125 | D12: =C12+(C12/100*ТЛ!$G$33) -> 1125 | F12: 860
A14: Стулья с мягк.спинкой | B14: 1250 | C14: =B14 -> 1250 | D14: =C14+(C14/100*ТЛ!$G$33) -> 1250 | F14: 950

Sheet 27
A5: Кухни * Наличие пленок уточнять у менеджера
A6: Используемые цвета
A7: ЛДСП
A8: Корпус:
C11: белый
A14: Фасады ЛДСП:
A19: венге | C19: ясень шимо светлый | E19: ясень шимо темный | F19: лайм | H19: оранж
A22: Пленка МДФ, фасады
A28: белый | B28: бежевый капучино розовый метал. Сиренев. метал. Сиренев. Цветы метал.
A34: лиловый зеленое яблоко оранж желтый красный черный лазурный
A44: ясень золото патина только на спальню Купидон | E44: эвкалипт
A51: шимо светлый шимо темный венге (по цене глянца) патина (по цене глянца)
A52: Столешницы
A65: Мозайка | C65: Кастилло

Sheet 29
A1: Кухня "ЗОЛУШКА" *
A3: 1,8 м | K3: 2м
A4: верх: 2400 х 300 х 720 низ: 1800 х 600 х 850
N5: Верх: | O5: шкаф навесной с сушилкой (арт.ШНС-600) - 600х300х720
O6: шкаф навесной (арт.ШН-600/1) - 600х300х720
O7: шкаф навесной (арт.ШН-800/1) - 800х300х720
N8: Низ: | O8: тумба под мойку (арт.ТРМ-600) - 600х600х850
O9: тумба (арт.ТР-600/1) - 600х600х850
O10: тумба с 4 ящиками (арт. ТР-400/3) - 400х600х850
O11: тумба (арт.ТР-400/1) - 400х600х850
O12: Столешница 2000
A13: Верх: | B13: шкаф навесной с сушилкой (арт.ШНС-800) - 800х300х720 | O13: Корпус: белый, фасады: МДФ глянец с фотопечатью
B14: шкаф навесной со стеклом (арт. ШН-600/3)- 600х300х720 | L14: рис.Ромашки
B15: шкаф навесной под вытяжку (арт. ШНВ-600)- 600х300х360
B16: шкаф навесной (арт.ШН-400/1) - 400х300х720
A17: Низ: | B17: тумба под мойку (арт.ТРМ-800) - 800х600х850
B18: тумба с 3 ящиками (арт.ТР-600/3) - 600х600х850
B19: тумба (арт. ТР-400/1) - 400х600х850
A20: Столешница 1400х600, столешница 400х600
A21: Корпус: белый, фасады: МДФ
A23: Варианты фрезеровки:
L29: Варианты | Q29: Цена
L30: Низ: зеленое яблоко, верх: белый рис.Ромашки | Q30: =зол!S4 -> 19795
L31: Низ: сиреневый, верх: белый рис.Каприз
A32: Фасады | G32: Цена | L32: Низ: сиреневый, верх: белый рис.Миндаль
A33: Расцветка | D33: Фрезеровка | L33: Низ: синий, верх: белый рис.Лазурь
A34: ясень шимо светлый; ясень шимо темный | D34: мыло | G34: =зол!I3 -> 15625 | L34: Низ: оранж, верх: белый рис.Нежность
A35: глянцевые | D35: мыло | G35: =зол!I4 -> 16695 | H35: Сушилка и столешница входят в набор, мойкой и техникой набор не комплектуется
A36: глянцевые | D36: с фрезеровкой | G36: =зол!I5 -> 16695
A37: белый патина; орех кантри, | D37: с фрезеровкой Рамка | G37: =зол!I6 -> 16695 | O37: Корпус:белый ЛДСП 16мм., Фасады: МДФ жемчуг шелк, стекло матовое, ручки с керамич. вставками
O38: Цена | Q38: Верх: | R38: шкаф навесной с полкой ШН-800/2
O39: =зол!I8 -> 17655 | R39: шкаф навесной под вытяжку ШНВ-600
A40: Корпус: ЛДСП 16мм | R40: шкаф навесной с сушилкой ШНС-800
A41: Фасады: МДФ 16мм | Q41: Низ: | R41: тумба на 800 мм ТРМ-800
A42: Столешница: постформинг 28мм | R42: тумба под встр.тех-ку ТР-600
A43: Ручки: рейлинги 128мм к кухням с глянцевыми и матовыми фасадами | R43: тумба с ящ. ТР-800/4
B44: с керамическими вставками 128мм к кухням с фасадами "белый патина" | O44: В комплект входит столешница 2,2м., карниз и цоколь
A45: Шариковые направляющие
K46: 2200 мм

Sheet зол
A1: Фасады | G1: Цена | H1: скидка 10 | I1: наценка
A2: Расцветка | D2: Фрезеровка | K2: Варианты | P2: Цена | R2: скидка 10
A3: ясень шимо светлый; ясень шимо темный | D3: мыло | G3: =CEILING((G10+G10*0.07),5) -> 15625 | H3: =G3-(G3/100*ТЛ!$G$34) -> 15625 | I3: =H3+(H3/100*ТЛ!$G$33) -> 15625 | K3: Низ: зеленое яблоко, верх: белый рис.Ромашки | P3: 19795 | R3: =P3-(P3/100*ТЛ!$G$34) -> 19795
A4: глянцевые | D4: мыло | G4: =CEILING((G11+G11*0.07),5) -> 16695 | H4: =G4-(G4/100*ТЛ!$G$34) -> 16695 | I4: =H4+(H4/100*ТЛ!$G$33) -> 16695 | K4: Низ: сиреневый, верх: белый рис.Каприз | S4: =R3+(R3/100*ТЛ!$G$33) -> 19795
A5: глянцевые | D5: низ-мыло, верх -Кубики низ - Полешки, верх - Полешки | G5: =CEILING((G12+G12*0.07),5) -> 16695 | H5: =G5-(G5/100*ТЛ!$G$34) -> 16695 | I5: =H5+(H5/100*ТЛ!$G$33) -> 16695 | K5: Низ: сиреневый, верх: белый рис.Миндаль
A6: белый патина; орех кантри, | D6: низ- Полешки; Рамка верх - Полешки; Рамка | G6: =CEILING((G13+G13*0.07),5) -> 16695 | H6: =G6-(G6/100*ТЛ!$G$34) -> 16695 | I6: =H6+(H6/100*ТЛ!$G$33) -> 16695 | K6: Низ: синий, верх: белый рис.Лазурь
A7: патинирование золото | G7: =CEILING((G14+G14*0.07),5) -> 15455 | H7: =G7-(G7/100*ТЛ!$G$34) -> 15455 | I7: =H7+(H7/100*ТЛ!$G$33) -> 15455 | K7: Низ: оранж, верх: белый рис.Нежность
A8: Золушка 2,2 цветы | G8: =CEILING((G15+G15*0.07),5) -> 17655 | H8: =G8-(G8/100*ТЛ!$G$34) -> 17655 | I8: =H8+(H8/100*ТЛ!$G$33) -> 17655
G10: 14600
G11: 15600
G12: 15600
G13: 15600
G14: 14440
G15: 16500

Sheet 30
B1: Кухня "Надежда" *
B2: 1380х1980 по верху, 1380х1380 по низу
B4: Верх: | C4: шкаф навесной с сушилкой - 600х300х720
C5: шкаф навесной угловой - 580х580х900
C6: шкаф навесной с нишей 600х580х720
C7: шкаф навесной 600х300х360
C8: стеллаж навесной 195х280х720
B9: Низ: | C9: тумба угловая под мойку 890х600х850
C10: тумба с 4-мя ящиками 400х600х850
C11: тумба 800х600х850
B14: Кухня угловая "Надежда" * | G14: Кухня угловая "Надежда" *
B15: с фотопечатью фасады лдсп | G15: Фасады МДФ
E16: Вес,кг | J16: Вес,кг
E18: Объем,м3 | J18: Объем,м3
E20: Кол-во упаковок | J20: Кол-во упаковок
B22: ЦЕНА | D22: =над!F10 -> 17655 | G22: ЦЕНА | I22: =над!L10 -> 19260
B23: Корпус- ЛДСП белый, фасады ЛДСП | G23: Корпус- ЛДСП белый, фасады МДФ - глянец
B24: низ лдсп лайм, верх лдсп белый с фотопечатью | G24: МДФ пленка: белый/черный, ваниль/капучино
B27: Корпус: ЛДСП 16мм
B28: Фасады: ЛДСП 16мм или МДФ 16мм
B29: Столешница: постформинг 28мм
B30: Ручки: рейлинги 128мм к кухням с глянцевыми и матовыми фасадами
B31: Шариковые направляющие

Sheet над
A2: Кухня угловая "Надежда" | G2: Кухня угловая "Надежда"
A3: с фотопечатью фасады лдсп | G3: Фасады МДФ
D4: Вес,кг | J4: Вес,кг
D6: Объем,м3 | J6: Объем,м3
D8: Кол-во упаковок | J8: Кол-во упаковок
A10: ЦЕНА | C10: 12900 | E10: 17655 | F10: =E10+(E10/100*ТЛ!$G$33) -> 17655 | G10: ЦЕНА | I10: 14670 | K10: 19260 | L10: =K10+(K10/100*ТЛ!$G$33) -> 19260
A11: Корпус- ЛДСП белый, фасады ЛДСП | G11: Корпус- ЛДСП белый, фасады МДФ - глянец
A12: низ лдсп лайм, верх лдсп белый с фотопечатью | G12: МДФ пленка: белый/черный, ваниль/капучино

Sheet 31р
A1: Кухонные модули*
A2: Тумбы (без столешниц)
A3: Тумба 300 с полкой (ТР-300/1) | E3: 300*600*850 | H3: =CEILING((L3+L3*0.07),5) -> 1485 | J3: =H3 -> 1485 | K3: =J3+(J3/100*ТЛ!$G$33) -> 1485 | L3: 1385
A4: Тумба усеченная (ТРУ-2) | E4: 300*600*850 | H4: =CEILING((L4+L4*0.07),5) -> 1665 | J4: =H4 -> 1665 | K4: =J4+(J4/100*ТЛ!$G$33) -> 1665 | L4: 1555
A5: Тумба угловая под мойку (ТРУ-1) | E5: 900*600*850 | H5: =CEILING((L5+L5*0.07),5) -> 1985 | J5: =H5 -> 1985 | K5: =J5+(J5/100*ТЛ!$G$33) -> 1985 | L5: 1855
A6: Тумба 400 с полкой (ТР-400/1) | E6: 400*600*850 | H6: =CEILING((L6+L6*0.07),5) -> 1730 | J6: =H6 -> 1730 | K6: =J6+(J6/100*ТЛ!$G$33) -> 1730 | L6: 1615
A7: Тумба 400, ящик+дверь (ТР-400/2) | E7: 400*600*850 | H7: =CEILING((L7+L7*0.07),5) -> 1905 | J7: =H7 -> 1905 | K7: =J7+(J7/100*ТЛ!$G$33) -> 1905 | L7: 1780
A8: Тумба 400, 4ящика (ТР-400/3) | E8: 400*600*850 | H8: =CEILING((L8+L8*0.07),5) -> 2585 | J8: =H8 -> 2585 | K8: =J8+(J8/100*ТЛ!$G$33) -> 2585 | L8: 2415
A9: Тумба 500 с полкой (ТР-500/1) | E9: 500*600*850 | H9: =CEILING((L9+L9*0.07),5) -> 1930 | J9: =H9 -> 1930 | K9: =J9+(J9/100*ТЛ!$G$33) -> 1930 | L9: 1800
A10: Тумба 500 под мойку (ТРМ-500) | E10: 500*600*850 | H10: =CEILING((L10+L10*0.07),5) -> 1855 | J10: =H10 -> 1855 | K10: =J10+(J10/100*ТЛ!$G$33) -> 1855 | L10: 1730
A11: Тумба 600 под встр.технику (ТР-600) | E11: 600*600*850 | H11: =CEILING((L11+L11*0.07),5) -> 1580 | J11: =H11 -> 1580 | K11: =J11+(J11/100*ТЛ!$G$33) -> 1580 | L11: 1475
A12: Тумба 600 с полкой (ТР-600/1) | E12: 600*600*850 | H12: =CEILING((L12+L12*0.07),5) -> 2350 | J12: =H12 -> 2350 | K12: =J12+(J12/100*ТЛ!$G$33) -> 2350 | L12: 2195
A13: Тумба 600 под мойку (ТРМ-600) | E13: 600*600*850 | H13: =CEILING((L13+L13*0.07),5) -> 2215 | J13: =H13 -> 2215 | K13: =J13+(J13/100*ТЛ!$G$33) -> 2215 | L13: 2070
A14: Тумба 600, 3 ящика (ТР-600/3) | E14: 600*600*850 | H14: =CEILING((L14+L14*0.07),5) -> 3150 | J14: =H14 -> 3150 | K14: =J14+(J14/100*ТЛ!$G$33) -> 3150 | L14: 2940
... A18: Тумба 600 под встроенную технику 2 (ТР-600) | E18: 600*600*1400 | H18: =CEILING((L18+L18*0.07),5) -> 4870 | J18: =H18 -> 4870 | K18: =J18+(J18/100*ТЛ!$G$33) -> 4870 | L18: 4550
A19: Шкафы навесные | H19: =CEILING((L19+L19*0.07),5) -> 0
A20: Шкаф навесной 300 (ШН-300/1) | E20: 300*300*720 | H20: =CEILING((L20+L20*0.07),5) -> 1135 | J20: =H20 -> 1135 | K20: =J20+(J20/100*ТЛ!$G$33) -> 1135 | L20: 1060
A21: Шкаф навесной 300 со стеклом (ШН-300/2) | E21: 300*300*720 | H21: =CEILING((L21+L21*0.07),5) -> 1635 | J21: =H21 -> 1635 | K21: =J21+(J21/100*ТЛ!$G$33) -> 1635 | L21: 1525
A22: Шкаф навесной 400 (ШН-400/1) | E22: 400*300*720 | H22: =CEILING((L22+L22*0.07),5) -> 1415 | J22: =H22 -> 1415 | K22: =J22+(J22/100*ТЛ!$G$33) -> 1415 | L22: 1320
A23: Шкаф навесной 400 со стеклом (ШН-400/2) | E23: 400*300*720 | H23: =CEILING((L23+L23*0.07),5) -> 1895 | J23: =H23 -> 1895 | K23: =J23+(J23/100*ТЛ!$G$33) -> 1895 | L23: 1770
A24: Шкаф навесной 300 торцевой (ШНУ-3) | E24: 300*280*720 | H24: =CEILING((L24+L24*0.07),5) -> 620 | J24: =H24 -> 620 | K24: =J24+(J24/100*ТЛ!$G$33) -> 620 | L24: 575
A25: Шкаф навесной 500 (ШН-500/1) | E25: 500*300*720 | H25: =CEILING((L25+L25*0.07),5) -> 1600 | J25: =H25 -> 1600 | K25: =J25+(J25/100*ТЛ!$G$33) -> 1600 | L25: 1495
A26: Шкаф навесной 500 со стеклом (ШН-500/2) | E26: 500*300*720 | H26: =CEILING((L26+L26*0.07),5) -> 2050 | J26: =H26 -> 2050 | K26: =J26+(J26/100*ТЛ!$G$33) -> 2050 | L26: 1915
A27: Шкаф навесной 500 с сушилкой (ШНС-500) | E27: 500*300*720 | H27: =CEILING((L27+L27*0.07),5) -> 1855 | J27: =H27 -> 1855 | K27: =J27+(J27/100*ТЛ!$G$33) -> 1855 | L27: 1730
A28: Шкаф навесной 500, под вытяжку (ШНВ-500) | E28: 500*300*360 | H28: =CEILING((L28+L28*0.07),5) -> 1115 | J28: =H28 -> 1115 | K28: =J28+(J28/100*ТЛ!$G$33) -> 1115 | L28: 1040
A29: Шкаф навесной 600, под вытяжку (ШНВ-600) | E29: 600*300*360 | H29: =CEILING((L29+L29*0.07),5) -> 1215 | J29: =H29 -> 1215 | K29: =J29+(J29/100*ТЛ!$G$33) -> 1215 | L29: 1135
A30: Шкаф навесной 600 (ШН-600/1) | E30: 600*300*720 | H30: =CEILING((L30+L30*0.07),5) -> 2020 | J30: =H30 -> 2020 | K30: =J30+(J30/100*ТЛ!$G$33) -> 2020 | L30: 1885
A31: Шкаф навесной 600 со стеклом (ШН-600/2) | E31: 600*300*720 | H31: =CEILING((L31+L31*0.07),5) -> 2915 | J31: =H31 -> 2915 | K31: =J31+(J31/100*ТЛ!$G$33) -> 2915 | L31: 2720
... A43: Пенал ШП-800 | E43: 800*600*2168 | H43: =CEILING((L43+L43*0.07),5) -> 7370 | J43: =H43 -> 7370 | K43: =J43+(J43/100*ТЛ!$G$33) -> 7370 | L43: 6885
A44: Цена кухни на фото | H44: =CEILING((L44+L44*0.07),5) -> 23295 | J44: =H44 -> 23295 | K44: =J44+(J44/100*ТЛ!$G$33) -> 23295 | L44: 21770

Sheet 33старый
A1: Шкаф навесной (глубина 300, высота 720)
A3: арт. ШН-300/1 | B3: арт. ШН-300/2 | E3: арт. ШН-400/1 | F3: арт. ШН-400/2 | I3: арт. ШНУ-3 300х280х720
A4: Шкаф навесной 300 | E4: Шкаф навесной 400 | I4: Шкаф навесной 300
A5: Пленка Фасад | B5: глянец | C5: матовая | E5: Пленка Фасад | F5: глянец | G5: матовая | I5: Пленка Фасад
A6: глухой | B6: =#REF! -> #REF! | C6: =#REF! -> #REF! | E6: =A6 -> глухой | F6: =#REF! -> #REF! | G6: =#REF! -> #REF! | I6: =A6 -> глухой | J6: =#REF! -> #REF!
A7: со стеклом | B7: =#REF! -> #REF! | C7: =#REF! -> #REF! | E7: =A7 -> со стеклом | F7: =#REF! -> #REF! | G7: =#REF! -> #REF!
A10: арт. ШН-500/1 | B10: арт. ШН-500/2 | E10: арт. ШНС-500 | I10: арт. ШНВ-600
A11: Шкаф навесной 500 | E11: Шкаф навесной 500 (c сушилкой) | I11: Шкаф навесной 600 (под вытяжку)
A12: Пленка Фасад | B12: глянец | C12: матовая | E12: Пленка Фасад | F12: глянец | G12: матовая | I12: Пленка Фасад | J12: глянец | K12: матовая
A13: глухой | B13: =#REF! -> #REF! | C13: =#REF! -> #REF! | E13: =A13 -> глухой | F13: =#REF! -> #REF! | G13: =#REF! -> #REF! | I13: =A13 -> глухой | J13: =#REF! -> #REF! | K13: =#REF! -> #REF!
A14: со стеклом | B14: =#REF! -> #REF! | C14: =#REF! -> #REF!
A17: арт. ШН-600/1 | B17: арт. ШН-600/2 | E17: арт. ШНС-600 | I17: арт. ШН-600/3
A18: Шкаф навесной 600 | E18: Шкаф навесной 600 (c сушилкой) | I18: Шкаф навесной 600
A19: Пленка Фасад | B19: глянец | C19: матовая | E19: Пленка Фасад | F19: глянец | G19: матовая | I19: Пленка Фасад | J19: глянец | K19: матовая
A20: глухой | B20: =#REF! -> #REF! | C20: =#REF! -> #REF! | E20: =A20 -> глухой | F20: =#REF! -> #REF! | G20: =#REF! -> #REF! | I20: гладкий/стекло | J20: =#REF! -> #REF! | K20: =#REF! -> #REF!
A21: со стеклом | B21: =#REF! -> #REF! | C21: =#REF! -> #REF!
I23: 600х600х720
A24: арт. ШН-800/1 | B24: арт. ШН-800/2 | E24: арт. ШНС-800 | I24: арт. ШНУ-1 | J24: арт. ШНУ-2
A25: Шкаф навесной 800 | E25: Шкаф навесной 800 (c сушилкой) | I25: Шкаф угловой 600х600 с полками
A26: Пленка Фасад | B26: глянец | C26: матовая | E26: Пленка Фасад | F26: глянец | G26: матовая | I26: Пленка Фасад | J26: глянец | K26: матовая
A27: глухой | B27: =#REF! -> #REF! | C27: =#REF! -> #REF! | E27: =A27 -> глухой | F27: =#REF! -> #REF! | G27: =#REF! -> #REF! | I27: =A27 -> глухой | J27: =#REF! -> #REF! | K27: =#REF! -> #REF!
A28: со стеклом | B28: =#REF! -> #REF! | C28: =#REF! -> #REF! | I28: со стеклом | J28: =#REF! -> #REF! | K28: =#REF! -> #REF!
A30: 400х330х1320 | E30: 400х600х2168 | I30: 500х600х2168
A31: Пенал ШП-400 | E31: Пенал ШП-400-1 | I31: Пенал ШП-500
A32: 400х330х1320 | E32: 400х600х2168 | I32: 500х600х2168
A33: Пленка Фасад | B33: глянец | C33: матовая | E33: Пленка Фасад | F33: глянец | G33: матовая | I33: Пленка Фасад | J33: глянец | K33: матовая
A34: глухой | B34: =#REF! -> #REF! | C34: =#REF! -> #REF! | E34: =A34 -> глухой | F34: =#REF! -> #REF! | G34: =#REF! -> #REF! | I34: =A34 -> глухой | J34: =#REF! -> #REF! | K34: =#REF! -> #REF!
A35: со стеклом | E35: со стеклом | I35: со стеклом
A37: 600х600х1210 | E37: 800х600х2168
A38: Пенал ШП-600 | E38: Пенал ШП-800 | I38: арт. ШНВ-500
A39: 600х600х1210 | E39: 800х600х2168 | I39: Шкаф навесной 500 (под вытяжку)
A40: Пленка Фасад | B40: глянец | C40: матовая | E40: Пленка Фасад | F40: глянец | G40: матовая | I40: Пленка Фасад | J40: глянец | K40: матовая
A41: глухой | B41: =#REF! -> #REF! | C41: =#REF! -> #REF! | E41: =A41 -> глухой | F41: =#REF! -> #REF! | G41: =#REF! -> #REF! | I41: =A41 -> глухой | J41: =#REF! -> #REF! | K41: =#REF! -> #REF!
A42: со стеклом | E42: со стеклом

Sheet Цены на фрез
A2: Образцы фрезеровки на кухонные модули
B27: Расчет цен на фасады с фрезеровкой:
B28: Прибавляем 10%, 20% к стоимости фасада (без учета столешницы)

Sheet Фрезеровка
A2: Образцы фрезеровки
A3: на кухни

Sheet Лист1
A1: Наименование изделия | B1: Стоимость корпуса | C1: Стоимость фасада
C2: матовый | D2: матовый со стеклом | E2: глянец | F2: глянец со стеклом | G2: Патинирование (+карниз) | H2: Патинирование со стеклом (+карниз)
A3: Шкаф навесной 300 (арт.ШН-300/1, арт. ШН-300/2) | B3: 510 | C3: 310 | D3: 420 | E3: 375 | F3: 485
A4: Шкаф навесной 300 угловой (арт.ШНУ-3) | B4: 555 | C4: __________ | D4: __________ | E4: __________ | F4: __________ | G4: __________ | H4: __________
A5: Шкаф навесной 400 (арт.ШН-400/1, арт. ШН-400/2) | B5: 550 | C5: 395 | D5: 545 | E5: 480 | F5: 630
A6: Шкаф навесной 500 (арт.ШН-500/1, арт. ШН-500/2) | B6: 600 | C6: 475 | D6: 650 | E6: 585 | F6: 760
A7: Шкаф навесной 500 с сушилкой (арт.ШНС-500) | B7: 835 | C7: =C6 -> 475 | D7: =D6 -> 650 | E7: 585 | F7: 760
A8: Шкаф навесной 500 под вытяжку (арт.ШНВ-500) | B8: 505 | C8: 280 | D8: _________ | E8: 330 | F8: _________
A9: Шкаф навесной 600 (арт.ШН-600/1 арт.ШН-600/2) | B9: 710 | C9: 590 | D9: 855 | E9: 720 | F9: 985
A10: Шкаф навесной 600 с горизонтальными фасадами (арт.ШН-600/3) | B10: 895 | C10: 725 | E10: 855
A11: Шкаф навесной 600 с сушилкой (арт.ШНС-600) | B11: 940 | C11: =C9 -> 590 | D11: =D9 -> 855 | E11: 720 | F11: 985
A12: Шкаф навесной 600 под вытяжку (арт.ШНВ-600) | B12: 530 | C12: 320 | D12: _________ | E12: 380 | F12: _________
A13: Шкаф навесной 800 (арт.ШН-800/1, арт. ШН-800/2) | B13: 795 | C13: 755 | D13: 1050 | F13: 1230
A14: Шкаф навесной 800 с сушилкой (арт.ШНС-800) | B14: 1020 | C14: =C13 -> 755 | D14: =D13 -> 1050 | F14: 1230
A15: Шкаф угловой 600х600 с полками (арт.ШНУ-600/1 арт.ШНУ - 600/2) | B15: 1005 | C15: 425 | D15: 575 | E15: 520 | F15: 670
A16: Тумба 300 с полкой (арт.ТР-300/1) | B16: 790 | C16: =C3 -> 310 | D16: _________ | E16: =E3 -> 375 | F16: _________
A17: Тумба 400 с полкой (арт.ТР-400/1) | B17: 845 | C17: =C5 -> 395 | D17: _________ | E17: =E5 -> 480 | F17: _________
A18: Тумба 400 с 4 ящиками (арт.ТР-400/3) | B18: 1630 | C18: 485 | D18: _________ | E18: 570 | F18: _________
A19: Тумба 400 (ящик+дверь) (арт.ТР-400/2) | B19: 1015 | C19: 425 | D19: _________ | E19: 510 | F19: _________
A20: Тумба 500 с полкой (арт.ТР-500/1) | B20: 900 | C20: =C6 -> 475 | D20: _________ | E20: 585 | F20: _________
A21: Тумба 500 под мойку (арт.ТРМ-500) | B21: 835 | C21: =C20 -> 475 | D21: _________ | E21: 585 | F21: _________
A22: Тумба 600 с полкой (арт.ТР-600/1) | B22: 1015 | C22: =C9 -> 590 | D22: _________ | E22: =E9 -> 720 | F22: _________
A23: Тумба 600 под мойку (арт.ТРМ-600) | B23: 890 | C23: =C22 -> 590 | D23: _________ | E23: =E22 -> 720 | F23: _________
A24: Тумба 600 с ящиками (арт.ТР-600/3) | B24: 1705 | C24: 620 | D24: _________ | E24: 750 | F24: _________
A25: Тумба 600 под встроенную технику 1 (арт.ТР-600) | B25: 1170 | D25: _________ | F25: _________
A26: Тумба под встроенную технику 600 2 (арт. ТР-600/2) | B26: 2605 | D26: _________ | F26: _________
A27: Тумба 800 с полкой (арт.ТР-800/1) | B27: 1135 | C27: =C13 -> 755 | D27: _________ | E27: =E13 -> 0 | F27: _________
A28: Тумба 800 (ящик+дверь) (арт.ТР-800/2) | B28: 1440 | C28: 805 | D28: _________ | E28: 980 | F28: _________
A29: Тумба 800 под мойку (арт.ТРМ-800) | B29: 945 | C29: =C27 -> 755 | D29: _________ | E29: =E27 -> 0 | F29: _________
A30: Тумба 900 угловая под мойку (арт.ТРУ-1) | B30: 1090 | C30: 395 | D30: _________ | E30: =E5 -> 480 | F30: _________
A31: Тумба 300 усеченная (арт.ТРУ-2) | B31: 790 | C31: 425 | D31: _________ | E31: 520 | F31: _________
A32: Пенал ШП-400 | B32: 1135 | C32: 510 | D32: _________ | E32: 615 | F32: _________
A33: Пенал ШП-400-1 | B33: 2170 | C33: 1070 | D33: _________ | E33: 1315 | F33: _________
A34: Пенал ШП-500 | B34: 2620 | C34: 1055 | D34: _________ | E34: 1300 | F34: _________
A35: Пенал ШП-600 | B35: 2015 | C35: 835 | D35: _________ | E35: 1030 | F35: _________
A36: Пенал ШП-800 | B36: 3265 | C36: 1790 | D36: _________ | E36: 2135 | F36: _________

Sheet Лист2

Sheet 31
B1: МОДУЛЬНЫЕ КУХНИ *
A2: Кухни с фасадами ЛДСП
A4: Корпус: ЛДСП 16мм - белый
A5: Фасады: ЛДСП 16мм - венге, шимо светлый, шимо темный
A6: Кромка: ПВХ 0,4мм
A7: Столешница: постформинг 28мм
A8: Ручки:
A9: Шариковые направляющие
A10: Тумбы на пластиковых регулируемых ножках
A12: Кухни с фасадами МДФ (пленка глянец, пленка матовая)
A14: Корпус: ЛДСП 16мм - белый
A15: Фасады: МДФ 16мм
B16: глянец - белый, беж, капучино, желтый, красный, розовый, сиреневый, сиреневый "Цветы", зеленое яблоко, оранж, черный, лазурный, лиловый, венге
B18: матовый- шимо темный, шимо светлый
B19: матовый (по цене глянца) - патина
B20: Премиум | C20: ясень золото, Эвкалипт
A21: Фрезеровка: | C21: Мыло, Кубики, Полешки, Дюны, Импульс, Рамка
A22: Столешница: постформинг 28мм
A23: Ручки: рейлинги 128мм к кухням с глянцевыми и матовыми фасадами
B24: с керамическими вставками 128мм к кухням с фасадами "белый патина"
A25: Шариковые направляющие
B26: Тумбы на пластиковых регулируемых ножках
A38: Кухни с фасадами Премиум ВНИМАНИЕ!!! Новая пленка!!!
A40: Корпус: ЛДСП 16мм - белый
A41: Фасады: МДФ 16мм ясень золото, объемный рисунок косичка
A42: Стекло тонированное с фотопечатью
A43: Столешница: постформинг 28мм
A44: Ручки: скобы-бронза
A45: Шариковые направляющие
A46: Шкафы комплектуются карнизами, тумбы цоколем
D63: НОВИНКА!!!
A64: Модульная кухня с фасадами Эвкалипт и фрез. Итальянская Полешка
J66: по цене модулей Премиум

Sheet 32
A1: Модуль | C1: Фасады
C2: ЛДСП | D2: Матовый МДФ | E2: Глянец МДФ, МДФ пленки: патина, орех кантри, сапели, с фрезеровкой, без фрезеровки | F2: Премиум
A3: Артикул | B3: Схема корпуса | C3: Стоимость | G3: Схема фасадов Премиум
A4: Тумбы рабочие* (столешница заказывается отдельно) ВНИМАНИЕ!!! На модули Премиум новая пленка!!!
A5: ТРБ-200 (бутылочница) 200х450х850 | C5: ='32р-новый'!E26 -> 1505 | D5: ='32р-новый'!H26 -> 1605 | E5: ='32р-новый'!K26 -> 1660 | F5: ='32р-новый'!N26 -> 1770
A6: ТР-300/1 (300х450х850) | C6: ='32р-новый'!E4 -> 1205 | D6: ='32р-новый'!H4 -> 1325 | E6: ='32р-новый'!K4 -> 1390 | F6: ='32р-новый'!N4 -> 1960
A7: ТР-400/1 (400х450х850) | C7: ='32р-новый'!E5 -> 1545 | D7: ='32р-новый'!H5 -> 1565 | E7: ='32р-новый'!K5 -> 1670 | F7: ='32р-новый'!N5 -> 2030
A8: ТР-400/2 (400х450х850) | C8: ='32р-новый'!E6 -> 1580 | D8: ='32р-новый'!H6 -> 1795 | E8: ='32р-новый'!K6 -> 1895 | F8: ='32р-новый'!N6 -> 2215
A9: ТР-400/3 (400х450х850) | C9: ='32р-новый'!E7 -> 2330 | D9: ='32р-новый'!H7 -> 2570 | E9: ='32р-новый'!K7 -> 2685 | F9: ='32р-новый'!N7 -> 2955
A10: ТР-500/1 (500х450х850) | C10: ='32р-новый'!E8 -> 1680 | D10: ='32р-новый'!H8 -> 1730 | E10: ='32р-новый'!K8 -> 1865 | F10: ='32р-новый'!N8 -> 2265
A11: ТР-600/1 (600х450х850) | C11: ='32р-новый'!E9 -> 2200 | D11: ='32р-новый'!H9 -> 2025 | E11: ='32р-новый'!K9 -> 2185 | F11: ='32р-новый'!N9 -> 2765
A12: ТР-600/3 (600х450х850) | C12: ='32р-новый'!E10 -> 2510 | D12: ='32р-новый'!H10 -> 2860 | E12: ='32р-новый'!K10 -> 3020 | F12: ='32р-новый'!N10 -> 3635
A13: ТР-800/1 (800х450х850) | C13: ='32р-новый'!E11 -> 1875 | D13: ='32р-новый'!H11 -> 2360 | E13: ='32р-новый'!K11 -> 2605 | F13: ='32р-новый'!N11 -> 3345
A14: ТР-800/2 (800х450х850) | C14: ='32р-новый'!E12 -> 2320 | D14: ='32р-новый'!H12 -> 2795 | E14: ='32р-новый'!K12 -> 3015 | F14: ='32р-новый'!N12 -> 3655
A15: Тумбы под мойку
A16: ТРМ-500 (500х450х850) | C16: ='32р-новый'!E13 -> 1340 | D16: ='32р-новый'!H13 -> 1650 | E16: ='32р-новый'!K13 -> 1790 | F16: ='32р-новый'!N13 -> 2180
A17: ТРМ-600 (600х450х850) | C17: ='32р-новый'!E14 -> 1750 | D17: ='32р-новый'!H14 -> 1870 | E17: ='32р-новый'!K14 -> 2030 | F17: ='32р-новый'!N14 -> 2610
A18: ТРМ-800 (800х450х850) | C18: ='32р-новый'!E15 -> 1635 | D18: ='32р-новый'!H15 -> 2125 | E18: ='32р-новый'!K15 -> 2345 | F18: ='32р-новый'!N15 -> 3110
A19: ТРУ-1 (900х450х850) | C19: ='32р-новый'!E16 -> 1630 | D19: ='32р-новый'!H16 -> 1895 | E19: ='32р-новый'!K16 -> 2025 | F19: ='32р-новый'!N16 -> 2435
A20: Тумбы угловые
A21: ТРУ-1 под мойку (900х450х850) | C21: ='32р-новый'!E17 -> 1895 | D21: ='32р-новый'!H17 -> 1895 | E21: ='32р-новый'!K17 -> 2025 | F21: ='32р-новый'!N17 -> 2435
A22: ТРУ-2 усеченная (300х450х850) | C22: ='32р-новый'!E18 -> 1245 | D22: ='32р-новый'!H18 -> 1490 | E22: ='32р-новый'!K18 -> 1600 | F22: ='32р-новый'!N18 -> 1965
A23: Тумбы под встроенную технику
A24: ТР-600 (600х450х850) под встроен. технику | C24: ='32р-новый'!E19 -> 1625 | D24: ='32р-новый'!H19 -> 1755 | E24: ='32р-новый'!K19 -> 1795 | F24: ='32р-новый'!N19 -> 1845
A25: Шкафы- пеналы
A26: ШП-400 (400х330х1320) | C26: ='32р-новый'!E20 -> 1940 | D26: ='32р-новый'!H20 -> 2240 | E26: ='32р-новый'!K20 -> 2385 | F26: ='32р-новый'!N20 -> 2685
A27: ШП-400-1 (400х600х2168) | C27: ='32р-новый'!E21 -> 3920 | D27: ='32р-новый'!H21 -> 4065 | E27: ='32р-новый'!K21 -> 4370 | F27: ='32р-новый'!N21 -> 5280
A28: ШП-500 (500х600х2168) | C28: ='32р-новый'!E22 -> 3890 | D28: ='32р-новый'!H22 -> 4580 | E28: ='32р-новый'!K22 -> 4890 | F28: ='32р-новый'!N22 -> 5640
A29: ШП-600 (600х600х1210) | C29: ='32р-новый'!E23 -> 3570 | D29: ='32р-новый'!H23 -> 3575 | E29: ='32р-новый'!K23 -> 3820 | F29: ='32р-новый'!N23 -> 4655
A30: ШП-600 под встр.технику (600х600х1400) со столешницей | C30: ='32р-новый'!E24 -> 4800 | D30: ='32р-новый'!H24 -> 5180 | E30: ='32р-новый'!K24 -> 5435 | F30: ='32р-новый'!N24 -> 7265
A31: ШП-800 (800х600х2168) | C31: ='32р-новый'!E25 -> 5380 | D31: ='32р-новый'!H25 -> 6340 | E31: ='32р-новый'!K25 -> 6780 | F31: ='32р-новый'!N25 -> 8605
A32: Новые модули
A33: ТР-550/П (550х450х850) лев/прав | F33: ='32р-новый'!N27 -> 2310
A34: ТР-600/2 (600х450х850) | F34: ='32р-новый'!N28 -> 3495
A35: ТР-800/3 (800х450х850) | F35: ='32р-новый'!N29 -> 4175
A36: ТР-800/4 (800х450х850) | F36: ='32р-новый'!N30 -> 4330
A38: В размерах указан фактический размер тумбы, без учета столешницы. Глубина столешницы - 600мм, максимальная длина для заказа - 3000мм
A40: Столешница из постформинга толщиной 28 мм упаковывается отдельно.
A41: Стоимость метра погонного | E41: 1500 | F41: рублей
A54: шп-600 | B54: шп-800 | C54: шп-400 | D54: шп-400-1 | E54: шп-500 | F54: шп-600 под встроен. Техн.

Sheet 32р-новый
D1: скидка | E1: наценка | G1: Скиддка | H1: Наценка | J1: Скидка | K1: наценка | M1: Скидка | N1: Наценка
A2: Модуль | C2: Фасады
C3: ЛДСП | F3: Матовый МДФ | I3: Глянец МДФ, МДФ пленки: патина, орех кантри, сапели | L3: Премиум | S3: 43435
A4: ТР-300/1 (300х450х850) | C4: =CEILING((S4+S4*0.07),5) -> 1205 | D4: =C4-(C4/100*ТЛ!$G$34) -> 1205 | E4: =D4+(D4/100*ТЛ!$G$33) -> 1205 | F4: =CEILING((T4+T4*0.07),5) -> 1325 | G4: =F4-(F4/100*ТЛ!$G$34) -> 1325 | H4: =G4+(G4/100*ТЛ!$G$33) -> 1325 | I4: =CEILING((U4+U4*0.07),5) -> 1390 | J4: =I4-(I4/100*ТЛ!$G$34) -> 1390 | K4: =J4+(J4/100*ТЛ!$G$33) -> 1390 | L4: 1960 | M4: =L4-(L4/100*ТЛ!$G$34) -> 1960 | N4: =M4+(M4/100*ТЛ!$G$33) -> 1960 | Q4: 1385 | S4: 1125 | T4: 1235 | U4: 1295 | V4: 1530
A5: ТР-400/1 (400х450х850) | C5: 1545 | D5: =C5-(C5/100*ТЛ!$G$34) -> 1545 | E5: =D5+(D5/100*ТЛ!$G$33) -> 1545 | F5: =CEILING((T5+T5*0.07),5) -> 1565 | G5: =F5-(F5/100*ТЛ!$G$34) -> 1565 | H5: =G5+(G5/100*ТЛ!$G$33) -> 1565 | I5: =CEILING((U5+U5*0.07),5) -> 1670 | J5: =I5-(I5/100*ТЛ!$G$34) -> 1670 | K5: =J5+(J5/100*ТЛ!$G$33) -> 1670 | L5: =CEILING((V5+V5*0.07),5) -> 2030 | M5: =L5-(L5/100*ТЛ!$G$34) -> 2030 | N5: =M5+(M5/100*ТЛ!$G$33) -> 2030 | Q5: 1715 | S5: 1220 | T5: 1460 | U5: 1560 | V5: 1895
A6: ТР-400/2 (400х450х850) | C6: 1580 | D6: =C6-(C6/100*ТЛ!$G$34) -> 1580 | E6: =D6+(D6/100*ТЛ!$G$33) -> 1580 | F6: =CEILING((T6+T6*0.07),5) -> 1795 | G6: =F6-(F6/100*ТЛ!$G$34) -> 1795 | H6: =G6+(G6/100*ТЛ!$G$33) -> 1795 | I6: =CEILING((U6+U6*0.07),5) -> 1895 | J6: =I6-(I6/100*ТЛ!$G$34) -> 1895 | K6: =J6+(J6/100*ТЛ!$G$33) -> 1895 | L6: =CEILING((V6+V6*0.07),5) -> 2215 | M6: =L6-(L6/100*ТЛ!$G$34) -> 2215 | N6: =M6+(M6/100*ТЛ!$G$33) -> 2215 | Q6: 1875 | S6: 1440 | T6: 1675 | U6: 1770 | V6: 2070
A7: ТР-400/3 (400х450х850) | C7: =CEILING((S7+S7*0.07),5) -> 2330 | D7: =C7-(C7/100*ТЛ!$G$34) -> 2330 | E7: =D7+(D7/100*ТЛ!$G$33) -> 2330 | F7: =CEILING((T7+T7*0.07),5) -> 2570 | G7: =F7-(F7/100*ТЛ!$G$34) -> 2570 | H7: =G7+(G7/100*ТЛ!$G$33) -> 2570 | I7: =CEILING((U7+U7*0.07),5) -> 2685 | J7: =I7-(I7/100*ТЛ!$G$34) -> 2685 | K7: =J7+(J7/100*ТЛ!$G$33) -> 2685 | L7: =CEILING((V7+V7*0.07),5) -> 2955 | M7: =L7-(L7/100*ТЛ!$G$34) -> 2955 | N7: =M7+(M7/100*ТЛ!$G$33) -> 2955 | Q7: 2500 | S7: 2175 | T7: 2400 | U7: 2505 | V7: 2760
A8: ТР-500/1 (500х450х850) | C8: 1680 | D8: =C8-(C8/100*ТЛ!$G$34) -> 1680 | E8: =D8+(D8/100*ТЛ!$G$33) -> 1680 | F8: =CEILING((T8+T8*0.07),5) -> 1730 | G8: =F8-(F8/100*ТЛ!$G$34) -> 1730 | H8: =G8+(G8/100*ТЛ!$G$33) -> 1730 | I8: =CEILING((U8+U8*0.07),5) -> 1865 | J8: =I8-(I8/100*ТЛ!$G$34) -> 1865 | K8: =J8+(J8/100*ТЛ!$G$33) -> 1865 | L8: =CEILING((V8+V8*0.07),5) -> 2265 | M8: =L8-(L8/100*ТЛ!$G$34) -> 2265 | N8: =M8+(M8/100*ТЛ!$G$33) -> 2265 | Q8: 1910 | S8: 1325 | T8: 1615 | U8: 1740 | V8: 2115
A9: ТР-600/1 (600х450х850) | C9: 2200 | D9: =C9-(C9/100*ТЛ!$G$34) -> 2200 | E9: =D9+(D9/100*ТЛ!$G$33) -> 2200 | F9: =CEILING((T9+T9*0.07),5) -> 2025 | G9: =F9-(F9/100*ТЛ!$G$34) -> 2025 | H9: =G9+(G9/100*ТЛ!$G$33) -> 2025 | I9: =CEILING((U9+U9*0.07),5) -> 2185 | J9: =I9-(I9/100*ТЛ!$G$34) -> 2185 | K9: =J9+(J9/100*ТЛ!$G$33) -> 2185 | L9: =CEILING((V9+V9*0.07),5) -> 2765 | M9: =L9-(L9/100*ТЛ!$G$34) -> 2765 | N9: =M9+(M9/100*ТЛ!$G$33) -> 2765 | Q9: 2335 | S9: 1545 | T9: 1890 | U9: 2040 | V9: 2580
A10: ТР-600/3 (600х450х850) | C10: =CEILING((S10+S10*0.07),5) -> 2510 | D10: =C10-(C10/100*ТЛ!$G$34) -> 2510 | E10: =D10+(D10/100*ТЛ!$G$33) -> 2510 | F10: =CEILING((T10+T10*0.07),5) -> 2860 | G10: =F10-(F10/100*ТЛ!$G$34) -> 2860 | H10: =G10+(G10/100*ТЛ!$G$33) -> 2860 | I10: =CEILING((U10+U10*0.07),5) -> 3020 | J10: =I10-(I10/100*ТЛ!$G$34) -> 3020 | K10: =J10+(J10/100*ТЛ!$G$33) -> 3020 | L10: =CEILING((V10+V10*0.07),5) -> 3635 | M10: =L10-(L10/100*ТЛ!$G$34) -> 3635 | N10: =M10+(M10/100*ТЛ!$G$33) -> 3635 | Q10: 3075 | S10: 2345 | T10: 2670 | U10: 2820 | V10: 3395
A11: ТР-800/1 (800х450х850) | C11: =CEILING((S11+S11*0.07),5) -> 1875 | D11: =C11-(C11/100*ТЛ!$G$34) -> 1875 | E11: =D11+(D11/100*ТЛ!$G$33) -> 1875 | F11: =CEILING((T11+T11*0.07),5) -> 2360 | G11: =F11-(F11/100*ТЛ!$G$34) -> 2360 | H11: =G11+(G11/100*ТЛ!$G$33) -> 2360 | I11: =CEILING((U11+U11*0.07),5) -> 2605 | J11: =I11-(I11/100*ТЛ!$G$34) -> 2605 | K11: =J11+(J11/100*ТЛ!$G$33) -> 2605 | L11: =CEILING((V11+V11*0.07),5) -> 3345 | M11: =L11-(L11/100*ТЛ!$G$34) -> 3345 | N11: =M11+(M11/100*ТЛ!$G$33) -> 3345 | Q11: 2830 | S11: 1750 | T11: 2205 | U11: 2430 | V11: 3125
A12: ТР-800/2 (800х450х850) | C12: 2320 | D12: =C12-(C12/100*ТЛ!$G$34) -> 2320 | E12: =D12+(D12/100*ТЛ!$G$33) -> 2320 | F12: =CEILING((T12+T12*0.07),5) -> 2795 | G12: =F12-(F12/100*ТЛ!$G$34) -> 2795 | H12: =G12+(G12/100*ТЛ!$G$33) -> 2795 | I12: =CEILING((U12+U12*0.07),5) -> 3015 | J12: =I12-(I12/100*ТЛ!$G$34) -> 3015 | K12: =J12+(J12/100*ТЛ!$G$33) -> 3015 | L12: =CEILING((V12+V12*0.07),5) -> 3655 | M12: =L12-(L12/100*ТЛ!$G$34) -> 3655 | N12: =M12+(M12/100*ТЛ!$G$33) -> 3655 | Q12: 3095 | S12: 2150 | T12: 2610 | U12: 2815 | V12: 3415
A13: ТРМ-500 (500х450х850) | C13: =CEILING((S13+S13*0.07),5) -> 1340 | D13: =C13-(C13/100*ТЛ!$G$34) -> 1340 | E13: =D13+(D13/100*ТЛ!$G$33) -> 1340 | F13: =CEILING((T13+T13*0.07),5) -> 1650 | G13: =F13-(F13/100*ТЛ!$G$34) -> 1650 | H13: =G13+(G13/100*ТЛ!$G$33) -> 1650 | I13: =CEILING((U13+U13*0.07),5) -> 1790 | J13: =I13-(I13/100*ТЛ!$G$34) -> 1790 | K13: =J13+(J13/100*ТЛ!$G$33) -> 1790 | L13: =CEILING((V13+V13*0.07),5) -> 2180 | M13: =L13-(L13/100*ТЛ!$G$34) -> 2180 | N13: =M13+(M13/100*ТЛ!$G$33) -> 2180 | Q13: 1840 | S13: 1250 | T13: 1540 | U13: 1670 | V13: 2035
