{"text_format":"1","workbook":"xlsx","n_sheets":13,"sheets":["|","Бланк ЗАКАЗА","Титул.лист","Столы","Шкафы","Пенал-полупеналы","Ручки","Витраж","столешницы,козырьки,багеты","доп.хар+мойки","Материалы","ФРЕЗЕРОВКИ","ПЛИНТУС KORNER"],"not_rendered":{"charts":0,"images":319,"macros":1,"external_links":0,"defined_names":6,"comments":1,"pivot_tables":0},"unopened":[],"bounds":{"document_bytes":16777216,"sheet_cells":100000,"rows_first":2000,"rows_last":500,"rows_between":2000,"halvings":0,"cell_chars":16384,"cell_head_chars":4096},"cells_cut":0,"cells_raw":0,"read":"whole","date_system":"1900"}

{"sheet":"|","index":0,"n_rows":49,"n_cols":20,"rows_kept":49,"cut":false,"hidden":false,"merged":[[13,1,13,6],[13,11,13,12],[16,1,16,6],[16,11,16,12],[3,1,3,6],[3,11,3,12],[6,1,6,6],[6,11,6,12],[9,1,9,6],[9,11,9,12],[27,1,27,6],[27,11,27,12],[31,1,31,6],[31,11,31,12],[20,1,20,6],[20,11,20,12],[23,1,23,6],[23,11,23,12],[45,1,45,6],[45,11,45,12],[48,1,48,6],[48,11,48,12],[35,1,35,6],[35,11,35,12],[39,1,39,6],[39,11,39,12],[42,1,42,6],[42,11,42,12]]}
[]
["ДОБАВИТЬ"]
[" стол по наименованию"]
["Стол","Стол под мойку 1дв., размер: 500",null,null,null,null,null,"БАГЕТНАЯ",{"$f":"IFERROR(VLOOKUP($B4,Столы!$E$3:$F$206,2,0),\"-\")","v":"1101-50"},{"$f":"IFERROR(VLOOKUP($B4,Столы!$E$2:$K$206,MATCH($H4,Столы!$E$1:$K$1,0),0)*(1+Титул.лист!$P$2),\"\")","v":3293.58},1,{"$f":"IFERROR(J4*K4,\"\")","v":3293.58},null,null,null,null,{"$f":"I4&\". \"&A4&\". \"&B4&\". \"&H4","v":"1101-50. Стол. Стол под мойку 1дв., размер: 500. БАГЕТНАЯ"},{"$f":"K4","v":1},{"$f":"J4","v":3293.58},{"$f":"L4","v":3293.58}]
["ДОБАВИТЬ"]
["стол по коду изделия"]
["Стол",{"$f":"IFERROR(INDEX(Столы!$E$3:$F$206,MATCH(I7,Столы!$F$3:$F$206,0),1),\"\")","v":""},null,null,null,null,null,null,null,{"$f":"IFERROR(VLOOKUP($B7,Столы!$E$2:$I$206,MATCH($H7,Столы!$E$1:$I$1,0),0)*(1+Титул.лист!$P$2),\"\")","v":""},1,{"$f":"IFERROR(J7*K7,\"\")","v":""},null,null,null,null,{"$f":"I7&\". \"&A7&\". \"&B7&\". \"&H7","v":". Стол. . "},{"$f":"K7","v":1},{"$f":"J7","v":""},{"$f":"L7","v":""}]
[]
["ДОБАВИТЬ"]
["Кухня_Стандарт",null,null,null,null,null,null,null," -",{"$f":"IFERROR(VLOOKUP($B10,#REF!,MATCH($H10,#REF!,0),0)*(1+Титул.лист!$P$2),\"\")","v":""},1,{"$f":"IFERROR(J10*K10,\"\")","v":""},null,null,null,null,{"$f":"I10&\". \"&A10&\". \"&B10&\". \"&H10","v":" -. Кухня_Стандарт. . "},{"$f":"K10","v":1},{"$f":"J10","v":""},{"$f":"L10","v":""}]
[]
["ДОБАВИТЬ"]
[" ШКАФ по наименованию"]
["Шкаф","АЖУР Шкаф ниша 1 дв , размер: 600, h 720",null,null,null,null,null,"ЛДСП ПВХ 0,45мм",{"$f":"IFERROR(VLOOKUP($B14,Шкафы!$H$3:$I$408,2,0),\"-\")","v":"-"},{"$f":"IFERROR(VLOOKUP($B14,Шкафы!$H$2:$L$408,MATCH($H14,Шкафы!$H$1:$L$1,0),0)*(1+Титул.лист!$P$2),\"\")","v":""},1,{"$f":"IFERROR(J14*K14,\"\")","v":""},null,null,null,null,{"$f":"I14&\". \"&A14&\". \"&B14&\". \"&H14","v":"-. Шкаф. АЖУР Шкаф ниша 1 дв , размер: 600, h 720. ЛДСП ПВХ 0,45мм"},{"$f":"K14","v":1},{"$f":"J14","v":""},{"$f":"L14","v":""}]
["ДОБАВИТЬ"]
["ШКАФ по коду изделия"]
["Шкаф",{"$f":"IFERROR(INDEX(Шкафы!$H$3:$I$408,MATCH(I17,Шкафы!$I$3:$I$408,0),1),\"\")","v":""},null,null,null,null,null,null,null,{"$f":"IFERROR(VLOOKUP($B17,Шкафы!$H$3:$L$408,MATCH($H17,Шкафы!$H$1:$L$1,0),0)*(1+Титул.лист!$P$2),\"\")","v":""},1,{"$f":"IFERROR(J17*K17,\"\")","v":""},null,null,null,null,{"$f":"I17&\". \"&A17&\". \"&B17&\". \"&H17","v":". Шкаф. . "},{"$f":"K17","v":1},{"$f":"J17","v":""},{"$f":"L17","v":""}]
[]
["ДОБАВИТЬ"]
[" ПЕНАЛ по наименованию"]
["Пенал",null,null,null,null,null,null,null,{"$f":"IFERROR(VLOOKUP($B21,'Пенал-полупеналы'!$H$3:$I$95,2,0),\"-\")","v":"-"},{"$f":"IFERROR(VLOOKUP($B21,'Пенал-полупеналы'!$H$2:$L$95,MATCH($H21,'Пенал-полупеналы'!$H$1:$L$1,0),0)*(1+Титул.лист!$P$2),\"\")","v":""},1,{"$f":"IFERROR(J21*K21,\"\")","v":""},null,null,null,null,{"$f":"I21&\". \"&A21&\". \"&B21&\". \"&H21","v":"-. Пенал. . "},{"$f":"K21","v":1},{"$f":"J21","v":""},{"$f":"L21","v":""}]
["ДОБАВИТЬ"]
["ПЕНАЛ по коду изделия"]
["Пенал",{"$f":"IFERROR(INDEX('Пенал-полупеналы'!$H$3:$I$95,MATCH(I24,'Пенал-полупеналы'!$I$3:$I$95,0),1),\"\")","v":""},null,null,null,null,null,null,null,{"$f":"IFERROR(VLOOKUP($B24,'Пенал-полупеналы'!$H$2:$L$95,MATCH($H24,'Пенал-полупеналы'!$H$1:$L$1,0),0)*(1+Титул.лист!$P$2),\"\")","v":""},1,{"$f":"IFERROR(J24*K24,\"\")","v":""},null,null,null,null,{"$f":"I24&\". \"&A24&\". \"&B24&\". \"&H24","v":". Пенал. . "},{"$f":"K24","v":1},{"$f":"J24","v":""},{"$f":"L24","v":""}]
[]
["ДОБАВИТЬ",{"$f":"IFERROR(J24,0)","v":""}]
[" РУЧКИ",null,null,null,null,null,null,null,null,"цена","кол-во"]
["Ручки","FS-040-160, хром матовый",null,null,null,null,null," -"," -",{"$f":"IFERROR(VLOOKUP($B28,Ручки!$E$2:$F$3,2,0)*(1+Титул.лист!$P$2),\"\")","v":""},1,{"$f":"IFERROR(J28*K28,\"\")","v":""},null,null,null,null,{"$f":"I28&\". \"&A28&\". \"&B28&\". \"&H28","v":" -. Ручки. FS-040-160, хром матовый.  -"},{"$f":"K28","v":1},{"$f":"J28","v":""},{"$f":"L28","v":""}]
[]
["ДОБАВИТЬ",{"$f":"IFERROR(J28,0)","v":""}]
["СТОЛЕШНИЦУ",null,null,null,null,null,null,"ценовая к.",null,"цена","пог.метр"]
["Столешница","Замена \nугловой 26 на 38в.",null,null,null,null,null,null," -",{"$f":"IFERROR(VLOOKUP($H32,'столешницы,козырьки,багеты'!$D$11:$G$44,MATCH($B32,'столешницы,козырьки,багеты'!$D$10:$G$10,0),0)*(1+Титул.лист!$P$2),\"\")","v":""},1,{"$f":"IFERROR(J32*K32,\"\")","v":""},null,null,null,null,{"$f":"I32&\". \"&A32&\". \"&B32&\". \"&H32","v":" -. Столешница. Замена \nугловой 26 на 38в.. "},{"$f":"K32","v":1},{"$f":"J32","v":""},{"$f":"L32","v":""}]
[]
["ДОБАВИТЬ"]
[]
["Мойка",null,null,null,null,null,null," -"," -",{"$f":"IFERROR(VLOOKUP($B36,'доп.хар+мойки'!$A$2:$C$17,3,0)*(1+Титул.лист!$P$2),\"\")","v":""},1,{"$f":"IFERROR(J36*K36,\"\")","v":""},null,null,null,null,{"$f":"I36&\". \"&A36&\". \"&B36&\". \"&H36","v":" -. Мойка. .  -"},{"$f":"K36","v":1},{"$f":"J36","v":""},{"$f":"L36","v":""}]
[]
["ДОБАВИТЬ"]
[]
["Доп.оборудование",null,null,null,null,null,null," -"," -",{"$f":"IFERROR(VLOOKUP($B40,'доп.хар+мойки'!$D$38:$E$92,2,0)*(1+Титул.лист!$P$2),\"\")","v":""},1,{"$f":"IFERROR(J40*K40,\"\")","v":""},null,null,null,null,{"$f":"I40&\". \"&A40&\". \"&B40&\". \"&H40","v":" -. Доп.оборудование. .  -"},{"$f":"K40","v":1},{"$f":"J40","v":""},{"$f":"L40","v":""}]
[]
["ДОБАВИТЬ"]
["Козырек",null,null,null,null,null,null," -"," -",{"$f":"IFERROR(VLOOKUP($B43,'столешницы,козырьки,багеты'!$B$92:$C$97,2,0)*(1+Титул.лист!$P$2),\"\")","v":""},1,{"$f":"IFERROR(J43*K43,\"\")","v":""},null,null,null,null,{"$f":"I43&\". \"&A43&\". \"&B43&\". \"&H43","v":" -. Козырек. .  -"},{"$f":"K43","v":1},{"$f":"J43","v":""},{"$f":"L43","v":""}]
[]
["ДОБАВИТЬ"]
["Багет",null,null,null,null,null,null," -"," -",{"$f":"IFERROR(VLOOKUP($B46,'столешницы,козырьки,багеты'!$D$107:$E$109,2,0)*(1+Титул.лист!$P$2),\"\")","v":""},1,{"$f":"IFERROR(J46*K46,\"\")","v":""},null,null,null,null,{"$f":"I46&\". \"&A46&\". \"&B46&\". \"&H46","v":" -. Багет. .  -"},{"$f":"K46","v":1},{"$f":"J46","v":""},{"$f":"L46","v":""}]
[]
["ДОБАВИТЬ"]
["Барная стойка","Барная стойка, толщина 26",null,null,null,null,null,"2 ц.к."," -",{"$f":"IFERROR(VLOOKUP($B49,'столешницы,козырьки,багеты'!$B$122:$E$123,MATCH($H49,'столешницы,козырьки,багеты'!$B$121:$E$121,0),0)*(1+Титул.лист!$P$2),\"\")","v":2650},1,{"$f":"IFERROR(J49*K49,\"\")","v":2650},null,null,null,null,{"$f":"I49&\". \"&A49&\". \"&B49&\". \"&H49","v":" -. Барная стойка. Барная стойка, толщина 26. 2 ц.к."},{"$f":"K49","v":1},{"$f":"J49","v":2650},{"$f":"L49","v":2650}]

{"sheet":"Бланк ЗАКАЗА","index":1,"n_rows":48,"n_cols":33,"rows_kept":48,"cut":false,"hidden":false,"merged":[[52,0,52,8],[53,0,53,8],[46,41,46,42],[46,43,46,44],[46,45,46,46],[51,0,51,8],[51,9,51,10],[51,11,51,12],[51,13,51,14],[51,15,51,16],[51,17,51,18],[51,19,51,20],[51,21,51,22],[51,23,51,24],[51,25,51,26],[43,37,43,38],[43,39,43,40],[46,35,46,36],[46,37,46,38],[46,39,46,40],[15,0,15,6],[15,8,15,14],[15,17,15,23],[16,0,16,6],[16,8,16,14],[16,17,16,23],[6,0,6,1],[6,2,6,6],[6,11,6,13],[6,20,6,23],[9,0,9,1],[7,2,7,6],[7,8,7,9],[7,11,7,14],[7,17,7,22],[8,0,8,2],[8,4,8,6],[8,8,8,9],[8,11,8,14],[8,17,8,19],[8,20,8,22],[9,2,9,6],[0,0,0,2],[0,3,0,8],[0,9,2,24],[1,0,1,2],[1,3,1,4],[1,7,1,8],[2,4,2,8],[2,0,2,2],[3,21,3,23],[4,0,4,1],[5,0,5,1],[5,2,5,6],[5,8,5,9],[5,11,5,14],[5,17,5,19],[5,20,5,22],[3,0,3,4],[3,9,3,14],[3,17,3,20],[9,8,9,9],[9,11,9,14],[9,19,9,22],[10,0,10,1],[10,2,10,6],[10,8,10,14],[10,17,10,23],[11,0,11,1],[11,2,11,6],[11,8,11,11],[11,12,11,14],[11,17,11,19],[11,20,11,23],[12,2,12,6],[12,8,12,9],[12,11,12,13],[12,17,12,23],[13,1,13,6],[13,11,13,14],[13,17,13,20],[13,21,13,23],[14,1,14,6],[14,8,14,12],[14,13,14,14],[14,17,14,19],[14,20,14,23],[19,0,20,1],[19,17,19,23],[20,12,20,13],[17,0,17,1],[17,8,17,11],[17,12,17,14],[17,17,17,23],[18,17,18,23]]}
["Заказчик",null,null,null,null,null,null,null,null,"Внимание! Заказы принимаются только на оригинальных бланках \nЗаполнение каждого пункта бланка Обязательно!  \nВ случае не полного  заполнения бланка, заказ изготавливаться НЕ БУДЕТ!!!\n"]
["Заказ   №",null,null,null,null,"от",null,null,null,null,null,null,null,null,null,null,null,null,null,null,null,null,null,null,null,null,null,null,"№","Наименование","к-во","цена","сумма"]
["Дата отгрузки",null,null,null,null,null,null,null,null,null,null,null,null,null,null,null,null,null,null,null,null,null,null,null,null,null,null,null,1]
["Количество комплектов данной кухни",null,null,null,null,null,null,null,"Ручка",null,null,null,null,null,null,null,null,"Опора барной стойки",null,null,null,null,null,null,null,null,null,null,2]
["ТИП фасада",null,null,null,null,null,null,null,null,null,null,null,null,null,null,null,null,null,null,null,null,null,null,null,null,null,null,null,3,null,null,"",""]
["Цвет фасада",null,null,null,null,null,null,null,"Сверловка под ручку",null,null,null,null,null,null,null,null,"Багет 16\\",null,null,null,null,null,null,"шт",null,null,null,4,null,null,"",""]
["Фрезеровка",null,null,null,null,null,null,null,null,null,null,"(Горизонтально/вертикально)",null,null,null,null,null,null,null,null,"указать тип и цвет",null,null,null,null,null,null,null,5]
[null,null,"(под стекло:рамка с крестом/без креста)",null,null,null,null,null,"Опоры простые\\хром ",null,null,null,null,null,null,null,null,null,null,null,null,null,null,null,"шт",null,null,null,6]
["Текстура ПВХ( верт.\\ гориз.)",null,null,null,null,null,null,null,"Высота опор  100\\150",null,null,null,null,null,null,null,null,"Светильники (кол-во)",null,null,null,null,null,null,"компл",null,null,null,7]
["Цвет каркаса",null,null,null,null,null,null,null,"Цоколь ЛДСП\\ ПВХ ",null,null,null,null,null,null,null,null,"Планки",null,null,null,null,null,null,"шт",null,null,null,8]
["Цвет столешници",null,null,null,null,null,null,null,null,null,null,null,null,null,null,null,null,null,null,null,null,null,null,null,null,null,null,null,9]
["Тип столешницы",null,null,null,null,null,null,null,"Петли с доводчиком (да\\нет)",null,null,null,null,null,null,null,null,"Профиля для ст. п. ",null,null,null,null,null,null,null,null,null,null,10]
[null,null,"(26мм/38мм,простая/влагостойкая)",null,null,null,null,null,"Стен. Панель",null,null,null,null,null,null,"шт",null,null,null,null,null,null,null,null,null,null,null,null,11]
["Стекло",null,null,null,null,null,null,null,null,null,null,"( указать цвет)(Кол-во)",null,null,null,null,null,"Дополнительные полки ",null,null,null,null,null,null,null,null,null,null,12]
["Мойка",null,null,null,null,null,null,null,"Плинтус Простой\\ Rehau \\Алюм-й",null,null,null,null,null,null,"шт",null,"Примечание",null,null,null,null,null,null,null,null,null,null,13]
["Вырез под мойку: слева\\по центру\\справа",null,null,null,null,null,null,null,null,null,null,null,null,null,null,null,null,null,null,null,null,null,null,null,null,null,null,null,14]
["(нужное подчеркнуть)",null,null,null,null,null,null,null,"( указать тип и цвет вставки)",null,null,null,null,null,null,null,null,null,null,null,null,null,null,null,null,null,null,null,15]
["Сушилка: простая",null,null,null,"встроенная",null,null,null,null,null,null,null,null,null,null,null,null,null,null,null,null,null,null,null,null,null,null,null,16]
[null,null,"  (размер)",null,null,null,"(размер)",null,null,null,null,null,null,null,null,null,null,null,null,null,null,null,null,null,null,null,null,null,17]
["Эскиз козырька",null,null,null,null,null,null,null,null,null,null,null,null,null,null,null,null,null,null,null,null,null,null,null,null,null,null,null,18]
[null,null,null,null,null,null,null,null,null,"H=",null,null,"Эскиз кухни",null,null,null,null,null,null,null,null,null,null,null,null,null,null,null,19]
[null,null,null,null,null,null,null,null,null,"H=",null,null,null,null,null,null,null,null,null,null,null,null,null,null,null,null,null,null,20]
[null,null,null,null,null,null,null,null,null,"H=",null,null,null,null,null,null,null,null,null,null,null,null,null,null,null,null,null,null,21]
[null,null,null,null,null,null,null,null,null,null,null,null,null,null,null,null,null,null,null,null," ",null,null,null,null,null,null,null,22]
[null,null,null,null,null,null,null,null,null,null,null,null,null,null,null,null,null,null,null,null,null,null,null,null,null,null,null,null,23]
[null,null,null,null,null,null,null,null,null,null,null,null,null,null,null,null,null,null,null,null,null,null,null,null,null,null,null,null,24]
[null,null,null,null,null,null,null,null,null,null,null,null,null,null,null,null,null,null,null,null,null,null,null,null,null,null,null,null,25]
[null,null,null,null,null,null,null,null,null,null,null,null,null,null,null,null,null,null,null,null,null,null,null,null,null,null,null,null,26]
[null,null,null,null,null,null,null,null,null,null,null,null,null,null,null,null,null,null,null,null,null,null,null,null,null,null,null,null,27]
[null,null,null,null,null,null,null,null,null,null,null,null,null,null,null,null,null,null,null,null,null,null,null,null,null,null,null,null,28]
[null,null,null,null,null,null,null,null,null,null,null,null,null,null,null,null,null,null,null,null,null,null,null,null,null,null,null,null,29]
[null,null,null,null,null,null,null,null,null,null,null,null,null,null,null,null,null,null,null,null,null,null,null,null,null,null,null,null,30]
[null,null,null,null,null,null,null,null,null,null,null,null,null,null,null,null,null,null,null,null,null,null,null,null,null,null,null,null,31]
[null,null,null,null,null,null,null,null,null,null,null,null,null,null,null,null,null,null,null,null,null,null,null,null,null,null,null,null,32]
[null,null,null,null,null,null,null,null,null,null,null,null,null,null,null,null,null,null,null,null,null,null,null,null,null,null,null,null,33]
[null,"С условиями оформления и ",null,null,null,null,null,null,null,null,null,null,null,null,null,null,null,null,null,null,null,null,null,null,null,null,null,null,34]
[null,"размерами заказа согласен.",null,null,null,null,null,null,null,null,null,null,null,null,null,null,null,null,null,null,null,null,null,null,null,null,null,null,35]
[null,"Подпись",null,null,null,null,null,null,null,null,null,null,null,null,null,null,null,null,null,null,null,null,null,null,null,null,null,null,36]
[null,null,null,null,null,null,null,null,null,null,null,null,null,null,null,null,null,null,null,"Цена заказа:",{"$f":"AI47","v":0},"руб.",null,null,null,null,null,null,37]
[null,null,null,null,null,null,null,null,null,null,null,null,null,null,null,null,null,null,null,null,null,null,null,null,null,null,null,null,38]
[null,null,null,null,null,null,null,null,null,null,null,null,null,null,null,null,null,null,null,null,null,null,null,null,null,null,null,null,39]
[]
[]
[null,null,null,null,null,null,null,null,null,null,null,null,null,null,null,null,null,null,null,null,null,null,null,null,null,null,null,null,"Всего к-тов"]
[]
[null,null,null,null,null,null,null,null,null,null,null,null,null,null,null,null,null,null,null,null,null,null,null,null,null,null,null,null,null,null,"Цена заказа:"]
[]
[null,null,null,null,null,null,null,null,null,null,null,null,null,null,null,null,null,null,null,null,null,null,null,null,null,null,null,null,null,null,"Заказчик:"]

{"sheet":"Титул.лист","index":2,"n_rows":21,"n_cols":20,"rows_kept":21,"cut":false,"hidden":false,"merged":[[13,0,13,5],[18,1,18,6],[18,11,18,12],[7,4,7,10],[8,0,8,5],[8,9,8,14],[9,0,9,5],[9,9,9,14],[10,9,10,14],[19,1,19,6],[19,11,19,12],[20,1,20,6],[20,11,20,12],[10,0,10,5],[14,0,15,5],[14,9,14,14],[17,0,17,1],[17,2,17,3],[11,0,11,5],[11,9,11,14],[12,0,12,5],[12,9,12,14],[13,9,13,14],[17,11,17,12],[17,9,17,10]]}
[null,null,null,null,null,null,null,null,null,"ООО Форт г.Ульяновск",null,null,null,null,null,"Наценка"]
[null,null,null,null,null,null,null,null,null,"14 Инженерный проезд, д.7а",null,null,null,null,null,0]
[null,null,null,null,null,null,null,null,null,"тел./факс:8 (8422) 24-94-54, 24-94-41"]
[null,null,null,null,null,null,null,null,null,"www.fort-mebel.ru"]
[null,null,null,null,null,null,null,null,null,"Ваши предложения и пожелания sinerkin@yandex.ru "]
[null,null,null,null,null,null,null,null,null,"8 917-050-76-70  Линда egorova@fort-mebel.ru"]
[]
[null,null,null,null,"Базовая коплектация:"]
["♦ Каркас из ламинированного ДСП оклеенный кромкой ПВХ 0,4 мм; (Белый, белое дерево,светло серый, венге светлый,",null,null,null,null,null,null,null,null,"♦ Столешница постформинг матовая 26мм 1 кат"]
["венге линум, венге светлый, бук бавария, ноче экко,\nясень шимо-темный, ясень шимо-светлый)",null,null,null,null,null,null,null,null,"♦ Стекло фасадное 4мм. "]
["♦ Фасад",null,null,null,null,null,null,null,null,"♦ Столы рабочие по каркасу 500мм+16мм фасад, ящики глубиной на 400мм"]
["♦ Облагороженное ДВП белого цвета;",null,null,null,null,null,null,null,null,"♦ Ручки Скоба 96 мм (золото,хром) или рейлинг 96 пластик;"]
["♦ Регулируемая опора пластиковая 100 мм (цоколь ЛДСП);",null,null,null,null,null,null,null,null,"♦ Регулируемые навесы ."]
["♦ Роликовые направляющие для выкатных ящиков или \nMeтабоксы;",null,null,null,null,null,null,null,null,"♦ Шкафы навесные глубиной по каркасу 300мм+16мм фасад ."]
["♦ Антресольные шкафы( Шкафы горизонтального открывания) \nкомплектуются газлифтами;"]
[]
[]
[null,null,null,null,null,null,null,null,null,"Итоговая СТОИМОСТЬ",null,{"$f":"SUM(L19:M56)","v":0}]
[null,"Наименование, тип",null,null,null,null,null,"Материал","Код изделия","Цена","Кол-во","Стоимость"]
["Доп.оборудование",null,null,null,null,null,null," -"," -",{"$f":"IFERROR(VLOOKUP($B20,'доп.хар+мойки'!$D$38:$E$92,2,0)*(1+Титул.лист!$P$2),\"\")","v":""},1,{"$f":"IFERROR(J20*K20,\"\")","v":""},null,null,null,null,{"$f":"I20&\". \"&A20&\". \"&B20&\". \"&H20","v":" -. Доп.оборудование. .  -"},{"$f":"K20","v":1},{"$f":"J20","v":""},{"$f":"L20","v":""}]
["Шкаф","АЖУР Шкаф ниша 1 дв , размер: 600, h 720",null,null,null,null,null,"ЛДСП ПВХ 0,45мм",{"$f":"IFERROR(VLOOKUP($B21,Шкафы!$H$3:$I$408,2,0),\"-\")","v":"-"},{"$f":"IFERROR(VLOOKUP($B21,Шкафы!$H$2:$L$408,MATCH($H21,Шкафы!$H$1:$L$1,0),0)*(1+Титул.лист!$P$2),\"\")","v":""},1,{"$f":"IFERROR(J21*K21,\"\")","v":""},null,null,null,null,{"$f":"I21&\". \"&A21&\". \"&B21&\". \"&H21","v":"-. Шкаф. АЖУР Шкаф ниша 1 дв , размер: 600, h 720. ЛДСП ПВХ 0,45мм"},{"$f":"K21","v":1},{"$f":"J21","v":""},{"$f":"L21","v":""}]

{"sheet":"Столы","index":3,"n_rows":206,"n_cols":14,"rows_kept":206,"cut":false,"hidden":false,"merged":[[73,1,80,1],[98,1,104,1],[119,1,126,1],[144,1,145,1],[81,1,88,1],[65,1,72,1],[2,1,3,1],[4,1,6,1],[7,1,8,1],[9,1,13,1],[19,1,20,1],[30,1,34,1],[167,0,169,0],[167,1,175,1],[176,1,180,1],[181,1,182,1],[163,0,164,0],[157,1,158,1],[184,1,190,1],[191,1,197,1],[198,1,205,1],[153,1,155,1],[156,1,156,1]]}
[null,null,null,"Размер",null,"Код изделия","МДФ\nмат.","МДФ\nглян.","МДФ\nметалл.","МДФ+ПАТИНА","БАГЕТНАЯ","БОСТОН\nПВХ/фот.печ.","БОСТОН ЛАК","БОСТОН ЭМАЛЬ"]
["Столы под мойку"]
[null,"Стол под мойку 1дв.","Стол под мойку 1дв.",500,{"$f":"C3&\", размер: \"&D3","v":"Стол под мойку 1дв., размер: 500"},"1101-50",1500,1620,1660,{"$f":"0.000716*D3*3910+G3","v":2899.7799999999997},{"$f":"0.000716*D3*5010+G3","v":3293.58},{"$f":"0.000716*D3*3130+G3","v":2620.54},{"$f":"0.00072*D3*5110+G3","v":3339.6000000000004},{"$f":"0.00072*D3*8910+G3","v":4707.6000000000004}]
[null,null,"Стол под мойку 1дв.",600,{"$f":"C4&\", размер: \"&D4","v":"Стол под мойку 1дв., размер: 600"},"1101-60",1590,1740,1800,3269.7359999999999,{"$f":"0.000716*D4*5010+G4","v":3742.2959999999998},{"$f":"0.000716*D4*3130+G4","v":2934.6480000000001},{"$f":"0.00072*D4*5110+G4","v":3797.5200000000004},{"$f":"0.00072*D4*8910+G4","v":5439.1200000000008}]
[null,"Стол под мойку 2дв.","Стол под мойку 2дв.",500,"Стол под мойку 2дв., размер: 500","1102-50",1540.0000000000002,1660,1700,2939.78,3333.58,2660.54,3379.6000000000004,4747.6000000000004]
[null,null,"Стол под мойку 2дв.",600,"Стол под мойку 2дв., размер: 600","1102-60",1670,1810,1880,3349.7359999999999,3822.2959999999998,3014.6480000000001,3877.5200000000004,5519.1200000000008]
[null,null,"Стол под мойку 2дв.",800,"Стол под мойку 2дв., размер: 800","1102-80",2030,2220,2310,4269.6479999999992,4899.7280000000001,3822.864,4973.3600000000006,7162.1600000000008]
[null,"Стол под врезную мойку 1дв.","Стол под врезную мойку 1дв.",500,"Стол под врезную мойку 1дв., размер: 500","1105-50",2270,2400,2480,3669.7799999999997,4063.58,3390.54,4109.6000000000004,5477.6]
[null,null,"Стол под врезную мойку 1дв.",600,"Стол под врезную мойку 1дв., размер: 600","1105-60",2290,2420,2500,3969.7359999999999,4442.2960000000003,3634.6480000000001,4497.5200000000004,6139.1200000000008]
[null,"Стол под врезную мойку 2дв.","Стол под врезную мойку 2дв.",600,"Стол под врезную мойку 2дв., размер: 600","1106-60",2310,2460,2520,3989.7359999999999,4462.2960000000003,3654.6480000000001,4517.5200000000004,6159.1200000000008]
[null,null,"Стол под врезную мойку 2дв.",700,"Стол под врезную мойку 2дв., размер: 700","1106-70",2607,2770,2850,4566.692,5118.0119999999997,4175.7559999999994,{"$f":"0.00072*D11*5110+G11","v":5182.4400000000005},7097.64]
[null,null,"Стол под врезную мойку 2дв.",800,"Стол под врезную мойку 2дв., размер: 800","1106-80",2870,3060,3150,5109.6479999999992,5739.7280000000001,4662.8639999999996,5813.3600000000006,8002.1600000000008]
[null,null,"Стол под врезную мойку 2дв.",900,"Стол под врезную мойку 2дв., размер: 900","1106-90",3150,3370,3460,5669.6039999999994,6378.4439999999995,5166.9719999999998,6461.2800000000007,8923.68]
[null,null,"Стол под врезную мойку 2дв.",1000,"Стол под врезную мойку 2дв., размер: 1000","1106-100",3420,3670,3770,6219.5599999999995,7007.16,5661.08,7099.2000000000007,9835.2000000000007]
[null,"Стол угловой под мойку врезную 1дв.","Стол угловой под мойку врезную 1дв.","800х800","Стол угловой под мойку врезную 1дв., размер: 800х800","1109-80",4300,4400,4450,5230,5490,{"$f":"0.24*3130+G15","v":5051.2},{"$f":"0.24*5110+G15","v":5526.4},{"$f":"0.24*8910+G15","v":6438.4}]
[null,"Стол под мойку врез угл трапеция Л/ПР","Стол под мойку врез угл трапеция Л/ПР","L=600х800*(глубина)",{"$f":"C16&\", размер: \"&D16","v":"Стол под мойку врез угл трапеция Л/ПР, размер: L=600х800*(глубина)"},"1112-80",4020,4120,4170,4950,5200,{"$f":"0.24*3130+G16","v":4771.2},{"$f":"0.24*5110+G16","v":5246.4},{"$f":"0.24*8910+G16","v":6158.4}]
[null,"Стол под мойку врез угл трапеция радиусный Л/ПР","Стол под мойку врез угл трапеция Л/ПР","L=800х800*(глубина)","Стол под мойку врез угл трапеция Л/ПР, размер: L=800х800*(глубина)","1114-80",6860,6960,7050,8800,8900,"нет","нет",12100]
[null,"Стол под мойку врез угл трапеция радиусный Л/ПР","Стол под мойку врез угл трапеция Л/ПР","L=600х800*(глубина)","Стол под мойку врез угл трапеция Л/ПР, размер: L=600х800*(глубина)","1115-80(60)",6660,6760,6860,8600,8700,"нет","нет",11800]
[null,"Стол под мойку прямой уг 1дв.(гл.400)","Стол под мойку прямой уг 1дв.(гл.400)",800,"Стол под мойку прямой уг 1дв.(гл.400), размер: 800","1113-80",2490,2560,2600,{"$f":"0.000716*400*3910+G19","v":3609.8239999999996},{"$f":"0.716*0.4*5010+G19","v":3924.864},3050,{"$f":"0.00072*(800-400)*5110+G19","v":3961.6800000000003},{"$f":"0.00072*(800-400)*8910+G19","v":5056.08}]
[null,"Стол под мойку прямой угл. прямой","Стол под мойку прямой угл. прямой",900,"Стол под мойку прямой угл. прямой, размер: 900","1110-90",2670,2750,2780,{"$f":"0.716*0.3*3910+G20","v":3509.8679999999999},4100,3300,{"$f":"0.00072*(900-600)*5110+G20","v":3773.76},{"$f":"0.00072*(900-600)*8910+G20","v":4594.5600000000004}]
[null,null,"Стол под мойку прямой угл. прямой",1000,"Стол под мойку прямой угл. прямой, размер: 1000","1110-100",2960,3060,3090,{"$f":"0.000716*500*3910+G21","v":4359.78},{"$f":"0.716*0.4*5010+G21","v":4394.8639999999996},3700,{"$f":"0.00072*(900-600)*5110+G21","v":4063.76},{"$f":"0.00072*(900-600)*8910+G21","v":4884.5600000000004}]
["Столы рабочие"]
[null,null,"Стол 1дв.",150,{"$f":"C23&\", размер: \"&D23","v":"Стол 1дв., размер: 150"},"1001-15",1200,1250,1290,{"$f":"0.000716*D23*3910+G23","v":1619.934},{"$f":"0.000716*D23*5010+G23","v":1738.0740000000001},{"$f":"0.000716*D23*3130+G23","v":1536.162},{"$f":"0.00072*D23*5110+G23","v":1751.88},{"$f":"0.00072*D23*8910+G23","v":2162.2800000000002}]
["*",null,"Стол 1дв.",200,"Стол 1дв., размер: 200","1001-20",1250,1310,1330,{"$f":"0.000716*D24*3910+G24","v":1809.9119999999998},{"$f":"0.000716*D24*5010+G24","v":1967.432},{"$f":"0.000716*D24*3130+G24","v":1698.2159999999999},{"$f":"0.00072*D24*5110+G24","v":1985.8400000000001},{"$f":"0.00072*D24*8910+G24","v":2533.04}]
[null,null,"Стол 1дв.",300,"Стол 1дв., размер: 300","1001-30",1560,1640,1670,2399.8679999999999,2636.1480000000001,2232.3240000000001,2663.76,3484.5600000000004]
[null,null,"Стол 1дв.",350,"Стол 1дв., размер: 350","1001-35",1730,1800,1850,2709.846,2985.5059999999999,2514.3779999999997,3017.7200000000003,3975.32]
[null,"Стол 1дв.","Стол 1дв.",400,"Стол 1дв., размер: 400","1001-40",1880,1980.0000000000002,2010,2999.8239999999996,3314.864,2776.4319999999998,3351.6800000000003,4446.08]
[null,null,"Стол 1дв.",450,"Стол 1дв., размер: 450","1001-45",2050,2160,2210,3309.8019999999997,3664.2219999999998,3058.4859999999999,3705.6400000000003,4936.84]
[null,null,"Стол 1дв.",500,"Стол 1дв., размер: 500","1001-50",2210,2330,2380,3609.7799999999997,4003.58,3330.54,4049.6000000000004,5417.6]
[null,null,"Стол 1дв.",600,"Стол 1дв., размер: 600","1001-60",2520,2670,2730,4199.7359999999999,4672.2960000000003,3864.6480000000001,4727.5200000000004,6369.1200000000008]
[null,"Стол 2дв ","Стол 2дв ",500,"Стол 2дв , размер: 500","1002-50",2240,2360,2410,3639.7799999999997,{"$f":"0.000716*D31*5010+G31","v":4033.58},3360.54,4079.6000000000004,5447.6]
[null,null,"Стол 2дв ",600,"Стол 2дв , размер: 600","1002-60",2560,2720,2770,4239.7359999999999,4712.2960000000003,3904.6480000000001,4767.5200000000004,6409.1200000000008]
[null,null,"Стол 2дв ",700,"Стол 2дв , размер: 700","1002-70",2910,3080.0000000000005,3160,4869.692,5421.0119999999997,4478.7559999999994,5485.4400000000005,7400.64]
[null,null,"Стол 2дв ",800,"Стол 2дв , размер: 800","1002-80",3210,3400,3490,5449.6479999999992,6079.7280000000001,5002.8639999999996,6153.3600000000006,8342.16]
[null,null,"Стол 2дв ",900,"Стол 2дв , размер: 900","1002-90",3540,3760,3860,6059.6039999999994,6768.4439999999995,5556.9719999999998,6851.2800000000007,9313.68]
[null,null,"Стол 1ящ 1дв ",300,"Стол 1ящ 1дв , размер: 300","1003-30",1780,1860,1890,2619.8679999999999,{"$f":"0.000716*D36*5010+G36","v":2856.1480000000001},2452.3240000000001,2883.76,3704.5600000000004]
[null,null,"Стол 1ящ 1дв ",350,"Стол 1ящ 1дв , размер: 350","1003-35",1940,2020,2060,2919.846,3195.5059999999999,2724.3779999999997,3227.7200000000003,4185.32]
[null,"Стол 1ящ 1дв ","Стол 1ящ 1дв ",400,"Стол 1ящ 1дв , размер: 400","1003-40",2120,2220,2250,3239.8239999999996,3554.864,3016.4319999999998,3591.6800000000003,4686.08]
[null,null,"Стол 1ящ 1дв ",450,"Стол 1ящ 1дв , размер: 450","1003-45",2290,2400,2440,3549.8019999999997,3904.2219999999998,3298.4859999999999,3945.6400000000003,5176.84]
[null,null,"Стол 1ящ 1дв ",500,"Стол 1ящ 1дв , размер: 500","1003-50",2480,2600,2640,3879.7799999999997,4273.58,3600.54,4319.6000000000004,5687.6]
[null,null,"Стол 1ящ 1дв ",600,"Стол 1ящ 1дв , размер: 600","1003-60",2790,2950,3000,4469.7359999999999,4942.2960000000003,4134.6480000000001,4997.5200000000004,6639.1200000000008]
[null,null,"Стол 1ящ 1дв. Метабокс",300,"Стол 1ящ 1дв. Метабокс, размер: 300","1003-30м",{"$f":"G36+250","v":2030},2110,2140,2869.8679999999999,{"$f":"0.000716*D42*5010+G42","v":3106.1480000000001},{"$f":"0.000716*D42*3130+G42","v":2702.3240000000001},3133.76,3954.5600000000004]
[null,null,"Стол 1ящ 1дв. Метабокс",350,"Стол 1ящ 1дв. Метабокс, размер: 350","1003-35м",{"$f":"G37+250","v":2190},2270,2310,3169.846,3445.5059999999999,2974.3779999999997,3477.7200000000003,4435.32]
[null,"Стол 1ящ 1дв. Метабокс","Стол 1ящ 1дв. Метабокс",400,"Стол 1ящ 1дв. Метабокс, размер: 400","1003-40м",2370,2470,2500,3489.8239999999996,3804.864,3266.4319999999998,3841.6800000000003,4936.08]
[null,null,"Стол 1ящ 1дв. Метабокс",450,"Стол 1ящ 1дв. Метабокс, размер: 450","1003-45м",2540,2650,2690,3799.8019999999997,4154.2219999999998,3548.4859999999999,4195.6400000000003,5426.84]
[null,null,"Стол 1ящ 1дв. Метабокс",500,"Стол 1ящ 1дв. Метабокс, размер: 500","1003-50м",2730,2850,2890,4129.78,4523.58,3850.54,4569.6000000000004,5937.6]
[null,null,"Стол 1ящ 1дв. Метабокс",600,"Стол 1ящ 1дв. Метабокс, размер: 600","1003-60м",3040,3200,3250,4719.7359999999999,5192.2960000000003,4384.6480000000001,5247.52,6889.1200000000008]
[null,null,"Стол 1ящ 1дв. Тандембокс",300,{"$f":"C48&\", размер: \"&D48","v":"Стол 1ящ 1дв. Тандембокс, размер: 300"},"1003-30т",{"$f":"G42+2000","v":4030},4110,4140,4869.8680000000004,{"$f":"0.000716*D48*5010+G48","v":5106.1480000000001},{"$f":"0.000716*D48*3130+G48","v":4702.3239999999996},5133.76,5954.56]
[null,null,"Стол 1ящ 1дв. Тандембокс",350,"Стол 1ящ 1дв. Тандембокс, размер: 350","1003-35т",{"$f":"G43+2000","v":4190},4270,4310,5169.8459999999995,5445.5059999999994,4974.3779999999997,5477.72,6435.32]
[null,"Стол 1ящ 1дв. Тандембокс","Стол 1ящ 1дв. Тандембокс",400,"Стол 1ящ 1дв. Тандембокс, размер: 400","1003-40т",4370,4470,4500,5489.8239999999996,5804.8639999999996,5266.4319999999998,5841.68,6936.08]
[null,null,"Стол 1ящ 1дв. Тандембокс",450,"Стол 1ящ 1дв. Тандембокс, размер: 450","1003-45т",4540,4650,4690,5799.8019999999997,6154.2219999999998,5548.4859999999999,6195.64,7426.84]
[null,null,"Стол 1ящ 1дв. Тандембокс",500,"Стол 1ящ 1дв. Тандембокс, размер: 500","1003-50т",4730,4850,4890,6129.78,6523.58,5850.54,6569.6,7937.6]
[null,null,"Стол 1ящ 1дв. Тандембокс",600,"Стол 1ящ 1дв. Тандембокс, размер: 600","1003-60т",5040,5200,5250,6719.7359999999999,7192.2960000000003,6384.6480000000001,7247.52,8889.1200000000008]
[null,null,"Стол 1ящ 2дв",500,"Стол 1ящ 2дв, размер: 500","1004-50",2520,2640,2690,3919.7799999999997,{"$f":"0.000716*D54*5010+G54","v":4313.58},{"$f":"0.000716*D54*3130+G54","v":3640.54},4359.6000000000004,5727.6]
[null,"Стол 1ящ 2дв","Стол 1ящ 2дв",600,"Стол 1ящ 2дв, размер: 600","1004-60",2860.0000000000005,3000,3070,4539.7360000000008,5012.2960000000003,4204.6480000000001,5067.5200000000004,6709.1200000000008]
[null,null,"Стол 1ящ 2дв",700,"Стол 1ящ 2дв, размер: 700","1004-70",3220,3390,3460,5179.692,5731.0119999999997,4788.7559999999994,5795.4400000000005,7710.64]
[null,null,"Стол 1ящ 2дв",800,"Стол 1ящ 2дв, размер: 800","1004-80",3550,3740.0000000000005,3830,5789.6479999999992,6419.7280000000001,5342.8639999999996,6493.3600000000006,8682.16]
[null,null,"Стол 1ящ 2дв метабокс",500,"Стол 1ящ 2дв метабокс, размер: 500","1004-50м",{"$f":"G54+250","v":2770},2890,2940,4169.78,4563.58,3890.54,4609.6000000000004,5977.6]
[null,"Стол 1ящ 2дв метабокс","Стол 1ящ 2дв метабокс",600,"Стол 1ящ 2дв метабокс, размер: 600","1004-60м",{"$f":"G55+250","v":3110.0000000000005},3250,3320,4789.7360000000008,5262.2960000000003,4454.6480000000001,5317.52,6959.1200000000008]
[null,null,"Стол 1ящ 2дв метабокс",700,"Стол 1ящ 2дв метабокс, размер: 700","1004-70м",3470,3640,3710,5429.692,5981.0119999999997,5038.7559999999994,6045.4400000000005,7960.64]
[null,null,"Стол 1ящ 2дв метабокс",800,"Стол 1ящ 2дв метабокс, размер: 800","1004-80м",3800,3990.0000000000005,4080,6039.6479999999992,6669.7280000000001,5592.8639999999996,6743.3600000000006,8932.16]
[null,null,"Стол 1ящ 2дв Тандембокс",500,{"$f":"C62&\", размер: \"&D62","v":"Стол 1ящ 2дв Тандембокс, размер: 500"},"1004-50т",{"$f":"G58+2000","v":4770},4890,4940,6169.78,6563.58,5890.54,6609.6,7977.6]
[null,"Стол 1ящ 2дв тандембокс","Стол 1ящ 2дв Тандембокс",600,"Стол 1ящ 2дв Тандембокс, размер: 600","1004-60т",{"$f":"G59+2000","v":5110},5250,5320,6789.7359999999999,7262.2960000000003,6454.6480000000001,7317.52,8959.1200000000008]
[null,null,"Стол 1ящ 2дв Тандембокс",700,"Стол 1ящ 2дв Тандембокс, размер: 700","1004-70т",5470,5640,5710,7429.692,7981.0119999999997,7038.7559999999994,8045.4400000000005,9960.64]
[null,null,"Стол 1ящ 2дв Тандембокс",800,"Стол 1ящ 2дв Тандембокс, размер: 800","1004-80т",5800,5990,6080,8039.6479999999992,8669.7279999999992,7592.8639999999996,8743.36,10932.16]
[null,"Стол 2ящ","Стол 2ящ",300,"Стол 2ящ, размер: 300","1006-30",2450,2550,2600,3289.8679999999999,3526.1480000000001,3122.3240000000001,3553.76,4374.5600000000004]
[null,null,"Стол 2ящ",400,"Стол 2ящ, размер: 400","1006-40",2490,2590,2620,3609.8239999999996,3924.864,3386.4319999999998,3961.6800000000003,5056.08]
[null,null,"Стол 2ящ",450,"Стол 2ящ, размер: 450","1006-45",2700,2860,2900,3959.8019999999997,4314.2219999999998,3708.4859999999999,4355.6400000000003,5586.84]
[null,null,"Стол 2ящ",500,"Стол 2ящ, размер: 500","1006-50",2840,2960,3000,4239.78,4633.58,3960.54,4679.6000000000004,6047.6]
[null,null,"Стол 2ящ",550,"Стол 2ящ, размер: 550","1006-55",3100,3250,3300,4639.7579999999998,5072.9380000000001,4332.5940000000001,5123.5600000000004,6628.3600000000006]
[null,null,"Стол 2ящ",600,"Стол 2ящ, размер: 600","1006-60",3200,3350,3410.0000000000005,4879.7359999999999,5352.2960000000003,4544.6480000000001,5407.52,7049.1200000000008]
[null,null,"Стол 2ящ",700,"Стол 2ящ, размер: 700","1006-70",3600,3760,3840,5559.692,6111.0119999999997,5168.7559999999994,6175.4400000000005,8090.64]
[null,null,"Стол 2ящ",800,"Стол 2ящ, размер: 800","1006-80",3950,4140,4220,6189.6479999999992,6819.7280000000001,5742.8639999999996,6893.3600000000006,9082.16]
[null,"Стол 2ящ метабокс","Стол 2ящ метабокс",300,"Стол 2ящ метабокс, размер: 300","1006-30м",{"$f":"G66+700","v":3150},3250,3300,3989.8679999999999,4226.1480000000001,3822.3240000000001,4253.76,5074.5600000000004]
[null,null,"Стол 2ящ метабокс",400,"Стол 2ящ метабокс, размер: 400","1006-40м",{"$f":"G67+700","v":3190},3290,3320,4309.8239999999996,4624.8639999999996,4086.4319999999998,4661.68,5756.08]
[null,null,"Стол 2ящ метабокс",450,"Стол 2ящ метабокс, размер: 450","1006-45м",3400,3560,3600,4659.8019999999997,5014.2219999999998,4408.4859999999999,5055.6400000000003,6286.84]
[null,null,"Стол 2ящ метабокс",500,"Стол 2ящ метабокс, размер: 500","1006-50м",3540,3660,3700,4939.78,5333.58,4660.54,5379.6,6747.6]
[null,null,"Стол 2ящ метабокс",550,"Стол 2ящ метабокс, размер: 550","1006-55м",3800,3950,4000,5339.7579999999998,5772.9380000000001,5032.5940000000001,5823.56,7328.3600000000006]
[null,null,"Стол 2ящ метабокс",600,"Стол 2ящ метабокс, размер: 600","1006-60м",3900,4050,4110,5579.7359999999999,6052.2960000000003,5244.6480000000001,6107.52,7749.1200000000008]
[null,null,"Стол 2ящ метабокс",700,"Стол 2ящ метабокс, размер: 700","1006-70м",4300,4460,4540,6259.692,6811.0119999999997,5868.7559999999994,6875.4400000000005,8790.64]
[null,null,"Стол 2ящ метабокс",800,{"$f":"C81&\", размер: \"&D81","v":"Стол 2ящ метабокс, размер: 800"},"1006-80м",4650,4840,4920,6889.6479999999992,7519.7280000000001,6442.8639999999996,7593.3600000000006,9782.16]
[null,"Стол 2ящ тандембокс","Стол 2ящ Тандембокс",300,"Стол 2ящ Тандембокс, размер: 300","1006-30т",{"$f":"G66+2300*2","v":7050},7150,7200,7889.8680000000004,8126.1480000000001,7722.3239999999996,8153.76,8974.56]
[null,null,"Стол 2ящ Тандембокс",400,"Стол 2ящ Тандембокс, размер: 400","1006-40т",{"$f":"G67+2300*2","v":7090},7190,7220,8209.8240000000005,8524.8639999999996,7986.4319999999998,8561.68,9656.08]
[null,null,"Стол 2ящ Тандембокс",450,"Стол 2ящ Тандембокс, размер: 450","1006-45т",7300,7460,7500,8559.8019999999997,8914.2219999999998,8308.4860000000008,8955.64,10186.84]
[null,null,"Стол 2ящ Тандембокс",500,"Стол 2ящ Тандембокс, размер: 500","1006-50т",7440,7560,7600,8839.7800000000007,9233.58,8560.5400000000009,9279.6,10647.6]
[null,null,"Стол 2ящ Тандембокс",550,"Стол 2ящ Тандембокс, размер: 550","1006-55т",7700,7850,7900,9239.7579999999998,9672.9380000000001,8932.594000000001,9723.56,11228.36]
[null,null,"Стол 2ящ Тандембокс",600,"Стол 2ящ Тандембокс, размер: 600","1006-60т",7800,7950,8010,9479.7360000000008,9952.2960000000003,9144.6479999999992,10007.52,11649.12]
[null,null,"Стол 2ящ Тандембокс",700,"Стол 2ящ Тандембокс, размер: 700","1006-70т",8200,8360,8440,{"$f":"0.000716*D88*3910+G88","v":10159.691999999999},{"$f":"0.000716*D88*5010+G88","v":10711.011999999999},{"$f":"0.000716*D88*3130+G88","v":9768.7559999999994},{"$f":"0.00072*D88*5110+G88","v":10775.44},{"$f":"0.00072*D88*8910+G88","v":12690.64}]
[null,null,"Стол 2ящ Тандембокс",800,{"$f":"C89&\", размер: \"&D89","v":"Стол 2ящ Тандембокс, размер: 800"},"1006-80т",8550,8740,8820,10789.647999999999,11419.727999999999,10342.864,11493.36,13682.16]
[null,null,"Стол 2ящ 2дв ",600,"Стол 2ящ 2дв , размер: 600","1005-60",3120,3270,3330,4799.7359999999999,5272.2960000000003,4464.6480000000001,5327.52,6969.1200000000008]
[null,"Стол 2ящ 2дв ","Стол 2ящ 2дв ",700,"Стол 2ящ 2дв , размер: 700","1005-70",3500,3660,3740.0000000000005,5459.692,6011.0119999999997,5068.7559999999994,6075.4400000000005,7990.64]
[null,null,"Стол 2ящ 2дв ",800,"Стол 2ящ 2дв , размер: 800","1005-80",3830,4030,4100,6069.6479999999992,6699.7280000000001,5622.8639999999996,6773.3600000000006,8962.16]
[null,null,"Стол 2 ящ.2 дв. метабокс",600,"Стол 2 ящ.2 дв. метабокс, размер: 600","1005-60м",{"$f":"G90+500","v":3620},3770,3830,5299.7359999999999,5772.2960000000003,4964.6480000000001,5827.52,7469.1200000000008]
[null,"Стол 2 ящ.2 дв. метабокс","Стол 2 ящ.2 дв. метабокс",700,"Стол 2 ящ.2 дв. метабокс, размер: 700","1005-70м",4000,4160,4240,5959.692,6511.0119999999997,5568.7559999999994,6575.4400000000005,8490.64]
[null,null,"Стол 2 ящ.2 дв. метабокс",800,"Стол 2 ящ.2 дв. метабокс, размер: 800","1005-80м",4330,4530,4600,6569.6479999999992,7199.7280000000001,6122.8639999999996,7273.3600000000006,9462.16]
[null,null,"Стол 2 ящ.2 дв.Тандембокс",600,{"$f":"C96&\", размер: \"&D96","v":"Стол 2 ящ.2 дв.Тандембокс, размер: 600"},"1005-60т",{"$f":"G90+2300*2","v":7720},7870,7930,9399.7360000000008,9872.2960000000003,9064.6479999999992,9927.52,11569.12]
[null,"Стол 2 ящ.2 дв. тандембокс","Стол 2 ящ.2 дв. Тандембокс",700,"Стол 2 ящ.2 дв. Тандембокс, размер: 700","1005-70т",{"$f":"G91+2300*2","v":8100},8260,8340,10059.691999999999,10611.011999999999,9668.7559999999994,10675.44,12590.64]
[null,null,"Стол 2 ящ.2 дв.Тандембокс",800,"Стол 2 ящ.2 дв.Тандембокс, размер: 800","1005-80т",8430,8630,8700,10669.647999999999,11299.727999999999,10222.864,11373.36,13562.16]
[null,"Стол 3ящ. 2 мал, 1 бол.","Стол 3ящ. 2 мал, 1 бол.",300,"Стол 3ящ. 2 мал, 1 бол., размер: 300","1007-30",2190,2250,2290,3029.8679999999999,3266.1480000000001,2862.3240000000001,3293.76,4114.5600000000004]
[null,null,"Стол 3ящ. 2 мал, 1 бол.",400,"Стол 3ящ. 2 мал, 1 бол., размер: 400","1007-40",2480,2560,2610,3599.8239999999996,3914.864,3376.4319999999998,3951.6800000000003,5046.08]
[null,null,"Стол 3ящ. 2 мал, 1 бол.",450,"Стол 3ящ. 2 мал, 1 бол., размер: 450","1007-45",2800,2900,3020,4059.8019999999997,4414.2219999999998,3808.4859999999999,4455.6400000000003,5686.84]
[null,null,"Стол 3ящ. 2 мал, 1 бол.",500,"Стол 3ящ. 2 мал, 1 бол., размер: 500","1007-50",2950,3070,3120,4349.78,4743.58,4070.54,4789.6000000000004,6157.6]
[null,null,"Стол 3ящ. 2 мал, 1 бол.",600,"Стол 3ящ. 2 мал, 1 бол., размер: 600","1007-60",3310,3450,3520.0000000000005,4989.7359999999999,5462.2960000000003,4654.6480000000001,5517.52,7159.1200000000008]
[null,null,"Стол 3ящ. 2 мал, 1 бол.",700,"Стол 3ящ. 2 мал, 1 бол., размер: 700","1007-70",3700,3860,3940,5659.692,6211.0119999999997,5268.7559999999994,6275.4400000000005,8190.64]
[null,null,"Стол 3ящ. 2 мал, 1 бол.",800,"Стол 3ящ. 2 мал, 1 бол., размер: 800","1007-80",4060,4260,4330,6299.6479999999992,6929.7280000000001,5852.8639999999996,7003.3600000000006,9192.16]
[null,null,"Стол 3ящ. 2 мал, 1 бол. Метабокс",300,"Стол 3ящ. 2 мал, 1 бол. Метабокс, размер: 300","1007-30м",{"$f":"G99+850","v":3040},3100,3140,3879.8679999999999,4116.1480000000001,3712.3240000000001,4143.76,4964.5600000000004]
[null,null,"Стол 3ящ. 2 мал, 1 бол. Метабокс",400,"Стол 3ящ. 2 мал, 1 бол. Метабокс, размер: 400","1007-40м",{"$f":"G100+850","v":3330},3410,3460,4449.8239999999996,4764.8639999999996,4226.4319999999998,4801.68,5896.08]
[null,"Стол 3ящ. Метабокс","Стол 3ящ. 2 мал, 1 бол. Метабокс",450,"Стол 3ящ. 2 мал, 1 бол. Метабокс, размер: 450","1007-45м",3650,3750,3870,4909.8019999999997,5264.2219999999998,4658.4859999999999,5305.64,6536.84]
[null,null,"Стол 3ящ. 2 мал, 1 бол. Метабокс",500,"Стол 3ящ. 2 мал, 1 бол. Метабокс, размер: 500","1007-50м",3800,3920,3970,5199.78,5593.58,4920.54,5639.6,7007.6]
[null,null,"Стол 3ящ. 2 мал, 1 бол. Метабокс",600,"Стол 3ящ. 2 мал, 1 бол. Метабокс, размер: 600","1007-60м",4160,4300,4370,5839.7359999999999,6312.2960000000003,5504.6480000000001,6367.52,8009.1200000000008]
[null,null,"Стол 3ящ. 2 мал, 1 бол. Метабокс",700,"Стол 3ящ. 2 мал, 1 бол. Метабокс, размер: 700","1007-70м",4550,4710,4790,6509.692,7061.0119999999997,6118.7559999999994,7125.4400000000005,9040.64]
[null,null,"Стол 3ящ. 2 мал, 1 бол. Метабокс",800,"Стол 3ящ. 2 мал, 1 бол. Метабокс, размер: 800","1007-80м",4910,5110,5180,7149.6479999999992,7779.7280000000001,6702.8639999999996,7853.3600000000006,10042.16]
[null,null,"Стол 3ящ. 2 мал, 1 бол.Тандембокс",300,{"$f":"C113&\", размер: \"&D113","v":"Стол 3ящ. 2 мал, 1 бол.Тандембокс, размер: 300"},"1007-30т",{"$f":"G99+2000*2+2300","v":8490},8550,8590,9329.8680000000004,9566.1479999999992,9162.3240000000005,9593.76,10414.56]
[null,null,"Стол 3ящ. 2 мал, 1 бол. Тандембокс",400,"Стол 3ящ. 2 мал, 1 бол. Тандембокс, размер: 400","1007-40т",{"$f":"G100+2000*2+2300","v":8780},8860,8910,9899.8240000000005,10214.864,9676.4320000000007,10251.68,11346.08]
[null,"Стол 3ящ. Тандембокс","Стол 3ящ. 2 мал, 1 бол.Тандембокс",450,"Стол 3ящ. 2 мал, 1 бол.Тандембокс, размер: 450","1007-45т",9100,9200,9320,10359.802,10714.222,10108.486000000001,10755.64,11986.84]
[null,null,"Стол 3ящ. 2 мал, 1 бол. Тандембокс",500,"Стол 3ящ. 2 мал, 1 бол. Тандембокс, размер: 500","1007-50т",9250,9370,9420,10649.78,11043.58,10370.540000000001,11089.6,12457.6]
[null,null,"Стол 3ящ. 2 мал, 1 бол. Тандембокс",600,"Стол 3ящ. 2 мал, 1 бол. Тандембокс, размер: 600","1007-60т",9610,9750,9820,11289.736000000001,11762.296,10954.647999999999,11817.52,13459.12]
[null,null,"Стол 3ящ. 2 мал, 1 бол.Тандембокс",700,"Стол 3ящ. 2 мал, 1 бол.Тандембокс, размер: 700","1007-70т",10000,10160,10240,11959.691999999999,12511.011999999999,11568.755999999999,12575.44,14490.64]
[null,null,"Стол 3ящ. 2 мал, 1 бол. Тандембокс",800,"Стол 3ящ. 2 мал, 1 бол. Тандембокс, размер: 800","1007-80т",10360,10560,10630,12599.647999999999,13229.727999999999,12152.864,13303.36,15492.16]
[null,"Стол 4ящ","Стол 4ящ",300,"Стол 4ящ, размер: 300","1009-30",2300,2360,2400,3139.8679999999999,3376.1480000000001,2972.3240000000001,3403.76,4224.5600000000004]
[null,null,"Стол 4ящ",350,"Стол 4ящ, размер: 350","1009-35",2510,2600,2630,3489.846,3765.5059999999999,3294.3779999999997,3797.7200000000003,4755.32]
[null,null,"Стол 4ящ",400,"Стол 4ящ, размер: 400","1009-40",2690,2780,2830,3809.8239999999996,4124.8639999999996,3586.4319999999998,4161.68,5256.08]
[null,null,"Стол 4ящ",450,"Стол 4ящ, размер: 450","1009-45",2890,3000,3050,4149.8019999999997,4504.2219999999998,3898.4859999999999,4545.6400000000003,5776.84]
[null,null,"Стол 4ящ",500,"Стол 4ящ, размер: 500","1009-50",3070,3190.0000000000005,3240,4469.78,4863.58,4190.54,4909.6000000000004,6277.6]
[null,null,"Стол 4ящ",600,"Стол 4ящ, размер: 600","1009-60",3460,3610,3670,5139.7359999999999,5612.2960000000003,4804.6480000000001,5667.52,7309.1200000000008]
[null,null,"Стол 4ящ",700,"Стол 4ящ, размер: 700","1009-70",{"$f":"G125*0.027+G125","v":3553.42},3707.47,3769.09,5513.1120000000001,6064.4319999999998,5122.1759999999995,6128.8600000000006,8044.06]
[null,null,"Стол 4ящ",800,"Стол 4ящ, размер: 800","1009-80",{"$f":"G126*0.27+G126","v":4512.8433999999997},4708.4868999999999,4786.7443000000003,6752.491399999999,7382.5713999999998,6305.7073999999993,7456.2034000000003,9645.0034000000014]
[null,null,"Стол 4ящ метабокс",300,"Стол 4ящ метабокс, размер: 300","1009-30м",{"$f":"G120+1000","v":3300},3360,3400,4139.8680000000004,4376.1480000000001,3972.3240000000001,4403.76,5224.5600000000004]
[null,null,"Стол 4ящ метабокс",350,"Стол 4ящ метабокс, размер: 350","1009-35м",{"$f":"G121+1000","v":3510},3600,3630,4489.8459999999995,4765.5059999999994,4294.3779999999997,4797.72,5755.32]
[null,"Стол 4ящ метабокс","Стол 4ящ метабокс",400,"Стол 4ящ метабокс, размер: 400","1009-40м",3690,3780,3830,4809.8239999999996,5124.8639999999996,4586.4319999999998,5161.68,6256.08]
[null,null,"Стол 4ящ метабокс",450,"Стол 4ящ метабокс, размер: 450","1009-45м",3890,4000,4050,5149.8019999999997,5504.2219999999998,4898.4859999999999,5545.64,6776.84]
[null,null,"Стол 4ящ метабокс",500,"Стол 4ящ метабокс, размер: 500","1009-50м",4070,4190,4240,5469.78,5863.58,5190.54,5909.6,7277.6]
[null,null,"Стол 4ящ метабокс",600,"Стол 4ящ метабокс, размер: 600","1009-60м",4460,4610,4670,6139.7359999999999,6612.2960000000003,5804.6480000000001,6667.52,8309.1200000000008]
[null,null,"Стол 4ящ метабокс",700,{"$f":"C134&\", размер: \"&D134","v":"Стол 4ящ метабокс, размер: 700"},"1009-70м",{"$f":"G125+1000","v":4460},4610,4670,6419.692,6971.0119999999997,6028.7559999999994,7035.4400000000005,8950.64]
[null,null,"Стол 4ящ метабокс",800,{"$f":"C135&\", размер: \"&D135","v":"Стол 4ящ метабокс, размер: 800"},"1009-80м",{"$f":"G126+1000","v":4553.42},4707.4699999999993,4769.09,6793.0679999999993,7423.1480000000001,6346.2839999999997,7496.7800000000007,9685.5800000000017]
[null,null,"Стол 4ящ Тандембокс",300,{"$f":"C136&\", размер: \"&D136","v":"Стол 4ящ Тандембокс, размер: 300"},"1009-30т",{"$f":"G120+2000*4","v":10300},10360,10400,11139.868,11376.147999999999,10972.324000000001,11403.76,12224.56]
[null,null,"Стол 4ящ Тандембокс",350,"Стол 4ящ Тандембокс, размер: 350","1009-35т",{"$f":"G121+2000*4","v":10510},10600,10630,11489.846,11765.505999999999,11294.378000000001,11797.72,12755.32]
[null,null,"Стол 4ящ Тандембокс",400,"Стол 4ящ Тандембокс, размер: 400","1009-40т",{"$f":"G122+2000*4","v":10690},10780,10830,11809.824000000001,12124.864,11586.432000000001,12161.68,13256.08]
[null,"Стол 4ящ тандембокс","Стол 4ящ Тандембокс",450,"Стол 4ящ Тандембокс, размер: 450","1009-45т",{"$f":"G123+2000*4","v":10890},11000,11050,12149.802,12504.222,11898.486000000001,12545.64,13776.84]
[null,null,"Стол 4ящ Тандембокс",500,"Стол 4ящ Тандембокс, размер: 500","1009-50т",{"$f":"G124+2000*4","v":11070},11190,11240,12469.78,12863.58,12190.54,12909.6,14277.6]
[null,null,"Стол 4ящ Тандембокс",600,"Стол 4ящ Тандембокс, размер: 600","1009-60т",{"$f":"G125+2000*4","v":11460},11610,11670,13139.736000000001,13612.296,12804.647999999999,13667.52,15309.12]
[null,null,"Стол 4ящ Тандембокс",700,"Стол 4ящ Тандембокс, размер: 700","1009-70т",{"$f":"G126+2000*4","v":11553.42},11707.47,11769.09,13513.112000000001,14064.432000000001,13122.175999999999,14128.86,16044.060000000001]
[null,null,"Стол 4ящ Тандембокс",800,"Стол 4ящ Тандембокс, размер: 800","1009-80т",{"$f":"G127+2000*4","v":12512.8434},12708.4869,12786.7443,14752.491399999999,15382.571400000001,14305.707399999999,15456.2034,17645.003400000001]
[]
[null,"Бутылочница","Бутылочница",150,"Бутылочница, размер: 150","1010-15",2400,2460,2490,{"$f":"0.000716*D145*3910+G145","v":2819.9340000000002},{"$f":"0.000716*D145*5010+G145","v":2938.0740000000001},{"$f":"0.000716*D145*3130+G145","v":2736.1619999999998},{"$f":"0.00072*D145*5110+G145","v":2951.88},{"$f":"0.00072*D145*8910+G145","v":3362.28}]
[null,null,"Бутылочница",200,"Бутылочница, размер: 200","1010-20",{"$f":"G24+1200","v":2450},2510,2530,{"$f":"0.000716*D146*3910+G146","v":3009.9119999999998},{"$f":"0.000716*D146*5010+G146","v":3167.4319999999998},{"$f":"0.000716*D146*3130+G146","v":2898.2159999999999},{"$f":"0.00072*D146*5110+G146","v":3185.84},{"$f":"0.00072*D146*8910+G146","v":3733.04}]
[null,"Стол-колонна h=720  (рекомендованно испльзовать с духовым шкафом  )БЕЗ ФАСАДА","Стол-колонна h=720",50,{"$f":"C147&\", размер: \"&D147","v":"Стол-колонна h=720, размер: 50"},"1021-5",370,370,370,370,370,"нет","нет","нет"]
[null,"Стол-колонна h=720  (рекомендованно испльзовать с духовым шкафом  )БЕЗ ФАСАДА","Стол-колонна h=720",100,"Стол-колонна h=720, размер: 100",null,500,500,500,500,500,"нет","нет","нет"]
[null,"Стол-колонна h=720  (рекомендованно испльзовать с духовым шкафом  )БЕЗ ФАСАДА","Стол-колонна h=720",150,"Стол-колонна h=720, размер: 150",null,750,750,750,750,750,"нет","нет","нет"]
[null,"Стол-колонна h=720  (рекомендованно испльзовать с духовым шкафом  )БЕЗ ФАСАДА, с бутылочницей с доводчиком","Стол-колонна h=720",150,"Стол-колонна h=720, размер: 150",null,2550,2550,2550,2550,2550,"нет","нет","нет"]
[null,"Стол с открытой секцией для СВ-Печи","Стол с открытой секцией для СВ-Печи",600,"Стол с открытой секцией для СВ-Печи, размер: 600","1020-60",{"$f":"G71-G71*0.08","v":2944},{"$f":"H71-H71*0.08","v":3082},{"$f":"I71-I71*0.08","v":3137.2000000000003},{"$f":"0.000356*D151*3910+G151","v":3779.1759999999999},{"$f":"0.000356*D151*5010+G151","v":4014.136},{"$f":"0.000356*D151*3130+G151","v":3612.5680000000002},{"$f":"0.000356*600*5110+G151","v":4035.4960000000001},{"$f":"0.000356*D151*8910+G151","v":4847.1759999999995}]
[null,"Стол с открытой секцией для СВ-Печи.\n Метабокс","Стол с открытой секцией для СВ-Печи.\n Метабокс",600,"Стол с открытой секцией для СВ-Печи.\n Метабокс, размер: 600","1020-60м",{"$f":"G151+350","v":3294},3432,3487.2000000000003,{"$f":"0.000356*D152*3910+G152","v":4129.1759999999995},{"$f":"0.000356*D152*5010+G152","v":4364.1360000000004},{"$f":"0.000356*D152*3130+G152","v":3962.5680000000002},{"$f":"0.000356*D152*5110+G152","v":4385.4960000000001},{"$f":"0.000356*D152*8910+G152","v":5197.1759999999995}]
["Столы торцевые"]
[null,"Стол торцевой (открытый)","Стол торцевой (открытый)",200,"Стол торцевой (открытый), размер: 200","1012-20",850,850,850,{"$f":"G154","v":850},{"$f":"H154","v":850},850,850,850]
[null,null,"Стол торцевой (открытый)",300,"Стол торцевой (открытый), размер: 300","1012-30",1060,1060,1060,{"$f":"H155","v":1060},{"$f":"I155","v":1060},1060,1060,1060]
[null,null,"Стол торцевой (открытый)",400,"Стол торцевой (открытый), размер: 400","1012-40",1260,1260,1260,{"$f":"G156","v":1260},{"$f":"H156","v":1260},1260,1260,1260]
[null,null,"Стол торцевой",300,"Стол торцевой, размер: 300","1013-30",1960,2130,2210,{"$f":"0.5*3910+G157","v":3915},{"$f":"0.5*5010+G157","v":4465},{"$f":"0.5*3130+G157","v":3525},{"$f":"0.5*5110+G157","v":4515},{"$f":"0.5*8910+G157","v":6415}]
[null,"Стол-радиусный торцевой (открытый)","Стол-радиусный торцевой (открытый)",300,"Стол-радиусный торцевой (открытый), размер: 300","1125-30",1210,1210,1210,{"$f":"G158","v":1210},{"$f":"H158","v":1210},1210,1210,1210]
[null,null,"Стол-радиусный торцевой (открытый)",400,"Стол-радиусный торцевой (открытый), размер: 400","1125-40",1280,1280,1280,{"$f":"G159","v":1280},1280,1280,1280,1280]
[null,"Стол радиусный торцевой","Стол радиусный торцевой",300,"Стол радиусный торцевой, размер: 300","1120-30",3680,3860,3940,6480,6690,"нет","нет",10265]
["Столы под встраиваемую технику"]
[null,"Стол под встр.техн.без ящ 600","Стол под встр.техн.без ящ",600,"Стол под встр.техн.без ящ, размер: 600","1011-60",1850,1870.0000000000002,1880,2260,{"$f":"0.000176*D162*5010+G162","v":2379.056},{"$f":"0.000176*D162*3130+G162","v":2180.5280000000002},{"$f":"0.000176*D162*5110+G162","v":2389.616},{"$f":"0.000176*D162*8910+G162","v":2790.8959999999997}]
[null,"Стол под встр.техн.с ящ 600","Стол под плиту",600,{"$f":"C163&\", размер: \"&D163","v":"Стол под плиту, размер: 600"},"1011Я-60",2000,2020,2030,2420,{"$f":"0.000176*D163*5010+G163","v":2529.056},{"$f":"0.000176*D163*3130+G163","v":2330.5280000000002},{"$f":"0.000176*D163*5110+G163","v":2539.616},{"$f":"0.000176*D163*8910+G163","v":2940.8959999999997}]
[null,"Стол под стиральную машину 650","Стол под стиральную машину",650,"Стол под стиральную машину, размер: 650","1126-65",1470,1470,1470,{"$f":"G164","v":1470},{"$f":"H164","v":1470},{"$f":"I164","v":1470},{"$f":"J164","v":1470},1470]
[null,"Стол под стиральную машину 700","Стол под стиральную машину",700,"Стол под стиральную машину, размер: 700","1126-70",1520,1520,1520,{"$f":"G165","v":1520},{"$f":"H165","v":1520},{"$f":"I165","v":1520},1520,1520]
[null,"Комплект для стир. машины 2дв.","Комплект для стир. машины 2дв.",700,"Комплект для стир. машины 2дв., размер: 700","1127-70",1450,1550,1650,3410,{"$f":"0.000716*D166*5010+G166","v":3961.0119999999997},{"$f":"0.000716*D166*3130+G166","v":3018.7559999999999},{"$f":"0.00072*5110*D166+G166","v":4025.44},{"$f":"0.00072*D166*8910+G166","v":5940.64}]
["Столы рабочие глубиной 400"]
[null,"Стол (400) рабочий 1 дверь   Л/ПР","Стол (400) рабочий 1 дверь   Л/ПР",150,"Стол (400) рабочий 1 дверь   Л/ПР, размер: 150","1201-15",900,930,1050,{"$f":"0.000716*D168*3910+G168","v":1319.934},{"$f":"0.000716*D168*5010+G168","v":1438.0740000000001},{"$f":"0.000716*D168*3130+G168","v":1236.162},{"$f":"0.00072*D168*5110+G168","v":1451.88},{"$f":"0.00072*D168*8910+G168","v":1862.2800000000002}]
[null,null,"Стол (400) рабочий 1 дверь   Л/ПР",200,"Стол (400) рабочий 1 дверь   Л/ПР, размер: 200","1201-20",1000,1030,1100,{"$f":"0.000716*D169*3910+G169","v":1559.9119999999998},{"$f":"0.000716*D169*5010+G169","v":1717.432},{"$f":"0.000716*D169*3130+G169","v":1448.2159999999999},{"$f":"0.00072*D169*5110+G169","v":1735.8400000000001},{"$f":"0.00072*D169*8910+G169","v":2283.04}]
[null,null,"Стол (400) рабочий 1 дверь   Л/ПР",250,{"$f":"C170&\", размер: \"&D170","v":"Стол (400) рабочий 1 дверь   Л/ПР, размер: 250"},"1201-25",1100,1200,1300,{"$f":"0.000716*D170*3910+G170","v":1799.8899999999999},{"$f":"0.000716*D170*5010+G170","v":1996.79},{"$f":"0.000716*D170*3130+G170","v":1660.27},{"$f":"0.00072*D170*5110+G170","v":2019.8000000000002},{"$f":"0.00072*D170*8910+G170","v":2703.8}]
[null,null,"Стол (400) рабочий 1 дверь   Л/ПР",300,"Стол (400) рабочий 1 дверь   Л/ПР, размер: 300","1201-30",1250,1350,1450,{"$f":"0.000716*D171*3910+G171","v":2089.8679999999999},{"$f":"0.000716*D171*5010+G171","v":2326.1480000000001},{"$f":"0.000716*D171*3130+G171","v":1922.3240000000001},{"$f":"0.00072*D171*5110+G171","v":2353.7600000000002},{"$f":"0.00072*D171*8910+G171","v":3174.5600000000004}]
[null,null,"Стол (400) рабочий 1 дверь   Л/ПР",350,"Стол (400) рабочий 1 дверь   Л/ПР, размер: 350","1201-35",1350,1400,1500,{"$f":"0.000716*D172*3910+G172","v":2329.846},{"$f":"0.000716*D172*5010+G172","v":2605.5059999999999},{"$f":"0.000716*D172*3130+G172","v":2134.3779999999997},{"$f":"0.00072*D172*5110+G172","v":2637.7200000000003},{"$f":"0.00072*D172*8910+G172","v":3595.32}]
[null,null,"Стол (400) рабочий 1 дверь   Л/ПР",400,"Стол (400) рабочий 1 дверь   Л/ПР, размер: 400","1201-40",1400,1500,1600,{"$f":"0.000716*D173*3910+G173","v":2519.8239999999996},{"$f":"0.000716*D173*5010+G173","v":2834.864},{"$f":"0.000716*D173*3130+G173","v":2296.4319999999998},{"$f":"0.00072*D173*5110+G173","v":2871.6800000000003},{"$f":"0.00072*D173*8910+G173","v":3966.0800000000004}]
[null,null,"Стол (400) рабочий 1 дверь   Л/ПР",450,"Стол (400) рабочий 1 дверь   Л/ПР, размер: 450","1201-45",1500,1630,1700,{"$f":"0.000716*D174*3910+G174","v":2759.8019999999997},{"$f":"0.000716*D174*5010+G174","v":3114.2219999999998},{"$f":"0.000716*D174*3130+G174","v":2508.4859999999999},{"$f":"0.00072*D174*5110+G174","v":3155.6400000000003},{"$f":"0.00072*D174*8910+G174","v":4386.84}]
[null,null,"Стол (400) рабочий 1 дверь   Л/ПР",500,"Стол (400) рабочий 1 дверь   Л/ПР, размер: 500","1201-50",1600,1650,1800,{"$f":"0.000716*D175*3910+G175","v":2999.7799999999997},{"$f":"0.000716*D175*5010+G175","v":3393.58},{"$f":"0.000716*D175*3130+G175","v":2720.54},{"$f":"0.00072*D175*5110+G175","v":3439.6000000000004},{"$f":"0.00072*D175*8910+G175","v":4807.6000000000004}]
[null,null,"Стол (400) рабочий 1 дверь   Л/ПР",600,"Стол (400) рабочий 1 дверь   Л/ПР, размер: 600","1201-60",1800,1900,2000,{"$f":"0.000716*D176*3910+G176","v":3479.7359999999999},{"$f":"0.000716*D176*5010+G176","v":3952.2959999999998},{"$f":"0.000716*D176*3130+G176","v":3144.6480000000001},{"$f":"0.00072*D176*5110+G176","v":4007.5200000000004},{"$f":"0.00072*D176*8910+G176","v":5649.1200000000008}]
[null,"Стол (400) рабочий 2 двери","Стол (400) рабочий 2 двери",600,"Стол (400) рабочий 2 двери, размер: 600","1202-60",2000,2100,2300,{"$f":"0.000716*D177*3910+G177","v":3679.7359999999999},{"$f":"0.000716*D177*5010+G177","v":4152.2960000000003},{"$f":"0.000716*D177*3130+G177","v":3344.6480000000001},{"$f":"0.00072*D177*5110+G177","v":4207.5200000000004},{"$f":"0.00072*D177*8910+G177","v":5849.1200000000008}]
[null,null,"Стол (400) рабочий 2 двери",700,"Стол (400) рабочий 2 двери, размер: 700","1202-70",2200,2300,2500,{"$f":"0.000716*D178*3910+G178","v":4159.692},{"$f":"0.000716*D178*5010+G178","v":4711.0119999999997},{"$f":"0.000716*D178*3130+G178","v":3768.7559999999999},{"$f":"0.00072*D178*5110+G178","v":4775.4400000000005},{"$f":"0.00072*D178*8910+G178","v":6690.64}]
[null,null,"Стол (400) рабочий 2 двери",800,"Стол (400) рабочий 2 двери, размер: 800","1202-80",2400,2500,2700,{"$f":"0.000716*D179*3910+G179","v":4639.6479999999992},{"$f":"0.000716*D179*5010+G179","v":5269.7280000000001},{"$f":"0.000716*D179*3130+G179","v":4192.8639999999996},{"$f":"0.00072*D179*5110+G179","v":5343.3600000000006},{"$f":"0.00072*D179*8910+G179","v":7532.1600000000008}]
[null,null,"Стол (400) рабочий 2 двери",900,"Стол (400) рабочий 2 двери, размер: 900","1202-90",2600,2700,2900,{"$f":"0.000716*D180*3910+G180","v":5119.6039999999994},{"$f":"0.000716*D180*5010+G180","v":5828.4439999999995},{"$f":"0.000716*D180*3130+G180","v":4616.9719999999998},{"$f":"0.00072*D180*5110+G180","v":5911.2800000000007},{"$f":"0.00072*D180*8910+G180","v":8373.68}]
[null,null,"Стол (400) рабочий 2 двери",1000,"Стол (400) рабочий 2 двери, размер: 1000","1202-100",2800,2900,3100,{"$f":"0.000716*D181*3910+G181","v":5599.5599999999995},{"$f":"0.000716*D181*5010+G181","v":6387.16},{"$f":"0.000716*D181*3130+G181","v":5041.08},{"$f":"0.00072*D181*5110+G181","v":6479.2000000000007},{"$f":"0.00072*D181*8910+G181","v":9215.2000000000007}]
[null,"Стол (400) H=1020 1дв","Стол (400) H=1020 1дв",500,"Стол (400) H=1020 1дв, размер: 500","1203-50",2000,2100,2300,{"$f":"0.000716*D182*3910+G182","v":3399.7799999999997},{"$f":"0.000716*D182*5010+G182","v":3793.58},{"$f":"0.000716*D182*3130+G182","v":3120.54},{"$f":"0.00072*D182*5110+G182","v":3839.6000000000004},{"$f":"0.00072*D182*8910+G182","v":5207.6000000000004}]
[null,null,"Стол (400) H=1020 1дв",600,"Стол (400) H=1020 1дв, размер: 600","1203-60",2200,2300,2500,{"$f":"0.000716*D183*3910+G183","v":3879.7359999999999},{"$f":"0.000716*D183*5010+G183","v":4352.2960000000003},{"$f":"0.000716*D183*3130+G183","v":3544.6480000000001},{"$f":"0.00072*D183*5110+G183","v":4407.5200000000004},{"$f":"0.00072*D183*8910+G183","v":6049.1200000000008}]
[null,"Стол (400) H=1020 2дв","Стол (400) H=1020 2дв",600,"Стол (400) H=1020 2дв, размер: 600","1204-60",2400,2500,2700,{"$f":"0.000716*D184*3910+G184","v":4079.7359999999999},{"$f":"0.000716*D184*5010+G184","v":4552.2960000000003},{"$f":"0.000716*D184*3130+G184","v":3744.6480000000001},{"$f":"0.00072*D184*5110+G184","v":4607.5200000000004},{"$f":"0.00072*D184*8910+G184","v":6249.1200000000008}]
[null,"Стол (400) рабочий  4 ящика\nметабокс","Стол (400) рабочий  4 ящика\nметабокс",300,"Стол (400) рабочий  4 ящика\nметабокс, размер: 300","1205-30м",2700,2800,2900,{"$f":"0.000716*D185*3910+G185","v":3539.8679999999999},{"$f":"0.000716*D185*5010+G185","v":3776.1480000000001},{"$f":"0.000716*D185*3130+G185","v":3372.3240000000001},{"$f":"0.00072*D185*5110+G185","v":3803.76},{"$f":"0.00072*D185*8910+G185","v":4624.5600000000004}]
[null,null,"Стол (400) рабочий  4 ящика\nметабокс",350,"Стол (400) рабочий  4 ящика\nметабокс, размер: 350","1205-35м",2800,2900,3000,{"$f":"0.000716*D186*3910+G186","v":3779.846},{"$f":"0.000716*D186*5010+G186","v":4055.5059999999999},{"$f":"0.000716*D186*3130+G186","v":3584.3779999999997},{"$f":"0.00072*D186*5110+G186","v":4087.7200000000003},{"$f":"0.00072*D186*8910+G186","v":5045.32}]
[null,null,"Стол (400) рабочий  4 ящика\nметабокс",400,"Стол (400) рабочий  4 ящика\nметабокс, размер: 400","1205-40м",2900,3000,3100,{"$f":"0.000716*D187*3910+G187","v":4019.8239999999996},{"$f":"0.000716*D187*5010+G187","v":4334.8639999999996},{"$f":"0.000716*D187*3130+G187","v":3796.4319999999998},{"$f":"0.00072*D187*5110+G187","v":4371.68},{"$f":"0.00072*D187*8910+G187","v":5466.08}]
[null,null,"Стол (400) рабочий  4 ящика\nметабокс",500,"Стол (400) рабочий  4 ящика\nметабокс, размер: 500","1205-50м",3200,3300,3400,{"$f":"0.000716*D188*3910+G188","v":4599.78},{"$f":"0.000716*D188*5010+G188","v":4993.58},{"$f":"0.000716*D188*3130+G188","v":4320.54},{"$f":"0.00072*D188*5110+G188","v":5039.6000000000004},{"$f":"0.00072*D188*8910+G188","v":6407.6}]
[null,null,"Стол (400) рабочий  4 ящика\nметабокс",600,"Стол (400) рабочий  4 ящика\nметабокс, размер: 600","1205-60м",3500,3600,3700,{"$f":"0.000716*D189*3910+G189","v":5179.7359999999999},{"$f":"0.000716*D189*5010+G189","v":5652.2960000000003},{"$f":"0.000716*D189*3130+G189","v":4844.6480000000001},{"$f":"0.00072*D189*5110+G189","v":5707.52},{"$f":"0.00072*D189*8910+G189","v":7349.1200000000008}]
[null,null,"Стол (400) рабочий  4 ящика\nметабокс",700,"Стол (400) рабочий  4 ящика\nметабокс, размер: 700","1205-70м",3700,3800,3900,{"$f":"0.000716*D190*3910+G190","v":5659.692},{"$f":"0.000716*D190*5010+G190","v":6211.0119999999997},{"$f":"0.000716*D190*3130+G190","v":5268.7559999999994},{"$f":"0.00072*D190*5110+G190","v":6275.4400000000005},{"$f":"0.00072*D190*8910+G190","v":8190.64}]
[null,null,"Стол (400) рабочий  4 ящика\nметабокс",800,"Стол (400) рабочий  4 ящика\nметабокс, размер: 800","1205-80м",4000,4100,4200,{"$f":"0.000716*D191*3910+G191","v":6239.6479999999992},{"$f":"0.000716*D191*5010+G191","v":6869.7280000000001},{"$f":"0.000716*D191*3130+G191","v":5792.8639999999996},{"$f":"0.00072*D191*5110+G191","v":6943.3600000000006},{"$f":"0.00072*D191*8910+G191","v":9132.16}]
[null,"Стол (400) рабочий 3 ящика  \nметабокс                                                ","Стол (400) рабочий 3 ящика метабокс",300,{"$f":"C192&\", размер: \"&D192","v":"Стол (400) рабочий 3 ящика метабокс, размер: 300"},"1206-30м",2300,2400,2500,{"$f":"0.000716*D192*3910+G192","v":3139.8679999999999},{"$f":"0.000716*D192*5010+G192","v":3376.1480000000001},{"$f":"0.000716*D192*3130+G192","v":2972.3240000000001},{"$f":"0.00072*D192*5110+G192","v":3403.76},{"$f":"0.00072*D192*8910+G192","v":4224.5600000000004}]
[null,null,"Стол (400) рабочий 3 ящика метабокс",350,"Стол (400) рабочий 3 ящика метабокс, размер: 350","1206-35м",2400,2500,2600,{"$f":"0.000716*D193*3910+G193","v":3379.846},{"$f":"0.000716*D193*5010+G193","v":3655.5059999999999},{"$f":"0.000716*D193*3130+G193","v":3184.3779999999997},{"$f":"0.00072*D193*5110+G193","v":3687.7200000000003},{"$f":"0.00072*D193*8910+G193","v":4645.32}]
[null,null,"Стол (400) рабочий 3 ящика метабокс",400,"Стол (400) рабочий 3 ящика метабокс, размер: 400","1206-40м",2500,2600,2700,{"$f":"0.000716*D194*3910+G194","v":3619.8239999999996},{"$f":"0.000716*D194*5010+G194","v":3934.864},{"$f":"0.000716*D194*3130+G194","v":3396.4319999999998},{"$f":"0.00072*D194*5110+G194","v":3971.6800000000003},{"$f":"0.00072*D194*8910+G194","v":5066.08}]
[null,null,"Стол (400) рабочий 3 ящика метабокс",500,"Стол (400) рабочий 3 ящика метабокс, размер: 500","1206-50м",2800,2900,3000,{"$f":"0.000716*D195*3910+G195","v":4199.78},{"$f":"0.000716*D195*5010+G195","v":4593.58},{"$f":"0.000716*D195*3130+G195","v":3920.54},{"$f":"0.00072*D195*5110+G195","v":4639.6000000000004},{"$f":"0.00072*D195*8910+G195","v":6007.6}]
[null,null,"Стол (400) рабочий 3 ящика метабокс",600,"Стол (400) рабочий 3 ящика метабокс, размер: 600","1206-60м",3050,3150,3250,{"$f":"0.000716*D196*3910+G196","v":4729.7359999999999},{"$f":"0.000716*D196*5010+G196","v":5202.2960000000003},{"$f":"0.000716*D196*3130+G196","v":4394.6480000000001},{"$f":"0.00072*D196*5110+G196","v":5257.52},{"$f":"0.00072*D196*8910+G196","v":6899.1200000000008}]
[null,null,"Стол (400) рабочий 3 ящика метабокс",700,"Стол (400) рабочий 3 ящика метабокс, размер: 700","1206-70м",3300,3400,3500,{"$f":"0.000716*D197*3910+G197","v":5259.692},{"$f":"0.000716*D197*5010+G197","v":5811.0119999999997},{"$f":"0.000716*D197*3130+G197","v":4868.7559999999994},{"$f":"0.00072*D197*5110+G197","v":5875.4400000000005},{"$f":"0.00072*D197*8910+G197","v":7790.64}]
[null,null,"Стол (400) рабочий 3 ящика метабокс",800,"Стол (400) рабочий 3 ящика метабокс, размер: 800","1206-80м",3500,3600,3700,{"$f":"0.000716*D198*3910+G198","v":5739.6479999999992},{"$f":"0.000716*D198*5010+G198","v":6369.7280000000001},{"$f":"0.000716*D198*3130+G198","v":5292.8639999999996},{"$f":"0.00072*D198*5110+G198","v":6443.3600000000006},{"$f":"0.00072*D198*8910+G198","v":8632.16}]
[null,"Стол (400) рабочий 2 ящика\nметабокс","Стол (400) рабочий 2 ящика\nметабокс",300,"Стол (400) рабочий 2 ящика\nметабокс, размер: 300","1207-30м",1900,2000,2100,{"$f":"0.000716*D199*3910+G199","v":2739.8679999999999},{"$f":"0.000716*D199*5010+G199","v":2976.1480000000001},{"$f":"0.000716*D199*3130+G199","v":2572.3240000000001},{"$f":"0.00072*D199*5110+G199","v":3003.76},{"$f":"0.00072*D199*8910+G199","v":3824.5600000000004}]
[null,null,"Стол (400) рабочий 2 ящика\nметабокс",350,"Стол (400) рабочий 2 ящика\nметабокс, размер: 350","1207-35м",2000,2100,2200,{"$f":"0.000716*D200*3910+G200","v":2979.846},{"$f":"0.000716*D200*5010+G200","v":3255.5059999999999},{"$f":"0.000716*D200*3130+G200","v":2784.3779999999997},{"$f":"0.00072*D200*5110+G200","v":3287.7200000000003},{"$f":"0.00072*D200*8910+G200","v":4245.32}]
[null,null,"Стол (400) рабочий 2 ящика\nметабокс",400,"Стол (400) рабочий 2 ящика\nметабокс, размер: 400","1207-40м",2100,2200,2300,{"$f":"0.000716*D201*3910+G201","v":3219.8239999999996},{"$f":"0.000716*D201*5010+G201","v":3534.864},{"$f":"0.000716*D201*3130+G201","v":2996.4319999999998},{"$f":"0.00072*D201*5110+G201","v":3571.6800000000003},{"$f":"0.00072*D201*8910+G201","v":4666.08}]
[null,null,"Стол (400) рабочий 2 ящика\nметабокс",450,"Стол (400) рабочий 2 ящика\nметабокс, размер: 450","1207-45м",2300,2400,2500,{"$f":"0.000716*D202*3910+G202","v":3559.8019999999997},{"$f":"0.000716*D202*5010+G202","v":3914.2219999999998},{"$f":"0.000716*D202*3130+G202","v":3308.4859999999999},{"$f":"0.00072*D202*5110+G202","v":3955.6400000000003},{"$f":"0.00072*D202*8910+G202","v":5186.84}]
[null,null,"Стол (400) рабочий 2 ящика\nметабокс",500,"Стол (400) рабочий 2 ящика\nметабокс, размер: 500","1207-50м",2400,2500,2600,{"$f":"0.000716*D203*3910+G203","v":3799.7799999999997},{"$f":"0.000716*D203*5010+G203","v":4193.58},{"$f":"0.000716*D203*3130+G203","v":3520.54},{"$f":"0.00072*D203*5110+G203","v":4239.6000000000004},{"$f":"0.00072*D203*8910+G203","v":5607.6}]
[null,null,"Стол (400) рабочий 2 ящика\nметабокс",600,"Стол (400) рабочий 2 ящика\nметабокс, размер: 600","1207-60м",2600,2700,2800,{"$f":"0.000716*D204*3910+G204","v":4279.7359999999999},{"$f":"0.000716*D204*5010+G204","v":4752.2960000000003},{"$f":"0.000716*D204*3130+G204","v":3944.6480000000001},{"$f":"0.00072*D204*5110+G204","v":4807.5200000000004},{"$f":"0.00072*D204*8910+G204","v":6449.1200000000008}]
[null,null,"Стол (400) рабочий 2 ящика\nметабокс",700,"Стол (400) рабочий 2 ящика\nметабокс, размер: 700","1207-70м",2850,2950,3100,{"$f":"0.000716*D205*3910+G205","v":4809.692},{"$f":"0.000716*D205*5010+G205","v":5361.0119999999997},{"$f":"0.000716*D205*3130+G205","v":4418.7559999999994},{"$f":"0.00072*D205*5110+G205","v":5425.4400000000005},{"$f":"0.00072*D205*8910+G205","v":7340.64}]
[null,null,"Стол (400) рабочий 2 ящика\nметабокс",800,"Стол (400) рабочий 2 ящика\nметабокс, размер: 800","1207-80м",3050,3150,3250,{"$f":"0.000716*D206*3910+G206","v":5289.6479999999992},{"$f":"0.000716*D206*5010+G206","v":5919.7280000000001},{"$f":"0.000716*D206*3130+G206","v":4842.8639999999996},{"$f":"0.00072*D206*5110+G206","v":5993.3600000000006},{"$f":"0.00072*D206*8910+G206","v":8182.1600000000008}]

{"sheet":"Шкафы","index":4,"n_rows":408,"n_cols":17,"rows_kept":408,"cut":false,"hidden":false,"merged":[[34,1,69,1],[34,2,69,2],[34,5,42,5],[43,5,51,5],[52,5,60,5],[61,5,69,5],[70,1,87,1],[70,2,87,2],[70,5,78,5],[79,5,87,5],[13,1,21,1],[13,2,21,2],[13,5,15,5],[16,5,18,5],[19,5,21,5],[22,1,24,1],[22,2,24,2],[23,5,24,5],[25,1,33,1],[25,2,33,2],[25,5,27,5],[28,5,30,5],[31,5,33,5],[2,1,8,1],[2,2,8,2],[2,5,4,5],[5,5,6,5],[7,5,8,5],[9,1,12,1],[9,2,12,2],[9,5,10,5],[11,5,12,5],[133,5,138,5],[139,5,145,5],[146,5,152,5],[153,1,158,1],[153,2,158,2],[153,5,155,5],[156,5,158,5],[94,5,99,5],[100,5,107,5],[108,5,115,5],[116,1,126,1],[116,2,126,2],[116,5,118,5],[119,5,122,5],[123,5,126,5],[159,1,177,1],[159,2,177,2],[159,5,163,5],[164,5,170,5],[171,5,177,5],[178,1,198,1],[178,2,198,2],[178,5,182,5],[183,5,190,5],[191,5,198,5],[199,1,218,1],[199,2,218,2],[199,5,207,5],[208,5,218,5],[233,1,238,1],[233,2,238,2],[233,5,234,5],[235,5,236,5],[237,5,238,5],[219,1,224,1],[219,2,224,2],[219,5,221,5],[222,5,224,5],[225,1,230,1],[225,2,230,2],[225,5,227,5],[228,5,230,5],[231,1,232,1],[231,2,232,2],[239,1,241,1],[239,2,241,2],[242,1,248,1],[242,2,251,2],[242,5,244,5],[245,5,248,5],[249,1,251,1],[249,5,251,5],[309,1,311,1],[309,2,311,2],[312,1,314,1],[312,2,314,2],[296,1,305,1],[296,2,305,2],[296,5,298,5],[299,5,302,5],[303,5,305,5],[306,1,308,1],[306,2,308,2],[365,1,378,1],[365,2,371,2],[365,5,371,5],[372,2,378,2],[372,5,378,5],[315,1,332,1],[315,2,332,2],[315,5,323,5],[324,5,332,5],[333,1,346,1],[333,2,339,2],[333,5,339,5],[340,2,346,2],[340,5,346,5],[393,2,395,2],[393,5,395,5],[396,2,398,2],[396,5,398,5],[399,1,404,1],[399,2,401,2],[399,5,401,5],[402,2,404,2],[402,5,404,5],[222,19,222,21],[88,5,93,5],[88,1,115,1],[88,2,115,2],[127,5,132,5],[127,2,152,2],[129,1,152,1],[405,1,407,1],[405,2,407,2],[379,1,386,1],[379,2,386,2],[379,5,382,5],[383,5,386,5],[387,1,392,1],[387,2,389,2],[387,5,389,5],[390,2,392,2],[390,5,392,5],[347,1,364,1],[347,2,355,2],[347,5,355,5],[356,2,364,2],[356,5,364,5],[393,1,398,1]]}
[null,null,null,null,"Размер","Высота  \nмодуля",null,null,"Код изделия","МДФ\nмат.","МДФ\nглян.","МДФ\nметалл.","МДФ+ПАТИНА","БАГЕТНАЯ","БОСТОН\nПВХ/фот.печ.","БОСТОН \nЛАК","БОСТОН \nЭМАЛЬ"]
[null,"Шкафы навесные "]
[null,null,"Шкаф под посудосушитель 1дв ","Шкаф под посудосушитель 1дв ",400,"h 600","h 600",{"$f":"D3&\", размер: \"&E3&\", \"&G3","v":"Шкаф под посудосушитель 1дв , размер: 400, h 600"},"1315-40",960,1030,1070,{"$f":"0.0006*E3*3910+J3","v":1898.4},{"$f":"0.0006*E3*5010+J3","v":2162.3999999999996},{"$f":"0.0006*E3*3130+J3","v":1711.1999999999998},{"$f":"0.0006*E3*5110+J3","v":2186.3999999999996},{"$f":"0.0006*E3*8910+J3","v":3098.4}]
[null,null,null,"Шкаф под посудосушитель 1дв ",500,null,"h 600",{"$f":"D4&\", размер: \"&E4&\", \"&G4","v":"Шкаф под посудосушитель 1дв , размер: 500, h 600"},"1315-50",1120,1220,1260,{"$f":"0.0006*E4*3910+J4","v":2293},{"$f":"0.0006*E4*5010+J4","v":2623},{"$f":"0.0006*E4*3130+J4","v":2059},{"$f":"0.0006*E4*5110+J4","v":2653},{"$f":"0.0006*E4*8910+J4","v":3793}]
[null,null,null,"Шкаф под посудосушитель 1дв ",600,null,"h 600","Шкаф под посудосушитель 1дв , размер: 600, h 600","1315-60",1280,1400,1440,2687.6,3083.6,2406.8000000000002,3119.6,4487.6000000000004]
[null,null,null,"Шкаф под посудосушитель 1дв ",500,"h 720","h 720","Шкаф под посудосушитель 1дв , размер: 500, h 720","1309-50",1290,1410,1450,{"$f":"0.000716*E6*3910+J6","v":2689.7799999999997},{"$f":"0.00072*E6*5010+J6","v":3093.6000000000004},{"$f":"0.00072*E6*3130+J6","v":2416.8000000000002},{"$f":"0.00072*E6*5110+J6","v":3129.6000000000004},{"$f":"0.00072*E6*8910+J6","v":4497.6000000000004}]
[null,null,null,"Шкаф под посудосушитель 1дв ",600,null,"h 720","Шкаф под посудосушитель 1дв , размер: 600, h 720","1309-60",1440,1590,1650.0000000000002,{"$f":"0.000716*E7*3910+J7","v":3119.7359999999999},{"$f":"0.00072*E7*5010+J7","v":3604.32},{"$f":"0.00072*E7*3130+J7","v":2792.16},{"$f":"0.00072*E7*5110+J7","v":3647.5200000000004},{"$f":"0.00072*E7*8910+J7","v":5289.1200000000008}]
[null,null,null,"Шкаф под посудосушитель 1дв ",500,"h 920","h 920","Шкаф под посудосушитель 1дв , размер: 500, h 920","1310-50",1630,1780,1850,{"$f":"0.000916*E8*3910+J8","v":3420.7799999999997},{"$f":"0.00092*E8*5010+J8","v":3934.6},{"$f":"0.00092*E8*3130+J8","v":3069.8},{"$f":"0.00092*E8*5110+J8","v":3980.6},{"$f":"0.00092*E8*8910+J8","v":5728.6}]
[null,null,null,"Шкаф под посудосушитель 1дв ",600,null,"h 920","Шкаф под посудосушитель 1дв , размер: 600, h 920","1310-60",1850,2030,2120,{"$f":"0.000916*E9*3910+J9","v":3998.9359999999997},{"$f":"0.00092*E9*5010+J9","v":4615.5200000000004},{"$f":"0.00092*E9*3130+J9","v":3577.76},{"$f":"0.00092*E9*5110+J9","v":4670.72},{"$f":"0.00092*E9*8910+J9","v":6768.3200000000006}]
[null,null,"Шкаф под посудосушитель 1дв 1ст","Шкаф под посудосушитель 1дв 1ст",500,"h 720","h 720","Шкаф под посудосушитель 1дв 1ст, размер: 500, h 720","1309-50с",{"$f":"J144+186","v":1746},1866,1916,{"$f":"0.000716*E10*3910+J10","v":3145.7799999999997},{"$f":"0.00072*E10*5010+J10","v":3549.6000000000004},{"$f":"0.00072*E10*3130+J10","v":2872.8},{"$f":"0.00072*E10*5110+J10","v":3585.6000000000004},{"$f":"0.00072*E10*8910+J10","v":4953.6000000000004}]
[null,null,null,"Шкаф под посудосушитель 1дв 1ст",600,null,"h 720","Шкаф под посудосушитель 1дв 1ст, размер: 600, h 720","1309-60с",{"$f":"J146+215","v":1995},2155,2205,{"$f":"0.000716*E11*3910+J11","v":3674.7359999999999},{"$f":"0.00072*E11*5010+J11","v":4159.32},{"$f":"0.00072*E11*3130+J11","v":3347.16},{"$f":"0.00072*E11*5110+J11","v":4202.5200000000004},{"$f":"0.00072*E11*8910+J11","v":5844.1200000000008}]
[null,null,null,"Шкаф под посудосушитель 1дв 1ст",500,"h 920","h 920","Шкаф под посудосушитель 1дв 1ст, размер: 500, h 920","1310-50С",{"$f":"J151+186","v":2166},2316,2386,{"$f":"0.000916*E12*3910+J12","v":3956.7799999999997},{"$f":"0.00092*E12*5010+J12","v":4470.6000000000004},{"$f":"0.00092*E12*3130+J12","v":3605.8},{"$f":"0.00092*E12*5110+J12","v":4516.6000000000004},{"$f":"0.00092*E12*8910+J12","v":6264.6}]
[null,null,null,"Шкаф под посудосушитель 1дв 1ст",600,null,"h 920","Шкаф под посудосушитель 1дв 1ст, размер: 600, h 920","1310-60С",{"$f":"J153+215","v":2495},2675,2765,{"$f":"0.000916*E13*3910+J13","v":4643.9359999999997},{"$f":"0.00092*E13*5010+J13","v":5260.52},{"$f":"0.00092*E13*3130+J13","v":4222.76},{"$f":"0.00092*E13*5110+J13","v":5315.72},{"$f":"0.00092*E13*8910+J13","v":7413.3200000000006}]
[null,null,"Шкаф под посудосушитель 2дв.","Шкаф под посудосушитель 2дв.",600,"h 600","h 600","Шкаф под посудосушитель 2дв., размер: 600, h 600","1422-60",1310,1430.0000000000002,1470,{"$f":"0.000596*E14*3910+J14","v":2708.2159999999999},{"$f":"0.0006*E14*5010+J14","v":3113.6},{"$f":"0.0006*E14*3130+J14","v":2436.8000000000002},{"$f":"0.0006*E14*5110+J14","v":3149.6},{"$f":"0.0006*E14*8910+J14","v":4517.6000000000004}]
[null,null,null,"Шкаф под посудосушитель 2дв.",700,null,"h 600","Шкаф под посудосушитель 2дв., размер: 700, h 600","1422-70",1460,1610,1670,{"$f":"0.000596*E15*3910+J15","v":3091.252},{"$f":"0.0006*E15*5010+J15","v":3564.2},{"$f":"0.0006*E15*3130+J15","v":2774.6},{"$f":"0.0006*E15*5110+J15","v":3606.2},{"$f":"0.0006*E15*8910+J15","v":5202.2}]
[null,null,null,"Шкаф под посудосушитель 2дв.",800,null,"h 600","Шкаф под посудосушитель 2дв., размер: 800, h 600","1422-80",1610,1770,1840,3474.2879999999996,4014.7999999999997,3112.3999999999996,4062.7999999999997,5886.8]
[null,null,null,"Шкаф под посудосушитель 2дв.",600,"h 720","h 720","Шкаф под посудосушитель 2дв., размер: 600, h 720","1411-60",1480,1639.0000000000002,1690,{"$f":"0.000716*E17*3910+J17","v":3159.7359999999999},{"$f":"0.00072*E17*5010+J17","v":3644.32},{"$f":"0.00072*E17*3130+J17","v":2832.16},{"$f":"0.00072*E17*5110+J17","v":3687.5200000000004},{"$f":"0.00072*E17*8910+J17","v":5329.1200000000008}]
[null,null,null,"Шкаф под посудосушитель 2дв.",700,null,"h 720","Шкаф под посудосушитель 2дв., размер: 700, h 720","1411-70",1670,1840,1910,{"$f":"0.000716*E18*3910+J18","v":3629.692},{"$f":"0.00072*E18*5010+J18","v":4195.04},{"$f":"0.00072*E18*3130+J18","v":3247.52},{"$f":"0.00072*E18*5110+J18","v":4245.4400000000005},{"$f":"0.00072*E18*8910+J18","v":6160.64}]
[null,null,null,"Шкаф под посудосушитель 2дв.",800,null,"h 720","Шкаф под посудосушитель 2дв., размер: 800, h 720","1411-80",1840,2020,2110,4079.6479999999997,4725.76,3642.88,4783.3600000000006,6972.1600000000008]
[null,null,null,"Шкаф под посудосушитель 2дв.",600,"h 920","h 920","Шкаф под посудосушитель 2дв., размер: 600, h 920","1412-60",1880,2070,2140,{"$f":"0.000916*E20*3910+J20","v":4028.9359999999997},{"$f":"0.00092*E20*5010+J20","v":4645.5200000000004},{"$f":"0.00092*E20*3130+J20","v":3607.76},{"$f":"0.00092*E20*5110+J20","v":4700.72},{"$f":"0.00092*E20*8910+J20","v":6798.3200000000006}]
[null,null,null,"Шкаф под посудосушитель 2дв.",700,null,"h 920","Шкаф под посудосушитель 2дв., размер: 700, h 920","1412-80",2110,2330,2420,{"$f":"0.000916*E21*3910+J21","v":4617.0920000000006},{"$f":"0.00092*E21*5010+J21","v":5336.4400000000005},{"$f":"0.00092*E21*3130+J21","v":4125.72},{"$f":"0.00092*E21*5110+J21","v":5400.84},{"$f":"0.00092*E21*8910+J21","v":7848.04}]
[null,null,null,"Шкаф под посудосушитель 2дв.",800,null,"h 920","Шкаф под посудосушитель 2дв., размер: 800, h 920","1412-80",2340,2600,2690,5205.2479999999996,6027.3600000000006,4643.68,6100.96,8897.76]
[null,null,"Шкаф под посудосушитель 2дв.2ст.","Шкаф под посудосушитель 2дв.2ст.",600,"h 720","h 720","Шкаф под посудосушитель 2дв.2ст., размер: 600, h 720","1411-60С",{"$f":"J154+215","v":1995},2155,2205,{"$f":"0.000716*E23*3910+J23","v":3674.7359999999999},{"$f":"0.00072*E23*5010+J23","v":4159.32},{"$f":"0.00072*E23*3130+J23","v":3347.16},{"$f":"0.0006*E23*5110+J23","v":3834.6},{"$f":"0.00072*E23*8910+J23","v":5844.1200000000008}]
[null,null,null,"Шкаф под посудосушитель 2дв.2ст.",600,"h 920","h 920","Шкаф под посудосушитель 2дв.2ст., размер: 600, h 920","1412-60",{"$f":"J157+215","v":2465},2655,2735,{"$f":"0.000916*E24*3910+J24","v":4613.9359999999997},{"$f":"0.00092*E24*5010+J24","v":5230.5200000000004},{"$f":"0.00092*E24*3130+J24","v":4192.76},{"$f":"0.00092*E24*5110+J24","v":5285.72},{"$f":"0.00092*E24*8910+J24","v":7383.3200000000006}]
[null,null,null,"Шкаф под посудосушитель 2дв.2ст.",800,null,"h 920","Шкаф под посудосушитель 2дв.2ст., размер: 800, h 920","1412-80",{"$f":"J159+240","v":3130},3390,3480,{"$f":"0.000916*E25*3910+J25","v":5995.2479999999996},{"$f":"0.00092*E25*5010+J25","v":6817.3600000000006},{"$f":"0.00092*E25*3130+J25","v":5433.68},{"$f":"0.00092*E25*5110+J25","v":6890.96},{"$f":"0.00092*E25*8910+J25","v":9687.76}]
[null,null,"Шкаф (300) угл прямой (ФП 20)  Л/ПР","Шкаф (300) угл прямой (ФП 20) Н=600 Л/ПР",600,"h 600","h 600","Шкаф (300) угл прямой (ФП 20) Н=600 Л/ПР, размер: 600, h 600","1850-60",1790,1890,1990,{"$f":"0.0006*(600-300)*3910+J26","v":2493.8000000000002},{"$f":"0.0006*E26*5010+J26","v":3593.6},{"$f":"0.0006*E26*3130+J26","v":2916.8},{"$f":"0.0006*E26*5110+J26","v":3629.6},{"$f":"0.0006*(E26-300)*8910+J26","v":3393.8}]
[null,null,null,"Шкаф (300) угл прямой (ФП 20) Н=600 Л/ПР",700,null,"h 600","Шкаф (300) угл прямой (ФП 20) Н=600 Л/ПР, размер: 700, h 600","1850-70",1950,2050,2150,{"$f":"0.0006*(600-300)*3910+J27","v":2653.8},{"$f":"0.0006*E27*5010+J27","v":4054.2},{"$f":"0.0006*E27*3130+J27","v":3264.6},{"$f":"0.0006*E27*5110+J27","v":4096.2},{"$f":"0.0006*(E27-300)*8910+J27","v":4088.4}]
[null,null,null,"Шкаф (300) угл прямой (ФП 20) Н=600 Л/ПР",800,null,"h 600","Шкаф (300) угл прямой (ФП 20) Н=600 Л/ПР, размер: 800, h 600","1850-80",2110,2210,2310,2813.8,4514.7999999999993,3612.3999999999996,4562.7999999999993,4783]
[null,null,null,"Шкаф (300) угл прямой (ФП 20) Н=600 Л/ПР",600,"h 720","h 720","Шкаф (300) угл прямой (ФП 20) Н=600 Л/ПР, размер: 600, h 720","1851-60",1940,2040,2140,{"$f":"0.000716*(600-300)*3910+J29","v":2779.8679999999999},{"$f":"0.00072*E29*5010+J29","v":4104.32},{"$f":"0.00072*E29*3130+J29","v":3292.16},{"$f":"0.00072*E29*5110+J29","v":4147.5200000000004},{"$f":"0.00072*(E29-300)*8910+J29","v":3864.5600000000004}]
[null,null,null,"Шкаф (300) угл прямой (ФП 20) Н=600 Л/ПР",700,null,"h 720","Шкаф (300) угл прямой (ФП 20) Н=600 Л/ПР, размер: 700, h 720","1851-70",2110,2210,2310,{"$f":"0.000716*(600-300)*3910+J30","v":2949.8679999999999},{"$f":"0.00072*E30*5010+J30","v":4635.04},{"$f":"0.00072*E30*3130+J30","v":3687.52},{"$f":"0.00072*E30*5110+J30","v":4685.4400000000005},{"$f":"0.00072*(E30-300)*8910+J30","v":4676.08}]
[null,null,null,"Шкаф (300) угл прямой (ФП 20) Н=600 Л/ПР",800,null,"h 720","Шкаф (300) угл прямой (ФП 20) Н=600 Л/ПР, размер: 800, h 720","1851-80",2290,2390,2490,3129.8679999999999,5175.76,4092.88,5233.3600000000006,5497.6]
[null,null,null,"Шкаф (300) угл прямой (ФП 20) Н=600 Л/ПР",600,"h 920","h 920","Шкаф (300) угл прямой (ФП 20) Н=600 Л/ПР, размер: 600, h 920","1852-60",2280,2380,2480,{"$f":"0.000916*(E32-300)*3910+J32","v":3354.4679999999998},{"$f":"0.00092*E32*5010+J32","v":5045.5200000000004},{"$f":"0.00092*E32*3130+J32","v":4007.76},{"$f":"0.00092*E32*5110+J32","v":5100.72},{"$f":"0.00092*E32*8910+J32","v":7198.3200000000006}]
[null,null,null,"Шкаф (300) угл прямой (ФП 20) Н=600 Л/ПР",700,null,"h 920","Шкаф (300) угл прямой (ФП 20) Н=600 Л/ПР, размер: 700, h 920","1852-70",2510,2610,2710,{"$f":"0.000916*(E33-300)*3910+J33","v":3942.6239999999998},{"$f":"0.00092*E33*5010+J33","v":5736.4400000000005},{"$f":"0.00092*E33*3130+J33","v":4525.72},{"$f":"0.00092*E33*5110+J33","v":5800.84},{"$f":"0.00092*E33*8910+J33","v":8248.0400000000009}]
[null,null,null,"Шкаф (300) угл прямой (ФП 20) Н=600 Л/ПР",800,null,"h 920","Шкаф (300) угл прямой (ФП 20) Н=600 Л/ПР, размер: 800, h 920","1852-80",2740,2840,2940,4530.78,6427.3600000000006,5043.68,6500.96,9297.76]
[null,null,"Шкаф антресольный","Шкаф антресольный",400,"h 300","h 300","Шкаф антресольный, размер: 400, h 300","1311-40",{"$f":"J44-20","v":750.00000000000011},810,830,{"$f":"0.0003*E35*3910+J35","v":1219.2},{"$f":"0.0003*E35*5010+J35","v":1351.2},{"$f":"0.0003*E35*3130+J35","v":1125.6000000000001},{"$f":"0.0003*E35*5110+J35","v":1363.2},{"$f":"0.0003*E35*8910+J35","v":1819.2000000000003}]
[null,null,null,"Шкаф антресольный",450,null,"h 300","Шкаф антресольный, размер: 450, h 300","1311-45",{"$f":"J45-20","v":830},880,880,{"$f":"0.0003*E36*3910+J36","v":1357.85},{"$f":"0.0003*E36*5010+J36","v":1506.35},{"$f":"0.0003*E36*3130+J36","v":1252.55},{"$f":"0.0003*E36*5110+J36","v":1519.85},{"$f":"0.0003*E36*8910+J36","v":2032.85}]
[null,null,null,"Шкаф антресольный",500,null,"h 300","Шкаф антресольный, размер: 500, h 300","1311-50",860.00000000000011,910,940,1446.5,1611.5,1329.5,1626.5,2196.5]
[null,null,null,"Шкаф антресольный",550,null,"h 300","Шкаф антресольный, размер: 550, h 300","1311-55",930,990,1030,1575.15,1756.6499999999999,1446.4499999999998,1773.1499999999999,2400.1499999999996]
[null,null,null,"Шкаф антресольный",600,null,"h 300","Шкаф антресольный, размер: 600, h 300","1311-60",960,1040,1070,1663.8,1861.8,1523.4,1879.8,2563.8000000000002]
[null,null,null,"Шкаф антресольный",650,null,"h 300","Шкаф антресольный, размер: 650, h 300","1311-65",1130,1180,1230,1892.4499999999998,2106.9499999999998,1740.35,2126.4499999999998,2867.45]
[null,null,null,"Шкаф антресольный",700,null,"h 300","Шкаф антресольный, размер: 700, h 300","1311-70",1160,1230,1280,1981.1,2212.1,1817.3,2233.1,3031.1]
[null,null,null,"Шкаф антресольный",750,null,"h 300","Шкаф антресольный, размер: 750, h 300","1311-75",1230,1330,1350,2109.75,2357.25,1934.25,2379.75,3234.75]
[null,null,null,"Шкаф антресольный",800,null,"h 300","Шкаф антресольный, размер: 800, h 300","1311-80",1260,1360,1390,2198.4,2462.3999999999996,2011.1999999999998,2486.3999999999996,3398.4]
[null,null,null,"Шкаф антресольный",400,"h 360","h 360","Шкаф антресольный, размер: 400, h 360","1311-40",770.00000000000011,830,850,{"$f":"0.000396*E44*3910+J44","v":1389.3440000000001},{"$f":"0.00036*E44*5010+J44","v":1491.44},{"$f":"0.00036*E44*3130+J44","v":1220.7200000000003},{"$f":"0.00036*E44*5110+J44","v":1505.8400000000001},{"$f":"0.00036*E44*8910+J44","v":2053.0400000000004}]
[null,null,null,"Шкаф антресольный",450,null,"h 360","Шкаф антресольный, размер: 450, h 360","1311-45",850,900,900,{"$f":"0.000396*E45*3910+J45","v":1546.7619999999999},{"$f":"0.00036*E45*5010+J45","v":1661.62},{"$f":"0.00036*E45*3130+J45","v":1357.06},{"$f":"0.00036*E45*5110+J45","v":1677.8200000000002},{"$f":"0.00036*E45*8910+J45","v":2293.42}]
[null,null,null,"Шкаф антресольный",500,null,"h 360","Шкаф антресольный, размер: 500, h 360","1311-50",880.00000000000011,930,960,1654.18,1781.8000000000002,1443.4,1799.8000000000002,2483.8000000000002]
[null,null,null,"Шкаф антресольный",550,null,"h 360","Шкаф антресольный, размер: 550, h 360","1311-55",950,1010,1050,1801.598,1941.98,1569.74,1961.7800000000002,2714.1800000000003]
[null,null,null,"Шкаф антресольный",600,null,"h 360","Шкаф антресольный, размер: 600, h 360","1311-60",980,1060,1090,1909.0160000000001,2062.16,1656.08,2083.7600000000002,2904.5600000000004]
[null,null,null,"Шкаф антресольный",650,null,"h 360","Шкаф антресольный, размер: 650, h 360","1311-65",1150,1200,1250,2156.4339999999997,2322.34,1882.42,2345.7399999999998,3234.94]
[null,null,null,"Шкаф антресольный",700,null,"h 360","Шкаф антресольный, размер: 700, h 360","1311-70",1180,1250,1300,2263.8519999999999,2442.52,1968.76,2467.7200000000003,3425.32]
[null,null,null,"Шкаф антресольный",750,null,"h 360","Шкаф антресольный, размер: 750, h 360","1311-75",1250,1350,1370,2411.27,2602.6999999999998,2095.1,2629.7,3655.7000000000003]
[null,null,null,"Шкаф антресольный",800,null,"h 360","Шкаф антресольный, размер: 800, h 360","1311-80",1280,1380,1410,2518.6880000000001,2722.88,2181.44,2751.6800000000003,3846.0800000000004]
[null,null,null,"Шкаф антресольный",400,"h 400","h 400","Шкаф антресольный, размер: 400, h 400","1312-40",{"$f":"J62-20","v":904.00000000000011},976,1000,{"$f":"0.0004*E53*3910+J53","v":1529.6000000000001},{"$f":"0.0004*E53*5010+J53","v":1705.6000000000001},{"$f":"0.0004*E53*3130+J53","v":1404.8000000000002},{"$f":"0.0004*E53*5110+J53","v":1721.6000000000001},{"$f":"0.0004*E53*8910+J53","v":2329.6000000000004}]
[null,null,null,"Шкаф антресольный",450,null,"h 400","Шкаф антресольный, размер: 450, h 400","1312-45",{"$f":"J63-20","v":1000},1060,1080,{"$f":"0.0004*E54*3910+J54","v":1703.8000000000002},{"$f":"0.0004*E54*5010+J54","v":1901.8000000000002},{"$f":"0.0004*E54*3130+J54","v":1563.4},{"$f":"0.0004*E54*5110+J54","v":1919.8000000000002},{"$f":"0.0004*E54*8910+J54","v":2603.8000000000002}]
[null,null,null,"Шкаф антресольный",500,null,"h 400","Шкаф антресольный, размер: 500, h 400","1312-50",1036.0000000000002,1096,1132,1818.0000000000002,2038.0000000000002,1662.0000000000002,2058,2818]
[null,null,null,"Шкаф антресольный",550,null,"h 400","Шкаф антресольный, размер: 550, h 400","1312-55",1120,1192,1240,1980.2,2222.1999999999998,1808.6,2244.1999999999998,3080.2]
[null,null,null,"Шкаф антресольный",600,null,"h 400","Шкаф антресольный, размер: 600, h 400","1312-60",1156,1252,1288,2094.4,2358.4,1907.2,2382.4,3294.4]
[null,null,null,"Шкаф антресольный",650,null,"h 400","Шкаф антресольный, размер: 650, h 400","1312-65",1360,1420,1480,2376.6,2662.6000000000004,2173.8000000000002,2688.6000000000004,3676.6]
[null,null,null,"Шкаф антресольный",700,null,"h 400","Шкаф антресольный, размер: 700, h 400","1312-70",1396,1480,1540,2490.8000000000002,2798.8,2272.4,2826.8,3890.8]
[null,null,null,"Шкаф антресольный",750,null,"h 400","Шкаф антресольный, размер: 750, h 400","1312-75",1480,1600,1624,2653,2983,2419,3013,4153]
[null,null,null,"Шкаф антресольный",800,null,"h 400","Шкаф антресольный, размер: 800, h 400","1312-80",1516,1636,1672,2767.2,3119.2,2517.6,3151.2,4367.2000000000007]
[null,null,null,"Шкаф антресольный",400,"h 460","h 460","Шкаф антресольный, размер: 400, h 460","1312-40",{"$f":"J44*0.2+J44","v":924.00000000000011},996,1020,{"$f":"0.00046*E62*3910+J62","v":1643.44},{"$f":"0.00046*E62*5010+J62","v":1845.8400000000001},{"$f":"0.00046*E62*3130+J62","v":1499.92},{"$f":"0.00046*E62*5110+J62","v":1864.2400000000002},{"$f":"0.00046*E62*8910+J62","v":2563.44}]
[null,null,null,"Шкаф антресольный",450,null,"h 460","Шкаф антресольный, размер: 450, h 460","1312-45",1020,1080,1100,{"$f":"0.00046*E63*3910+J63","v":1829.3700000000001},{"$f":"0.00046*E63*5010+J63","v":2057.0700000000002},{"$f":"0.00046*E63*3130+J63","v":1667.91},{"$f":"0.00046*E63*5110+J63","v":2077.77},{"$f":"0.00046*E63*8910+J63","v":2864.37}]
[null,null,null,"Шкаф антресольный",500,null,"h 460","Шкаф антресольный, размер: 500, h 460","1312-50",1056.0000000000002,1116,1152,1955.3000000000002,2208.3000000000002,1775.9,2231.3000000000002,3105.3]
[null,null,null,"Шкаф антресольный",550,null,"h 460","Шкаф антресольный, размер: 550, h 460","1312-55",1140,1212,1260,2129.23,2407.5299999999997,1931.8899999999999,2432.83,3394.23]
[null,null,null,"Шкаф антресольный",600,null,"h 460","Шкаф антресольный, размер: 600, h 460","1312-60",1176,1272,1308,2255.16,2558.7600000000002,2039.88,2586.36,3635.1600000000003]
[null,null,null,"Шкаф антресольный",650,null,"h 460","Шкаф антресольный, размер: 650, h 460","1312-65",1380,1440,1500,2549.09,2877.99,2315.87,2907.89,4044.0899999999997]
[null,null,null,"Шкаф антресольный",700,null,"h 460",{"$f":"D68&\", размер: \"&E68&\", \"&G68","v":"Шкаф антресольный, размер: 700, h 460"},"1312-70",1416,1500,1560,2675.02,3029.2200000000003,2423.86,3061.42,4285.0200000000004]
[null,null,null,"Шкаф антресольный",750,null,"h 460","Шкаф антресольный, размер: 750, h 460","1312-75",1500,1620,1644,2848.95,3228.45,2579.8500000000004,3262.95,4573.9500000000007]
[null,null,null,"Шкаф антресольный",800,null,"h 460","Шкаф антресольный, размер: 800, h 460","1312-80",1536,1656,1692,2974.88,3379.6800000000003,2687.84,3416.48,4814.88]
[null,null,"Шкаф антресольный стекло","Шкаф антресольный стекло",400,"h 360","h 360","Шкаф антресольный стекло, размер: 400, h 360","1311-40с",860,910,930,{"$f":"0.00036*E71*3910+J71","v":1423.04},{"$f":"0.00036*E71*5010+J71","v":1581.44},{"$f":"0.00036*E71*3130+J71","v":1310.72},{"$f":"0.00036*E71*5110+J71","v":1595.8400000000001},{"$f":"0.00036*E71*8910+J71","v":2143.04}]
[null,null,null,"Шкаф антресольный стекло",450,null,"h 360","Шкаф антресольный стекло, размер: 450, h 360","1311-45с",950,1030,1050,{"$f":"0.00036*E72*3910+J72","v":1583.42},{"$f":"0.00036*E72*5010+J72","v":1761.62},{"$f":"0.00036*E72*3130+J72","v":1457.06},{"$f":"0.00036*E72*5110+J72","v":1777.8200000000002},{"$f":"0.00036*E72*8910+J72","v":2393.42}]
[null,null,null,"Шкаф антресольный стекло",500,null,"h 360","Шкаф антресольный стекло, размер: 500, h 360","1311-50с",990.00000000000011,1050,1070,1693.8000000000002,1891.8000000000002,1553.4,1909.8000000000002,2593.8000000000002]
[null,null,null,"Шкаф антресольный стекло",550,null,"h 360","Шкаф антресольный стекло, размер: 550, h 360","1311-55с",1080,1150,1200,1854.18,2071.98,1699.74,2091.7800000000002,2844.1800000000003]
[null,null,null,"Шкаф антресольный стекло",600,null,"h 360","Шкаф антресольный стекло, размер: 600, h 360","1311-60с",1110,1190,1220,1954.56,2192.16,1786.08,2213.7600000000002,3034.5600000000004]
[null,null,null,"Шкаф антресольный стекло",650,null,"h 360","Шкаф антресольный стекло, размер: 650, h 360","1311-65с",1200,1300,1320,2114.94,2372.34,1932.42,2395.7399999999998,3284.94]
[null,null,null,"Шкаф антресольный стекло",700,null,"h 360","Шкаф антресольный стекло, размер: 700, h 360","1311-70с",1250,1330,1370,2235.3200000000002,2512.52,2038.76,2537.7200000000003,3495.32]
[null,null,null,"Шкаф антресольный стекло",750,null,"h 360","Шкаф антресольный стекло, размер: 750, h 360","1311-75с",1350,1450,1480,2405.6999999999998,2702.7,2195.1,2729.7,3755.7000000000003]
[null,null,null,"Шкаф антресольный стекло",800,null,"h 360","Шкаф антресольный стекло, размер: 800, h 360","1311-80с",1370,1470,1510,2496.08,2812.88,2271.44,2841.6800000000003,3936.0800000000004]
[null,null,null,"Шкаф антресольный стекло",400,"h 460","h 460","Шкаф антресольный стекло, размер: 400, h 460","1312-40с",{"$f":"J71*0.2+J71","v":1032},1092,1116,{"$f":"0.00046*E80*3910+J80","v":1751.44},{"$f":"0.00046*E80*5010+J80","v":1953.8400000000001},{"$f":"0.00046*E80*3130+J80","v":1607.92},{"$f":"0.00046*E80*5110+J80","v":1972.24},{"$f":"0.00046*E80*8910+J80","v":2671.44}]
[null,null,null,"Шкаф антресольный стекло",450,null,"h 460","Шкаф антресольный стекло, размер: 450, h 460","1312-45с",1140,1236,1260,{"$f":"0.00046*E81*3910+J81","v":1949.3700000000001},{"$f":"0.00046*E81*5010+J81","v":2177.0700000000002},{"$f":"0.00046*E81*3130+J81","v":1787.91},{"$f":"0.00046*E81*5110+J81","v":2197.77},{"$f":"0.00046*E81*8910+J81","v":2984.37}]
[null,null,null,"Шкаф антресольный стекло",500,null,"h 460","Шкаф антресольный стекло, размер: 500, h 460","1312-50с",1188.0000000000002,1260,1284,2087.3000000000002,2340.3000000000002,1907.9,2363.3000000000002,3237.3]
[null,null,null,"Шкаф антресольный стекло",550,null,"h 460","Шкаф антресольный стекло, размер: 550, h 460","1312-55с",1296,1380,1440,2285.23,2563.5299999999997,2087.89,2588.83,3550.23]
[null,null,null,"Шкаф антресольный стекло",600,null,"h 460","Шкаф антресольный стекло, размер: 600, h 460","1312-60с",1332,1428,1464,2411.16,2714.76,2195.88,2742.36,3791.1600000000003]
[null,null,null,"Шкаф антресольный стекло",650,null,"h 460","Шкаф антресольный стекло, размер: 650, h 460","1312-65с",1440,1560,1584,2609.09,2937.99,2375.87,2967.89,4104.09]
[null,null,null,"Шкаф антресольный стекло",700,null,"h 460","Шкаф антресольный стекло, размер: 700, h 460","1312-70с",1500,1596,1644,2759.02,3113.2200000000003,2507.86,3145.42,4369.0200000000004]
[null,null,null,"Шкаф антресольный стекло",750,null,"h 460","Шкаф антресольный стекло, размер: 750, h 460","1312-75с",1620,1740,1776,2968.95,3348.45,2699.8500000000004,3382.95,4693.9500000000007]
[null,null,null,"Шкаф антресольный стекло",800,null,"h 460","Шкаф антресольный стекло, размер: 800, h 460","1312-80с",1644,1764,1812,3082.88,3487.6800000000003,2795.84,3524.48,4922.88]
[null,null,"Шкаф настенный 1д","Шкаф настенный 1д",300,"h540","h 540",{"$f":"D89&\", размер: \"&E89&\", \"&G89","v":"Шкаф настенный 1д, размер: 300, h 540"},"1318-30",800,850,900,{"$f":"0.00054*E89*3910+J89","v":1433.42},{"$f":"0.00054*E89*5010+J89","v":1611.62},{"$f":"0.00054*E89*3130+J89","v":1307.06},{"$f":"0.00054*E89*5110+J89","v":1627.8200000000002},{"$f":"0.00054*E89*8910+J89","v":2243.42}]
[null,null,null,"Шкаф настенный 1д",350,null,"h 540","Шкаф настенный 1д, размер: 350, h 540","1318-35",900,950,1000,{"$f":"0.00054*E90*3910+J90","v":1638.99},{"$f":"0.00054*E90*5010+J90","v":1846.8899999999999},{"$f":"0.00054*E90*3130+J90","v":1491.5700000000002},{"$f":"0.00054*E90*5110+J90","v":1865.79},{"$f":"0.00054*E90*8910+J90","v":2583.9899999999998}]
[null,null,null,"Шкаф настенный 1д",400,null,"h 540","Шкаф настенный 1д, размер: 400, h 540","1318-40",950,1050,1070,1794.56,2032.16,1626.08,2053.7600000000002,2874.56]
[null,null,null,"Шкаф настенный 1д",450,null,"h 540","Шкаф настенный 1д, размер: 450, h 540","1318-45",1050,1100,1170,2000.13,2267.4300000000003,1810.5900000000001,2291.73,3215.13]
[null,null,null,"Шкаф настенный 1д",500,null,"h 540","Шкаф настенный 1д, размер: 500, h 540","1318-50",1100,1200,1230,2155.6999999999998,2452.6999999999998,1945.1,2479.6999999999998,3505.7000000000003]
[null,null,null,"Шкаф настенный 1д",600,null,"h 540","Шкаф настенный 1д, размер: 600, h 540","1318-60",1240,1350,1420,2506.84,2863.24,2254.12,2895.6400000000003,4126.84]
[null,null,null,"Шкаф настенный 1д",300,"h 600","h 600","Шкаф настенный 1д, размер: 300, h 600","1316-30",870,920,950,{"$f":"0.0006*E95*3910+J95","v":1573.8},{"$f":"0.0006*E95*5010+J95","v":1771.8},{"$f":"0.0006*E95*3130+J95","v":1433.4},{"$f":"0.0006*E95*5110+J95","v":1789.8},{"$f":"0.0006*E95*8910+J95","v":2473.8000000000002}]
[null,null,null,"Шкаф настенный 1д",350,null,"h 600","Шкаф настенный 1д, размер: 350, h 600","1316-35",950,1010,1050,{"$f":"0.0006*E96*3910+J96","v":1771.1},{"$f":"0.0006*E96*5010+J96","v":2002.1},{"$f":"0.0006*E96*3130+J96","v":1607.3},{"$f":"0.0006*E96*5110+J96","v":2023.1},{"$f":"0.0006*E96*8910+J96","v":2821.1}]
[null,null,null,"Шкаф настенный 1д",400,null,"h 600","Шкаф настенный 1д, размер: 400, h 600","1316-40",1020,1100,1130,1958.4,2222.3999999999996,1771.1999999999998,2246.3999999999996,3158.4]
[null,null,null,"Шкаф настенный 1д",450,null,"h 600","Шкаф настенный 1д, размер: 450, h 600","1316-45",1110,1200,1240,2165.6999999999998,2462.6999999999998,1955.1,2489.6999999999998,3515.7]
[null,null,null,"Шкаф настенный 1д",500,null,"h 600","Шкаф настенный 1д, размер: 500, h 600","1316-50",1200,1300,1340,2373,2703,2139,2733,3873]
[null,null,null,"Шкаф настенный 1д",600,null,"h 600","Шкаф настенный 1д, размер: 600, h 600","1316-60",1360,1490,1530,2767.6,3163.6,2486.8000000000002,3199.6,4567.6000000000004]
[null,null,null,"Шкаф настенный 1д",200,"h 720","h 720","Шкаф настенный 1д, размер: 200, h 720","1301-20",780,840,860,{"$f":"0.00072*E101*3910+J101","v":1343.04},{"$f":"0.00072*E101*5010+J101","v":1501.44},{"$f":"0.00072*E101*3130+J101","v":1230.72},{"$f":"0.00072*E101*5110+J101","v":1515.8400000000001},{"$f":"0.00072*E101*8910+J101","v":2063.04}]
[null,null,null,"Шкаф настенный 1д",300,null,"h 720","Шкаф настенный 1д, размер: 300, h 720","1301-30",960,1030,1070,{"$f":"0.00072*E102*3910+J102","v":1804.56},{"$f":"0.00072*E102*5010+J102","v":2042.16},{"$f":"0.00072*E102*3130+J102","v":1636.08},{"$f":"0.00072*E102*5110+J102","v":2063.7600000000002},{"$f":"0.00072*E102*8910+J102","v":2884.5600000000004}]
[null,null,null,"Шкаф настенный 1д",350,null,"h 720","Шкаф настенный 1д, размер: 350, h 720","1301-35",1070,1140,1190,2055.3200000000002,2332.52,1858.76,2357.7200000000003,3315.32]
[null,null,null,"Шкаф настенный 1д",400,null,"h 720","Шкаф настенный 1д, размер: 400, h 720","1301-40",1170,1270,1300,2296.08,2612.88,2071.44,2641.6800000000003,3736.0800000000004]
[null,null,null,"Шкаф настенный 1д",450,null,"h 720","Шкаф настенный 1д, размер: 450, h 720","1301-45",1262,1370,1420,2528.84,2885.24,2276.12,2917.6400000000003,4148.84]
[null,null,null,"Шкаф настенный 1д",500,null,"h 720","Шкаф настенный 1д, размер: 500, h 720","1301-50",1352,1470,1520,2759.6000000000004,3155.6000000000004,2478.8000000000002,3191.6000000000004,4559.6000000000004]
[null,null,null,"Шкаф настенный 1д",550,null,"h 720","Шкаф настенный 1д, размер: 550, h 720","1301-55",1500,1650,1700,3048.36,3483.96,2739.48,3523.5600000000004,5028.3600000000006]
[null,null,null,"Шкаф настенный 1д",600,null,"h 720","Шкаф настенный 1д, размер: 600, h 720","1301-60",1520,1670,1730,3209.12,3684.32,2872.16,3727.5200000000004,5369.1200000000008]
[null,null,null,"Шкаф настенный 1д",200,"h 920","h 920","Шкаф настенный 1д, размер: 200, h 920","1305-20",1130,1250,1280,{"$f":"0.000916*E109*3910+J109","v":1846.3119999999999},{"$f":"0.00092*E109*5010+J109","v":2051.84},{"$f":"0.00092*E109*3130+J109","v":1705.92},{"$f":"0.00092*E109*5110+J109","v":2070.2399999999998},{"$f":"0.00092*E109*8910+J109","v":2769.44}]
[null,null,null,"Шкаф настенный 1д",300,null,"h 920","Шкаф настенный 1д, размер: 300, h 920","1305-30",1190,1280,1320,{"$f":"0.000916*E110*3910+J110","v":2264.4679999999998},{"$f":"0.00092*E110*5010+J110","v":2572.7600000000002},{"$f":"0.00092*E110*3130+J110","v":2053.88},{"$f":"0.00092*E110*5110+J110","v":2600.36},{"$f":"0.00092*E110*8910+J110","v":3649.1600000000003}]
[null,null,null,"Шкаф настенный 1д",350,null,"h 920","Шкаф настенный 1д, размер: 350, h 920","1305-35",1330,1440,1480,2583.5460000000003,2943.2200000000003,2337.86,2975.42,4199.0200000000004]
[null,null,null,"Шкаф настенный 1д",400,null,"h 920","Шкаф настенный 1д, размер: 400, h 920","1305-40",1440,1560,1620,2872.6239999999998,3283.6800000000003,2591.84,3320.48,4718.88]
[null,null,null,"Шкаф настенный 1д",450,null,"h 920","Шкаф настенный 1д, размер: 450, h 920","1305-45",1560,1700,1760.0000000000002,3171.7020000000002,3634.1400000000003,2855.82,3675.54,5248.74]
[null,null,null,"Шкаф настенный 1д",500,null,"h 920","Шкаф настенный 1д, размер: 500, h 920","1305-50",1690,1850,1910,3480.7799999999997,3994.6,3129.8,4040.6,5788.6]
[null,null,null,"Шкаф настенный 1д",550,null,"h 920","Шкаф настенный 1д, размер: 550, h 920","1305-55",1870,2050,2100,3839.8580000000002,4405.0599999999995,3453.7799999999997,4455.66,6378.46]
[null,null,null,"Шкаф настенный 1д",600,null,"h 920","Шкаф настенный 1д, размер: 600, h 920","1305-60",1920,2110,2200,4068.9359999999997,4685.5200000000004,3647.76,4740.72,6838.3200000000006]
[null,null,"Шкаф настенный 2д","Шкаф настенный 2д",600,"h 600","h 600","Шкаф настенный 2д, размер: 600, h 600","1423-60",1400,1520,1560,{"$f":"0.0006*E117*3910+J117","v":2807.6},{"$f":"0.0006*E117*5010+J117","v":3203.6},{"$f":"0.0006*E117*3130+J117","v":2526.8000000000002},{"$f":"0.0006*E117*5110+J117","v":3239.6},{"$f":"0.0006*E117*8910+J117","v":4607.6000000000004}]
[null,null,null,"Шкаф настенный 2д",700,null,"h 600","Шкаф настенный 2д, размер: 700, h 600","1423-70",1560,1700,1770,{"$f":"0.0006*E118*3910+J118","v":3202.2},{"$f":"0.0006*E118*5010+J118","v":3664.2},{"$f":"0.0006*E118*3130+J118","v":2874.6},{"$f":"0.0006*E118*5110+J118","v":3706.2},{"$f":"0.0006*E118*8910+J118","v":5302.2}]
[null,null,null,"Шкаф настенный 2д",800,null,"h 600","Шкаф настенный 2д, размер: 800, h 600","1423-80",1730,1890,1960,3606.8,4134.7999999999993,3232.3999999999996,4182.7999999999993,6006.8]
[null,null,null,"Шкаф настенный 2д",500,"h 720","h 720","Шкаф настенный 2д, размер: 500, h 720","1401-50",1390,1510,1550,{"$f":"0.000716*E120*3910+J120","v":2789.7799999999997},{"$f":"0.00072*E120*5010+J120","v":3193.6000000000004},{"$f":"0.00072*E120*3130+J120","v":2516.8000000000002},{"$f":"0.00072*E120*5110+J120","v":3229.6000000000004},{"$f":"0.00072*E120*8910+J120","v":4597.6000000000004}]
[null,null,null,"Шкаф настенный 2д",600,null,"h 720","Шкаф настенный 2д, размер: 600, h 720","1401-60",1560,1720,1770,{"$f":"0.000716*E121*3910+J121","v":3239.7359999999999},{"$f":"0.00072*E121*5010+J121","v":3724.32},{"$f":"0.00072*E121*3130+J121","v":2912.16},{"$f":"0.00072*E121*5110+J121","v":3767.5200000000004},{"$f":"0.00072*E121*8910+J121","v":5409.1200000000008}]
[null,null,null,"Шкаф настенный 2д",700,null,"h 720","Шкаф настенный 2д, размер: 700, h 720","1401-70",1790,1960,2030,3749.692,4315.04,3367.52,4365.4400000000005,6280.64]
[null,null,null,"Шкаф настенный 2д",800,null,"h 720","Шкаф настенный 2д, размер: 800, h 720","1401-80",1970,2160,2240,4209.6479999999992,4855.76,3772.88,4913.3600000000006,7102.1600000000008]
[null,null,null,"Шкаф настенный 2д",500,"h 920","h 920","Шкаф настенный 2д, размер: 500, h 920","1406-50",1730,1880,1950,{"$f":"0.000916*E124*3910+J124","v":3520.7799999999997},{"$f":"0.00092*E124*5010+J124","v":4034.6},{"$f":"0.00092*E124*3130+J124","v":3169.8},{"$f":"0.00092*E124*5110+J124","v":4080.6},{"$f":"0.00092*E124*8910+J124","v":5828.6}]
[null,null,null,"Шкаф настенный 2д",600,null,"h 920","Шкаф настенный 2д, размер: 600, h 920","1406-60",1960,2140,2220,{"$f":"0.000916*E125*3910+J125","v":4108.9359999999997},{"$f":"0.00092*E125*5010+J125","v":4725.5200000000004},{"$f":"0.00092*E125*3130+J125","v":3687.76},{"$f":"0.00092*E125*5110+J125","v":4780.72},{"$f":"0.00092*E125*8910+J125","v":6878.3200000000006}]
[null,null,null,"Шкаф настенный 2д",700,null,"h 920","Шкаф настенный 2д, размер: 700, h 920","1406-70",2210,2430,2520,4717.0920000000006,5436.4400000000005,4225.72,5500.84,7948.04]
[null,null,null,"Шкаф настенный 2д",800,null,"h 920","Шкаф настенный 2д, размер: 800, h 920","1406-80",2450,2710,2800,5315.2479999999996,6137.3600000000006,4753.68,6210.96,9007.76]
[null,null,"Шкаф настенный 1д 1 стекло","Шкаф настенный 1д 1 стекло",300,"h 540","h 540",{"$f":"D128&\", размер: \"&E128&\", \"&G128","v":"Шкаф настенный 1д 1 стекло, размер: 300, h 540"},"1318-30с",960,100,1030,{"$f":"0.00054*E128*3910+J128","v":1593.42},{"$f":"0.00054*E128*5010+J128","v":1771.62},{"$f":"0.00054*E128*3130+J128","v":1467.06},{"$f":"0.00054*E128*5110+J128","v":1787.8200000000002},{"$f":"0.00054*E128*8910+J128","v":2403.42}]
[null,null,null,"Шкаф настенный 1д 1 стекло",350,null,"h 540","Шкаф настенный 1д 1 стекло, размер: 350, h 540","1318-35с",1070,1125,1160,{"$f":"0.00054*E129*3910+J129","v":1808.99},{"$f":"0.00054*E129*5010+J129","v":2016.8899999999999},{"$f":"0.00054*E129*3130+J129","v":1661.5700000000002},{"$f":"0.00054*E129*5110+J129","v":2035.79},{"$f":"0.00054*E129*8910+J129","v":2753.99}]
[null,null,null,"Шкаф настенный 1д 1 стекло",400,null,"h 540","Шкаф настенный 1д 1 стекло, размер: 400, h 540","1318-40с",1035,1100,1130,1879.56,2117.16,1711.08,2138.7600000000002,2959.56]
[null,null,null,"Шкаф настенный 1д 1 стекло",450,null,"h 540","Шкаф настенный 1д 1 стекло, размер: 450, h 540","1318-45с",1130,1215,1260,2080.13,2347.4300000000003,1890.5900000000001,2371.73,3295.13]
[null,null,null,"Шкаф настенный 1д 1 стекло",500,null,"h 540","Шкаф настенный 1д 1 стекло, размер: 500, h 540","1318-50с",1230,1320,1370,2285.6999999999998,2582.6999999999998,2075.1,2609.6999999999998,3635.7000000000003]
[null,null,null,"Шкаф настенный 1д 1 стекло",600,null,"h 540","Шкаф настенный 1д 1 стекло, размер: 600, h 540","1318-60с",1420,1530,1575,2686.84,3043.24,2434.12,3075.6400000000003,4306.84]
[null,null,null,"Шкаф настенный 1д 1 стекло",300,"h 600","h 600","Шкаф настенный 1д 1 стекло, размер: 300, h 600","1316-30с",1070,1120,1140,{"$f":"0.0006*E134*3910+J134","v":1773.8},{"$f":"0.0006*E134*5010+J134","v":1971.8},{"$f":"0.0006*E134*3130+J134","v":1633.4},{"$f":"0.0006*E134*5110+J134","v":1989.8},{"$f":"0.0006*E134*8910+J134","v":2673.8}]
[null,null,null,"Шкаф настенный 1д 1 стекло",350,null,"h 600","Шкаф настенный 1д 1 стекло, размер: 350, h 600","1316-35с",1190,1250,1290,{"$f":"0.0006*E135*3910+J135","v":2011.1},{"$f":"0.0006*E135*5010+J135","v":2242.1},{"$f":"0.0006*E135*3130+J135","v":1847.3},{"$f":"0.0006*E135*5110+J135","v":2263.1},{"$f":"0.0006*E135*8910+J135","v":3061.1}]
[null,null,null,"Шкаф настенный 1д 1 стекло",400,null,"h 600","Шкаф настенный 1д 1 стекло, размер: 400, h 600","1316-40с",1150,1230,1260,2088.4,2352.3999999999996,1901.1999999999998,2376.3999999999996,3288.4]
[null,null,null,"Шкаф настенный 1д 1 стекло",450,null,"h 600","Шкаф настенный 1д 1 стекло, размер: 450, h 600","1316-45с",1260,1350,1400,2315.6999999999998,2612.6999999999998,2105.1,2639.7,3665.7]
[null,null,null,"Шкаф настенный 1д 1 стекло",500,null,"h 600","Шкаф настенный 1д 1 стекло, размер: 500, h 600","1316-50с",1370,1470,1520,2543,2873,2309,2903,4043]
[null,null,null,"Шкаф настенный 1д 1 стекло",600,null,"h 600","Шкаф настенный 1д 1 стекло, размер: 600, h 600","1316-60с",1580,1700,1750,2987.6,3383.6,2706.8,3419.6,4787.6000000000004]
[null,null,null,"Шкаф настенный 1д 1 стекло",300,"h 720","h 720","Шкаф настенный 1д 1 стекло, размер: 300, h 720","1301-30с",1070,1140,1180,{"$f":"0.000716*E140*3910+J140","v":1909.8679999999999},{"$f":"0.00072*E140*5010+J140","v":2152.16},{"$f":"0.00072*E140*3130+J140","v":1746.08},{"$f":"0.00072*E140*5110+J140","v":2173.7600000000002},{"$f":"0.00072*E140*8910+J140","v":2994.5600000000004}]
[null,null,null,"Шкаф настенный 1д 1 стекло",350,null,"h 720","Шкаф настенный 1д 1 стекло, размер: 350, h 720","1301-35с",1200,1280,1320,{"$f":"0.000716*E141*3910+J141","v":2179.846},{"$f":"0.00072*E141*5010+J141","v":2462.52},{"$f":"0.00072*E141*3130+J141","v":1988.76},{"$f":"0.00072*E141*5110+J141","v":2487.7200000000003},{"$f":"0.00072*E141*8910+J141","v":3445.32}]
[null,null,null,"Шкаф настенный 1д 1 стекло",400,null,"h 720","Шкаф настенный 1д 1 стекло, размер: 400, h 720","1301-40с",1330,1430.0000000000002,1460,2449.8239999999996,2772.88,2231.44,2801.6800000000003,3896.0800000000004]
[null,null,null,"Шкаф настенный 1д 1 стекло",450,null,"h 720","Шкаф настенный 1д 1 стекло, размер: 450, h 720","1301-45с",1440,1550,1610,2699.8019999999997,3063.24,2454.12,3095.6400000000003,4326.84]
[null,null,null,"Шкаф настенный 1д 1 стекло",500,null,"h 720",{"$f":"D144&\", размер: \"&E144&\", \"&G144","v":"Шкаф настенный 1д 1 стекло, размер: 500, h 720"},"1301-50с",1560,1680,1730,2959.7799999999997,3363.6000000000004,2686.8,3399.6000000000004,4767.6000000000004]
[null,null,null,"Шкаф настенный 1д 1 стекло",550,null,"h 720","Шкаф настенный 1д 1 стекло, размер: 550, h 720","1301-55с",1700,1900,1950,3239.7579999999998,3683.96,2939.48,3723.5600000000004,5228.3600000000006]
[null,null,null,"Шкаф настенный 1д 1 стекло",600,null,"h 720","Шкаф настенный 1д 1 стекло, размер: 600, h 720","1301-60с",1780,1940,1990,3459.7359999999999,3944.32,3132.16,3987.5200000000004,5629.1200000000008]
[null,null,null,"Шкаф настенный 1д 1 стекло",300,"h 920","h 920","Шкаф настенный 1д 1 стекло, размер: 300, h 920","1305-30с",1330,1420,1460,{"$f":"0.000916*E147*3910+J147","v":2404.4679999999998},{"$f":"0.00092*E147*5010+J147","v":2712.76},{"$f":"0.00092*E147*3130+J147","v":2193.88},{"$f":"0.00092*E147*5110+J147","v":2740.36},{"$f":"0.00092*E147*8910+J147","v":3789.1600000000003}]
[null,null,null,"Шкаф настенный 1д 1 стекло",350,null,"h 920","Шкаф настенный 1д 1 стекло, размер: 350, h 920","1305-35с",1520,1630,1670,{"$f":"0.000916*E148*3910+J148","v":2773.5460000000003},{"$f":"0.00092*E148*5010+J148","v":3133.2200000000003},{"$f":"0.00092*E147*3130+J148","v":2383.88},{"$f":"0.00092*E148*5110+J148","v":3165.42},{"$f":"0.00092*E148*8910+J148","v":4389.0200000000004}]
[null,null,null,"Шкаф настенный 1д 1 стекло",400,null,"h 920","Шкаф настенный 1д 1 стекло, размер: 400, h 920","1305-40с",1650.0000000000002,1770,1830,3082.6240000000003,3493.6800000000003,{"$f":"0.00092*E148*3130+J149","v":2657.86},3530.4800000000005,4928.88]
[null,null,null,"Шкаф настенный 1д 1 стекло",450,null,"h 920","Шкаф настенный 1д 1 стекло, размер: 450, h 920","1305-45с",1810,1960,2010,3421.7020000000002,3884.1400000000003,2961.84,3925.54,5498.74]
[null,null,null,"Шкаф настенный 1д 1 стекло",500,null,"h 920","Шкаф настенный 1д 1 стекло, размер: 500, h 920","1305-50с",1980.0000000000002,2130,2200,3770.78,4284.6000000000004,3275.8200000000006,4330.6000000000004,6078.6]
[null,null,null,"Шкаф настенный 1д 1 стекло",550,null,"h 920","Шкаф настенный 1д 1 стекло, размер: 550, h 920","1305-55с",2120,2200,2320,4089.8580000000002,4655.0599999999995,3559.8,4705.66,6628.46]
[null,null,null,"Шкаф настенный 1д 1 стекло",600,null,"h 920","Шкаф настенный 1д 1 стекло, размер: 600, h 920","1305-60с",2280,2460,2550,4428.9359999999997,5045.5200000000004,3863.7799999999997,5100.72,7198.3200000000006]
[null,null,"Шкаф 2 дв.2 стекла","Шкаф",600,"h 720","h 720","Шкаф, размер: 600, h 720","1401-60с",1780,1940,1990,{"$f":"0.000716*E154*3910+J154","v":3459.7359999999999},{"$f":"0.00072*E154*5010+J154","v":3944.32},{"$f":"0.00072*E154*3130+J154","v":3132.16},{"$f":"0.00072*E154*5110+J154","v":3987.5200000000004},{"$f":"0.00072*E154*8910+J154","v":5629.1200000000008}]
[null,null,null,"Шкаф",700,null,"h 720","Шкаф, размер: 700, h 720","1401-70с",2070,2230,2310,{"$f":"0.000716*E155*3910+J155","v":4029.692},{"$f":"0.00072*E155*5010+J155","v":4595.04},{"$f":"0.00072*E155*3130+J155","v":3647.52},{"$f":"0.00072*E155*5110+J155","v":4645.4400000000005},{"$f":"0.00072*E155*8910+J155","v":6560.64}]
[null,null,null,"Шкаф",800,null,"h 720","Шкаф, размер: 800, h 720","1401-80с",2310,2500,2580,4549.6479999999992,{"$f":"0.00072*E156*5010+J156","v":5195.76},4112.88,5253.3600000000006,7442.1600000000008]
[null,null,null,"Шкаф",600,"h 920","h 920","Шкаф, размер: 600, h 920","1406-60с",2250,2440,2520,{"$f":"0.000916*E157*3910+J157","v":4398.9359999999997},{"$f":"0.00092*E157*5010+J157","v":5015.5200000000004},{"$f":"0.00092*E157*3130+J157","v":3977.76},{"$f":"0.00092*E157*5110+J157","v":5070.72},{"$f":"0.00092*E157*8910+J157","v":7168.3200000000006}]
[null,null,null,"Шкаф",700,null,"h 920","Шкаф, размер: 700, h 920","1406-70с",2570,2790,2880,{"$f":"0.000916*E158*3910+J158","v":5077.0920000000006},{"$f":"0.00092*E158*5010+J158","v":5796.4400000000005},{"$f":"0.00092*E158*3130+J158","v":4585.72},{"$f":"0.00092*E158*5110+J158","v":5860.84},{"$f":"0.00092*E158*8910+J158","v":8308.0400000000009}]
[null,null,null,"Шкаф",800,null,"h 920","Шкаф, размер: 800, h 920","1406-80с",2890,3150,3240,5755.2479999999996,6577.3600000000006,5193.68,6650.96,9447.76]
[null,null,"Шкаф антресольный 2 дв(горизонт)","Шкаф антресольный 2 дв(горизонт)",400,"h 600","h 600","Шкаф антресольный 2 дв(горизонт), размер: 400, h 600","1424-40",1300,1370,1410,{"$f":"0.0006*E160*3910+J160","v":2238.4},{"$f":"0.0006*E160*5010+J160","v":2502.3999999999996},{"$f":"0.0006*E160*3130+J160","v":2051.1999999999998},{"$f":"0.0006*E160*5110+J160","v":2526.3999999999996},{"$f":"0.0006*E160*8910+J160","v":3438.4}]
[null,null,null,"Шкаф антресольный 2 дв(горизонт)",500,null,"h 600","Шкаф антресольный 2 дв(горизонт), размер: 500, h 600","1424-50",1470,1570,1620,{"$f":"0.0006*E161*3910+J161","v":2643},{"$f":"0.0006*E161*5010+J161","v":2973},{"$f":"0.0006*E161*3130+J161","v":2409},{"$f":"0.0006*E161*5110+J161","v":3003},{"$f":"0.0006*E161*8910+J161","v":4143}]
[null,null,null,"Шкаф антресольный 2 дв(горизонт)",600,null,"h 600","Шкаф антресольный 2 дв(горизонт), размер: 600, h 600","1424-60",1660,1780,1830,3067.6,3463.6,2786.8,3499.6,4867.6000000000004]
[null,null,null,"Шкаф антресольный 2 дв(горизонт)",700,null,"h 600","Шкаф антресольный 2 дв(горизонт), размер: 700, h 600","1424-70",2000,2140,2210,3642.2,4104.2,3314.6,4146.2,5742.2]
[null,null,null,"Шкаф антресольный 2 дв(горизонт)",800,null,"h 600","Шкаф антресольный 2 дв(горизонт), размер: 800, h 600","1424-80",2200,2370,2430,4076.8,4604.7999999999993,3702.3999999999996,4652.7999999999993,6476.8]
[null,null,null,"Шкаф антресольный 2 дв(горизонт)",400,"h 720","h 720","Шкаф антресольный 2 дв(горизонт), размер: 400, h 720","1413-40",1390,1480,1520,{"$f":"0.000716*E165*3910+J165","v":2509.8239999999996},{"$f":"0.00072*5010*E165+J165","v":2832.88},{"$f":"0.00072*E165*3130+J165","v":2291.44},{"$f":"0.00072*E165*5110+J165","v":2861.6800000000003},{"$f":"0.00072*E165*8910+J165","v":3956.0800000000004}]
[null,null,null,"Шкаф антресольный 2 дв(горизонт)",450,null,"h 720","Шкаф антресольный 2 дв(горизонт), размер: 450, h 720","1413-45",1500,1650,1700,{"$f":"0.000716*E166*3910+J166","v":2759.8019999999997},{"$f":"0.00072*5010*E166+J166","v":3123.24},{"$f":"0.00072*E166*3130+J166","v":2514.12},{"$f":"0.00072*E166*5110+J166","v":3155.6400000000003},{"$f":"0.00072*E166*8910+J166","v":4386.84}]
[null,null,null,"Шкаф антресольный 2 дв(горизонт)",500,null,"h 720","Шкаф антресольный 2 дв(горизонт), размер: 500, h 720","1413-50",1560,1680,1730,2959.7799999999997,3363.6000000000004,2686.8,3399.6000000000004,4767.6000000000004]
[null,null,null,"Шкаф антресольный 2 дв(горизонт)",550,null,"h 720","Шкаф антресольный 2 дв(горизонт), размер: 550, h 720","1413-55",1700,1870,1930,3239.7579999999998,3683.96,2939.48,3723.5600000000004,5228.3600000000006]
[null,null,null,"Шкаф антресольный 2 дв(горизонт)",600,null,"h 720","Шкаф антресольный 2 дв(горизонт), размер: 600, h 720","1413-60",1750,1900,1960,3429.7359999999999,3914.32,3102.16,3957.5200000000004,5599.1200000000008]
[null,null,null,"Шкаф антресольный 2 дв(горизонт)",700,null,"h 720","Шкаф антресольный 2 дв(горизонт), размер: 700, h 720","1413-70",2130,2300,2380,4089.692,4655.04,3707.52,4705.4400000000005,6620.64]
[null,null,null,"Шкаф антресольный 2 дв(горизонт)",800,null,"h 720","Шкаф антресольный 2 дв(горизонт), размер: 800, h 720","1413-80",2310,2500,2580,4549.6479999999992,5195.76,4112.88,5253.3600000000006,7442.1600000000008]
[null,null,null,"Шкаф антресольный 2 дв(горизонт)",400,"h 920","h 920","Шкаф антресольный 2 дв(горизонт), размер: 400, h 920","1421-40",1590,1720,1770,{"$f":"0.000916*E172*3910+J172","v":3022.6239999999998},{"$f":"0.00092*E172*5010+J172","v":3433.6800000000003},{"$f":"0.00092*E172*3130+J172","v":2741.84},{"$f":"0.00092*E172*5110+J172","v":3470.48},{"$f":"0.00092*E172*8910+J172","v":4868.88}]
[null,null,null,"Шкаф антресольный 2 дв(горизонт)",450,null,"h 920","Шкаф антресольный 2 дв(горизонт), размер: 450, h 920","1421-45",1800,1950,2000,{"$f":"0.000916*E173*3910+J173","v":3411.7020000000002},{"$f":"0.00092*E173*5010+J173","v":3874.1400000000003},{"$f":"0.00092*E173*3130+J173","v":3095.82},{"$f":"0.00092*E173*5110+J173","v":3915.54},{"$f":"0.00092*E173*8910+J173","v":5488.74}]
[null,null,null,"Шкаф антресольный 2 дв(горизонт)",500,null,"h 920","Шкаф антресольный 2 дв(горизонт), размер: 500, h 920","1421-50",1830,1980.0000000000002,2050,3620.7799999999997,4134.6000000000004,3269.8,4180.6000000000004,5928.6]
[null,null,null,"Шкаф антресольный 2 дв(горизонт)",550,null,"h 920","Шкаф антресольный 2 дв(горизонт), размер: 550, h 920","1421-55",2000,2200,2270,3969.8580000000002,4535.0599999999995,3583.7799999999997,4585.66,6508.46]
[null,null,null,"Шкаф антресольный 2 дв(горизонт)",600,null,"h 920","Шкаф антресольный 2 дв(горизонт), размер: 600, h 920","1421-60",2050,2230,2320,4198.9359999999997,4815.5200000000004,3777.76,4870.72,6968.3200000000006]
[null,null,null,"Шкаф антресольный 2 дв(горизонт)",700,null,"h 920","Шкаф антресольный 2 дв(горизонт), размер: 700, h 920","1421-70",2460,2680,2770,4967.0920000000006,5686.4400000000005,4475.72,5750.84,8198.0400000000009]
[null,null,null,"Шкаф антресольный 2 дв(горизонт)",800,null,"h 920","Шкаф антресольный 2 дв(горизонт), размер: 800, h 920","1421-80",2670,2930,3020,5535.2479999999996,6357.3600000000006,4973.68,6430.96,9227.76]
[null,null,"Шкаф антресольный 2дв.1 стекло(горизонт)","Шкаф антресольный 2дв.1 стекло(горизонт)",400,"h 600","h 600","Шкаф антресольный 2дв.1 стекло(горизонт), размер: 400, h 600","1425-40гс",1350,1430.0000000000002,1460,{"$f":"0.0006*E179*3910+J179","v":2288.4},{"$f":"0.0006*E179*5010+J179","v":2552.3999999999996},{"$f":"0.0006*E179*3130+J179","v":2101.1999999999998},{"$f":"0.0006*E179*5110+J179","v":2576.3999999999996},{"$f":"0.0006*E179*8910+J179","v":3488.4}]
[null,null,null,"Шкаф антресольный 2дв.1 стекло(горизонт)",500,null,"h 600","Шкаф антресольный 2дв.1 стекло(горизонт), размер: 500, h 600","1425-50гс",1560,1660,1700,{"$f":"0.0006*E180*3910+J180","v":2733},{"$f":"0.0006*E180*5010+J180","v":3063},{"$f":"0.0006*E180*3130+J180","v":2499},{"$f":"0.0006*E180*5110+J180","v":3093},{"$f":"0.0006*E180*8910+J180","v":4233}]
[null,null,null,"Шкаф антресольный 2дв.1 стекло(горизонт)",600,null,"h 600","Шкаф антресольный 2дв.1 стекло(горизонт), размер: 600, h 600","1425-60гс",1760.0000000000002,1880,1920,3167.6000000000004,3563.6000000000004,2886.8,3599.6000000000004,4967.6000000000004]
[null,null,null,"Шкаф антресольный 2дв.1 стекло(горизонт)",700,null,"h 600","Шкаф антресольный 2дв.1 стекло(горизонт), размер: 700, h 600","1425-70гс",2120,2270,2330,3762.2,4224.2,3434.6,4266.2,5862.2]
[null,null,null,"Шкаф антресольный 2дв.1 стекло(горизонт)",800,null,"h 600","Шкаф антресольный 2дв.1 стекло(горизонт), размер: 800, h 600","1425-80гс",2330,2500,2560,4206.8,4734.7999999999993,3832.3999999999996,4782.7999999999993,6606.8]
[null,null,null,"Шкаф антресольный 2дв.1 стекло(горизонт)",400,"h 720","h 720","Шкаф антресольный 2дв.1 стекло(горизонт), размер: 400, h 720","1413-40гс",1450,1550,1580,{"$f":"0.000716*E184*3910+J184","v":2569.8239999999996},{"$f":"0.00072*E184*5010+J184","v":2892.88},{"$f":"0.00072*E184*3130+J184","v":2351.44},{"$f":"0.00072*E184*5110+J184","v":2921.6800000000003},{"$f":"0.00072*E184*8910+J184","v":4016.0800000000004}]
[null,null,null,"Шкаф антресольный 2дв.1 стекло(горизонт)",450,null,"h 720","Шкаф антресольный 2дв.1 стекло(горизонт), размер: 450, h 720","1413-45гс",1600,1700,1750,{"$f":"0.000716*E185*3910+J185","v":2859.8019999999997},{"$f":"0.00072*E185*5010+J185","v":3223.24},{"$f":"0.00072*E185*3130+J185","v":2614.12},{"$f":"0.00072*E185*5110+J185","v":3255.6400000000003},{"$f":"0.00072*E185*8910+J185","v":4486.84}]
[null,null,null,"Шкаф антресольный 2дв.1 стекло(горизонт)",500,null,"h 720","Шкаф антресольный 2дв.1 стекло(горизонт), размер: 500, h 720","1413-50гс",1650.0000000000002,1770,1810,3049.78,3453.6000000000004,2776.8,3489.6000000000004,4857.6000000000004]
[null,null,null,"Шкаф антресольный 2дв.1 стекло(горизонт)",550,null,"h 720","Шкаф антресольный 2дв.1 стекло(горизонт), размер: 550, h 720","1413-55гс",1800,1950,2000,3339.7579999999998,3783.96,3039.48,3823.5600000000004,5328.3600000000006]
[null,null,null,"Шкаф антресольный 2дв.1 стекло(горизонт)",600,null,"h 720","Шкаф антресольный 2дв.1 стекло(горизонт), размер: 600, h 720","1413-60гс",1860,2010,2070,3539.7359999999999,4024.32,3212.16,4067.5200000000004,5709.1200000000008]
[null,null,null,"Шкаф антресольный 2дв.1 стекло(горизонт)",650,null,"h 720","Шкаф антресольный 2дв.1 стекло(горизонт), размер: 650, h 720","1413-65гс",2200,2400,2450,4019.7139999999999,4544.68,3664.84,4591.4799999999996,6369.88]
[null,null,null,"Шкаф антресольный 2дв.1 стекло(горизонт)",700,null,"h 720","Шкаф антресольный 2дв.1 стекло(горизонт), размер: 700, h 720","1413-70гс",2270,2430,2510,4229.692,4795.04,3847.52,4845.4400000000005,6760.64]
[null,null,null,"Шкаф антресольный 2дв.1 стекло(горизонт)",800,null,"h 720","Шкаф антресольный 2дв.1 стекло(горизонт), размер: 800, h 720","1413-80гс",2460,2650,2740,4699.6479999999992,5345.76,4262.88,5403.3600000000006,7592.1600000000008]
[null,null,null,"Шкаф антресольный 2дв.1 стекло(горизонт)",400,"h 920","h 920","Шкаф антресольный 2дв.1 стекло(горизонт), размер: 400, h 920","1421-40гс",1690,1815.0000000000002,1870.0000000000002,{"$f":"0.000916*E192*3910+J192","v":3122.6239999999998},{"$f":"0.00092*E192*5010+J192","v":3533.6800000000003},{"$f":"0.00092*E192*3130+J192","v":2841.84},{"$f":"0.00092*E192*5110+J192","v":3570.48},{"$f":"0.00092*E192*8910+J192","v":4968.88}]
[null,null,null,"Шкаф антресольный 2дв.1 стекло(горизонт)",450,null,"h 920","Шкаф антресольный 2дв.1 стекло(горизонт), размер: 450, h 920","1421-45гс",1900,2050,2100,{"$f":"0.000916*E193*3910+J193","v":3511.7020000000002},{"$f":"0.00092*E193*5010+J193","v":3974.1400000000003},{"$f":"0.00092*E193*3130+J193","v":3195.82},{"$f":"0.00092*E193*5110+J193","v":4015.54},{"$f":"0.00092*E193*8910+J193","v":5588.74}]
[null,null,null,"Шкаф антресольный 2дв.1 стекло(горизонт)",500,null,"h 920","Шкаф антресольный 2дв.1 стекло(горизонт), размер: 500, h 920","1421-50гс",1960,2112,2180,3750.7799999999997,4264.6000000000004,3399.8,4310.6000000000004,6058.6]
[null,null,null,"Шкаф антресольный 2дв.1 стекло(горизонт)",550,null,"h 920","Шкаф антресольный 2дв.1 стекло(горизонт), размер: 550, h 920","1421-55гс",2100,2300,2380,4069.8580000000002,4635.0599999999995,3683.7799999999997,4685.66,6608.46]
[null,null,null,"Шкаф антресольный 2дв.1 стекло(горизонт)",600,null,"h 920","Шкаф антресольный 2дв.1 стекло(горизонт), размер: 600, h 920","1421-60гс",2200,2387,2480,4348.9359999999997,4965.5200000000004,3927.76,5020.72,7118.3200000000006]
[null,null,null,"Шкаф антресольный 2дв.1 стекло(горизонт)",650,null,"h 920","Шкаф антресольный 2дв.1 стекло(горизонт), размер: 650, h 920","1421-65гс",2600,2800,2900,4928.0140000000001,5595.98,4471.74,5655.78,7928.1799999999994]
[null,null,null,"Шкаф антресольный 2дв.1 стекло(горизонт)",700,null,"h 920","Шкаф антресольный 2дв.1 стекло(горизонт), размер: 700, h 920","1421-70гс",2650,2870,2960,5157.0920000000006,5876.4400000000005,4665.72,5940.84,8388.0400000000009]
[null,null,null,"Шкаф антресольный 2дв.1 стекло(горизонт)",800,null,"h 920","Шкаф антресольный 2дв.1 стекло(горизонт), размер: 800, h 920","1421-80гс",2890,3150,3240,5755.2479999999996,6577.3600000000006,5193.68,6650.96,9447.76]
[null,null,"Шкаф антресольный 2дв.2 стекла(горизонт)","Шкаф антресольный 2дв.2 стекла(горизонт)",400,"h 720","h 720","Шкаф антресольный 2дв.2 стекла(горизонт), размер: 400, h 720","1413-40с",1530,1630,1660,{"$f":"0.000716*E200*3910+J200","v":2649.8239999999996},{"$f":"0.00072*E200*5010+J200","v":2972.88},{"$f":"0.00072*E200*3130+J200","v":2431.44},{"$f":"0.00072*E200*5110+J200","v":3001.6800000000003},{"$f":"0.00072*E200*8910+J200","v":4096.08}]
[null,null,null,"Шкаф антресольный 2дв.2 стекла(горизонт)",450,null,"h 720","Шкаф антресольный 2дв.2 стекла(горизонт), размер: 450, h 720","1413-45с",1700,1800,1850,{"$f":"0.000716*E201*3910+J201","v":2959.8019999999997},{"$f":"0.00072*E201*5010+J201","v":3323.24},{"$f":"0.00072*E201*3130+J201","v":2714.12},{"$f":"0.00072*E201*5110+J201","v":3355.6400000000003},{"$f":"0.00072*E201*8910+J201","v":4586.84}]
[null,null,null,"Шкаф антресольный 2дв.2 стекла(горизонт)",500,null,"h 720","Шкаф антресольный 2дв.2 стекла(горизонт), размер: 500, h 720","1413-50с",1760.0000000000002,1880,1920,3159.78,3563.6000000000004,2886.8,3599.6000000000004,4967.6000000000004]
[null,null,null,"Шкаф антресольный 2дв.2 стекла(горизонт)",550,null,"h 720","Шкаф антресольный 2дв.2 стекла(горизонт), размер: 550, h 720","1413-55с",1900,2100,2100,3439.7579999999998,3883.96,3139.48,3923.5600000000004,5428.3600000000006]
[null,null,null,"Шкаф антресольный 2дв.2 стекла(горизонт)",600,null,"h 720","Шкаф антресольный 2дв.2 стекла(горизонт), размер: 600, h 720","1413-60с",1990,2140,2200,3669.7359999999999,4154.32,3342.16,4197.5200000000004,5839.1200000000008]
[null,null,null,"Шкаф антресольный 2дв.2 стекла(горизонт)",650,null,"h 720","Шкаф антресольный 2дв.2 стекла(горизонт), размер: 650, h 720","1413-65с",2350,2500,2600,4169.7139999999999,4694.68,3814.84,4741.4799999999996,6519.88]
[null,null,null,"Шкаф антресольный 2дв.2 стекла(горизонт)",700,null,"h 720","Шкаф антресольный 2дв.2 стекла(горизонт), размер: 700, h 720","1413-70с",2410,2570,2650,4369.692,4935.04,3987.52,4985.4400000000005,6900.64]
[null,null,null,"Шкаф антресольный 2дв.2 стекла(горизонт)",750,null,"h 720","Шкаф антресольный 2дв.2 стекла(горизонт), размер: 750, h 720","1413-75с",2550,2750,2850,4649.67,5255.4,4240.2,5309.4,7361.4000000000005]
[null,null,null,"Шкаф антресольный 2дв.2 стекла(горизонт)",800,null,"h 720",{"$f":"D208&\", размер: \"&E208&\", \"&G208","v":"Шкаф антресольный 2дв.2 стекла(горизонт), размер: 800, h 720"},"1413-80с",2640,2830,2910,4879.6479999999992,5525.76,4442.88,5583.3600000000006,7772.1600000000008]
[null,null,null,"Шкаф антресольный 2дв.2 стекла(горизонт)",300,"h 920","h 920","Шкаф антресольный 2дв.2 стекла(горизонт), размер: 300, h 920","1421-30с",{"$f":"J200*0.2+J200","v":1836},1956,1992,{"$f":"0.000916*E209*3910+J209","v":2910.4679999999998},{"$f":"0.00092*E209*5010+J209","v":3218.76},{"$f":"0.00092*E209*3130+J209","v":2699.88},{"$f":"0.00092*E209*5110+J209","v":3246.36},{"$f":"0.00092*E209*8910+J209","v":4295.16}]
[null,null,null,"Шкаф антресольный 2дв.2 стекла(горизонт)",350,null,"h 920","Шкаф антресольный 2дв.2 стекла(горизонт), размер: 350, h 920","1421-35с",2040,2160,2220,{"$f":"0.000916*E210*3910+J210","v":3293.5460000000003},{"$f":"0.00092*E210*5010+J210","v":3653.2200000000003},{"$f":"0.00092*E210*3130+J210","v":3047.86},{"$f":"0.00092*E210*5110+J210","v":3685.42},{"$f":"0.00092*E210*8910+J210","v":4909.0200000000004}]
[null,null,null,"Шкаф антресольный 2дв.2 стекла(горизонт)",400,null,"h 920","Шкаф антресольный 2дв.2 стекла(горизонт), размер: 400, h 920","1421-40с",2112.0000000000005,2256,2304,3544.6240000000007,3955.6800000000003,3263.84,3992.4800000000005,5390.880000000001]
[null,null,null,"Шкаф антресольный 2дв.2 стекла(горизонт)",450,null,"h 920","Шкаф антресольный 2дв.2 стекла(горизонт), размер: 450, h 920","1421-45с",2280,2520,2520,3891.7020000000002,4354.1400000000003,3575.82,4395.54,5968.74]
[null,null,null,"Шкаф антресольный 2дв.2 стекла(горизонт)",500,null,"h 920","Шкаф антресольный 2дв.2 стекла(горизонт), размер: 500, h 920","1421-50с",2388,2568,2640,4178.78,4692.6000000000004,3827.8,4738.6000000000004,6486.6]
[null,null,null,"Шкаф антресольный 2дв.2 стекла(горизонт)",550,null,"h 920","Шкаф антресольный 2дв.2 стекла(горизонт), размер: 550, h 920","1421-55с",2820,3000,3120,4789.8580000000002,5355.0599999999995,4403.78,5405.66,7328.46]
[null,null,null,"Шкаф антресольный 2дв.2 стекла(горизонт)",600,null,"h 920","Шкаф антресольный 2дв.2 стекла(горизонт), размер: 600, h 920","1421-60с",2892,3084,3180,5040.9359999999997,5657.52,4619.76,5712.72,7810.3200000000006]
[null,null,null,"Шкаф антресольный 2дв.2 стекла(горизонт)",650,null,"h 920","Шкаф антресольный 2дв.2 стекла(горизонт), размер: 650, h 920","1421-65с",3060,3300,3420,5388.0140000000001,6055.98,4931.74,6115.78,8388.18]
[null,null,null,"Шкаф антресольный 2дв.2 стекла(горизонт)",700,null,"h 920","Шкаф антресольный 2дв.2 стекла(горизонт), размер: 700, h 920","1421-70с",3168,3396,3492,5675.0920000000006,6394.4400000000005,5183.72,6458.84,8906.0400000000009]
[null,null,null,"Шкаф антресольный 2дв.2 стекла(горизонт)",750,null,"h 920","Шкаф антресольный 2дв.2 стекла(горизонт), размер: 750, h 920","1421-75с",2203.1999999999998,2347.1999999999998,2390.4,4889.37,5660.1,4362.8999999999996,5729.1,8351.1]
[null,null,null,"Шкаф антресольный 2дв.2 стекла(горизонт)",800,null,"h 920","Шкаф антресольный 2дв.2 стекла(горизонт), размер: 800, h 920","1421-80с",{"$f":"J210*0.2+J210","v":2448},{"$f":"K210*0.2+K210","v":2592},{"$f":"L210*0.2+L210","v":2664},5313.2479999999996,6135.3600000000006,4751.68,6208.96,9005.76]
[null,null,"Шкаф антресольный \"BLUM\"Aventos 2 дв.","Шкаф антресольный \"BLUM\" 2дв.(горизонт)",600,"h 720","h 720","Шкаф антресольный \"BLUM\" 2дв.(горизонт), размер: 600, h 720","1426-60",{"$f":"7200+J169","v":8950},9100,9160,10629.736000000001,11114.32,10302.16,{"$f":"0.00072*E220*5110+J220","v":11157.52},{"$f":"0.00072*E220*8910+J220","v":12799.12}]
[null,null,null,"Шкаф антресольный \"BLUM\" 2дв.(горизонт)",700,null,"h 720","Шкаф антресольный \"BLUM\" 2дв.(горизонт), размер: 700, h 720","1426-70",9330,9500,9580,11289.691999999999,11855.04,10907.52,{"$f":"0.00072*E221*5110+J221","v":11905.44},{"$f":"0.00072*E221*8910+J221","v":13820.64}]
[null,null,null,"Шкаф антресольный \"BLUM\" 2дв.(горизонт)",800,null,"h 720","Шкаф антресольный \"BLUM\" 2дв.(горизонт), размер: 800, h 720","1426-80",9510,9700,9780,11749.647999999999,12395.76,11312.880000000001,12453.36,14642.16]
[null,null,null,"Шкаф антресольный \"BLUM\" 2дв.(горизонт)",600,"h 920","h 920",{"$f":"D223&\", размер: \"&E223&\", \"&G223","v":"Шкаф антресольный \"BLUM\" 2дв.(горизонт), размер: 600, h 920"},"1427-60",{"$f":"7200+J176","v":9250},9430,9520,11398.936,12015.52,10977.76,{"$f":"0.00092*E223*5110+J223","v":12070.720000000001},{"$f":"0.00092*E223*8910+J223","v":14168.32}]
[null,null,null,"Шкаф антресольный \"BLUM\" 2дв.(горизонт)",700,null,"h 920","Шкаф антресольный \"BLUM\" 2дв.(горизонт), размер: 700, h 920","1427-70",9660,9880,9970,12167.092000000001,12886.44,11675.720000000001,{"$f":"0.00092*E224*5110+J224","v":12950.84},{"$f":"0.00092*E224*8910+J224","v":15398.04}]
[null,null,null,"Шкаф антресольный \"BLUM\" 2дв.(горизонт)",800,null,"h 920",{"$f":"D225&\", размер: \"&E225&\", \"&G225","v":"Шкаф антресольный \"BLUM\" 2дв.(горизонт), размер: 800, h 920"},"1427-80",9870,10130,10220,12735.248,13557.36,12173.68,13630.96,16427.760000000002]
[null,null,"Шкаф антресольный \"BLUM\"Aventos 2 дв.1 ст.","Шкаф антресольный \"BLUM\" 2дв.1 стекло(горизонт)",600,"h 720","h 720","Шкаф антресольный \"BLUM\" 2дв.1 стекло(горизонт), размер: 600, h 720","1426-60гс",{"$f":"7200+J188","v":9060},9210,9270,10739.736000000001,11224.32,10412.16,{"$f":"0.00072*E226*5110+J226","v":11267.52},{"$f":"0.00072*E226*8910+J226","v":12909.12}]
[null,null,null,"Шкаф антресольный \"BLUM\" 2дв.1 стекло(горизонт)",700,null,"h 720","Шкаф антресольный \"BLUM\" 2дв.1 стекло(горизонт), размер: 700, h 720","1426-70гс",{"$f":"7200+J190","v":9470},9630,9710,11429.691999999999,11995.04,11047.52,{"$f":"0.00072*E227*5110+J227","v":12045.44},{"$f":"0.00072*E227*8910+J227","v":13960.64}]
[null,null,null,"Шкаф антресольный \"BLUM\" 2дв.1 стекло(горизонт)",800,null,"h 720","Шкаф антресольный \"BLUM\" 2дв.1 стекло(горизонт), размер: 800, h 720","1426-80гс",9660,9850,9940,11899.647999999999,12545.76,11462.880000000001,12603.36,14792.16]
[null,null,null,"Шкаф антресольный \"BLUM\" 2дв.1 стекло(горизонт)",600,"h 920","h 920",{"$f":"D229&\", размер: \"&E229&\", \"&G229","v":"Шкаф антресольный \"BLUM\" 2дв.1 стекло(горизонт), размер: 600, h 920"},"1427-60гс",{"$f":"7200+J196","v":9400},9587,9680,11548.936,12165.52,11127.76,{"$f":"0.00092*E229*5110+J229","v":12220.720000000001},{"$f":"0.00092*E229*8910+J229","v":14318.32}]
[null,null,null,"Шкаф антресольный \"BLUM\" 2дв.1 стекло(горизонт)",700,null,"h 920","Шкаф антресольный \"BLUM\" 2дв.1 стекло(горизонт), размер: 700, h 920","1427-70гс",{"$f":"J198+7200","v":9850},10070,10160,12357.092000000001,13076.44,11865.720000000001,{"$f":"0.00092*E230*5110+J230","v":13140.84},{"$f":"0.00092*E230*8910+J230","v":15588.04}]
[null,null,null,"Шкаф антресольный \"BLUM\" 2дв.1 стекло(горизонт)",800,null,"h 920",{"$f":"D231&\", размер: \"&E231&\", \"&G231","v":"Шкаф антресольный \"BLUM\" 2дв.1 стекло(горизонт), размер: 800, h 920"},"1427-80гс",10090,10350,10440,12955.248,13777.36,12393.68,13850.96,16647.760000000002]
[null,null,null,"Шкаф угловая трапеция 1дв.",600,"h 720","h 720","Шкаф угловая трапеция 1дв., размер: 600, h 720","1506-60",4160,4350,4720,7300,7800,"нет","нет",9380]
[null,null,null,"Шкаф угловая трапеция 1дв.",600,"h 920","h 920","Шкаф угловая трапеция 1дв., размер: 600, h 920","1507-60",5200,5400,5730,7430,8200,"нет","нет",9720]
[null,null,"Шкаф угловая трапеция\n1дв.","Шкаф угловая трапеция 1дв.",500,"h 600","h 600","Шкаф угловая трапеция 1дв., размер: 500, h 600","1505-50",1280,1330,1350,1890,2060,1770,2100,2670]
[null,null,null,"Шкаф угловая трапеция 1дв.",600,null,"h 600","Шкаф угловая трапеция 1дв., размер: 600, h 600","1505-60",1630,1720,1750,2580,2840,2390,2870,3780]
[null,null,null,"Шкаф угловая трапеция 1дв.",500,"h 720","h 720","Шкаф угловая трапеция 1дв., размер: 500, h 720","1501-50",1400,1470,1510,2140,2220,1990,2360,3070]
[null,null,null,"Шкаф угловая трапеция 1дв.",600,null,"h 720","Шкаф угловая трапеция 1дв., размер: 600, h 720","1501-60",1780,1890,1940,2920,3230,2690,3260,4350]
[null,null,null,"Шкаф угловая трапеция 1дв.",500,"h 920","h 920","Шкаф угловая трапеция 1дв., размер: 500, h 920","1504-50",1770,1860,1900,2710,2970,2520,2990,3900]
[null,null,null,"Шкаф угловая трапеция 1дв.",600,null,"h 920","Шкаф угловая трапеция 1дв., размер: 600, h 920","1504-60",2270,2400,2450,3720,4130,3430,4160,5570]
[null,null,"Шкаф угловая трапеция\n1дв.1 ст.","Шкаф угловая трапеция 1 дв.1 стекло",600,"h 600","h 600","Шкаф угловая трапеция 1 дв.1 стекло, размер: 600, h 600","1505-60с",1770,1860,1890,{"$f":"M235-J235+J240","v":2720},{"$f":"N235-K235+K240","v":2980},{"$f":"O235-L235+L240","v":2530},{"$f":"P235-M235+M240","v":3010},{"$f":"Q235-N235+N240","v":3920}]
[null,null,null,"Шкаф угловая трапеция 1 дв.1 стекло",600,"h 720","h 720","Шкаф угловая трапеция 1 дв.1 стекло, размер: 600, h 720","1501-60с",1970,2080,2120,{"$f":"M237-J237+J241","v":3110},{"$f":"N237-K237+K241","v":3420},{"$f":"O237-L237+L241","v":2870},{"$f":"P237-M237+M241","v":3450},{"$f":"Q237-N237+N241","v":4540}]
[null,null,null,"Шкаф угловая трапеция 1 дв.1 стекло",600,"h 920","h 920","Шкаф угловая трапеция 1 дв.1 стекло, размер: 600, h 920","1504-60с",2510,2640,2690,{"$f":"M239-J239+J242","v":3960},{"$f":"N239-K239+K242","v":4370},{"$f":"O239-L239+L242","v":3670},{"$f":"P239-M239+M242","v":4400},{"$f":"Q239-N239+N242","v":5810}]
[null,null,"Шкаф открытый ","Шкаф открытый ",200,"h 600","h 600","Шкаф открытый , размер: 200, h 600","1317-20",450,450,450,{"$f":"J243","v":450},{"$f":"M243","v":450},{"$f":"N243","v":450},{"$f":"O243","v":450},{"$f":"P243","v":450}]
[null,null,null,"Шкаф открытый ",300,null,"h 600","Шкаф открытый , размер: 300, h 600","1317-30",540,540,540,{"$f":"J244","v":540},{"$f":"M244","v":540},{"$f":"N244","v":540},{"$f":"O244","v":540},{"$f":"P244","v":540}]
[null,null,null,"Шкаф открытый ",400,null,"h 600","Шкаф открытый , размер: 400, h 600","1317-40",600,600,600,600,600,600,600,600]
[null,null,null,"Шкаф открытый ",200,"h 720","h 720","Шкаф открытый , размер: 200, h 720","1313-20",510,510,510,510,510,510,510,510]
[null,null,null,"Шкаф открытый ",250,null,"h 720","Шкаф открытый , размер: 250, h 720","1313-25",530,530,530,530,530,530,530,530]
[null,null,null,"Шкаф открытый ",300,null,"h 720","Шкаф открытый , размер: 300, h 720","1313-30",570,570,570,570,570,570,570,570]
[null,null,null,"Шкаф открытый ",400,null,"h 720","Шкаф открытый , размер: 400, h 720","1313-40",660,660,660,660,660,660,660,660]
[null,null,null,"Шкаф открытый ",200,"h 920","h 920","Шкаф открытый , размер: 200, h 920","1314-20",580,580,580,580,580,580,580,580]
[null,null,null,"Шкаф открытый ",300,null,"h 920","Шкаф открытый , размер: 300, h 920","1314-30",650,650,650,650,650,650,650,650]
[null,null,null,"Шкаф открытый ",400,null,"h 920","Шкаф открытый , размер: 400, h 920","1314-40",740,740,740,740,740,740,740,740]
[null,null,"Полка открытая  Н=180*","Полка открытая  Н=180",300,null,"h 180",{"$f":"D253&\", размер: \"&E253&\", \"&G253","v":"Полка открытая  Н=180, размер: 300, h 180"},"1901-30",297,297,297,297,297,297,297,{"$f":"P253","v":297}]
[null,null,"устанавливаются  к шкафам","Полка открытая  Н=180",350,null,"h 180","Полка открытая  Н=180, размер: 350, h 180","1901-35",316,316,316,316,316,316,316,{"$f":"P254","v":316}]
[null,null,"высотой 540","Полка открытая  Н=180",400,"h 180","h 180","Полка открытая  Н=180, размер: 400, h 180","1901-40",341,341,341,341,341,341,341,341]
[null,null,null,"Полка открытая  Н=180",450,null,"h 180","Полка открытая  Н=180, размер: 450, h 180","1901-45",361,361,361,361,361,361,361,361]
[null,null,null,"Полка открытая  Н=180",500,null,"h 180","Полка открытая  Н=180, размер: 500, h 180","1901-50",385,385,385,385,385,385,385,385]
[null,null,"Полка открытая  Н=180*","Полка открытая  Н=180",600,null,"h 180","Полка открытая  Н=180, размер: 600, h 180","1901\\1-60",470,470,470,470,470,470,470,470]
[null,null,"устанавливаются  к шкафам","Полка открытая  Н=180",700,"h 180","h 180","Полка открытая  Н=180, размер: 700, h 180","1901\\1-70",514,514,514,514,514,514,514,514]
[null,null,"высотой 540","Полка открытая  Н=180",800,null,"h 180","Полка открытая  Н=180, размер: 800, h 180","1901\\1-80",553,553,553,553,553,553,553,553]
[null,null,"Полка открытая  Н=180*","Полка открытая  Н=180",900,null,"h 180","Полка открытая  Н=180, размер: 900, h 180","1901\\ 2-90",642,642,642,642,642,642,642,642]
[null,null,"устанавливаются  к шкафам","Полка открытая  Н=180",1000,"h 180","h 180","Полка открытая  Н=180, размер: 1000, h 180","1901\\ 2-100",682,682,682,682,682,682,682,682]
[null,null,"высотой 540","Полка открытая  Н=180",1400,null,"h 180","Полка открытая  Н=180, размер: 1400, h 180","1901\\2-140",714,714,714,714,714,714,714,714]
[null,null,null,"Полка открытая  Н=200",300,null,"h 200","Полка открытая  Н=200, размер: 300, h 200","1902-30",310,310,310,{"$f":"J264","v":310},{"$f":"M264","v":310},310,310,310]
[null,null,"Полка открытая  Н=200*","Полка открытая  Н=200",350,null,"h 200","Полка открытая  Н=200, размер: 350, h 200","1902-35",325,325,325,325,{"$f":"M265","v":325},325,325,325]
[null,null,null,"Полка открытая  Н=200",400,"h 200","h 200","Полка открытая  Н=200, размер: 400, h 200","1902-40",370,370,370,370,370,370,370,370]
[null,null,null,"Полка открытая  Н=200",450,null,"h 200","Полка открытая  Н=200, размер: 450, h 200","1902-45",390,390,390,390,390,390,390,390]
[null,null,null,"Полка открытая  Н=200",500,null,"h 200","Полка открытая  Н=200, размер: 500, h 200","1902-50",410,410,410,410,410,410,410,410]
[null,null,"Полка открытая  Н=200*","Полка открытая  Н=200",600,null,"h 200","Полка открытая  Н=200, размер: 600, h 200","1902\\1-60",490,490,490,490,490,490,490,490]
[null,null,null,"Полка открытая  Н=200",700,"h 200","h 200","Полка открытая  Н=200, размер: 700, h 200","1902\\1-70",550,550,550,550,550,550,550,550]
[null,null,null,"Полка открытая  Н=200",800,null,"h 200","Полка открытая  Н=200, размер: 800, h 200","1902\\1-80",585,585,585,585,585,585,585,585]
[null,null,"Полка открытая  Н=200*","Полка открытая  Н=200",900,null,"h 200","Полка открытая  Н=200, размер: 900, h 200","1902\\2-90",680,680,680,680,680,680,680,680]
[null,null,null,"Полка открытая  Н=200",1000,"h 200","h 200","Полка открытая  Н=200, размер: 1000, h 200","1902\\2-100",710,710,710,710,710,710,710,710]
[null,null,null,"Полка открытая  Н=200",1400,null,"h 200","Полка открытая  Н=200, размер: 1400, h 200","1902\\2-140",735,735,735,735,735,735,735,735]
[null,null,null,"Полка открытая Декор Н=200\nцветное ЛДСП",300,null,"h 180",{"$f":"D275&\", размер: \"&E275&\", \"&G275","v":"Полка открытая Декор Н=200\nцветное ЛДСП, размер: 300, h 180"},"1906-30",345,345,345,345,345,345,345,345]
[null,null,"Полка открытая Декор Н=180","Полка открытая Декор Н=200\nцветное ЛДСП",350,null,"h 180","Полка открытая Декор Н=200\nцветное ЛДСП, размер: 350, h 180","1906-35",375,375,375,375,375,375,375,375]
[null,null,"цветное ЛДСП","Полка открытая Декор Н=200\nцветное ЛДСП",400,"h 180","h 180","Полка открытая Декор Н=200\nцветное ЛДСП, размер: 400, h 180","1906-40",410,410,410,410,410,410,410,410]
[null,null,null,"Полка открытая Декор Н=200\nцветное ЛДСП",450,null,"h 180","Полка открытая Декор Н=200\nцветное ЛДСП, размер: 450, h 180","1906-45",460,460,460,{"$f":"J278","v":460},460,460,460,460]
[null,null,null,"Полка открытая Декор Н=200\nцветное ЛДСП",500,null,"h 180","Полка открытая Декор Н=200\nцветное ЛДСП, размер: 500, h 180","1906-50",480,480,480,480,480,480,480,480]
[null,null,"Полка открытая Декор Н=180","Полка открытая Декор Н=200\nцветное ЛДСП",600,null,"h 180","Полка открытая Декор Н=200\nцветное ЛДСП, размер: 600, h 180","1906\\1-60",610,610,610,610,610,610,610,610]
[null,null,"цветное ЛДСП","Полка открытая Декор Н=200\nцветное ЛДСП",700,"h 180","h 180","Полка открытая Декор Н=200\nцветное ЛДСП, размер: 700, h 180","1906\\1-70",670,670,670,670,670,670,670,670]
[null,null,null,"Полка открытая Декор Н=200\nцветное ЛДСП",800,null,"h 180","Полка открытая Декор Н=200\nцветное ЛДСП, размер: 800, h 180","1906\\1-80",750,750,750,750,750,750,750,750]
[null,null,"Полка открытая Декор Н=180","Полка открытая Декор Н=200\nцветное ЛДСП",900,null,"h 180","Полка открытая Декор Н=200\nцветное ЛДСП, размер: 900, h 180","1906\\2-90",880,880,880,880,880,880,880,880]
[null,null,"цветное ЛДСП","Полка открытая Декор Н=200\nцветное ЛДСП",1000,"h 180","h 180","Полка открытая Декор Н=200\nцветное ЛДСП, размер: 1000, h 180","1906\\2-100",950,950,950,950,950,950,950,950]
[null,null,null,"Полка открытая Декор Н=200\nцветное ЛДСП",1400,null,"h 180","Полка открытая Декор Н=200\nцветное ЛДСП, размер: 1400, h 180","1906\\2-140",1140,1140,1140,1140,1140,1140,1140,1140]
[null,null,null,"Полка открытая Декор Н=200\nцветное ЛДСП",300,null,"h 180","Полка открытая Декор Н=200\nцветное ЛДСП, размер: 300, h 180","1907-30",370,370,370,{"$f":"J286","v":370},370,370,370,370]
[null,null,null,"Полка открытая Декор Н=200\nцветное ЛДСП",350,null,"h 180","Полка открытая Декор Н=200\nцветное ЛДСП, размер: 350, h 180","1907-35",410,410,410,410,410,410,410,410]
[null,null,"Полка открытая Декор Н=200","Полка открытая Декор Н=200\nцветное ЛДСП",400,"h 200","h 180","Полка открытая Декор Н=200\nцветное ЛДСП, размер: 400, h 180","1907-40",460,460,460,460,460,460,460,460]
[null,null,"цветное ЛДСП","Полка открытая Декор Н=200\nцветное ЛДСП",450,null,"h 180","Полка открытая Декор Н=200\nцветное ЛДСП, размер: 450, h 180","1907-45",480,480,480,480,480,480,480,480]
[null,null,null,"Полка открытая Декор Н=200\nцветное ЛДСП",500,null,"h 180","Полка открытая Декор Н=200\nцветное ЛДСП, размер: 500, h 180","1907-50",600,600,600,600,600,600,600,600]
[null,null,"Полка открытая Декор Н=200","Полка открытая Декор Н=200\nцветное ЛДСП",600,null,"h 180","Полка открытая Декор Н=200\nцветное ЛДСП, размер: 600, h 180","1907\\1-60",670,670,670,670,670,670,670,670]
[null,null,"цветное ЛДСП","Полка открытая Декор Н=200\nцветное ЛДСП",700,"h 200","h 180","Полка открытая Декор Н=200\nцветное ЛДСП, размер: 700, h 180","1907\\1-70",750,750,750,750,750,750,750,750]
[null,null,null,"Полка открытая Декор Н=200\nцветное ЛДСП",800,null,"h 180","Полка открытая Декор Н=200\nцветное ЛДСП, размер: 800, h 180","1907\\1-80",880,880,880,880,880,880,880,880]
[null,null,"Полка открытая Декор Н=200","Полка открытая Декор Н=200\nцветное ЛДСП",900,null,"h 180","Полка открытая Декор Н=200\nцветное ЛДСП, размер: 900, h 180","1907\\2-90",950,950,950,950,950,950,950,950]
[null,null,"цветное ЛДСП","Полка открытая Декор Н=200\nцветное ЛДСП",1000,"h 200","h 180","Полка открытая Декор Н=200\nцветное ЛДСП, размер: 1000, h 180","1907\\2-100",1140,1140,1140,1140,1140,1140,1140,1140]
[null,null,null,"Полка открытая Декор Н=200\nцветное ЛДСП",1400,null,"h 180","Полка открытая Декор Н=200\nцветное ЛДСП, размер: 1400, h 180","1907\\2-140",1250,1250,1250,1250,1250,1250,1250,1250]
[null,null,"Шкаф торцевой открытый скошеный","Шкаф торцевой открытый скошеный",200,"h 600","h 600","Шкаф торцевой открытый скошеный, размер: 200, h 600","1557-20",400,400,400,{"$f":"J297","v":400},400,400,400,{"$f":"P297","v":400}]
[null,null,null,"Шкаф торцевой открытый скошеный",300,null,"h 600","Шкаф торцевой открытый скошеный, размер: 300, h 600","1557-30",470,470,470,470,470,470,470,{"$f":"P298","v":470}]
[null,null,null,"Шкаф торцевой открытый скошеный",400,null,"h 600","Шкаф торцевой открытый скошеный, размер: 400, h 600","1557-40",550,550,550,550,550,550,550,550]
[null,null,null,"Шкаф торцевой открытый скошеный",200,"h 720","h 720","Шкаф торцевой открытый скошеный, размер: 200, h 720","1551-20",430,430,430,430,430,430,430,430]
[null,null,null,"Шкаф торцевой открытый скошеный",300,null,"h 720","Шкаф торцевой открытый скошеный, размер: 300, h 720","1551-30",520,520,520,520,520,520,520,520]
[null,null,null,"Шкаф торцевой открытый скошеный",350,null,"h 720","Шкаф торцевой открытый скошеный, размер: 350, h 720","1551-35",600,600,600,600,600,600,600,600]
[null,null,null,"Шкаф торцевой открытый скошеный",400,null,"h 720","Шкаф торцевой открытый скошеный, размер: 400, h 720","1551-40",620,620,620,620,620,620,620,620]
[null,null,null,"Шкаф торцевой открытый скошеный",200,"h 920","h 920","Шкаф торцевой открытый скошеный, размер: 200, h 920","1553-20",520,520,520,{"$f":"J304","v":520},520,520,520,520]
[null,null,null,"Шкаф торцевой открытый скошеный",300,null,"h 920",{"$f":"D305&\", размер: \"&E305&\", \"&G305","v":"Шкаф торцевой открытый скошеный, размер: 300, h 920"},"1553-30",630,630,630,630,630,630,630,630]
[null,null,null,"Шкаф торцевой открытый скошеный",400,null,"h 920","Шкаф торцевой открытый скошеный, размер: 400, h 920","1553-40",750,750,750,750,750,750,750,750]
[null,null,"Шкаф торцевой  скошенный 1д ","Шкаф торцевой  скошенный 1д ",300,"h 600","h 600","Шкаф торцевой  скошенный 1д , размер: 300, h 600","1558-30",1010,1100,1140,{"$f":"(0.321*0.6+0.138*0.6)*3910+J307","v":2086.8139999999999},2390,1880,2420,3470]
[null,null,null,"Шкаф торцевой  скошенный 1д ",300,"h 720","h 720","Шкаф торцевой  скошенный 1д , размер: 300, h 720","1555-30",1140,1250,1310,2370,2720,2130,2750,3950]
[null,null,null,"Шкаф торцевой  скошенный 1д ",300,"h 920","h 920","Шкаф торцевой  скошенный 1д , размер: 300, h 920","1556-30",1400,1540.0000000000002,1610,3050,3520,2720,3560,5160]
[null,null,"Шкаф торцевой скошенный 1дв.1ст.","Шкаф торцевой скошенный 1дв.1ст.",300,"h 600","h 600","Шкаф торцевой скошенный 1дв.1ст., размер: 300, h 600","1559-30",1120,1210,1250,{"$f":"M307+200","v":2286.8139999999999},{"$f":"N307+200","v":2590},2080,2620,3670]
[null,null,null,"Шкаф торцевой скошенный 1дв.1ст.",300,"h 720","h 720","Шкаф торцевой скошенный 1дв.1ст., размер: 300, h 720","1556-30",1260,1370,1430.0000000000002,{"$f":"M308+200","v":2570},2920,2330,2950,4150]
[null,null,null,"Шкаф торцевой скошенный 1дв.1ст.",300,"h 920","h 920","Шкаф торцевой скошенный 1дв.1ст., размер: 300, h 920","1556-30с",1550,1690,1760.0000000000002,3250,3720,2920,3760,5360]
[null,null,"Шкаф торцевой радиусный 300 ","Шкаф торцевой радиусный 300 ",300,"h 600","h 600","Шкаф торцевой радиусный 300 , размер: 300, h 600","1801-30",2650,2750,2780,"нет","нет","нет","нет","нет"]
[null,null,null,"Шкаф торцевой радиусный 301",300,"h 720","h 720","Шкаф торцевой радиусный 301, размер: 300, h 720","1802-30",2780,2890,2950,5620,5780,"нет","нет",9650]
[null,null,null,"Шкаф торцевой радиусный 302",300,"h 920","h 920","Шкаф торцевой радиусный 302, размер: 300, h 920","1803-30",3020,3170,3230,5820,5920,"нет","нет",9850]
[null,null,null,"Шкаф настенный 1д с нишей",200,"h 720","h 720","Шкаф настенный 1д с нишей, размер: 200, h 720","1302-20",900,950,950,{"$f":"0.000716*E316*3910+J316","v":1459.9119999999998},{"$f":"0.0006*E316*5010+J316","v":1501.1999999999998},{"$f":"0.0006*E316*3130+J316","v":1275.5999999999999},{"$f":"0.0006*E316*5110+J316","v":1513.1999999999998},{"$f":"0.0006*E316*8910+J316","v":1969.2}]
[null,null,null,"Шкаф настенный 1д с нишей",250,null,"h 720","Шкаф настенный 1д с нишей, размер: 250, h 720","1302-25",950,1000,1000,{"$f":"0.000716*E317*3910+J317","v":1649.8899999999999},{"$f":"0.0006*E317*5010+J317","v":1701.5},{"$f":"0.0006*E317*3130+J317","v":1419.5},{"$f":"0.0006*E317*5110+J317","v":1716.5},{"$f":"0.0006*E317*8910+J317","v":2286.5}]
[null,null,null,"Шкаф настенный 1д с нишей",300,null,"h 720","Шкаф настенный 1д с нишей, размер: 300, h 720","1302-30",1000,1040,1080,1839.8679999999999,1901.8,1563.4,1919.8,2603.8000000000002]
[null,null,null,"Шкаф настенный 1д с нишей",350,null,"h 720","Шкаф настенный 1д с нишей, размер: 350, h 720","1302-35",1100,1200,1200,2079.846,2152.1,1757.3,2173.1,2971.1]
[null,null,null,"Шкаф настенный 1д с нишей",400,null,"h 720","Шкаф настенный 1д с нишей, размер: 400, h 720","1302-40",1190,1260,1300,2309.8239999999996,2392.3999999999996,1941.1999999999998,2416.3999999999996,3328.4]
[null,null,null,"Шкаф настенный 1д с нишей",450,null,"h 720","Шкаф настенный 1д с нишей, размер: 450, h 720","1302-45",1300,1370,1400,2559.8019999999997,2652.7,2145.1,2679.7,3705.7]
[null,null,null,"Шкаф настенный 1д с нишей",500,null,"h 720","Шкаф настенный 1д с нишей, размер: 500, h 720","1302-50",1390,1470,1520,2789.7799999999997,2893,2329,2923,4063]
[null,null,null,"Шкаф настенный 1д с нишей",550,null,"h 720","Шкаф настенный 1д с нишей, размер: 550, h 720","1302-55",1490,1650,1700,3029.7579999999998,3143.2999999999997,2522.8999999999996,3176.2999999999997,4430.2999999999993]
[null,null,null,"Шкаф настенный 1д с нишей",600,null,"h 720","Шкаф настенный 1д с нишей, размер: 600, h 720","1302-60",1590,1700,1760.0000000000002,3269.7359999999999,3393.6,2716.8,3429.6,4797.6000000000004]
[null,null,null,"Шкаф настенный 1д с нишей",200,"h 920","h 920","Шкаф настенный 1д с нишей, размер: 200, h 920","1306-20",1050,1150,1200,{"$f":"0.000916*E325*3910+J325","v":1766.3119999999999},{"$f":"0.0008*E325*5010+J325","v":1851.6},{"$f":"0.0008*E325*3130+J325","v":1550.8},{"$f":"0.0008*E325*5110+J325","v":1867.6},{"$f":"0.0008*E325*8910+J325","v":2475.6000000000004}]
[null,null,null,"Шкаф настенный 1д с нишей",250,null,"h 920","Шкаф настенный 1д с нишей, размер: 250, h 920","1306-25",1130,1200,1250,{"$f":"0.000916*E326*3910+J326","v":2025.3899999999999},{"$f":"0.0008*E326*5010+J326","v":2132},{"$f":"0.0008*E326*3130+J326","v":1756},{"$f":"0.0008*E326*5110+J326","v":2152},{"$f":"0.0008*E326*8910+J326","v":2912}]
[null,null,null,"Шкаф настенный 1д с нишей",300,null,"h 920","Шкаф настенный 1д с нишей, размер: 300, h 920","1306-30",1170,1240,1280,2244.4679999999998,2372.4,1921.2,2396.4,3308.4]
[null,null,null,"Шкаф настенный 1д с нишей",350,null,"h 920","Шкаф настенный 1д с нишей, размер: 350, h 920","1306-35",1300,1380,1450,2553.5460000000003,2702.8,2176.4,2730.8,3794.8]
[null,null,null,"Шкаф настенный 1д с нишей",400,null,"h 920","Шкаф настенный 1д с нишей, размер: 400, h 920","1306-40",1410,1510,1550,2842.6239999999998,3013.2,2411.6,3045.2,4261.2000000000007]
[null,null,null,"Шкаф настенный 1д с нишей",450,null,"h 920","Шкаф настенный 1д с нишей, размер: 450, h 920","1306-45",1600,1700,1780,3211.7020000000002,3403.6000000000004,2726.8,3439.6000000000004,4807.6000000000004]
[null,null,null,"Шкаф настенный 1д с нишей",500,null,"h 920","Шкаф настенный 1д с нишей, размер: 500, h 920","1306-50",1650.0000000000002,1780,1840,3440.78,3654,2902,3694,5214]
[null,null,null,"Шкаф настенный 1д с нишей",550,null,"h 920","Шкаф настенный 1д с нишей, размер: 550, h 920","1306-55",1800,2000,2070,3769.8580000000002,4004.4,3177.2,4048.4,5720.4]
[null,null,null,"Шкаф настенный 1д с нишей",600,null,"h 920","Шкаф настенный 1д с нишей, размер: 600, h 920","1306-60",1890,2050,2110,4038.9359999999997,4294.8,3392.4,4342.8,6166.8]
[null,null,"Шкаф настенный 1д с нишей (со стеклом)","Шкаф настенный 1д с нишей (со стеклом)",300,"h 720","h 720","Шкаф настенный 1д с нишей (со стеклом), размер: 300, h 720","1302-30с",{"$f":"J318*0.2+J318","v":1200},1248,1296,{"$f":"0.00072*E334*3910+J334","v":2044.56},{"$f":"0.0006*E334*5010+J334","v":2101.8000000000002},{"$f":"0.0006*E334*3130+J334","v":1763.4},{"$f":"0.0006*E334*5110+J334","v":2119.8000000000002},{"$f":"0.0006*E334*8910+J334","v":2803.8}]
[null,null,null,"Шкаф настенный 1д с нишей (со стеклом)",350,null,"h 720","Шкаф настенный 1д с нишей (со стеклом), размер: 350, h 720","1302-35с",1320,1440,1440,{"$f":"0.00072*E335*3910+J335","v":2305.3200000000002},{"$f":"0.0006*E335*5010+J335","v":2372.1},{"$f":"0.0006*E335*3130+J335","v":1977.3},{"$f":"0.0006*E335*5110+J335","v":2393.1},{"$f":"0.0006*E335*8910+J335","v":3191.1}]
[null,null,null,"Шкаф настенный 1д с нишей (со стеклом)",400,null,"h 720","Шкаф настенный 1д с нишей (со стеклом), размер: 400, h 720","1302-40с",1428,1512,1560,2554.08,2630.3999999999996,2179.1999999999998,2654.3999999999996,3566.4]
[null,null,null,"Шкаф настенный 1д с нишей (со стеклом)",450,null,"h 720","Шкаф настенный 1д с нишей (со стеклом), размер: 450, h 720","1302-45с",1560,1644,1680,2826.84,2912.7,2405.1,2939.7,3965.7]
[null,null,null,"Шкаф настенный 1д с нишей (со стеклом)",500,null,"h 720","Шкаф настенный 1д с нишей (со стеклом), размер: 500, h 720","1302-50с",1668,1764,1824,3075.6000000000004,3171,2607,3201,4341]
[null,null,null,"Шкаф настенный 1д с нишей (со стеклом)",550,null,"h 720","Шкаф настенный 1д с нишей (со стеклом), размер: 550, h 720","1302-55с",1788,1980,2040,3336.36,3441.2999999999997,2820.8999999999996,3474.2999999999997,4728.2999999999993]
[null,null,null,"Шкаф настенный 1д с нишей (со стеклом)",600,null,"h 720","Шкаф настенный 1д с нишей (со стеклом), размер: 600, h 720","1302-60с",1908,2040,2112.0000000000005,3597.12,3711.6,3034.8,3747.6,5115.6000000000004]
[null,null,"Шкаф настенный 1д с нишей (со стеклом)","Шкаф настенный 1д с нишей (со стеклом)",300,"h 920","h 920","Шкаф настенный 1д с нишей (со стеклом), размер: 300, h 920","1306-30с",{"$f":"J327*0.2+J327","v":1404},1488,1536,{"$f":"0.00092*E341*3910+J341","v":2483.16},{"$f":"0.0008*E341*5010+J341","v":2606.4},{"$f":"0.0008*E341*3130+J341","v":2155.1999999999998},{"$f":"0.0008*E341*5110+J341","v":2630.4},{"$f":"0.0008*E341*8910+J341","v":3542.4}]
[null,null,null,"Шкаф настенный 1д с нишей (со стеклом)",350,null,"h 920","Шкаф настенный 1д с нишей (со стеклом), размер: 350, h 920","1306-35с",1560,1656,1740,{"$f":"0.00092*E342*3910+J342","v":2819.02},{"$f":"0.0008*E342*5010+J342","v":2962.8},{"$f":"0.0008*E342*3130+J342","v":2436.4},{"$f":"0.0008*E342*5110+J342","v":2990.8},{"$f":"0.0008*E342*8910+J342","v":4054.8}]
[null,null,null,"Шкаф настенный 1д с нишей (со стеклом)",400,null,"h 920","Шкаф настенный 1д с нишей (со стеклом), размер: 400, h 920","1306-40с",1692,1812,1860,3130.88,3295.2,2693.6,3327.2,4543.2000000000007]
[null,null,null,"Шкаф настенный 1д с нишей (со стеклом)",450,null,"h 920","Шкаф настенный 1д с нишей (со стеклом), размер: 450, h 920","1306-45с",1920,2040,2136,3538.7400000000002,3723.6000000000004,3046.8,3759.6000000000004,5127.6000000000004]
[null,null,null,"Шкаф настенный 1д с нишей (со стеклом)",500,null,"h 920","Шкаф настенный 1д с нишей (со стеклом), размер: 500, h 920","1306-50с",1980.0000000000002,2136,2208,3778.6000000000004,3984,3232,4024,5544]
[null,null,null,"Шкаф настенный 1д с нишей (со стеклом)",550,null,"h 920","Шкаф настенный 1д с нишей (со стеклом), размер: 550, h 920","1306-55с",2160,2400,2484,4138.46,4364.3999999999996,3537.2,4408.3999999999996,6080.4]
[null,null,null,"Шкаф настенный 1д с нишей (со стеклом)",600,null,"h 920","Шкаф настенный 1д с нишей (со стеклом), размер: 600, h 920","1306-60с",2268,2460,2532,4426.32,4672.8,3770.4,4720.8,6544.8]
[null,null,"Шкаф настенный 1д с нишей","Шкаф настенный 1д с нишей",200,"h 720","h 720","Шкаф настенный 1д с нишей, размер: 200, h 720","1303-20",{"$f":"J316","v":900},950,950,{"$f":"0.00072*E348*3910+J348","v":1463.04},{"$f":"0.0006*E348*5010+J348","v":1501.1999999999998},{"$f":"0.0006*E348*3130+J348","v":1275.5999999999999},{"$f":"0.0006*E348*5110+J348","v":1513.1999999999998},{"$f":"0.00072*E348*8910+J348","v":2183.04}]
[null,null,null,"Шкаф настенный 1д с нишей",250,null,"h 720","Шкаф настенный 1д с нишей, размер: 250, h 720","1303-25",950,1000,1000,{"$f":"0.00072*E349*3910+J349","v":1653.8000000000002},{"$f":"0.0006*E349*5010+J349","v":1701.5},{"$f":"0.0006*E349*3130+J349","v":1419.5},{"$f":"0.0006*E349*5110+J349","v":1716.5},{"$f":"0.00072*E349*8910+J349","v":2553.8000000000002}]
[null,null,null,"Шкаф настенный 1д с нишей",300,null,"h 720","Шкаф настенный 1д с нишей, размер: 300, h 720","1303-30",1000,1040,1080,1844.56,1901.8,1563.4,1919.8,2924.5600000000004]
[null,null,null,"Шкаф настенный 1д с нишей",350,null,"h 720","Шкаф настенный 1д с нишей, размер: 350, h 720","1303-35",1100,1200,1200,2085.3200000000002,2152.1,1757.3,2173.1,3345.32]
[null,null,null,"Шкаф настенный 1д с нишей",400,null,"h 720","Шкаф настенный 1д с нишей, размер: 400, h 720","1303-40",1190,1260,1300,2316.08,2392.3999999999996,1941.1999999999998,2416.3999999999996,3756.0800000000004]
[null,null,null,"Шкаф настенный 1д с нишей",450,null,"h 720","Шкаф настенный 1д с нишей, размер: 450, h 720","1303-45",1300,1370,1400,2566.84,2652.7,2145.1,2679.7,4186.84]
[null,null,null,"Шкаф настенный 1д с нишей",500,null,"h 720","Шкаф настенный 1д с нишей, размер: 500, h 720","1303-50",1390,1470,1520,2797.6000000000004,2893,2329,2923,4597.6000000000004]
[null,null,null,"Шкаф настенный 1д с нишей",550,null,"h 720","Шкаф настенный 1д с нишей, размер: 550, h 720","1303-55",1490,1650,1700,3038.36,3143.2999999999997,2522.8999999999996,3176.2999999999997,5018.3600000000006]
[null,null,null,"Шкаф настенный 1д с нишей",600,null,"h 720","Шкаф настенный 1д с нишей, размер: 600, h 720","1303-60",1590,1700,1760.0000000000002,3279.12,3393.6,2716.8,3429.6,5439.1200000000008]
[null,null,"Шкаф настенный 1д с нишей","Шкаф настенный 1д с нишей",200,"h 920","h 920","Шкаф настенный 1д с нишей, размер: 200, h 920","1307-20",1050,1150,1200,{"$f":"0.00092*E357*3910+J357","v":1769.44},{"$f":"0.0008*E357*5010+J357","v":1851.6},{"$f":"0.0008*E357*3130+J357","v":1550.8},{"$f":"0.0008*E357*5110+J357","v":1867.6},{"$f":"0.0008*E357*8910+J357","v":2475.6000000000004}]
[null,null,null,"Шкаф настенный 1д с нишей",250,null,"h 920","Шкаф настенный 1д с нишей, размер: 250, h 920","1307-25",1130,1200,1250,{"$f":"0.00092*E358*3910+J358","v":2029.3000000000002},{"$f":"0.0008*E358*5010+J358","v":2132},{"$f":"0.0008*E358*3130+J358","v":1756},{"$f":"0.0008*E358*5110+J358","v":2152},{"$f":"0.0008*E358*8910+J358","v":2912}]
[null,null,null,"Шкаф настенный 1д с нишей",300,null,"h 920",{"$f":"D359&\", размер: \"&E359&\", \"&G359","v":"Шкаф настенный 1д с нишей, размер: 300, h 920"},"1307-30",1170,1240,1280,2249.16,2372.4,1921.2,2396.4,3308.4]
[null,null,null,"Шкаф настенный 1д с нишей",350,null,"h 920","Шкаф настенный 1д с нишей, размер: 350, h 920","1307-35",1300,1380,1450,2559.02,2702.8,2176.4,2730.8,3794.8]
[null,null,null,"Шкаф настенный 1д с нишей",400,null,"h 920","Шкаф настенный 1д с нишей, размер: 400, h 920","1307-40",1410,1510,1550,2848.88,3013.2,2411.6,3045.2,4261.2000000000007]
[null,null,null,"Шкаф настенный 1д с нишей",450,null,"h 920","Шкаф настенный 1д с нишей, размер: 450, h 920","1307-45",1600,1700,1780,3218.7400000000002,3403.6000000000004,2726.8,3439.6000000000004,4807.6000000000004]
[null,null,null,"Шкаф настенный 1д с нишей",500,null,"h 920","Шкаф настенный 1д с нишей, размер: 500, h 920","1307-50",1650.0000000000002,1780,1840,3448.6000000000004,3654,2902,3694,5214]
[null,null,null,"Шкаф настенный 1д с нишей",550,null,"h 920","Шкаф настенный 1д с нишей, размер: 550, h 920","1307-55",{"$f":"J332","v":1800},2000,2070,3778.46,4004.4,3177.2,4048.4,5720.4]
[null,null,null,"Шкаф настенный 1д с нишей",600,null,"h 920","Шкаф настенный 1д с нишей, размер: 600, h 920","1307-60",1890,2050,2110,4048.32,4294.8,3392.4,4342.8,6166.8]
[null,null,"Шкаф настенный 1д с нишей (со стеклом)","Шкаф настенный 1д с нишей (со стеклом)",300,"h 720","h 720","Шкаф настенный 1д с нишей (со стеклом), размер: 300, h 720","1303-30с",{"$f":"J350*0.2+J350","v":1200},1248,1296,{"$f":"0.00072*E366*3910+J366","v":2044.56},{"$f":"0.0006*E366*5010+J366","v":2101.8000000000002},{"$f":"0.0006*E366*3130+J366","v":1763.4},{"$f":"0.0006*E366*5110+J366","v":2119.8000000000002},{"$f":"0.0006*E366*8910+J366","v":2803.8}]
[null,null,null,"Шкаф настенный 1д с нишей (со стеклом)",350,null,"h 720","Шкаф настенный 1д с нишей (со стеклом), размер: 350, h 720","1303-35с",1320,1440,1440,{"$f":"0.00072*E367*3910+J367","v":2305.3200000000002},{"$f":"0.0006*E367*5010+J367","v":2372.1},{"$f":"0.0006*E367*3130+J367","v":1977.3},{"$f":"0.0006*E367*5110+J367","v":2393.1},{"$f":"0.0006*E367*8910+J367","v":3191.1}]
[null,null,null,"Шкаф настенный 1д с нишей (со стеклом)",400,null,"h 720","Шкаф настенный 1д с нишей (со стеклом), размер: 400, h 720","1303-40с",1428,1512,1560,2554.08,2630.3999999999996,2179.1999999999998,2654.3999999999996,3566.4]
[null,null,null,"Шкаф настенный 1д с нишей (со стеклом)",450,null,"h 720","Шкаф настенный 1д с нишей (со стеклом), размер: 450, h 720","1303-45с",1560,1644,1680,2826.84,2912.7,2405.1,2939.7,3965.7]
[null,null,null,"Шкаф настенный 1д с нишей (со стеклом)",500,null,"h 720","Шкаф настенный 1д с нишей (со стеклом), размер: 500, h 720","1303-50с",1668,1764,1824,3075.6000000000004,3171,2607,3201,4341]
[null,null,null,"Шкаф настенный 1д с нишей (со стеклом)",550,null,"h 720","Шкаф настенный 1д с нишей (со стеклом), размер: 550, h 720","1303-55с",1788,1980,2040,3336.36,3441.2999999999997,2820.8999999999996,3474.2999999999997,4728.2999999999993]
[null,null,null,"Шкаф настенный 1д с нишей (со стеклом)",600,null,"h 720","Шкаф настенный 1д с нишей (со стеклом), размер: 600, h 720","1303-60с",1908,2040,2112.0000000000005,3597.12,3711.6,3034.8,3747.6,5115.6000000000004]
[null,null,"Шкаф настенный 1д с нишей (со стеклом)","Шкаф настенный 1д с нишей (со стеклом)",300,"h 920","h 920","Шкаф настенный 1д с нишей (со стеклом), размер: 300, h 920","1307-30с",{"$f":"J359*0.2+J359","v":1404},1488,1536,{"$f":"0.000916*E373*3910+J373","v":2478.4679999999998},{"$f":"0.0008*E373*5010+J373","v":2606.4},{"$f":"0.0008*E373*3130+J373","v":2155.1999999999998},{"$f":"0.00092*E373*5110+J373","v":2814.36},{"$f":"0.0008*E373*8910+J373","v":3542.4}]
[null,null,null,"Шкаф настенный 1д с нишей (со стеклом)",350,null,"h 920","Шкаф настенный 1д с нишей (со стеклом), размер: 350, h 920","1307-35с",1560,1656,1740,{"$f":"0.000916*E374*3910+J374","v":2813.5460000000003},{"$f":"0.0008*E374*5010+J374","v":2962.8},{"$f":"0.0008*E374*3130+J374","v":2436.4},{"$f":"0.00092*E374*5110+J374","v":3205.42},{"$f":"0.0008*E374*8910+J374","v":4054.8}]
[null,null,null,"Шкаф настенный 1д с нишей (со стеклом)",400,null,"h 920","Шкаф настенный 1д с нишей (со стеклом), размер: 400, h 920","1307-40с",1692,1812,1860,3124.6239999999998,3295.2,2693.6,3572.48,4543.2000000000007]
[null,null,null,"Шкаф настенный 1д с нишей (со стеклом)",450,null,"h 920","Шкаф настенный 1д с нишей (со стеклом), размер: 450, h 920","1307-45с",1920,2040,2136,3531.7020000000002,3723.6000000000004,3046.8,4035.54,5127.6000000000004]
[null,null,null,"Шкаф настенный 1д с нишей (со стеклом)",500,null,"h 920","Шкаф настенный 1д с нишей (со стеклом), размер: 500, h 920","1307-50с",1980.0000000000002,2136,2208,3770.78,3984,3232,4330.6000000000004,5544]
[null,null,null,"Шкаф настенный 1д с нишей (со стеклом)",550,null,"h 920","Шкаф настенный 1д с нишей (со стеклом), размер: 550, h 920","1307-55с",2160,2400,2484,4129.8580000000002,4364.3999999999996,3537.2,4745.66,6080.4]
[null,null,null,"Шкаф настенный 1д с нишей (со стеклом)",600,null,"h 920","Шкаф настенный 1д с нишей (со стеклом), размер: 600, h 920","1307-60с",2268,2460,2532,4416.9359999999997,4672.8,3770.4,5088.72,6544.8]
[null,null,null,"Шкаф настенный 2д с нишей",500,"h 720","h 720","Шкаф настенный 2д с нишей, размер: 500, h 720","1402-50",1420,1520,1550,{"$f":"0.000716*E380*3910+J380","v":2819.7799999999997},{"$f":"0.00072*E380*5010+J380","v":3223.6000000000004},{"$f":"0.0006*E380*3130+J380","v":2359},{"$f":"0.0006*E380*5110+J380","v":2953},{"$f":"0.0006*E380*8910+J380","v":4093}]
[null,null,null,"Шкаф настенный 2д с нишей",600,null,"h 720","Шкаф настенный 2д с нишей, размер: 600, h 720","1402-60",1640,1750,1790,{"$f":"0.000716*E381*3910+J381","v":3319.7359999999999},{"$f":"0.00072*E381*5010+J381","v":3804.32},{"$f":"0.0006*E381*3130+J381","v":2766.8},{"$f":"0.0006*E381*5110+J381","v":3479.6},{"$f":"0.0006*E381*8910+J381","v":4847.6000000000004}]
[null,null,null,"Шкаф настенный 2д с нишей",700,null,"h 720","Шкаф настенный 2д с нишей, размер: 700, h 720","1402-70",1840,1960,2010,3799.692,4365.04,3154.6,{"$f":"0.0006*E382*5110+J382","v":3986.2},5582.2]
[null,null,null,"Шкаф настенный 2д с нишей",800,null,"h 720","Шкаф настенный 2д с нишей, размер: 800, h 720","1402-80",2020,2180,2230,4259.6479999999992,4905.76,3522.3999999999996,{"$f":"0.0006*E383*5110+J383","v":4472.7999999999993},6296.8]
[null,null,null,"Шкаф настенный 2д с нишей",500,"h 920","h 920","Шкаф настенный 2д с нишей, размер: 500, h 920","1407-50",1690,1810,1870.0000000000002,{"$f":"0.000916*E384*3910+J384","v":3480.7799999999997},{"$f":"0.00092*E384*5010+J384","v":3994.6},{"$f":"0.0008*E384*3130+J384","v":2942},{"$f":"0.0008*E384*5110+J384","v":3734},{"$f":"0.0008*E384*8910+J384","v":5254}]
[null,null,null,"Шкаф настенный 2д с нишей",600,null,"h 920","Шкаф настенный 2д с нишей, размер: 600, h 920","1407-60",1920,2080,2140,{"$f":"0.000916*E385*3910+J385","v":4068.9359999999997},{"$f":"0.00092*E385*5010+J385","v":4685.5200000000004},{"$f":"0.0008*E385*3130+J385","v":3422.4},{"$f":"0.0008*E385*5110+J385","v":4372.8},{"$f":"0.0008*E385*8910+J385","v":6196.8}]
[null,null,null,"Шкаф настенный 2д с нишей",700,null,"h 920","Шкаф настенный 2д с нишей, размер: 700, h 920","1407-70",2170,2340,2410,4677.0920000000006,5396.4400000000005,3922.8,5031.6000000000004,7159.6]
[null,null,null,"Шкаф настенный 2д с нишей",800,null,"h 920","Шкаф настенный 2д с нишей, размер: 800, h 920","1407-80",2400,2600,2680,5265.2479999999996,6087.3600000000006,4403.2,5670.4,8102.4000000000005]
[null,null,"Шкаф настенный 2д с нишей (со стеклом)","Шкаф настенный 2д с нишей (со стеклом)",600,"h 720","h 720","Шкаф настенный 2д с нишей (со стеклом), размер: 600, h 720","1402-60с",{"$f":"J381*0.25+J381","v":2050},2187.5,2237.5,{"$f":"0.00072*E388*3910+J388","v":3739.12},{"$f":"0.00072*E388*5010+J388","v":4214.32},{"$f":"0.0006*E388*3130+J388","v":3176.8},{"$f":"0.0006*E388*5110+J388","v":3889.6},{"$f":"0.0006*E388*8910+J388","v":5257.6}]
[null,null,null,"Шкаф настенный 2д с нишей (со стеклом)",700,null,"h 720","Шкаф настенный 2д с нишей (со стеклом), размер: 700, h 720","1402-70с",2300,2450,2512.5,{"$f":"0.00072*E389*3910+J389","v":4270.6400000000003},{"$f":"0.00072*E389*5010+J389","v":4825.04},{"$f":"0.0006*E389*3130+J389","v":3614.6},{"$f":"0.0006*E389*5110+J389","v":4446.2},{"$f":"0.0006*E389*8910+J389","v":6042.2}]
[null,null,null,"Шкаф настенный 2д с нишей (со стеклом)",800,null,"h 720","Шкаф настенный 2д с нишей (со стеклом), размер: 800, h 720","1402-80с",2525,2725,2787.5,4777.16,5410.76,4027.3999999999996,4977.7999999999993,6801.8]
[null,null,"Шкаф настенный 2д с нишей (со стеклом)","Шкаф настенный 2д с нишей (со стеклом)",600,"h 920","h 920","Шкаф настенный 2д с нишей (со стеклом), размер: 600, h 920","1407-60с",{"$f":"J385*0.25+J385","v":2400},2600,2675,{"$f":"0.000916*E391*3910+J391","v":4548.9359999999997},{"$f":"0.00092*E391*5010+J391","v":5165.5200000000004},{"$f":"0.00072*E391*3130+J391","v":3752.16},{"$f":"0.0008*E391*5110+J391","v":4852.8},{"$f":"0.0008*E391*8910+J391","v":6676.8}]
[null,null,null,"Шкаф настенный 2д с нишей (со стеклом)",700,null,"h 920","Шкаф настенный 2д с нишей (со стеклом), размер: 700, h 920","1407-70с",2712.5,2925,3012.5,{"$f":"0.000916*E392*3910+J392","v":5219.5920000000006},{"$f":"0.00092*E392*5010+J392","v":5938.9400000000005},{"$f":"0.00072*E392*3130+J392","v":4290.0200000000004},{"$f":"0.0008*E392*5110+J392","v":5574.1},{"$f":"0.0008*E392*8910+J392","v":7702.1}]
[null,null,null,"Шкаф настенный 2д с нишей (со стеклом)",800,null,"h 920","Шкаф настенный 2д с нишей (со стеклом), размер: 800, h 920","1407-80с",3000,3250,3350,5865.2479999999996,6687.3600000000006,4802.88,6270.4,8702.4000000000015]
[null,null,"Шкаф настенный 2д с нишей","Шкаф настенный 2д с нишей",600,"h 720","h 720","Шкаф настенный 2д с нишей, размер: 600, h 720","1403-60",{"$f":"J381","v":1640},1750,1790,{"$f":"M381","v":3319.7359999999999},{"$f":"0.00072*E394*5010+J394","v":3804.32},{"$f":"0.0006*E394*3130+J394","v":2766.8},{"$f":"0.0006*E394*5110+J394","v":3479.6},{"$f":"0.0006*E394*8910+J394","v":4847.6000000000004}]
[null,null,null,"Шкаф настенный 2д с нишей",700,null,"h 720","Шкаф настенный 2д с нишей, размер: 700, h 720","1403-70",1840,1960,2010,3799.692,{"$f":"0.00072*E395*5010+J395","v":4365.04},{"$f":"0.0006*E395*3130+J395","v":3154.6},{"$f":"0.0006*E395*5110+J395","v":3986.2},{"$f":"0.0006*E395*8910+J395","v":5582.2}]
[null,null,null,"Шкаф настенный 2д с нишей",800,null,"h 720","Шкаф настенный 2д с нишей, размер: 800, h 720","1403-80",2020,2180,2230,4259.6479999999992,4905.76,3522.3999999999996,4472.7999999999993,6296.8]
[null,null,"Шкаф настенный 2д с нишей","Шкаф настенный 2д с нишей",600,"h 920","h 920","Шкаф настенный 2д с нишей, размер: 600, h 920","1408-60",{"$f":"J385","v":1920},2080,2140,{"$f":"0.000916*E397*3910+J397","v":4068.9359999999997},{"$f":"0.00092*E397*5010+J397","v":4685.5200000000004},{"$f":"0.0008*E397*3130+J397","v":3422.4},{"$f":"0.0008*E397*5110+J397","v":4372.8},{"$f":"0.0008*E397*8910+J397","v":6196.8}]
[null,null,null,"Шкаф настенный 2д с нишей",700,null,"h 920","Шкаф настенный 2д с нишей, размер: 700, h 920","1408-70",2170,2340,2410,{"$f":"0.000916*E398*3910+J398","v":4677.0920000000006},{"$f":"0.00092*E398*5010+J398","v":5396.4400000000005},{"$f":"0.0008*E398*3130+J398","v":3922.8},{"$f":"0.0008*E398*5110+J398","v":5031.6000000000004},{"$f":"0.0008*E398*8910+J398","v":7159.6}]
[null,null,null,"Шкаф настенный 2д с нишей",800,null,"h 920","Шкаф настенный 2д с нишей, размер: 800, h 920","1408-80",2400,2600,2680,5265.2479999999996,6087.3600000000006,4403.2,5670.4,8102.4000000000005]
[null,null,"Шкаф настенный 2д с нишей (со стеклом)","Шкаф настенный 2д с нишей (со стеклом)",600,"h 720","h 720","Шкаф настенный 2д с нишей (со стеклом), размер: 600, h 720","1403-60с",2050,2187.5,2237.5,{"$f":"0.000716*E400*3910+J400","v":3729.7359999999999},{"$f":"0.00072*E400*5010+J400","v":4214.32},{"$f":"0.0006*E400*3130+J400","v":3176.8},{"$f":"0.0006*E400*5110+J400","v":3889.6},{"$f":"0.0006*E400*8910+J400","v":5257.6}]
[null,null,null,"Шкаф настенный 2д с нишей (со стеклом)",700,null,"h 720","Шкаф настенный 2д с нишей (со стеклом), размер: 700, h 720","1403-70с",2300,2450,2512.5,{"$f":"0.000716*E401*3910+J401","v":4259.692},{"$f":"0.00072*E401*5010+J401","v":4825.04},{"$f":"0.0006*E401*3130+J401","v":3614.6},{"$f":"0.0006*E401*5110+J401","v":4446.2},{"$f":"0.0006*E401*8910+J401","v":6042.2}]
[null,null,null,"Шкаф настенный 2д с нишей (со стеклом)",800,null,"h 720","Шкаф настенный 2д с нишей (со стеклом), размер: 800, h 720","1403-80с",2525,2725,2787.5,4764.6479999999992,5410.76,4027.3999999999996,4977.7999999999993,6801.8]
[null,null,"Шкаф настенный 2д с нишей (со стеклом)","Шкаф настенный 2д с нишей (со стеклом)",600,"h 920","h 920","Шкаф настенный 2д с нишей (со стеклом), размер: 600, h 920","1408-60с",{"$f":"J397","v":1920},2080,2140,{"$f":"0.000916*E403*3910+J403","v":4068.9359999999997},{"$f":"0.00092*E403*5010+J403","v":4685.5200000000004},{"$f":"0.0008*E403*3130+J403","v":3422.4},{"$f":"0.0008*E403*5110+J403","v":4372.8},{"$f":"0.0008*E403*8910+J403","v":6196.8}]
[null,null,null,"Шкаф настенный 2д с нишей (со стеклом)",700,null,"h 920","Шкаф настенный 2д с нишей (со стеклом), размер: 700, h 920","1408-70с",2170,2340,2410,{"$f":"0.000916*E404*3910+J404","v":4677.0920000000006},{"$f":"0.00092*E404*5010+J404","v":5396.4400000000005},{"$f":"0.0008*E404*3130+J404","v":3922.8},{"$f":"0.0008*E404*5110+J404","v":5031.6000000000004},{"$f":"0.0008*E404*8910+J404","v":7159.6}]
[null,null,null,"Шкаф настенный 2д с нишей (со стеклом)",800,null,"h 920","Шкаф настенный 2д с нишей (со стеклом), размер: 800, h 920","1408-80с",{"$f":"J398","v":2170},2340,2410,5035.2479999999996,5857.3600000000006,4173.2,5440.4,7872.4000000000005]
[null,null,"Шкаф-колонна (рекомендованно испльзовать с хлебницей )","Шкаф-колонна",50,"h 600","h 600","Шкаф-колонна, размер: 50, h 600","1903-5",300,350,400,400,400,400,400,400]
[null,null,null,"Шкаф-колонна",50,"h 720","h 720","Шкаф-колонна, размер: 50, h 720","1904-5",350,400,450,450,450,450,450,450]
[null,null,null,"Шкаф-колонна",50,"h 920","h 920","Шкаф-колонна, размер: 50, h 920","1905-5",370,410,460,460,460,460,460,460]

{"sheet":"Пенал-полупеналы","index":5,"n_rows":95,"n_cols":17,"rows_kept":95,"cut":false,"hidden":false,"merged":[[0,2,0,8],[93,1,94,1],[93,2,94,2],[91,1,92,1],[91,2,92,2],[89,1,90,1],[89,2,90,2],[87,2,88,2],[79,1,81,1],[79,2,81,2],[79,5,81,5],[73,1,75,1],[73,2,75,2],[73,5,75,5],[76,1,78,1],[76,2,78,2],[76,5,78,5],[63,1,69,1],[63,2,69,2],[63,5,69,5],[70,1,72,1],[70,2,72,2],[70,5,72,5],[44,1,54,1],[44,2,49,2],[44,5,49,5],[50,2,54,2],[50,5,54,5],[56,1,62,1],[56,2,62,2],[56,5,62,5],[2,1,7,1],[2,2,7,2],[2,5,4,5],[5,5,7,5],[8,1,13,1],[8,2,13,2],[8,5,10,5],[11,5,13,5],[27,1,37,1],[27,2,32,2],[27,5,32,5],[33,2,37,2],[33,5,37,5],[38,1,43,1],[38,2,43,2],[38,5,43,5],[14,1,19,1],[14,2,19,2],[14,5,16,5],[17,5,19,5],[20,1,25,1],[20,2,25,2],[20,5,22,5],[23,5,25,5]]}
[null,null,null,null,null,null,null,null,null,"МДФ\nмат.","МДФ\nглян.","МДФ\nметалл.","МДФ+ПАТИНА","БАГЕТНАЯ","БОСТОН\nПВХ/фот.печ.","БОСТОН ЛАК","БОСТОН ЭМАЛЬ"]
[null,"Пеналы"]
[null,null,"Пенал 2140 без ящ 3дв ","Пенал 2140 без ящ 3дв ",400,"h 2140","h 2140",{"$f":"D3&\", размер: \"&E3&\", \"&G3","v":"Пенал 2140 без ящ 3дв , размер: 400, h 2140"},"1702-40",4170,4440,4550,{"$f":"0.00204*E3*3910+J3","v":7360.56},{"$f":"0.00204*E3*5010+J3","v":8258.16},{"$f":"0.00204*E3*3130+J3","v":6724.08},{"$f":"0.00204*E3*5110+J3","v":8339.76},{"$f":"0.00204*E3*8910+J3","v":11440.560000000001}]
[null,null,null,"Пенал 2140 без ящ 3дв ",500,null,"h 2140",{"$f":"D4&\", размер: \"&E4&\", \"&G4","v":"Пенал 2140 без ящ 3дв , размер: 500, h 2140"},"1702-50",4800,5140,5290,{"$f":"0.00204*E4*3910+J4","v":8788.2000000000007},{"$f":"0.00204*E4*5010+J4","v":9910.2000000000007},{"$f":"0.00204*E4*3130+J4","v":7992.6},{"$f":"0.00204*E4*5110+J4","v":10012.200000000001},{"$f":"0.00204*E4*8910+J4","v":13888.2}]
[null,null,null,"Пенал 2140 без ящ 3дв ",600,null,"h 2140","Пенал 2140 без ящ 3дв , размер: 600, h 2140","1702-60",5430,5840,6030,10215.84,11562.240000000002,9261.1200000000008,11684.640000000001,16335.840000000002]
[null,null,null,"Пенал 2140 без ящ 3дв ",400,"h 2340","h 2340","Пенал 2140 без ящ 3дв , размер: 400, h 2340","1703-40",{"$f":"J3*0.1+J3","v":4587},4884,5005,{"$f":"0.00224*E6*3910+J6","v":8090.36},{"$f":"0.00224*E6*5010+J6","v":9075.9599999999991},{"$f":"0.00224*E6*3130+J6","v":7391.48},{"$f":"0.00224*E6*5110+J6","v":9165.56},{"$f":"0.00224*8910*E6+J6","v":12570.359999999999}]
[null,null,null,"Пенал 2140 без ящ 3дв ",500,null,"h 2340","Пенал 2140 без ящ 3дв , размер: 500, h 2340","1703-50",{"$f":"J4*0.1+J4","v":5280},5654,5819,{"$f":"0.00224*E7*3910+J7","v":9659.2000000000007},{"$f":"0.00224*E7*5010+J7","v":10891.2},{"$f":"0.00224*E7*3130+J7","v":8785.5999999999985},{"$f":"0.00224*E7*5110+J7","v":11003.2},{"$f":"0.00224*8910*E7+J7","v":15259.199999999999}]
[null,null,null,"Пенал 2140 без ящ 3дв ",600,null,"h 2340","Пенал 2140 без ящ 3дв , размер: 600, h 2340","1703-60",5973,6424,6633,11228.039999999999,12706.439999999999,10179.719999999999,12840.84,17948.04]
[null,null,"Пенал 2140 без ящ 3дв","Пенал 2140 без ящ 3дв",400,"h 2140","h 2140","Пенал 2140 без ящ 3дв, размер: 400, h 2140","1702-40",{"$f":"J3*0.2+J3","v":5004},5328,5460,{"$f":"0.00204*E9*3910+J9","v":8194.5600000000013},{"$f":"0.00204*E9*5010+J9","v":9092.16},{"$f":"0.00204*E9*3130+J9","v":7558.08},{"$f":"0.00204*E9*5110+J9","v":9173.76},{"$f":"0.00204*E9*8910+J9","v":12274.560000000001}]
[null,null,null,"Пенал 2140 без ящ 3дв",500,null,"h 2140","Пенал 2140 без ящ 3дв, размер: 500, h 2140","1702-50",{"$f":"J4*0.2+J4","v":5760},6168,6348,{"$f":"0.00204*E10*3910+J10","v":9748.2000000000007},{"$f":"0.00204*E10*5010+J10","v":10870.2},{"$f":"0.00204*E10*3130+J10","v":8952.6},{"$f":"0.00204*E10*5110+J10","v":10972.2},{"$f":"0.00204*E10*8910+J10","v":14848.2}]
[null,null,null,"Пенал 2140 без ящ 3дв",600,null,"h 2140","Пенал 2140 без ящ 3дв, размер: 600, h 2140","1702-60",6516,7008,7236,11301.84,12648.240000000002,10347.120000000001,12770.640000000001,17421.840000000004]
[null,null,null,"Пенал 2140 без ящ 3дв",400,"h 2340","h 2340","Пенал 2140 без ящ 3дв, размер: 400, h 2340","1703-40с",5504.4,5860.8,6006,{"$f":"0.00224*E12*3910+J12","v":9007.7599999999984},{"$f":"0.00224*E12*5010+J12","v":9993.3599999999988},{"$f":"0.00224*E12*3130+J12","v":8308.8799999999992},{"$f":"0.00224*E12*5110+J12","v":10082.959999999999},{"$f":"0.00224*E12*8910+J12","v":13487.759999999998}]
[null,null,null,"Пенал 2140 без ящ 3дв",500,null,"h 2340","Пенал 2140 без ящ 3дв, размер: 500, h 2340","1703-50с",6336,6784.8,6982.8,{"$f":"0.00224*E13*3910+J13","v":10715.2},{"$f":"0.00224*E13*5010+J13","v":11947.2},{"$f":"0.00224*E13*3130+J13","v":9841.5999999999985},{"$f":"0.00224*E13*5110+J13","v":12059.2},{"$f":"0.00224*E13*8910+J13","v":16315.199999999999}]
[null,null,null,"Пенал 2140 без ящ 3дв",600,null,"h 2340","Пенал 2140 без ящ 3дв, размер: 600, h 2340","1703-60с",7167.6,7708.8,7959.6,12422.64,13901.04,11374.32,14035.439999999999,19142.64]
[null,null,"Пенал 2140 3ящ 2дв ","Пенал 2140 3ящ 2дв ",400,"h 2140","h 2140","Пенал 2140 3ящ 2дв , размер: 400, h 2140","1700-40",4780,5060,5180,{"$f":"0.00204*E15*3910+J15","v":7970.56},{"$f":"0.00204*E15*5010+J15","v":8868.16},{"$f":"0.00204*E15*3130+J15","v":7334.08},{"$f":"0.00204*E15*5110+J15","v":8949.76},{"$f":"0.00204*E15*8910+J15","v":12050.560000000001}]
[null,null,null,"Пенал 2140 3ящ 2дв ",500,null,"h 2140","Пенал 2140 3ящ 2дв , размер: 500, h 2140","1700-50",{"$f":"J4*0.17+J4","v":5616},6013.8,6189.3,{"$f":"0.00204*E16*3910+J16","v":9604.2000000000007},{"$f":"0.00204*E16*5010+J16","v":10726.2},{"$f":"0.00204*E16*3130+J16","v":8808.6},{"$f":"0.00204*E16*5110+J16","v":10828.2},{"$f":"0.00204*E16*8910+J16","v":14704.2}]
[null,null,null,"Пенал 2140 3ящ 2дв ",600,null,"h 2140","Пенал 2140 3ящ 2дв , размер: 600, h 2140","1700-60",6353.1,6832.8,7055.1,11138.940000000002,12485.34,10184.220000000001,12607.740000000002,17258.940000000002]
[null,null,null,"Пенал 2140 3ящ 2дв ",400,"h 2340","h 2340","Пенал 2140 3ящ 2дв , размер: 400, h 2340","1701-40",{"$f":"J6*0.17+J6","v":5366.79},5714.28,5855.85,{"$f":"0.00224*E18*3910+J18","v":8870.15},{"$f":"0.00224*E18*5010+J18","v":9855.75},{"$f":"0.00224*E18*3130+J18","v":8171.2699999999995},{"$f":"0.00224*E18*5110+J18","v":9945.3499999999985},{"$f":"0.00224*E18*8910+J18","v":13350.149999999998}]
[null,null,null,"Пенал 2140 3ящ 2дв ",500,null,"h 2340","Пенал 2140 3ящ 2дв , размер: 500, h 2340","1701-50",6177.6,6615.18,6808.23,{"$f":"0.00224*E19*3910+J19","v":10556.8},{"$f":"0.00224*E19*5010+J19","v":11788.8},{"$f":"0.00224*E19*3130+J19","v":9683.2000000000007},{"$f":"0.00224*E19*5110+J19","v":11900.8},{"$f":"0.00224*E19*8910+J19","v":16156.8}]
[null,null,null,"Пенал 2140 3ящ 2дв ",600,null,"h 2340","Пенал 2140 3ящ 2дв , размер: 600, h 2340","1701-60",6988.41,7516.08,7760.6100000000006,12243.449999999999,13721.849999999999,11195.13,13856.25,18963.449999999997]
[null,null,"Пенал 2140 3ящ 2дв ","Пенал 2140 3ящ 2дв ",400,"h 2140","h 2140","Пенал 2140 3ящ 2дв , размер: 400, h 2140","1700-40с",{"$f":"J15*0.25+J15","v":5975},6325,6475,{"$f":"0.00204*E21*3910+J21","v":9165.5600000000013},{"$f":"0.00204*E21*5010+J21","v":10063.16},{"$f":"0.00204*E21*3130+J21","v":8529.08},{"$f":"0.00204*E21*5110+J21","v":10144.76},{"$f":"0.00204*E21*8910+J21","v":13245.560000000001}]
[null,null,null,"Пенал 2140 3ящ 2дв ",500,null,"h 2140","Пенал 2140 3ящ 2дв , размер: 500, h 2140","1700-50с",{"$f":"J16*0.25+J16","v":7020},7517.25,7736.625,{"$f":"0.00204*E22*3910+J22","v":11008.2},{"$f":"0.00204*E22*5010+J22","v":12130.2},{"$f":"0.00204*E22*3130+J22","v":10212.6},{"$f":"0.00204*E22*5110+J22","v":12232.2},{"$f":"0.00204*E22*8910+J22","v":16108.2}]
[null,null,null,"Пенал 2140 3ящ 2дв ",600,null,"h 2140","Пенал 2140 3ящ 2дв , размер: 600, h 2140","1700-60с",7941.375,8541,8818.875,12727.215,14073.615000000002,11772.495000000001,14196.015000000001,18847.215000000004]
[null,null,null,"Пенал 2140 3ящ 2дв ",400,"h 2340","h 2340","Пенал 2140 3ящ 2дв , размер: 400, h 2340","1701-40с",6708.4875000000002,7142.8499999999995,7319.8125,{"$f":"0.00224*E24*3910+J24","v":10211.8475},{"$f":"0.00224*E24*5010+J24","v":11197.447499999998},{"$f":"0.00224*E24*3130+J24","v":9512.9674999999988},{"$f":"0.00224*E24*5110+J24","v":11287.047500000001},{"$f":"0.00204*E24*8910+J24","v":13979.047500000001}]
[null,null,null,"Пенал 2140 3ящ 2дв ",500,null,"h 2340","Пенал 2140 3ящ 2дв , размер: 500, h 2340","1701-50с",7722,8268.9750000000004,8510.2874999999985,{"$f":"0.00224*E25*3910+J25","v":12101.2},{"$f":"0.00224*E25*5010+J25","v":13333.2},{"$f":"0.00224*E25*3130+J25","v":11227.599999999999},{"$f":"0.00224*E25*5110+J25","v":13445.2},{"$f":"0.00204*E25*8910+J25","v":16810.2}]
[null,null,null,"Пенал 2140 3ящ 2дв ",600,null,"h 2340","Пенал 2140 3ящ 2дв , размер: 600, h 2340","1701-60с",8735.5125000000007,9395.1,9700.7625000000007,13990.5525,15468.952499999999,12942.2325,15603.352500000001,19641.352500000001]
[null,"Шкафы навесные Н=1200"]
[null,null,"Полупенал 2дв","Полупенал 2дв",300,"h 1200","h 1200","Полупенал 2дв, размер: 300, h 1200","1605-30",1550,1670,1720,{"$f":"0.0012*E28*3910+J28","v":2957.6},{"$f":"0.0012*E28*5010+J28","v":3353.6},{"$f":"0.0012*E28*3130+J28","v":2676.8},{"$f":"0.0012*E28*5110+J28","v":3389.6},{"$f":"0.0012*E28*8910+J28","v":4757.6000000000004}]
[null,null,null,"Полупенал 2дв",350,null,"h 1200","Полупенал 2дв, размер: 350, h 1200","1605-35",1720,1860,1920,{"$f":"0.0012*E29*3910+J29","v":3362.2},{"$f":"0.0012*E29*5010+J29","v":3824.2},{"$f":"0.0012*E29*3130+J29","v":3034.6},{"$f":"0.0012*E29*5110+J29","v":3866.2},{"$f":"0.0012*E29*8910+J29","v":5462.2}]
[null,null,null,"Полупенал 2дв",400,null,"h 1200","Полупенал 2дв, размер: 400, h 1200","1605-40",1870.0000000000002,2030,2100,3746.8,4274.8,3372.4,4322.8,6146.8]
[null,null,null,"Полупенал 2дв",450,null,"h 1200","Полупенал 2дв, размер: 450, h 1200","1605-45",2050,2220,2300,4161.3999999999996,4755.3999999999996,3740.2,4809.3999999999996,6861.4]
[null,null,null,"Полупенал 2дв",500,null,"h 1200","Полупенал 2дв, размер: 500, h 1200","1605-50",2180,2390,2470,4526,5186,4058,5246,7526]
[null,null,null,"Полупенал 2дв",600,null,"h 1200","Полупенал 2дв, размер: 600, h 1200","1605-60",2400,2600,2800,5215.2,6007.2,4653.6000000000004,6079.2,8815.2000000000007]
[null,null,"Полупенал 2дв","Полупенал 2дв",300,"h 1320 ","h 1320 ","Полупенал 2дв, размер: 300, h 1320 ","1606-30",1670,1800,1860,{"$f":"0.00132*E34*3910+J34","v":3218.36},{"$f":"0.00132*E34*5010+J34","v":3653.96},{"$f":"0.00132*E34*3130+J34","v":2909.48},{"$f":"0.00132*E34*5110+J34","v":3693.5600000000004},{"$f":"0.00132*E34*8910+J34","v":5198.3600000000006}]
[null,null,null,"Полупенал 2дв",350,null,"h 1320 ","Полупенал 2дв, размер: 350, h 1320 ","1606-35",1840,1990,2060,{"$f":"0.00132*E35*3910+J35","v":3646.42},{"$f":"0.00132*E35*5010+J35","v":4154.62},{"$f":"0.00132*E35*3130+J35","v":3286.0600000000004},{"$f":"0.00132*E35*5110+J35","v":4200.82},{"$f":"0.00132*E35*8910+J35","v":5956.42}]
[null,null,null,"Полупенал 2дв",400,null,"h 1320 ","Полупенал 2дв, размер: 400, h 1320 ","1606-40",2010,2190,2270,4074.48,4655.2800000000007,3662.6400000000003,4708.08,6714.4800000000005]
[null,null,null,"Полупенал 2дв",450,null,"h 1320 ","Полупенал 2дв, размер: 450, h 1320 ","1606-45",2170,2360,2450,4492.54,5145.9400000000005,4029.2200000000003,5205.34,7462.54]
[null,null,null,"Полупенал 2дв",500,null,"h 1320 ","Полупенал 2дв, размер: 500, h 1320 ","1606-50",2330,2550,2650,4910.6000000000004,5636.6,4395.8,5702.6,8210.6]
[null,null,"Полупенал 2д (1д стекло)","Полупенал 2д (1д стекло)",300,"h 1200","h 1200","Полупенал 2д (1д стекло), размер: 300, h 1200","1605-30гс",{"$f":"J28*0.2+J28","v":1860},2004,2064,{"$f":"0.0012*E39*3910+J39","v":3267.6},{"$f":"0.0012*E39*5010+J39","v":3663.6},{"$f":"0.0012*E39*3130+J39","v":2986.8},{"$f":"0.0012*E39*5110+J39","v":3699.6},{"$f":"0.0012*E39*8910+J39","v":5067.6000000000004}]
[null,null,null,"Полупенал 2д (1д стекло)",350,null,"h 1200","Полупенал 2д (1д стекло), размер: 350, h 1200","1605-35гс",2064,2232,2304,{"$f":"0.0012*E40*3910+J40","v":3706.2},{"$f":"0.0012*E40*5010+J40","v":4168.2},{"$f":"0.0012*E40*3130+J40","v":3378.6},{"$f":"0.0012*E40*5110+J40","v":4210.2},{"$f":"0.0012*E40*8910+J40","v":5806.2}]
[null,null,null,"Полупенал 2д (1д стекло)",400,null,"h 1200","Полупенал 2д (1д стекло), размер: 400, h 1200","1605-40гс",2244.0000000000005,2436,2520,4120.8,4648.8,3746.4000000000005,4696.8,6520.8000000000011]
[null,null,null,"Полупенал 2д (1д стекло)",450,null,"h 1200","Полупенал 2д (1д стекло), размер: 450, h 1200","1605-45гс",2460,2664,2760,4571.3999999999996,5165.3999999999996,4150.2,5219.3999999999996,7271.4]
[null,null,null,"Полупенал 2д (1д стекло)",500,null,"h 1200","Полупенал 2д (1д стекло), размер: 500, h 1200","1605-50гс",2616,2868,2964,4962,5622,4494,5682,7962]
[null,null,null,"Полупенал 2д (1д стекло)",600,null,"h 1200","Полупенал 2д (1д стекло), размер: 600, h 1200","1605-60гс",2880,3120,3360,5695.2,6487.2,5133.6000000000004,6559.2,9295.2000000000007]
[null,null,"Полупенал 2д стекло","Полупенал 2д стекло",300,"h 1200","h 1200","Полупенал 2д стекло, размер: 300, h 1200","1605-30с",1740,1860,1900,{"$f":"0.0012*E45*3910+J45","v":3147.6},{"$f":"0.0012*5010*E45+J45","v":3543.6},{"$f":"0.0012*E45*3130+J45","v":2866.8},{"$f":"0.0012*E45*5110+J45","v":3579.6},{"$f":"0.0012*E45*8910+J45","v":4947.6000000000004}]
[null,null,null,"Полупенал 2д стекло",350,null,"h 1200","Полупенал 2д стекло, размер: 350, h 1200","1605-35с",1950,2090,2160,{"$f":"0.0012*E46*3910+J46","v":3592.2},{"$f":"0.0012*5010*E46+J46","v":4054.2},{"$f":"0.0012*E46*3130+J46","v":3264.6},{"$f":"0.0012*E46*5110+J46","v":4096.2},{"$f":"0.0012*E46*8910+J46","v":5692.2}]
[null,null,null,"Полупенал 2д стекло",400,null,"h 1200","Полупенал 2д стекло, размер: 400, h 1200","1605-40с",2140,2310,2380,4016.8,4544.7999999999993,3642.3999999999996,4592.7999999999993,6416.8]
[null,null,null,"Полупенал 2д стекло",450,null,"h 1200","Полупенал 2д стекло, размер: 450, h 1200","1605-45с",2360,2540,2620,4471.3999999999996,5065.3999999999996,4050.2,5119.3999999999996,7171.4]
[null,null,null,"Полупенал 2д стекло",500,null,"h 1200","Полупенал 2д стекло, размер: 500, h 1200","1605-50с",2540,2750,2840,4886,5546,4418,5606,7886]
[null,null,null,"Полупенал 2д стекло",600,null,"h 1200","Полупенал 2д стекло, размер: 600, h 1200","1605-60с",{"$f":"J44*0.1+J44","v":3168},3432,3696,5983.2,6775.2,5421.6,6847.2,9583.2000000000007]
[null,null,"Полупенал 2 дв. Стекло","Полупенал 2 дв. Стекло",300,"h 1320 ","h 1320 ","Полупенал 2 дв. Стекло, размер: 300, h 1320 ","1606-30с",1880,2010,2070,{"$f":"0.00132*E51*3910+J51","v":3428.36},{"$f":"0.00132*E51*5010+J51","v":3863.96},{"$f":"0.00132*E51*3130+J51","v":3119.48},{"$f":"0.00132*E51*5110+J51","v":3903.5600000000004},{"$f":"0.00132*E51*8910+J51","v":5408.3600000000006}]
[null,null,null,"Полупенал 2 дв. Стекло",350,null,"h 1320 ","Полупенал 2 дв. Стекло, размер: 350, h 1320 ","1606-35с",2090,2240,2310,{"$f":"0.00132*E52*3910+J52","v":3896.42},{"$f":"0.00132*E52*5010+J52","v":4404.62},{"$f":"0.00132*E52*3130+J52","v":3536.0600000000004},{"$f":"0.00132*E52*5110+J52","v":4450.82},{"$f":"0.00132*E52*8910+J52","v":6206.42}]
[null,null,null,"Полупенал 2 дв. Стекло",400,null,"h 1320 ","Полупенал 2 дв. Стекло, размер: 400, h 1320 ","1606-40с",2322,2500,2570,4386.4799999999996,4967.2800000000007,3974.6400000000003,5020.08,7026.4800000000005]
[null,null,null,"Полупенал 2 дв. Стекло",450,null,"h 1320 ","Полупенал 2 дв. Стекло, размер: 450, h 1320 ","1606-45с",2520,2720,2800,4842.54,5495.9400000000005,4379.22,5555.34,7812.54]
[null,null,null,"Полупенал 2 дв. Стекло",500,null,"h 1320 ","Полупенал 2 дв. Стекло, размер: 500, h 1320 ","1606-50с",2730,2950,3050,5310.6,6036.6,4795.8,6102.6,8610.6]
[null,"Шкафы навесные Н=1280"]
[null,null,"Полупенал 2я 1д","Полупенал 2я 1д",300,"h 1280","h 1280","Полупенал 2я 1д, размер: 300, h 1280","1643-30",1830,1960,2010,{"$f":"0.00128*E57*3910+J57","v":3331.44},{"$f":"0.00128*E57*5010+J57","v":3753.84},{"$f":"0.00128*E57*3130+J57","v":3031.92},{"$f":"0.00128*E57*5110+J57","v":3792.24},{"$f":"0.00128*E57*8910+J57","v":5251.4400000000005}]
[null,null,null,"Полупенал 2я 1д",350,null,"h 1280","Полупенал 2я 1д, размер: 350, h 1280","1643-35",2030,2190,2250,{"$f":"0.00128*E58*3910+J58","v":3781.6800000000003},{"$f":"0.00128*E58*5010+J58","v":4274.4799999999996},{"$f":"0.00128*E58*3130+J58","v":3432.24},{"$f":"0.00128*E58*5110+J58","v":4319.2800000000007},{"$f":"0.00128*E58*8910+J58","v":6021.68}]
[null,null,null,"Полупенал 2я 1д",400,null,"h 1280","Полупенал 2я 1д, размер: 400, h 1280","1643-40",2210,2380,2450,4211.92,4775.12,3812.56,4826.32,6771.92]
[null,null,null,"Полупенал 2я 1д",450,null,"h 1280","Полупенал 2я 1д, размер: 450, h 1280","1643-45",2400,2580,2670,4652.16,5285.76,4202.88,5343.3600000000006,7532.1600000000008]
[null,null,null,"Полупенал 2я 1д",500,null,"h 1280","Полупенал 2я 1д, размер: 500, h 1280","1643-50",2580,2790,2890,5082.3999999999996,5786.4,4583.2,5850.4,8282.4000000000015]
[null,null,null,"Полупенал 2я 1д",550,null,"h 1280","Полупенал 2я 1д, размер: 550, h 1280","1643-55",2700,2900,3030,5452.64,{"$f":"0.00128*E62*5010+J62","v":6227.0400000000009},4903.5200000000004,6297.4400000000005,8972.64]
[null,null,null,"Полупенал 2я 1д",600,null,"h 1280","Полупенал 2я 1д, размер: 600, h 1280","1643-60",2900,3100,3200,5902.88,6747.68,5303.84,6824.48,9742.880000000001]
[null,null,"Полупенал 2я 1д стекло","Полупенал 2я 1д стекло",300,"h 1280","h 1280","Полупенал 2я 1д стекло, размер: 300, h 1280","1643-30с",1980.0000000000002,2110,2170,{"$f":"0.00128*E64*3910+J64","v":3481.4400000000005},{"$f":"0.00128*E64*5010+J64","v":3903.84},{"$f":"0.00128*E64*3130+J64","v":3181.92},{"$f":"0.00128*E64*5110+J64","v":3942.2400000000002},{"$f":"0.00128*E64*8910+J64","v":5401.4400000000005}]
[null,null,null,"Полупенал 2я 1д стекло",350,null,"h 1280","Полупенал 2я 1д стекло, размер: 350, h 1280","1643-35с",2230,2390,2450,{"$f":"0.00128*E65*3910+J65","v":3981.6800000000003},{"$f":"0.00128*E65*5010+J65","v":4474.4799999999996},{"$f":"0.00128*E65*3130+J65","v":3632.24},{"$f":"0.00128*E65*5110+J65","v":4519.2800000000007},{"$f":"0.00128*E65*8910+J65","v":6221.68}]
[null,null,null,"Полупенал 2я 1д стекло",400,null,"h 1280","Полупенал 2я 1д стекло, размер: 400, h 1280","1643-40с",2430,2600,2670,4431.92,4995.12,4032.56,5046.32,6991.92]
[null,null,null,"Полупенал 2я 1д стекло",450,null,"h 1280","Полупенал 2я 1д стекло, размер: 450, h 1280","1643-45с",2670,2860.0000000000005,2948.0000000000005,4922.16,5555.76,4472.88,5613.3600000000006,7802.1600000000008]
[null,null,null,"Полупенал 2я 1д стекло",500,null,"h 1280",{"$f":"D68&\", размер: \"&E68&\", \"&G68","v":"Полупенал 2я 1д стекло, размер: 500, h 1280"},"1643-50с",2890,3100,3200,5392.4,6096.4,4893.2,6160.4,8592.4000000000015]
[null,null,null,"Полупенал 2я 1д стекло",550,null,"h 1280","Полупенал 2я 1д стекло, размер: 550, h 1280","1643-55с",{"$f":"J62*0.15+J62","v":3105},3335,3484.5,5857.64,6632.0400000000009,5308.52,6702.4400000000005,9377.64]
[null,null,null,"Полупенал 2я 1д стекло",600,null,"h 1280","Полупенал 2я 1д стекло, размер: 600, h 1280","1643-60с",3335,3565,3680,6337.88,7182.68,5738.84,7259.48,10177.880000000001]
[null,null,"Полупенал 2я 2д","Полупенал 2я 2д",600,"h 1280","h 1280","Полупенал 2я 2д, размер: 600, h 1280","1653-60",{"$f":"J63*0.15+J63","v":3335},3565,3680,{"$f":"0.00128*E71*3910+J71","v":6337.88},{"$f":"0.00128*E71*5010+J71","v":7182.68},{"$f":"0.00128*E71*3130+J71","v":5738.84},{"$f":"0.00128*E71*5110+J71","v":7259.48},{"$f":"0.00128*E71*8910+J71","v":10177.880000000001}]
[null,null,null,"Полупенал 2я 2д",700,null,"h 1280","Полупенал 2я 2д, размер: 700, h 1280","1653-70",{"$f":"J71*0.15+J71","v":3835.25},4099.75,4232,{"$f":"0.00128*E72*3910+J72","v":7338.6100000000006},{"$f":"0.00128*E72*5010+J72","v":8324.2099999999991},{"$f":"0.00128*E72*3130+J72","v":6639.73},{"$f":"0.00128*E72*5110+J72","v":8413.8100000000013},{"$f":"0.00128*E72*8910+J72","v":11818.61}]
[null,null,null,"Полупенал 2я 2д",800,null,"h 1280","Полупенал 2я 2д, размер: 800, h 1280","1653-80",4410.5375000000004,4714.7124999999996,4866.8,8414.3775000000005,9540.7775000000001,7615.6575000000003,9643.1775000000016,13534.377500000001]
[null,null,"Полупенал 4я 2д","Полупенал 4я 2д",600,"h 1280","h 1280","Полупенал 4я 2д, размер: 600, h 1280","1665-60",{"$f":"J71*0.05+J71","v":3501.75},3743.25,3864,{"$f":"0.00128*E74*3910+J74","v":6504.63},{"$f":"0.00128*E74*5010+J74","v":7349.43},{"$f":"0.00128*E74*3130+J74","v":5905.59},{"$f":"0.00128*E74*5110+J74","v":7426.23},{"$f":"0.00128*E74*8910+J74","v":10344.630000000001}]
[null,null,null,"Полупенал 4я 2д",700,null,"h 1280","Полупенал 4я 2д, размер: 700, h 1280","1665-70",{"$f":"J72*0.05+J72","v":4027.0124999999998},4304.7375000000002,4443.6000000000004,{"$f":"0.00128*E75*3910+J75","v":7530.3724999999995},{"$f":"0.00128*E75*5010+J75","v":8515.9724999999999},{"$f":"0.00128*E75*3130+J75","v":6831.4925000000003},{"$f":"0.00128*E75*5110+J75","v":8605.5725000000002},{"$f":"0.00128*E75*8910+J75","v":12010.372500000001}]
[null,null,null,"Полупенал 4я 2д",800,null,"h 1280","Полупенал 4я 2д, размер: 800, h 1280","1665-80",4631.0643749999999,4950.4481249999999,5110.1400000000003,8634.9043750000001,9761.3043749999997,7836.1843749999998,9863.7043750000012,13754.904375]
[null,null,"Полупенал 2я 2д стекло","Полупенал 2я 2д стекло",600,"h 1280","h 1280","Полупенал 2я 2д стекло, размер: 600, h 1280","1653-60c",{"$f":"J71*0.25+J71","v":4168.75},4456.25,4600,{"$f":"0.00128*E77*3910+J77","v":7171.63},{"$f":"0.00128*E77*5010+J77","v":8016.43},{"$f":"0.00128*E77*3130+J77","v":6572.59},{"$f":"0.00128*E77*5110+J77","v":8093.23},{"$f":"0.00128*8910+J77","v":4180.1548000000003}]
[null,null,null,"Полупенал 2я 2д стекло",700,null,"h 1280","Полупенал 2я 2д стекло, размер: 700, h 1280","1653-70c",{"$f":"J72*0.25+J72","v":4794.0625},5124.6875,5290,{"$f":"0.00128*E78*3910+J78","v":8297.4225000000006},{"$f":"0.00128*E78*5010+J78","v":9283.0224999999991},{"$f":"0.00128*E78*3130+J78","v":7598.5424999999996},{"$f":"0.00128*E78*5110+J78","v":9372.6225000000013},{"$f":"0.00128*8910+J78","v":4805.4673000000003}]
[null,null,null,"Полупенал 2я 2д стекло",800,null,"h 1280","Полупенал 2я 2д стекло, размер: 800, h 1280","1653-80c",5513.171875,5893.390625,6083.5,9517.0118750000001,10643.411875,8718.291874999999,10745.811874999999,5524.5766750000003]
[null,null,"Полупенал 4я 2д стекло","Полупенал 4я 2д стекло",600,"h 1280","h 1280","Полупенал 4я 2д стекло, размер: 600, h 1280","1665-60c",4377.1875,4679.0625,4830,{"$f":"0.00128*3910*E80+J80","v":7380.0675000000001},{"$f":"0.00128*E80*5010+J80","v":8224.8675000000003},{"$f":"0.00128*E80*3130+J80","v":6781.0275000000001},{"$f":"0.00128*E80*5110+J80","v":8301.6674999999996},{"$f":"0.00128*8910*E80+J80","v":11220.067500000001}]
[null,null,null,"Полупенал 4я 2д стекло",700,null,"h 1280","Полупенал 4я 2д стекло, размер: 700, h 1280","1665-70c",{"$f":"J75*0.25+J75","v":5033.765625},5380.921875,5554.5,{"$f":"0.00128*3910*E81+J81","v":8537.1256250000006},{"$f":"0.00128*E81*5010+J81","v":9522.7256249999991},{"$f":"0.00128*E81*3130+J81","v":7838.2456249999996},{"$f":"0.00128*E81*5110+J81","v":9612.3256250000013},{"$f":"0.00128*8910*E81+J81","v":13017.125625000001}]
[null,null,null,"Полупенал 4я 2д стекло",800,null,"h 1280","Полупенал 4я 2д стекло, размер: 800, h 1280","1665-80c",5788.8304687500004,6188.0601562499996,6387.6750000000002,9792.6704687500005,10919.07046875,8993.9504687500012,11021.470468750002,14912.670468750002]
[null,null,"полупенал под встр. технику 1ящ.\nМЕТАБОКС","полупенал под встр. технику 1ящ. МЕТАБОКС",600,"h 1085","h 1085",{"$f":"D83&\", размер: \"&E83&\", \"&G83","v":"полупенал под встр. технику 1ящ. МЕТАБОКС, размер: 600, h 1085"},"2001-60",2500,2600,2700,{"$f":"0.000356*600*3910+J83","v":3335.1759999999999},{"$f":"0.000356*E83*5010+J83","v":3570.136},{"$f":"0.00356*E83*3130+J83","v":9185.68},{"$f":"0.000356*E83*5110+J83","v":3591.4960000000001},{"$f":"0.000356*E83*8910+J83","v":4403.1759999999995}]
[null,null,"полупенал под встр. технику 2ящ.\nМЕТАБОКС","полупенал под встр. технику 2ящ. МЕТАБОКС",600,"h1420","h1420","полупенал под встр. технику 2ящ. МЕТАБОКС, размер: 600, h1420","2001-60",4300,4400,4500,{"$f":"0.000716*600*3910+J84","v":5979.7359999999999},{"$f":"0.00072*E84*5010+J84","v":6464.32},{"$f":"0.00072*E84*3130+J84","v":5652.16},{"$f":"0.00072*E84*5110+J84","v":6507.52},{"$f":"0.000356*E84*8910+J84","v":6203.1759999999995}]
[null,null,"полупенал под встр. технику 1дв.","полупенал под встр. технику 1дв.",600,"h1420","h1420","полупенал под встр. технику 1дв., размер: 600, h1420","2001-60",2650,2800,3150,{"$f":"0.000716*E85*3910+J85","v":4329.7359999999999},{"$f":"0.00072*E85*5010+J85","v":4814.32},{"$f":"0.00072*E85*3130+J85","v":4002.16},{"$f":"0.00072*E85*5110+J85","v":4857.5200000000004},{"$f":"0.00072*E85*8910+J85","v":6499.1200000000008}]
[null,null,"полупенал 2дв.","полупенал 2дв.",600,"h1420","h1420","полупенал 2дв., размер: 600, h1420","2001-60",3670,4000,4200,{"$f":"0.00132*E86*3910+J86","v":6766.72},{"$f":"0.00132*E86*5010+J86","v":7637.92},{"$f":"0.00132*E86*3130+J86","v":6148.96},{"$f":"0.00132*E86*5110+J86","v":7717.1200000000008},{"$f":"0.00132*E86*8910+J86","v":10726.720000000001}]
[null,null,"Пенал 2 двери Н=2140","Пенал 2 двери Н=2140",600,"h2140","h2140","Пенал 2 двери Н=2140, размер: 600, h2140","1704-60",5400,5900,6100,{"$f":"0.00204*E87*3910+J87","v":10185.84},{"$f":"0.00204*E87*5010+J87","v":11532.240000000002},{"$f":"0.00204*E87*3130+J87","v":9231.1200000000008},{"$f":"0.00204*E87*5110+J87","v":11654.640000000001},{"$f":"0.00204*E87*8910+J87","v":16305.840000000002}]
[null,null,"Пенал 6 дверей  ","Пенал 6 дверей  ",600,"h2140","h2140",{"$f":"D88&\", размер: \"&E88&\", \"&G88","v":"Пенал 6 дверей  , размер: 600, h2140"},"1705-60",6100,6300,6500,{"$f":"0.00204*E88*3910+J88","v":10885.84},{"$f":"0.00204*E88*5010+J88","v":12232.240000000002},{"$f":"0.00204*E88*3130+J88","v":9931.1200000000008},{"$f":"0.00204*E88*5110+J88","v":12354.640000000001},{"$f":"0.00204*E88*8910+J88","v":17005.840000000004}]
[null,null,null,"Пенал 6 дверей",600,"h2340","h2340","Пенал 6 дверей, размер: 600, h2340","1706-60",6300,6500,6700,{"$f":"0.00224*E89*3910+J89","v":11555.039999999999},{"$f":"0.00224*E89*5010+J89","v":13033.439999999999},{"$f":"0.00224*E89*3130+J89","v":10506.72},{"$f":"0.00224*E89*5110+J89","v":13167.84},{"$f":"0.00224*E89*8910+J89","v":18275.04}]
[null,null,"Пенал под встр технику 2 двери ","Пенал под встр технику 2 двери ",600,"h2140","h2140",{"$f":"D90&\", размер: \"&E90&\", \"&G90","v":"Пенал под встр технику 2 двери , размер: 600, h2140"},"1707-60",4400,4500,4600,{"$f":"0.00144*E90*3910+J90","v":7778.24},{"$f":"0.00154*E90*5010+J90","v":9029.24},{"$f":"0.00144*E90*3130+J90","v":7104.32},{"$f":"0.00144*E90*5110+J90","v":8815.0400000000009},{"$f":"0.00144*E90*8910+J90","v":12098.240000000002}]
[null,null,null,"Пенал под встр технику 2 двери ",600,"h2340","h2340",{"$f":"D91&\", размер: \"&E91&\", \"&G91","v":"Пенал под встр технику 2 двери , размер: 600, h2340"},"1708-60",5000,5100,5200,{"$f":"0.00164*E91*3910+J91","v":8847.44},{"$f":"0.00174*E91*5010+J91","v":10230.44},{"$f":"0.00164*E91*3130+J91","v":8079.92},{"$f":"0.00164*E91*5110+J91","v":10028.24},{"$f":"0.00164*E91*8910+J91","v":13767.44}]
[null,null,"Пенал под встр технику 1 дверь 2 ящ.\nМЕТАБОКС ","Пенал под встр технику 1 дверь 2 ящ.\nМЕТАБОКС ",600,"h2140","h2140","Пенал под встр технику 1 дверь 2 ящ.\nМЕТАБОКС , размер: 600, h2140","1709-60",6000,6100,6300,{"$f":"0.00144*E92*3910+J92","v":9378.24},{"$f":"0.00154*E92*5010+J92","v":10629.24},{"$f":"0.00144*E92*3130+J92","v":8704.32},{"$f":"0.00144*E92*5110+J92","v":10415.040000000001},{"$f":"0.00144*E92*8910+J92","v":13698.240000000002}]
[null,null,null,"Пенал под встр технику 1 дверь 2 ящ.\nМЕТАБОКС ",600,"h2340","h2340","Пенал под встр технику 1 дверь 2 ящ.\nМЕТАБОКС , размер: 600, h2340","1710-60",6500,6600,6800,{"$f":"0.00164*E93*3910+J93","v":10347.44},{"$f":"0.00174*E93*5010+J93","v":11730.44},{"$f":"0.00164*E93*3130+J93","v":9579.92},{"$f":"0.00164*E93*5110+J93","v":11528.24},{"$f":"0.00164*E93*8910+J93","v":15267.44}]
[null,null,"Пенал под встр технику 2 дверь 2 ящ.\nМЕТАБОКС ","Пенал под встр технику 2 дверь 2 ящ.\nМЕТАБОКС ",600,"h2140","h2140","Пенал под встр технику 2 дверь 2 ящ.\nМЕТАБОКС , размер: 600, h2140","1711-60",6500,6700,6900,{"$f":"0.00144*3910*E94+J94","v":9878.24},{"$f":"0.00154*E94*5010+J94","v":11129.24},{"$f":"0.00144*E94*3130+J94","v":9204.32},{"$f":"0.00144*E94*5110+J94","v":10915.04},{"$f":"0.00144*E94*8910+J94","v":14198.240000000002}]
[null,null,null,"Пенал под встр технику 2 дверь 2 ящ.\nМЕТАБОКС ",600,"h2340","h2340","Пенал под встр технику 2 дверь 2 ящ.\nМЕТАБОКС , размер: 600, h2340","1712-60",7000,7200,7300,{"$f":"0.00164*E95*3910+J95","v":10847.44},{"$f":"0.00174*E95*5010+J95","v":12230.44},{"$f":"0.00164*E95*3130+J95","v":10079.92},{"$f":"0.00164*E95*5110+J95","v":12028.24},{"$f":"0.00164*8910*E95+J95","v":15767.439999999999}]

{"sheet":"Ручки","index":6,"n_rows":33,"n_cols":10,"rows_kept":33,"cut":false,"hidden":false,"merged":[[1,0,2,0],[3,0,7,0],[3,2,7,2],[10,0,12,0],[13,0,14,0],[13,1,14,1],[10,1,12,1],[23,0,24,0],[23,1,24,1],[23,3,24,3],[15,0,16,0],[15,1,16,1],[18,0,19,0],[18,1,19,1],[20,0,21,0]]}
[null,null,"название","цвет",null,"ДОПЛАТА к базовой",null,null,null,"Стоимость,шт."]
["БАЗА",null,"Рейлинг пластик 96 (базовая)"," хром",{"$f":"C2&\", \"&D2","v":"Рейлинг пластик 96 (базовая),  хром"},0,"Рейлинг пластик 96"," хром","25 руб\n(базовая)",25]
[null,null,"Ручка скоба 96 (базовая)","золото, хром",{"$f":"C3&\", \"&D3","v":"Ручка скоба 96 (базовая), золото, хром"},0,"Ручка скоба 96","золото, хром","25 руб\n(базовая)",25]
["БАЗА",null,"С-18 пластик,                                металл 96, 128, 160 мм","черный",null,0,null,null,null,25]
[null,null,null,"белый",null,0,null,null,null,25]
[null,null,null,"Ясень шимо св.",null,0,null,null,null,25]
[null,null,null,"клен",null,0,null,null,null,25]
[null,null,null,"ольха",null,0,null,null,null,25]
[null,null,"С-17пластик 96 мм","Металл-металл,               металл-черный, металл-белый          ",null,0,null,null,null,25]
["Доплата, руб.",null,"Ручка ОФК белый+бронза","старая медь",{"$f":"C10&\", \"&D10","v":"Ручка ОФК белый+бронза, старая медь"},80,"Ручка ОФК белый+бронза","старая медь","80 руб \n(доб. к базовой за шт.)",{"$f":"25+F10","v":105}]
["Доплата, руб.",null,"\nРейлинг 96\n","хром глянец","\nРейлинг 96\n, хром глянец",40,"Рейлинг 96\nРейлинг 128\nРейлинг 160","хром глянец","40 руб.\n40 руб.\n50 руб.\n(доб.к базовой за шт.)",{"$f":"25+F11","v":65}]
[null,null,"\nРейлинг 128\n","хром глянец","\nРейлинг 128\n, хром глянец",40,null,null,null,65]
[null,null,"\nРейлинг 162","хром глянец","\nРейлинг 162, хром глянец",50,null,null,null,75]
["Доплата, руб.",null,"FS-040-128","хром матовый","FS-040-128, хром матовый",100,"FS-040-128","хром матовый","100 руб.",125]
["Доплата, руб.",null,"FS-040-160","хром матовый","FS-040-160, хром матовый",135,"FS-040-160",null,"135 руб.",160]
["Доплата, руб.",null,"Скоба RS-006-96","бронза","Скоба RS-006-96, бронза",30,"Скоба RS-006-96","бронза","30 руб.",55]
["Доплата, руб.",null,"Скоба RS-006-128","бронза","Скоба RS-006-128, бронза",45,"Скоба RS-006-128",null,"45 руб.",70]
["Доплата, руб.",null,"Кнопка RK-001 BA","бронза","Кнопка RK-001 BA, бронза",25,"Кнопка RK-001 BA","бронза","25 руб.",50]
["Доплата, руб.",null,"Скоба RS-008-96","бронза","Скоба RS-008-96, бронза",40,"Скоба RS-008-96","бронза","40  руб.",65]
["Доплата, руб.",null,"Скоба RS-008-128","бронза","Скоба RS-008-128, бронза",45,"Скоба RS-008-128",null,"45 руб.",70]
["Доплата, руб.",null,"Скоба RS-016-96","бронза","Скоба RS-016-96, бронза",50,"Скоба RS-016-96","бронза","50 руб.",75]
[null,null,"Скоба RS-016-128","бронза","Скоба RS-016-128, бронза",70,"Скоба RS-016-128",null,"70 руб.",95]
[null,null,"Un9408, мат. 128 мм ","хром","Un9408, мат. 128 мм , хром",80,null,null,null,105]
["Доплата, руб.",null,"Скоба 1016, 96 мм","мат. хром                    мат.никель ",null,98,null,null,null,123]
[null,null,"Скоба 1016, 128 мм",null,null,120,null,null,null,145]
["Доплата, руб.",null,"Скоба,  224 мм","Хром",null,120,null,null,null,145]
["Доплата, руб.",null,"Скоба Модерн, 160 мм","Хром",null,150,null,null,null,175]
["Доплата, руб.",null,"Скоба GM 21-4, 128 мм ","Хром",null,130,null,null,null,155]
["Доплата, руб.",null,"Скоба RS 43, белый+золото","128 мм",null,120,null,null,null,145]
["Доплата, руб.",null,"Скоба fs 144, 96 мм ","белый+золото",null,210,null,null,null,235]
["Доплата, руб.",null,"Скоба fs 144,  96 мм","белый+серебро",null,210,null,null,null,235]
["Доплата, руб.",null,"Скоба fs 129, 128 мм"," белый+золото",null,250,null,null,null,275]
["Доплата, руб.",null,"Скоба fs 129, 128 мм  ","белый+серебро",null,250,null,null,null,275]

{"sheet":"Витраж","index":7,"n_rows":1,"n_cols":10,"rows_kept":1,"cut":false,"hidden":false,"merged":[[0,0,1,7],[0,9,1,20]]}
["1 кат. - 2620 ",null,null,null,null,null,null,null,null,"2 кат. - 3740"]

{"sheet":"столешницы,козырьки,багеты","index":8,"n_rows":130,"n_cols":14,"rows_kept":130,"cut":false,"hidden":false,"merged":[[80,1,81,3],[80,4,80,6],[79,1,79,6],[1,8,1,14],[2,8,3,10],[2,11,2,13],[4,8,4,10],[5,8,5,10],[129,0,129,4],[109,0,113,0],[124,1,124,7],[125,1,125,7],[10,0,43,0],[56,1,56,6],[73,1,74,3],[73,4,73,6],[75,1,75,3],[76,1,76,3],[116,0,117,0],[48,1,49,3],[48,4,48,6],[47,1,47,6],[45,0,45,6],[50,4,51,4]]}
[]
[null,null,null,null,null,null,null,null,"Цена постформинга"]
[null,null,"Категория пластика(руб./п.м.)",null,null,null,null,null,"Толщина постформинга",null,null,"Категория пластика(руб./п.м.)"]
["Толщина постформинга","1ц.к.","2ц.к.","3ц.к.","Замена",null,null,null,null,null,null,"1 ц.к.","2ц.к.","3ц.к."]
[26,0,270,470,0,null,null,null,26,null,null,780,1050,1250]
["38в.",530,960,1240,0,null,null,null,"38в.",null,null,1310,1740,2020]
["При замене \nугловой 26 на 38в.",0,0,0,600]
[]
["Доплаты на столешницы                                                                                                                                  "]
[null,"Толщина постформинга","Цвет","формула","Толщина постформинга 26","Толщина постформинга 38в.","Замена \nугловой 26 на 38в."]
["Категория пластика(руб./п.м.)","1 ц.к.","2338 Лунный металл",{"$f":"B11&\", \"&C11","v":"1 ц.к., 2338 Лунный металл"},null,530," -"]
[null,"1 ц.к.","2236 Семолина бежевая",{"$f":"B12&\", \"&C12","v":"1 ц.к., 2236 Семолина бежевая"},null,530," -"]
[null,"1 ц.к.","2235 Семолина серая","1 ц.к., 2235 Семолина серая",null,530," -"]
[null,"1 ц.к.","5004 Цветочный сатин","1 ц.к., 5004 Цветочный сатин",null,530," -"]
[null,"1 ц.к.","2424 Мрамор  каррара","1 ц.к., 2424 Мрамор  каррара",null,530," -"]
[null,"1 ц.к.","905 Белые камни","1 ц.к., 905 Белые камни",null,530," -"]
[null,"1 ц.к.","3842 Дуглас светлый",{"$f":"B17&\", \"&C17","v":"1 ц.к., 3842 Дуглас светлый"},null,530," -"]
[null,"1 ц.к.","3842 Дуглас светлый","1 ц.к., 3842 Дуглас светлый",null,530," -"]
[null,"1 ц.к.","4026 аламбра светлая","1 ц.к., 4026 аламбра светлая",null,530," -"]
[null,"1 ц.к.","3521 Тростник","1 ц.к., 3521 Тростник",null,530," -"]
[null,"1 ц.к.","2369 Ракушки","1 ц.к., 2369 Ракушки",null,530," -"]
[null,"1 ц.к.","3844 Дуглас темный","1 ц.к., 3844 Дуглас темный",null,530," -"]
[null,"1 ц.к.","5022 дуб беленый","1 ц.к., 5022 дуб беленый",null,530," -"]
[null,"1 ц.к.","2430 Антарес","1 ц.к., 2430 Антарес",null,530," -"]
[null,"1 ц.к.","2182 Мейсон ваниль","1 ц.к., 2182 Мейсон ваниль",null,530," -"]
[null,"1 ц.к.","4011 Алеппо","1 ц.к., 4011 Алеппо",null,530," -"]
[null,"1 ц.к.","3029 марквина черный","1 ц.к., 3029 марквина черный",null,530," -"]
[null,"2 ц.к.","700 Роза Альба","2 ц.к., 700 Роза Альба",270,960," -"]
[null,"2 ц.к.","3845 Дуглас мокко","2 ц.к., 3845 Дуглас мокко",270,960," -"]
[null,"2 ц.к.","713 Черный гранит","2 ц.к., 713 Черный гранит",270,960," -"]
[null,"2 ц.к.","715 Карамельная роза","2 ц.к., 715 Карамельная роза",270,960," -"]
[null,"2 ц.к.","2237 Семолина \nкарамельная","2 ц.к., 2237 Семолина \nкарамельная",270,960," -"]
[null,"2 ц.к.","1021Q черный","2 ц.к., 1021Q черный",270,960," -"]
[null,"2 ц.к.","1111Q белый","2 ц.к., 1111Q белый",270,960," -"]
[null,"2 ц.к.","2013 \nюрский камень",{"$f":"B35&\", \"&C35","v":"2 ц.к., 2013 \nюрский камень"},270,960," -"]
[null,"2 ц.к. на стен панели планка 6мм","400Б бриллиант белый",{"$f":"B36&\", \"&C36","v":"2 ц.к. на стен панели планка 6мм, 400Б бриллиант белый"},270,960," -"]
[null,"2 ц.к. на стен панели планка 6мм","401 Бриллиант черный","2 ц.к. на стен панели планка 6мм, 401 Бриллиант черный",270,960," -"]
[null,"2 ц.к. на стен панели планка 6мм","1 венге","2 ц.к. на стен панели планка 6мм, 1 венге",270,960," -"]
[null,"2 ц.к. на стен панели планка 6мм","120 олива жемчужная","2 ц.к. на стен панели планка 6мм, 120 олива жемчужная",270,960," -"]
[null,"3 ц.к.","707Г королевский опал светлый\n","3 ц.к., 707Г королевский опал светлый\n",470,1240," -"]
[null,"3 ц.к.","708Г лабрадор","3 ц.к., 708Г лабрадор",470,1240," -"]
[null,"3 ц.к.","905Г белые камни",{"$f":"B42&\", \"&C42","v":"3 ц.к., 905Г белые камни"},470,1240," -"]
[null,"3 ц.к.","905Г белые","3 ц.к., 905Г белые",470,1240," -"]
[null,"3 ц.к.","713Г черный гранит\n","3 ц.к., 713Г черный гранит\n",470,1240," -"]
[]
["Столешницы 400Б брилиант белый, 401 Бриллиант черный, 1 венге,                                                                                  120 олива жемчужная трапеции не могут быть выполнены "]
[]
[null,"Доплата на столы трапеции 800*800 и 900*900"]
[null,"Толщина постформинга",null,null,"Категория пластика(руб./п.м.)"]
[null,null,null,null,"1 ц.к.","2ц.к.","3ц.к."]
[null,"26 мм","размер 800*800",null,"база",1610,1800]
[null,"26 мм","размер 900*900",null,null,2160,2400]
[null,"38 мм","размер 800*800",null,2230,2980,3520]
[null,"38 мм","размер 900*900",null,2830,3800,4520]
[]
[]
[null,"Отдельные столешницы прямые , радиусные"]
[]
[]
[]
[]
[]
[]
[]
[]
[]
[]
[]
[]
[]
[]
[]
[]
[null,"Толщина постформинга",null,null,"Категория пластика(руб./п.м.)"]
[null,null,null,null,"1 ц.к.","2ц.к.","3ц.к."]
[null,"26 мм",null,null,920,1100,1250]
[null,"38 мм ",null,null,1410,1740,2020]
[]
[]
[null,"Отдельные столешницы на столы трапеции 800*800 и 900*900"]
[null,"Толщина постформинга",null,null,"Категория пластика(руб./п.м.)"]
[null,null,null,null,"1 ц.к.","2ц.к.","3ц.к."]
[null,"26 мм","размер 800*800",null,2460,2980,3170]
[null,"26 мм","размер 900*900",null,3280,3980,4220]
[null,"38 мм","размер 800*800",null,3600,4350,4890]
[null,"38 мм","размер 900*900",null,4660,5620,6340]
[]
[]
[]
["Козырьки"]
["Рисунок","Наименование","цена"]
[null,"Козырек глубиной 300 мм. р\\м.п.",170]
[null,"Козырек глубиной 300 мм. радиусный, л\\пр. р\\м.п.",250]
[null,"Козырек глубиной 500мм. р\\м.п.",300]
[null,"Козырек глубиной 500мм. радиусный, л\\пр. р\\м.п.",300]
[null,"Козырек глубиной 500мм. скошенный л\\пр. р\\м.п.",300]
[null,"Козырек глубиной 500мм. угловой трапециевидный",250]
[]
[]
[]
[]
[]
[]
[]
["ДЕКОРАТИВНЫЕ ЭЛЕМЕНТЫ (отдельно заказывать нельзя!!!только к кухонному гарнитуру)ДОЗАКАЗЫ НЕ ПРИНИМАЕМ!"]
["Рисунок","Наименование","цена МДФ ПВХ","формула","цена МДФ ПВХ с патиной"]
[null,"Багет 16мм 2000мм",630,{"$f":"B107&\". \"&C107","v":"Багет 16мм 2000мм. 630"},990]
[null,"Багет составной Н= 32    , L=2000*",900,{"$f":"B108&\". \"&C108","v":"Багет составной Н= 32    , L=2000*. 900"},1620]
[null,"Радиусные элементы БАГЕТ, шт.",1080,"Радиусные элементы БАГЕТ, шт.. 1080",1440]
["*Фото ниже","Колонны 1 (А;Б;В;Г) на 50 мм,шт.**",540,null,810]
[null,"Колонны 2 (А;В;) на 100 мм,шт.**",720,null,1080]
[null,"Колонны 2 ( Б; Г) на 100 мм,шт.**",1080,null,1260]
[null,"Колонны 3 (А;В) на 146 мм, шт.**",1260,null,1710]
[null,"Колонны 3 (Б;Г) на 146 мм,шт.**",900,null,1350]
[null,"Залицовка (А,Б,В)                                               H=200, L=596, шт.",360,null,720]
[null,"Залицовка (Г,Д)                                               H=200, L=596, шт.",1260,null,1800]
[null,"Решетка (1010х535) руб/шт. матовая\nХДФ 4(ПЛАСТИК С ОБРАТНОЙ СТОРОНЫ,ПЛЕНКА ПВХ)",1820,null,2940]
[null,"Решетка (1010х535) руб/шт. глянец",1960,null,3080]
[]
["БАРНАЯ СТОЙКА","Цена Барной стойки за шт. максимальная длина 3000мм, глубина 400/600"]
["Рисунок","Наименование","1 ц.к.","2 ц.к.","3 ц.к."]
[null,"Барная стойка, толщина 26",1950,2650,3100]
[null,"Барная стойка, толщина 38в.",3150,4390,5090]
[]
["* ","Багеты , цоколя не изготавливаются отдельно. "]
["**","Доборы, колонны так же не изготавливаются отдельно.Заказы принимаются на кол-во кратное двум."]
[]
[]
[]
["колонны"]

{"sheet":"доп.хар+мойки","index":9,"n_rows":92,"n_cols":6,"rows_kept":92,"cut":false,"hidden":false,"merged":[[91,0,91,1],[79,0,79,1],[80,0,80,1],[81,0,81,1],[82,0,82,1],[83,0,83,1],[84,0,84,1],[86,0,86,1],[87,0,87,1],[88,0,88,1],[89,0,89,1],[90,0,90,1],[85,0,85,1],[78,0,78,1],[63,0,63,1],[63,9,63,10],[63,11,63,12],[64,0,64,1],[64,9,64,10],[64,11,64,12],[72,0,72,1],[73,0,73,1],[74,0,74,1],[75,0,75,1],[77,0,77,1],[66,0,66,1],[69,11,69,12],[66,9,66,10],[66,11,66,12],[54,11,54,12],[55,0,55,1],[57,0,57,1],[57,9,57,10],[57,11,57,12],[56,0,56,1],[34,0,35,5],[48,0,48,1],[49,0,49,1],[50,0,50,1],[51,0,51,1],[46,0,46,1],[45,0,45,1],[36,0,36,1],[37,0,37,1],[38,0,38,1],[39,0,39,1],[40,0,40,1],[41,0,41,1],[42,0,42,1],[43,0,43,1],[44,0,44,1],[59,11,59,12],[65,0,65,1],[65,9,65,10],[65,11,65,12],[60,0,60,1],[60,9,60,10],[60,11,60,12],[61,0,61,1],[61,9,61,10],[61,11,61,12],[62,0,62,1],[62,9,62,10],[62,11,62,12],[67,11,67,12],[76,0,76,1],[58,0,58,1],[58,9,58,10],[58,11,58,12],[70,0,70,1],[70,9,70,10],[70,11,70,12],[71,0,71,1],[71,9,71,10],[71,11,71,12],[68,0,68,1],[68,9,68,10],[68,11,68,12],[59,0,59,1],[59,9,59,10],[47,0,47,1],[69,0,69,1],[69,9,69,10],[67,0,67,1],[67,9,67,10],[54,9,54,10],[52,0,52,1],[53,0,53,1],[54,0,54,1]]}
["Мойки и посудосушители \nВНИМАНИЕ!!!ВЫРЕЗ ПОД МОЙКУ ПЛАТНЫЙ-?????руб.",null,"цена, руб"]
["Мойка 500  накладная",null,1100]
["Мойка 800 накладная",null,1400]
["Мойка 600 накладная ",null,1250]
["Мойка овал врезная \n50*77",null,1900]
["Посудосушитель 400 мм. ",null,176]
["Посудосушитель 500 мм.",null,186]
["Посудосушитель 600 мм.",null,215]
["Посудосушитель 700 мм.\nКОМПЛЕКТУЕТСЯ ПОДДОНОМ\nНА 600",null,220]
["Посудосушитель 800 мм.",null,240]
["Посудосушитель 500 мм.(WARIANT)",null,530]
["Посудосушитель 600 мм. (WARIANT)",null,670]
["Посудосушитель 700 мм.(WARIANT)",null,750]
["Посудосушитель 800 мм.(WARIANT)",null,860]
["Мойка врезная ø490мм.  ",null,1070]
["Посудосушитель в стол без доводчика  600 мм",null,3400]
["Посудосушитель в стол с доводчиком  600 мм",null,3900]
[]
[]
[]
[]
[]
[]
[]
[]
[]
[]
[]
[]
[]
[]
[]
[]
[]
["Стеновая панель ФОТОПЕЧАТЬ 2800х600х6 мм       (SP, FM)                                          3500 руб."]
[]
["Наименование",null,"Доп. информация","формула","Стоимость"]
["Крепежная полоса \n(шина)",null,"2 метра",{"$f":"A38&\". \"&C38","v":"Крепежная полоса \n(шина). 2 метра"},120,"руб./шт."]
["Метабокс (малый)",null,"h=86мм","Метабокс (малый). h=86мм",250,"руб./компл."]
["Метабокс (большой)",null,"h=150мм","Метабокс (большой). h=150мм",350,"руб./компл."]
["Доводчик для \nметабокса",null,null,"Доводчик для \nметабокса. ",250,"руб./шт."]
["Регулируемые навесы",null,null,"Регулируемые навесы. ",50,"руб./компл."]
["Тандембокс (малый)",null,"h=86мм","Тандембокс (малый). h=86мм",2000,"руб./компл."]
["Тандембокс (большой) ",null,"h=164мм","Тандембокс (большой) . h=164мм",2350,"руб./компл."]
["Туканы",null,null,"Туканы. ",90,"руб./шт."]
["Ал.планки п/ф 26мм",null," Т-обр\nторцевая\nугловая","Ал.планки п/ф 26мм.  Т-обр\nторцевая\nугловая",90,"руб./шт."]
["Ал.планки п/ф 38 мм",null," Т-обр\nторцевая\nугловая","Ал.планки п/ф 38 мм.  Т-обр\nторцевая\nугловая",90,"руб./шт."]
["Стеновая панель Фотопечать 2800х600х6 мм       (SP, FM)           ",null,"2,8 м (1 шт)","Стеновая панель Фотопечать 2800х600х6 мм       (SP, FM)           . 2,8 м (1 шт)",3500,"руб./шт."]
["Стеновая панель 1ц.кат",null,"3м ( 0,5шт. для 1.5м)","Стеновая панель 1ц.кат. 3м ( 0,5шт. для 1.5м)",2400,"руб./шт."]
["Стеновая панель 2ц.кат",null,"3м ( 0,5шт. для 1.5м)","Стеновая панель 2ц.кат. 3м ( 0,5шт. для 1.5м)",2900,"руб./шт."]
["Стеновая панель 3ц.кат.\n",null,"3м ( 0,5шт. для 1.5м)","Стеновая панель 3ц.кат.\n. 3м ( 0,5шт. для 1.5м)",3100,"руб./шт."]
["Профиля для стеновой\nпанели(4ММ, 6ММ-ФОТОПЕЧАТЬ) УКАЗАТЬ В БЛАНКЕ",null,"Торцевой\nщелевой\nугловой","Профиля для стеновой\nпанели(4ММ, 6ММ-ФОТОПЕЧАТЬ) УКАЗАТЬ В БЛАНКЕ. Торцевой\nщелевой\nугловой",70,"руб./шт."]
["Заглушки ",null,"комплект","Заглушки . комплект",20,"руб./шт."]
["Отбортовка(плинтус)",null,"3м (заглушки заказываем дополнительно)","Отбортовка(плинтус). 3м (заглушки заказываем дополнительно)",200,"руб./шт."]
["Вставка 1ц.к.",null,"3м","Вставка 1ц.к.. 3м",120,"руб./шт."]
["Вставка 2ц.к.",null,"3м","Вставка 2ц.к.. 3м",200,"руб./шт."]
["Вставка 3 ц.к.",null,"3м","Вставка 3 ц.к.. 3м",260,"руб./шт."]
["Аллюминиевый плинтус",null,"3м","Аллюминиевый плинтус. 3м",600,"руб./шт."]
["Отбортовка- плинтус KORNER LB37",null,"3м",{"$f":"A59&\". \"&C59","v":"Отбортовка- плинтус KORNER LB37. 3м"},600,"руб./шт."]
["Заглушки к  плинтусу KORNER LB37\nЦВЕТ: СЕРЫЙ, БЕЛЫЙ, ЧЕРНЫЙ, КОРИЧНЕВЫЙ, БЕЖЕВЫЙ",null,"компл.",{"$f":"A60&\". \"&C60","v":"Заглушки к  плинтусу KORNER LB37\nЦВЕТ: СЕРЫЙ, БЕЛЫЙ, ЧЕРНЫЙ, КОРИЧНЕВЫЙ, БЕЖЕВЫЙ. компл."},90,"руб./шт."]
["Цоколь H=100",null,"4м","Цоколь H=100. 4м",700,"руб./шт."]
["Угол 90° для цоколя H=100",null,null,"Угол 90° для цоколя H=100. ",20,"руб./шт."]
["Соединительный элемент H=100\n для цоколя",null,null,"Соединительный элемент H=100\n для цоколя. ",20,"руб./шт."]
["Угол 135⁰ для цоколя H=100",null,null,"Угол 135⁰ для цоколя H=100. ",30,"руб./шт."]
["Заглушка торцевая для цоколя H=100",null,null,"Заглушка торцевая для цоколя H=100. ",20,"руб./шт."]
["Цоколь радиусный H=100",null,null,{"$f":"A66&\". \"&C66","v":"Цоколь радиусный H=100. "},320,"руб./шт."]
["Цоколь H=150",null,"4м","Цоколь H=150. 4м",800,"руб./шт."]
["Угол 90° для цоколя H=150",null,null,"Угол 90° для цоколя H=150. ",30,"руб./шт."]
["Соединительный элемент \n для цоколя H=150",null,null,"Соединительный элемент \n для цоколя H=150. ",30,"руб./шт."]
["Угол 135⁰ для цоколя",null,null,"Угол 135⁰ для цоколя. ",40,"руб./шт."]
["Заглушка торцевая для цоколя",null,null,"Заглушка торцевая для цоколя. ",20,"руб./шт."]
["Цоколь радиусный",null,null,{"$f":"A72&\". \"&C72","v":"Цоколь радиусный. "},480,"руб./шт."]
["Шариковые направляющие",null,null,"Шариковые направляющие. ",170,"руб./компл."]
["Шариковые направляющие BOYARD",null,"с довод-ом","Шариковые направляющие BOYARD. с довод-ом",650,"руб./компл."]
["Петля с доводчиком",null,null,"Петля с доводчиком. ",60,"руб./шт."]
["Бутылочница",null,null,"Бутылочница. ",1200,"руб./компл."]
["Бутылочница с доводчиком",null,null,{"$f":"A77&\". \"&C77","v":"Бутылочница с доводчиком. "},3500,"руб./компл."]
["Бокальница,фруктовница",null,null,"Бокальница,фруктовница. ",700,"руб./шт."]
["Ножки хром ",null,"h=100мм","Ножки хром . h=100мм",60,"руб./шт."]
["Ножки хром ",null,"h=150мм","Ножки хром . h=150мм",60,"руб./шт."]
["Светильник (комплект)",null,"комплект","Светильник (комплект). комплект",650,"руб./шт."]
["Вырез под светильник",null,null,"Вырез под светильник. ",100,"руб./шт."]
["Нога хром D 50",null,"h=850мм","Нога хром D 50. h=850мм",300,"руб./шт."]
["Фланцы ",null,"D50","Фланцы . D50",45,"руб./шт."]
["Стойки хром  D 50",null,"3м","Стойки хром  D 50. 3м",600,"руб./шт."]
["Стойки хром  D 50",null,"1,5м ",{"$f":"A86&\". \"&C86","v":"Стойки хром  D 50. 1,5м "},300,"руб./шт."]
["Лоток для столовых приборов\n400\n500\n600 (для метабоксов\\тандембоксов)",null,"шт","Лоток для столовых приборов\n400\n500\n600 (для метабоксов\\тандембоксов). шт",320,"руб./шт."]
["Газ.лифт",null,"60N (рекомендуеться для шкафов больше 600мм. Шириной)","Газ.лифт. 60N (рекомендуеться для шкафов больше 600мм. Шириной)",80,"руб./шт."]
["Газ.лифт",null,"80N (рекомендуеться для шкафов больше 600мм. Шириной)","Газ.лифт. 80N (рекомендуеться для шкафов больше 600мм. Шириной)",80,"руб./шт."]
["Балясина, Lmax-2000мм. р\\м.п.",null,null,"Балясина, Lmax-2000мм. р\\м.п.. ",1300,"руб./м.п."]
["Балясина (В) шкаф торц откр R. р.шт.",null,null,"Балясина (В) шкаф торц откр R. р.шт.. ",1300,"руб./шт."]
["Балясина (НА) шкаф торц откр R р.шт.",null,null,"Балясина (НА) шкаф торц откр R р.шт.. ",1300,"руб./шт."]

{"sheet":"Материалы","index":10,"n_rows":163,"n_cols":18,"rows_kept":163,"cut":false,"hidden":false,"merged":[[155,0,161,1],[155,2,161,3],[155,4,161,5],[155,6,161,7],[155,8,161,9],[155,10,161,11],[155,12,161,13],[155,14,161,15],[162,0,169,1],[162,2,169,3],[162,4,169,5],[162,6,169,7],[153,0,154,15],[139,0,145,1],[139,2,145,3],[139,4,145,5],[139,6,145,7],[139,8,145,9],[139,10,145,11],[139,12,145,13],[139,14,145,15],[146,2,152,3],[146,0,152,1],[146,4,152,5],[146,6,152,7],[146,8,152,9],[146,10,152,11],[146,12,152,13],[146,14,152,15],[133,0,138,1],[133,2,138,3],[133,4,138,5],[133,6,138,7],[133,8,138,9],[133,10,138,11],[133,12,138,13],[133,14,138,15],[117,0,117,15],[118,4,120,5],[118,6,120,7],[121,4,126,5],[121,6,126,7],[127,4,132,5],[127,6,132,7],[118,0,120,1],[118,2,120,3],[121,0,126,1],[121,2,126,3],[127,0,132,1],[127,2,132,3],[118,14,120,15],[121,14,126,15],[127,14,132,15],[7,4,7,8],[8,0,8,12],[10,0,10,1],[10,2,10,3],[10,4,10,5],[10,6,10,7],[10,8,10,9],[10,10,10,11],[10,12,10,13],[12,10,12,11],[10,14,10,15],[11,0,11,1],[11,2,11,3],[11,4,11,5],[11,6,11,7],[11,8,11,9],[11,10,11,11],[11,12,11,13],[11,14,11,15],[12,0,12,1],[12,2,12,3],[12,4,12,5],[12,6,12,7],[12,8,12,9],[97,3,97,9],[99,0,99,15],[84,0,84,15],[25,0,25,15],[13,0,13,13],[14,2,14,12],[19,0,19,2],[20,0,20,15],[29,0,29,15],[32,0,32,15],[33,0,33,15],[35,3,35,5],[70,0,70,15],[90,3,90,9],[91,3,91,5],[91,6,91,8],[91,9,91,11],[93,3,93,5],[93,6,93,8],[93,9,93,11],[94,3,94,5],[94,6,94,8],[94,9,94,11],[101,0,101,1],[101,4,101,5],[101,8,101,9],[101,12,101,13],[102,0,102,1],[102,4,102,5],[102,8,102,9],[102,12,102,13],[100,0,100,15],[105,0,105,1],[105,4,105,5],[105,8,105,9],[105,12,105,13],[106,0,106,1],[106,4,106,5],[106,8,106,9],[106,12,106,13],[103,0,103,1],[103,4,103,5],[103,8,103,9],[103,12,103,13],[104,0,104,1],[104,4,104,5],[104,8,104,9],[111,0,111,1],[111,4,111,5],[111,8,111,9],[111,12,111,13],[112,0,112,1],[112,4,112,5],[112,8,112,9],[112,12,112,13],[107,0,107,1],[107,4,107,5],[108,0,108,15],[109,0,109,15],[110,0,110,1],[110,4,110,5],[110,8,110,9],[110,12,110,13],[116,0,116,1],[116,4,116,5],[113,0,113,15],[114,0,114,1],[114,4,114,5],[114,8,114,9],[114,12,114,13],[115,0,115,1],[115,4,115,5],[115,8,115,9],[115,12,115,13],[118,12,120,13],[121,12,126,13],[127,12,132,13],[118,8,120,9],[121,8,126,9],[127,8,132,9],[118,10,120,11],[121,10,126,11],[127,10,132,11]]}
[null,null,null,null,null,null,null,"ООО Форт г.Ульяновск"]
[null,null,null,null,null,null,null,"14 Инженерный проезд, д.7а"]
[null,null,null,null,null,null,null,"тел./факс:8 (8422) 24-94-54, 24-94-41"]
[null,null,null,null,null,null,null,"www.fort-mebel.ru"]
[null,null,null,null,null,null,null,"Ваши предложения и пожелания sinerkin@yandex.ru "]
[null,null,null,null,null,null,null,"8 917-050-76-70  Линда egorova@fort-mebel.ru"]
[]
[]
["Базовые цвета каркаса и фасадов из ЛДСП"]
[]
["Белый",null,"Серый",null,"Венге светлый",null,"Венге линум",null,"Ясень шимо-темный",null,"Ясень-шимо светлый",null,"Бук бавария\n",null,"Ноче экко",null,"Бежевый","Белое дерево"]
["ДВП-белое",null,"ДВП-белое",null,"ДВП-белое",null,"ДВП-белое",null,"ДВП-белое",null,"ДВП-белое",null,"ДВП-белое",null,"ДВП-белое",null,"ДВП-белое","ДВП-белое"]
[]
[]
[null,null,"Классификация цветов постформинга"]
[]
[]
[]
[null,null,null,26,"1к","цвет","пог.метр"]
[]
["1 кат (Базовая)"]
["2338 Лунный металл",null,null,null,"2236 Семолина бежевая",null,null,null,"2235 Семолина серая",null,null,null,"5004 Цветочный сатин"]
["2424 Мрамор  каррара",null,null,null,"905 Белые камни",null,null,null,"3842 Дуглас светлый",null,null,null,"4026 аламбра светлая"]
["3521 Тростник",null,null,null,"2369 Ракушки",null,null,null,"3844 Дуглас темный",null,null,null,"5022 дуб беленый"]
["2430 Антарес",null,null,null,"2182 Мейсон ваниль",null,null,null,"4011 Алеппо",null,null,null,"3029 марквина черный"]
["2 категория "]
["700 Роза Альба",null,null,null,"3845 Дуглас мокко",null,null,null,"713 Черный гранит",null,null,null,"715 Карамельная роза"]
["2237 Семолина \nкарамельная",null,null,null,"1021Q черный",null,null,null,"1111Q белый",null,null,null,"2013 \nюрский камень"]
["120 Олива жемчужная",null,null,null,"400 Б Бриллиант белый",null,null,null,"401 Бриллиант черный",null,null,null,"1 Венге"]
["3 категория"]
["707Г королевский опал светлый\n",null,null,null,"708Г лабрадор",null,null,null,"905Г белые камни"]
["713Г черный гранит\n"]
["ПЛЕНКА ПВХ"]
["1-Я ЦЕНОВАЯ  КАТЕГОРИЯ (МАТОВАЯ)"]
[]
[]
[]
[]
[]
[]
[]
[]
[]
[]
[]
[]
[]
[]
[]
[]
[]
[]
[]
[]
[]
[]
[]
[]
[]
[]
[]
["2 категория. Глянцевые "]
[]
[]
[]
[]
[]
[]
[]
[]
["2-Я ЦЕНОВАЯ КАТЕГОРИЯ (ГЛЯНЕЦ)"]
[]
[]
[]
[]
[]
[]
[]
[]
[]
[]
[]
[]
[]
["3-Я ЦЕНОВАЯ КАТЕГОРИЯ (МЕТАЛЛИК)"]
[]
[]
[]
[]
[]
[]
[]
[]
[]
[]
[]
[]
[]
[]
["ПЛАСТИКИ на фасады кухонь"]
["1-я ценовая категория"]
["850 кожа",null,null,null,"4206 черные листья",null,null,null,"4257 зебрано легкий",null,null,null,"6870 вишня темная"]
["4136 осень",null,null,null,"4207 белые листья",null,null,null,"4259 дуб шато \nантрацит",null,null,null,"2022 кожа бежевый"]
["4203 белые \nлютики",null,null,null,"4217 хамелеон",null,null,null,"6114 ольха",null,null,null,"8513 кожа шоколад"]
["4204 голубые \nлютики",null,null,null,"4271 хамелеон\n золотой",null,null,null,"6280 латакция"]
["101 белый",null,null,null,"2007 красный",null,null,null,"2011 оливковый",null,null,null,"2024 каппучино"]
["2071 черный",null,null,null,"2093 салатовый",null,null,null,"2094 мята",null,null,null,"2683 сиреневый"]
["8508 оранжевый",null,null,null,"8510 бежевый"]
["2-я ценовая категория"]
["ЦВЕТЫ ЛОТОСА"]
["0029 цветы лотоса \nбелые",null,null,null,"2055 цветы лотоса\n бирюзовые",null,null,null,"2683 цветы лотоса\nлиловые",null,null,null,"8510 цветы лотоса \nбежевые"]
["2007 цветы лотоса \nкрасные",null,null,null,"2071 цветы лотоса\nчерные",null,null,null,"8506 цветы лотоса\nсиние",null,null,null,"8514 цветы лотоса\nшоколад"]
["2024 цветы лотоса \nкапучино",null,null,null,"2093 цветы лотоса\nсалатовые",null,null,null,"8508 цветы лотоса \nоранжевые",null,null,null,"8608 цветы лотоса \nсерые"]
["ЛЕН"]
["0029 лен белый",null,null,null,"2093 лен салатовый",null,null,null,"8506-1 лен синий",null,null,null,"8510 лен бежевый"]
["2071 лен черный",null,null,null,"2094 лен мята",null,null,null,"8508 лен оранжевый",null,null,null,"8514 лен шоколад"]
["8608 лен серый",null,null,null,"лен 2007 красный"]
["ПЛЕНКА ПВХ (МДФ ПАТИНА И БАГЕТНАЯ СЕРИЯ)"]
["Дуб светлый\nTP-207",null,null,null,"Дуб беленый\nTP-208",null,null,null,"Лайм\nTP-802UP",null,null,null,"Шафран\nTP-805UP"]
[]
[]
["Вишня оксфорд\nTP-211",null,null,null,"Магнолия \nTP-800UP",null,null,null,"Индиго\nTP-804UP",null,null,null,"Тыква\nTP-806UP"]
[]
[]
[]
[]
[]
["Белое дерево\n1155BD",null,null,null,"Фуксия\nTP-801UP",null,null,null,"Фиолет\nTP-803UP",null,null,null,"Мята\nTP-807UP"]
[]
[]
[]
[]
[]
["Ива ветлая \nTP-260",null,null,null,"Шоколад\nTP-809UP",null,null,null,"Графит \nTP-810UP",null,null,null,"Бланж \nTP-811UP"]
[]
[]
[]
[]
[]
["Жемчужный ясень\nTP-226",null,null,null,"Венге\n1998",null,null,null,"Венге\nтангент",null,null,null,"Сирень \nTp-808UP"]
[]
[]
[]
[]
[]
[]
[" Текстура древесная\nцвет бургундия",null,null,null,"Текстура древесная\nчерная",null,null,null,"Ясень жемчужный\nматовый\nDM677-GW"]
[]
[]
[]
[]
[]
[]
["БОСТОН (ТЕКСТУРЫ)"]
[]
["№1",null,"№2",null,"№3",null,"№4",null,"№5",null,"№6",null,"№7",null,"№8"]
[]
[]
[]
[]
[]
[]
["№9",null,"№10",null,"№11",null,"№12"]

{"sheet":"ФРЕЗЕРОВКИ","index":11,"n_rows":155,"n_cols":17,"rows_kept":155,"cut":false,"hidden":false,"merged":[[97,0,98,3],[97,4,98,7],[97,8,98,11],[97,12,98,15],[116,4,117,7],[116,8,117,11],[116,12,117,15],[116,16,117,19],[135,0,136,3],[135,4,136,7],[135,8,136,11],[135,12,136,15],[0,0,1,19],[23,0,24,19],[40,0,41,3],[40,4,41,7],[40,8,41,11],[40,12,41,15],[40,16,41,19],[137,0,138,18],[135,16,136,19],[154,0,155,3],[18,0,19,4],[18,5,19,9],[18,10,19,14],[18,15,19,19],[57,0,58,3],[62,0,63,19],[79,0,80,3],[79,4,80,7],[79,8,80,11],[79,12,80,15],[79,16,80,19],[97,16,98,19],[116,0,117,3]]}
["БАГЕТНАЯ СЕРИЯ"]
[]
[]
[]
[]
[]
[]
[]
[]
[]
[]
[]
[]
[]
[]
[]
[]
[]
["МЮНХЕН\n(декор:большая косичка)",null,null,null,null,"ПАЛЕРМО \n(декор:шарики)",null,null,null,null,"СОРЕНТО \n(декор:косичка малая)",null,null,null,null,"ФЛОРЕНЦИЯ \n(декор:косичка большая)"]
[]
[]
[]
[]
["МДФ ПАТИНА"]
[]
[]
[]
[]
[]
[]
[]
[]
[]
[]
[]
[]
[]
[]
[]
[]
["АНТИК ЛЮКС",null,null,null,"ЯНА",null,null,null,"ЛУВР",null,null,null,"МАДРИД",null,null,null,"ЦЕЗАРЬ"]
[]
[]
[]
[]
[]
[]
[]
[]
[]
[]
[]
[]
[]
[]
[]
[]
[]
[]
[]
[]
[]
["ФРЕЗЕРОВКИ МДФ ПВХ"]
[]
[]
[]
[]
[]
[]
[]
[]
[]
[]
[]
[]
[]
[]
[]
[]
["АРКА",null,null,null,"АРКА -Р",null,null,null,"АРКА 2",null,null,null,"ВЕГА",null,null,null,"КАНТРИ"]
[]
[]
[]
[]
[]
[]
[]
[]
[]
[]
[]
[]
[]
[]
[]
[]
[]
["КВАДРО",null,null,null,"КЛАССИКА",null,null,null,"КОРВЕТ",null,null,null,"КУБ",null,null,null,"ИРБИС"]
[]
[]
[]
[]
[]
[]
[]
[]
[]
[]
[]
[]
[]
[]
[]
[]
[]
[]
["ЛЖЕВЫБОРКА",null,null,null,"МОДЕРН",null,null,null,"МЫЛО",null,null,null,"ПРЕМЬЕРА",null,null,null,"РАДУГА"]
[]
[]
[]
[]
[]
[]
[]
[]
[]
[]
[]
[]
[]
[]
[]
[]
[]
[]
["СТРАЙП",null,null,null,"ТЕХНО",null,null,null,"ФРИДА",null,null,null,"МЫЛО -2",null,null,null,"БОСТОН СТРАЙП"]
[]
[]
[]
[]
[]
[]
[]
[]
[]
[]
[]
[]
[]
[]
[]
[]
[]
[]
["БОСТОН"]

{"sheet":"ПЛИНТУС KORNER","index":12,"n_rows":44,"n_cols":13,"rows_kept":44,"cut":false,"hidden":false,"merged":[[0,0,0,14],[43,0,43,2],[33,3,41,5],[33,6,41,8],[33,9,41,11],[33,12,41,14],[43,3,43,5],[43,6,43,8],[43,9,43,11],[43,12,43,14],[31,0,31,2],[31,3,31,5],[31,6,31,8],[31,9,31,11],[31,12,31,14],[33,0,41,2],[22,9,30,11],[22,12,30,14],[20,0,20,2],[20,3,20,5],[20,9,20,11],[20,12,20,14],[20,6,20,8],[10,12,10,14],[1,9,9,11],[1,12,9,14],[12,0,19,2],[12,3,19,5],[12,6,19,8],[12,9,19,11],[12,12,19,14],[10,0,10,2],[10,3,10,5],[1,6,9,8],[1,3,9,5],[10,6,10,8],[10,9,10,11],[11,0,11,2],[11,3,11,5],[11,6,11,8],[11,9,11,11],[11,12,11,14],[32,0,32,2],[32,3,32,5],[32,6,32,8],[32,9,32,11],[32,12,32,14],[21,0,21,2],[21,3,21,5],[21,6,21,8],[21,9,21,11],[21,12,21,14],[22,0,30,2],[22,3,30,5],[22,6,30,8],[42,0,42,2],[42,3,42,5],[42,6,42,8],[42,9,42,11],[42,12,42,14]]}
["ПЛИНТУСА KORNER"]
[]
[]
[]
[]
[]
[]
[]
[]
[]
["плинтус-ГРЕНОБЛЬ LB37-307",null,null,"плинтус-ДУГЛАС ТЕМНЫЙ LB37-309",null,null,"плинтус - ВЕНГЕ СВЕТЛЫЙ LB37-314",null,null,"плинтус - МЕЙСЕН ВАНИЛЬ LB37-317",null,null,"плинтус-АНТРАЦИТ LB37-318"]
["столешница - ракушки 2369",null,null,"столешница - дуглас темный 3844",null,null,"столешница - дуглас светлый 3842",null,null,"столешница - мейсен ваниль 2182",null,null,"столешница - лунный металл 2338"]
[]
[]
[]
[]
[]
[]
[]
[]
["плинтус - МРАМОР СВЕТЛЫЙ LB 37-320",null,null,"плинтус - ПЕТРО LB37-332",null,null,"плинтус - ТРОСТНИК LB37-338",null,null,"плинтус-ТРАВЕРТИН РИМСКИЙ LB37-347",null,null,"плинтус-ГРАНИТ ЧЕРНЫЙ LB37-375"]
["столешница - мрамор каррара 2424 и белые камни 905",null,null,"столешница - семолина карамельная 2237",null,null,"столешница - тросник 3521",null,null,"столешница - аламбра 4026 к",null,null,"столешница - гранит черный 713 и 713Г"]
[]
[]
[]
[]
[]
[]
[]
[]
[]
["плинтус - МАДРИД LB37-376",null,null,"плинтус - АЛЛЮМИНИЙ САТИНА LB37-450",null,null,"плинтус - САХАРА LB37-452",null,null,"плинтус - ДУБ БЕЛЫЙ                 LB37-453",null,null,"плинтус - ЧЕРНЫЙ LB37-459"]
["столешница - карамельная роза 715",null,null,"столешница - роза альба 700",null,null,"столешница - антарес 2430",null,null,"столешница - дуб выбеленный 5022 и алеппо 4011",null,null,"столешница - черный 1021 Q"]
[]
[]
[]
[]
[]
[]
[]
[]
[]
["плинтус - БРИЛЛИАНТ  БЕЛЫЙ LB 37-460",null,null,"плинтус - БРИЛЛИАНТ ФАНТАЗИЯ LB37-461",null,null,"плинтус - КАШЕМИР БЕЛЫЙ LB37-464",null,null,"плинтус - БРИЛЛИАНТ ЧЕРНЫЙ LB37-468",null,null,"плинтус - БЕЛЫЙ БЛЕСК           LB37-478"]
["столешница - семолина серая 2235",null,null,"столешница - семолина бежевая 2236",null,null,"столешница - королевский опал светлый 707Г",null,null,"столешница - лабрадор 708Г",null,null,"столешница - белый Q 1111 и цветочный сатин 5004"]