{"text_format":"1","workbook":"xlsx","n_sheets":5,"sheets":["Прайс2","Процент","Расчет","Столешницы_Багет_Цоколь_Козырек","Инструкция по заполнению бланка"],"not_rendered":{"charts":0,"images":164,"macros":1,"external_links":5,"defined_names":20,"comments":0,"pivot_tables":0},"unopened":[],"bounds":{"document_bytes":16777216,"sheet_cells":100000,"rows_first":2000,"rows_last":500,"rows_between":2000,"halvings":0,"cell_chars":16384,"cell_head_chars":4096},"cells_cut":0,"cells_raw":0,"read":"whole","date_system":"1900"}

{"sheet":"Прайс2","index":0,"n_rows":4034,"n_cols":17,"rows_kept":4034,"cut":false,"hidden":false,"merged":[[3916,2,3917,2],[3916,5,3917,5],[3916,7,3917,7],[3918,2,3922,2],[3918,5,3922,5],[3918,7,3922,7],[4022,2,4027,2],[4022,5,4027,5],[4022,7,4027,7],[3967,2,3987,2],[3967,5,3987,5],[3967,7,3987,7],[3988,2,4009,2],[3988,5,4009,5],[3988,7,4009,7],[3925,2,3945,2],[3925,5,3945,5],[3925,7,3945,7],[3946,2,3966,2],[3946,5,3966,5],[3946,7,3966,7],[4028,2,4033,2],[4028,5,4033,5],[4028,7,4033,7],[4010,2,4015,2],[4010,5,4015,5],[4010,7,4015,7],[4016,2,4021,2],[4016,5,4021,5],[4016,7,4021,7],[3846,2,3870,2],[3846,5,3870,5],[3846,7,3870,7],[3871,2,3915,2],[3871,5,3915,5],[3871,7,3915,7],[3796,2,3820,2],[3796,5,3820,5],[3796,7,3820,7],[3821,2,3845,2],[3821,5,3845,5],[3821,7,3845,7],[3671,2,3695,2],[3671,5,3695,5],[3671,7,3695,7],[3746,2,3770,2],[3746,5,3770,5],[3746,7,3770,7],[3771,2,3795,2],[3771,5,3795,5],[3771,7,3795,7],[3696,2,3720,2],[3696,5,3720,5],[3696,7,3720,7],[3721,2,3745,2],[3721,5,3745,5],[3721,7,3745,7],[3668,2,3670,2],[3668,5,3670,5],[3668,7,3670,7],[3662,2,3664,2],[3662,5,3664,5],[3662,7,3664,7],[3665,2,3667,2],[3665,5,3667,5],[3665,7,3667,7],[3659,2,3661,2],[3659,5,3661,5],[3659,7,3661,7],[3653,2,3654,2],[3653,5,3654,5],[3653,7,3654,7],[3655,2,3656,2],[3655,5,3656,5],[3655,7,3656,7],[3651,2,3652,2],[3651,5,3652,5],[3651,7,3652,7],[3639,2,3650,2],[3639,5,3650,5],[3639,7,3650,7],[3657,2,3658,2],[3657,5,3658,5],[3657,7,3658,7],[3629,2,3638,2],[3629,5,3638,5],[3629,7,3638,7],[3595,2,3606,2],[3595,5,3606,5],[3595,7,3606,7],[3607,2,3618,2],[3607,5,3618,5],[3607,7,3618,7],[3573,2,3582,2],[3573,5,3582,5],[3573,7,3582,7],[3583,2,3594,2],[3583,5,3594,5],[3583,7,3594,7],[3619,2,3628,2],[3619,5,3628,5],[3619,7,3628,7],[3551,2,3562,2],[3551,5,3562,5],[3551,7,3562,7],[3563,2,3572,2],[3563,5,3572,5],[3563,7,3572,7],[3539,2,3550,2],[3539,5,3550,5],[3539,7,3550,7],[3527,2,3538,2],[3527,5,3538,5],[3527,7,3538,7],[3507,2,3516,2],[3507,5,3516,5],[3507,7,3516,7],[3517,2,3526,2],[3517,5,3526,5],[3517,7,3526,7],[3483,2,3494,2],[3483,5,3494,5],[3483,7,3494,7],[3495,2,3506,2],[3495,5,3506,5],[3495,7,3506,7],[3433,2,3457,2],[3433,5,3457,5],[3433,7,3457,7],[3458,2,3482,2],[3458,5,3482,5],[3458,7,3482,7],[3383,2,3407,2],[3383,5,3407,5],[3383,7,3407,7],[3408,2,3432,2],[3408,5,3432,5],[3408,7,3432,7],[3333,2,3357,2],[3333,5,3357,5],[3333,7,3357,7],[3358,2,3382,2],[3358,5,3382,5],[3358,7,3382,7],[3283,2,3307,2],[3283,5,3307,5],[3283,7,3307,7],[3308,2,3332,2],[3308,5,3332,5],[3308,7,3332,7],[3233,2,3257,2],[3233,5,3257,5],[3233,7,3257,7],[3258,2,3282,2],[3258,5,3282,5],[3258,7,3282,7],[3183,2,3207,2],[3183,5,3207,5],[3183,7,3207,7],[3208,2,3232,2],[3208,5,3232,5],[3208,7,3232,7],[3133,2,3157,2],[3133,5,3157,5],[3133,7,3157,7],[3158,2,3182,2],[3158,5,3182,5],[3158,7,3182,7],[3123,2,3127,2],[3123,5,3127,5],[3123,7,3127,7],[3128,2,3132,2],[3128,5,3132,5],[3128,7,3132,7],[3117,2,3120,2],[3117,5,3120,5],[3117,7,3120,7],[3121,2,3122,2],[3121,5,3122,5],[3121,7,3122,7],[3107,2,3111,2],[3107,5,3111,5],[3107,7,3111,7],[3112,2,3116,2],[3112,5,3116,5],[3112,7,3116,7],[3077,2,3101,2],[3077,5,3101,5],[3077,7,3101,7],[3102,2,3106,2],[3102,5,3106,5],[3102,7,3106,7],[3027,2,3051,2],[3027,5,3051,5],[3027,7,3051,7],[3052,2,3076,2],[3052,5,3076,5],[3052,7,3076,7],[2977,2,3001,2],[2977,5,3001,5],[2977,7,3001,7],[3002,2,3026,2],[3002,5,3026,5],[3002,7,3026,7],[2927,2,2951,2],[2927,5,2951,5],[2927,7,2951,7],[2952,2,2976,2],[2952,5,2976,5],[2952,7,2976,7],[2897,2,2901,2],[2897,5,2901,5],[2897,7,2901,7],[2902,2,2926,2],[2902,5,2926,5],[2902,7,2926,7],[2887,2,2891,2],[2887,5,2891,5],[2887,7,2891,7],[2892,2,2896,2],[2892,5,2896,5],[2892,7,2896,7],[2877,2,2881,2],[2877,5,2881,5],[2877,7,2881,7],[2882,2,2886,2],[2882,5,2886,5],[2882,7,2886,7],[2867,2,2871,2],[2867,5,2871,5],[2867,7,2871,7],[2872,2,2876,2],[2872,5,2876,5],[2872,7,2876,7],[2857,2,2861,2],[2857,5,2861,5],[2857,7,2861,7],[2862,2,2866,2],[2862,5,2866,5],[2862,7,2866,7],[2847,2,2851,2],[2847,5,2851,5],[2847,7,2851,7],[2852,2,2856,2],[2852,5,2856,5],[2852,7,2856,7],[2843,2,2844,2],[2843,5,2844,5],[2843,7,2844,7],[2845,2,2846,2],[2845,5,2846,5],[2845,7,2846,7],[2813,2,2842,2],[2813,5,2842,5],[2813,7,2842,7],[2759,2,2782,2],[2759,5,2782,5],[2759,7,2782,7],[2783,2,2812,2],[2783,5,2812,5],[2783,7,2812,7],[2711,2,2734,2],[2711,5,2734,5],[2711,7,2734,7],[2735,2,2758,2],[2735,5,2758,5],[2735,7,2758,7],[2642,2,2686,2],[2642,5,2686,5],[2642,7,2686,7],[2687,2,2710,2],[2687,5,2710,5],[2687,7,2710,7],[2543,2,2596,2],[2543,5,2596,5],[2543,7,2596,7],[2597,2,2641,2],[2597,5,2641,5],[2597,7,2641,7],[2444,2,2497,2],[2444,5,2497,5],[2444,7,2497,7],[2498,2,2542,2],[2498,5,2542,5],[2498,7,2542,7],[2357,2,2362,2],[2357,5,2362,5],[2357,7,2362,7],[2363,2,2368,2],[2363,5,2368,5],[2363,7,2368,7],[2399,2,2443,2],[2399,5,2443,5],[2399,7,2443,7],[2369,2,2398,2],[2369,5,2398,5],[2369,7,2398,7],[2347,2,2350,2],[2347,5,2350,5],[2347,7,2350,7],[2351,2,2356,2],[2351,5,2356,5],[2351,7,2356,7],[2341,2,2344,2],[2341,5,2344,5],[2341,7,2344,7],[2345,2,2346,2],[2345,5,2346,5],[2345,7,2346,7],[2331,2,2335,2],[2331,5,2335,5],[2331,7,2335,7],[2336,2,2340,2],[2336,5,2340,5],[2336,7,2340,7],[2277,2,2306,2],[2277,5,2306,5],[2277,7,2306,7],[2307,2,2330,2],[2307,5,2330,5],[2307,7,2330,7],[2223,2,2252,2],[2223,5,2252,5],[2223,7,2252,7],[2253,2,2276,2],[2253,5,2276,5],[2253,7,2276,7],[2175,2,2198,2],[2175,5,2198,5],[2175,7,2198,7],[2199,2,2222,2],[2199,5,2222,5],[2199,7,2222,7],[2127,2,2150,2],[2127,5,2150,5],[2127,7,2150,7],[2151,2,2174,2],[2151,5,2174,5],[2151,7,2174,7],[2079,2,2102,2],[2079,5,2102,5],[2079,7,2102,7],[2103,2,2126,2],[2103,5,2126,5],[2103,7,2126,7],[2035,2,2054,2],[2035,5,2054,5],[2035,7,2054,7],[2055,2,2078,2],[2055,5,2078,5],[2055,7,2078,7],[2007,2,2018,2],[2007,5,2018,5],[2007,7,2018,7],[2019,2,2034,2],[2019,5,2034,5],[2019,7,2034,7],[1974,2,1998,2],[1974,5,1998,5],[1974,7,1998,7],[1999,2,2006,2],[1999,5,2006,5],[1999,7,2006,7],[1939,2,1953,2],[1939,5,1953,5],[1939,7,1953,7],[1954,2,1973,2],[1954,5,1973,5],[1954,7,1973,7],[1884,2,1928,2],[1884,5,1928,5],[1884,7,1928,7],[1929,2,1938,2],[1929,5,1938,5],[1929,7,1938,7],[1794,2,1838,2],[1794,5,1838,5],[1794,7,1838,7],[1839,2,1883,2],[1839,5,1883,5],[1839,7,1883,7],[1704,2,1748,2],[1704,5,1748,5],[1704,7,1748,7],[1749,2,1793,2],[1749,5,1793,5],[1749,7,1793,7],[1614,2,1658,2],[1614,5,1658,5],[1614,7,1658,7],[1659,2,1703,2],[1659,5,1703,5],[1659,7,1703,7],[1515,2,1568,2],[1515,5,1568,5],[1515,7,1568,7],[1569,2,1613,2],[1569,5,1613,5],[1569,7,1613,7],[1425,2,1469,2],[1425,5,1469,5],[1425,7,1469,7],[1470,2,1514,2],[1470,5,1514,5],[1470,7,1514,7],[1326,2,1370,2],[1326,5,1370,5],[1326,7,1370,7],[1371,2,1424,2],[1371,5,1424,5],[1371,7,1424,7],[1240,2,1274,2],[1240,5,1274,5],[1240,7,1274,7],[1275,2,1325,2],[1275,5,1325,5],[1275,7,1325,7],[1200,2,1204,2],[1200,5,1204,5],[1200,7,1204,7],[1205,2,1239,2],[1205,5,1239,5],[1205,7,1239,7],[1190,2,1199,2],[1190,5,1199,5],[1190,7,1199,7],[1175,2,1184,2],[1175,5,1184,5],[1175,7,1184,7],[1185,2,1189,2],[1185,5,1189,5],[1185,7,1189,7],[1095,2,1129,2],[1095,5,1129,5],[1095,7,1129,7],[1130,2,1174,2],[1130,5,1174,5],[1130,7,1174,7],[1065,2,1079,2],[1065,5,1079,5],[1065,7,1079,7],[1080,2,1094,2],[1080,5,1094,5],[1080,7,1094,7],[1055,2,1059,2],[1055,5,1059,5],[1055,7,1059,7],[1060,2,1064,2],[1060,5,1064,5],[1060,7,1064,7],[1035,2,1039,2],[1035,5,1039,5],[1035,7,1039,7],[1040,2,1054,2],[1040,5,1054,5],[1040,7,1054,7],[984,2,1019,2],[984,5,1019,5],[984,7,1019,7],[1020,2,1034,2],[1020,5,1034,5],[1020,7,1034,7],[920,2,947,2],[920,5,947,5],[920,7,947,7],[948,2,983,2],[948,5,983,5],[948,7,983,7],[847,2,891,2],[847,5,891,5],[847,7,891,7],[892,2,919,2],[892,5,919,5],[892,7,919,7],[776,2,811,2],[776,5,811,5],[776,7,811,7],[812,2,846,2],[812,5,846,5],[812,7,846,7],[712,2,739,2],[712,5,739,5],[712,7,739,7],[740,2,775,2],[740,5,775,5],[740,7,775,7],[639,2,683,2],[639,5,683,5],[639,7,683,7],[684,2,711,2],[684,5,711,5],[684,7,711,7],[604,2,638,2],[604,5,638,5],[604,7,638,7],[592,2,602,2],[592,5,602,5],[592,7,602,7],[570,2,580,2],[570,5,580,5],[570,7,580,7],[581,2,591,2],[581,5,591,5],[581,7,591,7],[548,2,558,2],[548,5,558,5],[548,7,558,7],[559,2,569,2],[559,5,569,5],[559,7,569,7],[540,2,542,2],[540,5,542,5],[540,7,542,7],[543,2,545,2],[543,5,545,5],[543,7,545,7],[534,2,536,2],[534,5,536,5],[534,7,536,7],[537,2,539,2],[537,5,539,5],[537,7,539,7],[526,2,527,2],[526,5,527,5],[526,7,527,7],[531,2,532,2],[531,5,532,5],[531,7,532,7],[522,2,523,2],[522,5,523,5],[522,7,523,7],[524,2,525,2],[524,5,525,5],[524,7,525,7],[518,2,519,2],[518,5,519,5],[518,7,519,7],[520,2,521,2],[520,5,521,5],[520,7,521,7],[512,2,514,2],[512,5,514,5],[512,7,514,7],[515,2,517,2],[515,5,517,5],[515,7,517,7],[501,2,502,2],[501,5,502,5],[501,7,502,7],[503,2,504,2],[503,5,504,5],[503,7,504,7],[495,2,497,2],[495,5,497,5],[495,7,497,7],[499,2,500,2],[499,5,500,5],[499,7,500,7],[483,2,488,2],[483,5,488,5],[483,7,488,7],[489,2,494,2],[489,5,494,5],[489,7,494,7],[463,2,472,2],[463,5,472,5],[463,7,472,7],[473,2,482,2],[473,5,482,5],[473,7,482,7],[457,2,459,2],[457,5,459,5],[457,7,459,7],[460,2,462,2],[460,5,462,5],[460,7,462,7],[453,2,454,2],[453,5,454,5],[453,7,454,7],[455,2,456,2],[455,5,456,5],[455,7,456,7],[447,2,449,2],[447,5,449,5],[447,7,449,7],[450,2,452,2],[450,5,452,5],[450,7,452,7],[443,2,444,2],[443,5,444,5],[443,7,444,7],[445,2,446,2],[445,5,446,5],[445,7,446,7],[431,2,436,2],[431,5,436,5],[431,7,436,7],[437,2,442,2],[437,5,442,5],[437,7,442,7],[411,2,420,2],[411,5,420,5],[411,7,420,7],[421,2,430,2],[421,5,430,5],[421,7,430,7],[394,2,406,2],[394,5,406,5],[394,7,406,7],[407,2,409,2],[407,5,409,5],[407,7,409,7],[368,2,380,2],[368,5,380,5],[368,7,380,7],[381,2,393,2],[381,5,393,5],[381,7,393,7],[342,2,354,2],[342,5,354,5],[342,7,354,7],[355,2,367,2],[355,5,367,5],[355,7,367,7],[316,2,328,2],[316,5,328,5],[316,7,328,7],[329,2,341,2],[329,5,341,5],[329,7,341,7],[290,2,302,2],[290,5,302,5],[290,7,302,7],[303,2,315,2],[303,5,315,5],[303,7,315,7],[264,2,276,2],[264,5,276,5],[264,7,276,7],[277,2,289,2],[277,5,289,5],[277,7,289,7],[238,2,250,2],[238,5,250,5],[238,7,250,7],[251,2,263,2],[251,5,263,5],[251,7,263,7],[222,2,224,2],[222,5,224,5],[222,7,224,7],[225,2,237,2],[225,5,237,5],[225,7,237,7],[206,2,208,2],[206,5,208,5],[206,7,208,7],[209,2,221,2],[209,5,221,5],[209,7,221,7],[180,2,192,2],[180,5,192,5],[180,7,192,7],[193,2,205,2],[193,5,205,5],[193,7,205,7],[164,2,166,2],[164,5,166,5],[164,7,166,7],[167,2,179,2],[167,5,179,5],[167,7,179,7],[148,2,150,2],[148,5,150,5],[148,7,150,7],[151,2,163,2],[151,5,163,5],[151,7,163,7],[122,2,134,2],[122,5,134,5],[122,7,134,7],[135,2,147,2],[135,5,147,5],[135,7,147,7],[96,2,108,2],[96,5,108,5],[96,7,108,7],[109,2,121,2],[109,5,121,5],[109,7,121,7],[88,2,90,2],[88,5,90,5],[88,7,90,7],[93,2,95,2],[93,5,95,5],[93,7,95,7],[68,2,74,2],[68,7,74,7],[75,2,83,2],[75,7,83,7],[84,2,86,2],[84,5,86,5],[84,7,86,7],[50,2,58,2],[50,5,58,5],[50,7,58,7],[59,2,67,2],[59,5,67,5],[59,7,67,7],[68,5,74,5],[75,5,83,5],[32,2,40,2],[32,5,40,5],[32,7,40,7],[41,2,49,2],[41,5,49,5],[41,7,49,7],[16,2,22,2],[16,5,22,5],[16,7,22,7],[23,2,31,2],[23,5,31,5],[23,7,31,7],[1,2,1,4],[2,2,8,2],[2,5,8,5],[2,7,8,7],[9,2,15,2],[9,5,15,5],[9,7,15,7],[9,1,15,1],[2,1,8,1],[16,1,22,1],[23,1,31,1],[32,1,40,1],[41,1,49,1],[50,1,58,1],[59,1,67,1],[68,1,74,1],[75,1,83,1],[84,1,86,1],[88,1,90,1],[93,1,95,1],[96,1,108,1],[109,1,121,1],[122,1,134,1],[135,1,147,1],[148,1,150,1],[151,1,163,1],[164,1,166,1],[167,1,179,1],[180,1,192,1],[193,1,205,1],[206,1,208,1],[209,1,221,1],[222,1,224,1],[225,1,237,1],[238,1,250,1],[251,1,263,1],[264,1,276,1],[277,1,289,1],[290,1,302,1],[303,1,315,1],[316,1,328,1],[329,1,341,1],[342,1,354,1],[355,1,367,1],[368,1,380,1],[381,1,393,1],[394,1,406,1],[407,1,409,1],[411,1,420,1],[421,1,430,1],[431,1,436,1],[437,1,442,1],[443,1,444,1],[445,1,446,1],[447,1,449,1],[450,1,452,1],[453,1,454,1],[455,1,456,1],[457,1,459,1],[460,1,462,1],[463,1,472,1],[473,1,482,1],[483,1,488,1],[489,1,494,1],[495,1,497,1],[499,1,500,1],[501,1,502,1],[503,1,504,1],[512,1,514,1],[515,1,517,1],[518,1,519,1],[520,1,521,1],[548,1,558,1],[559,1,569,1],[570,1,580,1],[581,1,591,1],[592,1,602,1],[604,1,638,1],[639,1,683,1],[522,1,523,1],[524,1,525,1],[526,1,527,1],[531,1,532,1],[534,1,536,1],[537,1,539,1],[540,1,542,1],[543,1,545,1],[684,1,711,1],[712,1,739,1],[740,1,775,1],[776,1,811,1],[812,1,846,1],[847,1,891,1],[892,1,919,1],[920,1,947,1],[948,1,983,1],[1130,1,1174,1],[1175,1,1184,1],[1185,1,1189,1],[1190,1,1199,1],[1200,1,1204,1],[1205,1,1239,1],[1240,1,1274,1],[1275,1,1325,1],[984,1,1019,1],[1020,1,1034,1],[1035,1,1039,1],[1040,1,1054,1],[1055,1,1059,1],[1060,1,1064,1],[1065,1,1079,1],[1080,1,1094,1],[1095,1,1129,1],[1326,1,1370,1],[1371,1,1424,1],[1425,1,1469,1],[1470,1,1514,1],[1515,1,1568,1],[1569,1,1613,1],[1614,1,1658,1],[1659,1,1703,1],[1704,1,1748,1],[1749,1,1793,1],[1794,1,1838,1],[1839,1,1883,1],[1884,1,1928,1],[1929,1,1938,1],[1939,1,1953,1],[1954,1,1973,1],[1974,1,1998,1],[1999,1,2006,1],[2007,1,2018,1],[2019,1,2034,1],[2035,1,2054,1],[2055,1,2078,1],[2079,1,2102,1],[2103,1,2126,1],[2127,1,2150,1],[2151,1,2174,1],[2175,1,2198,1],[2347,1,2350,1],[2351,1,2356,1],[2357,1,2362,1],[2363,1,2368,1],[2369,1,2398,1],[2199,1,2222,1],[2223,1,2252,1],[2253,1,2276,1],[2277,1,2306,1],[2307,1,2330,1],[2331,1,2335,1],[2336,1,2340,1],[2341,1,2344,1],[2345,1,2346,1],[2759,1,2782,1],[2783,1,2812,1],[2813,1,2842,1],[2843,1,2844,1],[2845,1,2846,1],[2847,1,2851,1],[2852,1,2856,1],[2399,1,2443,1],[2444,1,2497,1],[2498,1,2542,1],[2543,1,2596,1],[2597,1,2641,1],[2642,1,2686,1],[2687,1,2710,1],[2711,1,2734,1],[2735,1,2758,1],[2857,1,2861,1],[2862,1,2866,1],[2867,1,2871,1],[2872,1,2876,1],[2877,1,2881,1],[2882,1,2886,1],[2887,1,2891,1],[2892,1,2896,1],[2897,1,2901,1],[2902,1,2926,1],[2927,1,2951,1],[2952,1,2976,1],[2977,1,3001,1],[3002,1,3026,1],[3027,1,3051,1],[3052,1,3076,1],[3077,1,3101,1],[3102,1,3106,1],[3107,1,3111,1],[3112,1,3116,1],[3117,1,3120,1],[3121,1,3122,1],[3123,1,3127,1],[3128,1,3132,1],[3133,1,3157,1],[3158,1,3182,1],[3183,1,3207,1],[3433,1,3457,1],[3458,1,3482,1],[3483,1,3494,1],[3495,1,3506,1],[3507,1,3516,1],[3517,1,3526,1],[3527,1,3538,1],[3208,1,3232,1],[3233,1,3257,1],[3258,1,3282,1],[3283,1,3307,1],[3308,1,3332,1],[3333,1,3357,1],[3358,1,3382,1],[3383,1,3407,1],[3408,1,3432,1],[3619,1,3628,1],[3629,1,3638,1],[3639,1,3650,1],[3651,1,3652,1],[3653,1,3654,1],[3655,1,3656,1],[3539,1,3550,1],[3551,1,3562,1],[3563,1,3572,1],[3573,1,3582,1],[3583,1,3594,1],[3595,1,3606,1],[3607,1,3618,1],[3671,1,3695,1],[3696,1,3720,1],[3721,1,3745,1],[3746,1,3770,1],[3771,1,3795,1],[3796,1,3820,1],[3657,1,3658,1],[3659,1,3661,1],[3662,1,3664,1],[3665,1,3667,1],[3668,1,3670,1],[3967,1,3987,1],[3988,1,4009,1],[4010,1,4015,1],[4016,1,4021,1],[4022,1,4027,1],[4028,1,4033,1],[3821,1,3845,1],[3846,1,3870,1],[3871,1,3915,1],[3916,1,3917,1],[3918,1,3922,1],[3925,1,3945,1],[3946,1,3966,1]]}
[]
[null,null,"Номер модуля",null,null,{"$f":"'[5]Прайс Массив 20'!D2","v":"Наименование модуля"},null,{"$f":"'[5]Прайс Массив 20'!E2","v":"Рисунок модуля"},{"$f":"'[5]Прайс Массив 20'!F2","v":"ШИРИНА КОРПУСА"},{"$f":"'[5]Прайс Массив 20'!G2","v":"ВЫСОТА КОРПУСА"},{"$f":"'[5]Прайс Массив 20'!H2","v":"ГЛУБИНА КОРПУСА"},{"$f":"'[5]Прайс Массив 20'!J2","v":"Валенсия 20 КЛАССИКА бук лак"},{"$f":"'[5]Прайс Массив 20'!K2","v":"Валенсия 20 КЛАССИКА бук лак+патина"},{"$f":"'[5]Прайс Массив 20'!L2","v":"Валенсия 20 Премиум бук лак"},{"$f":"'[5]Прайс Массив 20'!M2","v":"Валенсия 20 Премиум бук лак+патина"},{"$f":"'[5]Прайс Массив 20'!N2","v":"Валенсия 20 Премиум ясень лак"},{"$f":"'[5]Прайс Массив 20'!O2","v":"Валенсия 20 Премиумясень лак+патина"}]
[null,1,1,{"$f":"IF(C3<>0,LOOKUP(,-CODE(C$3:C3),C$3:C3),D2)","v":1},"1(300)-528","Тумба кухонная однодверная, полка ЛДСП",null,null,"300",720,"528",3923.8882194956523,4196.8036578956526,4230.5347794956524,4503.8335260956519,5124.4095018956523,5372.7932154956516]
[null,null,0,{"$f":"IF(C4<>0,LOOKUP(,-CODE(C$3:C4),C$3:C4),D3)","v":1},"1(350)-528",null,null,null,"350",720,"528",4391.075201524638,4709.9359999246381,4749.3457615246371,5068.6543981246377,5793.7044439246383,6083.903597524637]
[null,null,0,{"$f":"IF(C5<>0,LOOKUP(,-CODE(C$3:C5),C$3:C5),D4)","v":1},"1(400)-528",null,null,null,"400",720,"528",4858.2621835536229,5223.0683419536226,5268.1567435536235,5633.4752701536227,6462.9993859536226,6795.0139795536234]
[null,null,0,{"$f":"IF(C6<>0,LOOKUP(,-CODE(C$3:C6),C$3:C6),D5)","v":1},"1(450)-528",null,null,null,"450",720,"528",5325.4491655826077,5736.2006839826081,5786.9677255826082,6198.2961421826076,7132.2943279826086,7506.1243615826079]
[null,null,0,{"$f":"IF(C7<>0,LOOKUP(,-CODE(C$3:C7),C$3:C7),D6)","v":1},"1(500)-528",null,null,null,"500",720,"528",5792.6361476115944,6249.3330260115945,6305.7787076115947,6763.1170142115952,7801.5892700115946,8217.2347436115942]
[null,null,0,{"$f":"IF(C8<>0,LOOKUP(,-CODE(C$3:C8),C$3:C8),D7)","v":1},"1(550)-528",null,null,null,"550",720,"528",6259.8231296405802,6762.46536804058,6824.5896896405802,7327.9378862405802,8470.8842120405789,8928.3451256405788]
[null,null,0,{"$f":"IF(C9<>0,LOOKUP(,-CODE(C$3:C9),C$3:C9),D8)","v":1},"1(600)-528",null,null,null,"600",720,"528",6727.010111669566,7275.5977100695654,7343.4006716695658,7892.7587582695651,9140.1791540695649,9639.4555076695669]
[null,"3/1",2,{"$f":"IF(C10<>0,LOOKUP(,-CODE(C$3:C10),C$3:C10),D9)","v":2},"2-180(300)-528","Тумба кухонная однодверная с метабоксом,Н - 180 мм, полка ЛДСП",null,null,"300",720,"528",4766.7420160289857,5038.5155488289856,5072.1055360289856,5344.2607732289853,5962.2401968289851,6209.5846480289856]
[null,null,0,{"$f":"IF(C11<>0,LOOKUP(,-CODE(C$3:C11),C$3:C11),D10)","v":2},"2-180(350)-528",null,null,null,"350",720,"528",5255.7803847246378,5573.307037524638,5612.551904724638,5930.5245219246381,6652.5408855246378,6941.5258167246384]
[null,null,0,{"$f":"IF(C12<>0,LOOKUP(,-CODE(C$3:C12),C$3:C12),D11)","v":2},"2-180(400)-528",null,null,null,"400",720,"528",5744.8187534202898,6108.0985262202903,6152.9982734202895,6516.7882706202899,7342.8415742202906,7673.4669854202893]
[null,null,0,{"$f":"IF(C13<>0,LOOKUP(,-CODE(C$3:C13),C$3:C13),D12)","v":2},"2-180(450)-528",null,null,null,"450",720,"528",6233.8571221159427,6642.8900149159417,6693.4446421159428,7103.0520193159427,8033.1422629159424,8405.408154115943]
[null,null,0,{"$f":"IF(C14<>0,LOOKUP(,-CODE(C$3:C14),C$3:C14),D13)","v":2},"2-180(500)-528",null,null,null,"500",720,"528",6722.8954908115948,7177.681503611595,7233.8910108115942,7689.3157680115946,8723.4429516115961,9137.3493228115949]
[null,null,0,{"$f":"IF(C15<>0,LOOKUP(,-CODE(C$3:C15),C$3:C15),D14)","v":2},"2-180(550)-528",null,null,null,"550",720,"528",7211.9338595072468,7712.4729923072464,7774.3373795072466,8275.5795167072465,9413.7436403072461,9869.2904915072468]
[null,null,0,{"$f":"IF(C16<>0,LOOKUP(,-CODE(C$3:C16),C$3:C16),D15)","v":2},"2-180(600)-528",null,null,null,"600",720,"528",7700.9722282028988,8247.2644810028978,8314.783748202899,8861.8432654028984,10104.0443290029,10601.231660202899]
[null,"4/1",3,{"$f":"IF(C17<>0,LOOKUP(,-CODE(C$3:C17),C$3:C17),D16)","v":3},"3-180(300)-528","Тумба кухонная однодверная с леграбоксом,Н - 180 мм, полка ЛДСП",null,null,"300",720,"528",6105.1533205623191,6376.926853362319,6410.516840562319,6682.6720777623195,7300.6515013623193,7547.9959525623181]
[null,null,0,{"$f":"IF(C18<>0,LOOKUP(,-CODE(C$3:C18),C$3:C18),D17)","v":3},"3-180(350)-528",null,null,null,"350",720,"528",6593.8766892579715,6911.4033420579717,6950.6482092579718,7268.6208264579718,7990.6371900579716,8279.622121257973]
[null,null,0,{"$f":"IF(C19<>0,LOOKUP(,-CODE(C$3:C19),C$3:C19),D18)","v":3},"3-180(400)-528",null,null,null,"400",720,"528",7082.600057953623,7445.8798307536235,7490.7795779536236,7854.5695751536241,8680.6228787536238,9011.2482899536226]
[null,null,0,{"$f":"IF(C20<>0,LOOKUP(,-CODE(C$3:C20),C$3:C20),D19)","v":3},"3-180(450)-528",null,null,null,"450",720,"528",7571.3234266492764,7980.3563194492754,8030.9109466492755,8440.5183238492755,9370.6085674492751,9742.8744586492758]
[null,null,0,{"$f":"IF(C21<>0,LOOKUP(,-CODE(C$3:C21),C$3:C21),D20)","v":3},"3-180(500)-528",null,null,null,"500",720,"528",8060.0467953449279,8514.8328081449272,8571.0423153449283,9026.4670725449287,10060.594256144928,10474.500627344929]
[null,null,0,{"$f":"IF(C22<>0,LOOKUP(,-CODE(C$3:C22),C$3:C22),D21)","v":3},"3-180(550)-528",null,null,null,"550",720,"528",8548.7701640405794,9049.3092968405799,9111.1736840405792,9612.41582124058,10750.579944840581,11206.12679604058]
[null,null,0,{"$f":"IF(C23<>0,LOOKUP(,-CODE(C$3:C23),C$3:C23),D22)","v":3},"3-180(600)-528",null,null,null,"600",720,"528",9037.4935327362327,9583.7857855362327,9651.305052736232,10198.364569936233,11440.565633536233,11937.752964736232]
[null,"6",4,{"$f":"IF(C24<>0,LOOKUP(,-CODE(C$3:C24),C$3:C24),D23)","v":4},"4(600)-528","Тумба кухонная двухдверная, полка ЛДСП",null,null,"600",720,"528",7046.8270276695648,7592.6579044695654,7660.1201476695651,8206.717640869565,9447.8695924695639,9944.6370196695643]
[null,null,0,{"$f":"IF(C25<>0,LOOKUP(,-CODE(C$3:C25),C$3:C25),D24)","v":4},"4(650)-528",null,null,null,"650",720,"528",7514.0140096985506,8105.7902464985509,8178.9311296985506,8771.5385128985508,10117.164534498552,10655.747401698551]
[null,null,0,{"$f":"IF(C26<>0,LOOKUP(,-CODE(C$3:C26),C$3:C26),D25)","v":4},"4(700)-528",null,null,null,"700",720,"528",7981.2009917275354,8618.9225885275373,8697.7421117275353,9336.3593849275348,10786.459476527536,11366.857783727535]
[null,null,0,{"$f":"IF(C27<>0,LOOKUP(,-CODE(C$3:C27),C$3:C27),D26)","v":4},"4(750)-528",null,null,null,"750",720,"528",8448.3879737565221,9132.0549305565219,9216.5530937565218,9901.1802569565225,11455.75441855652,12077.968165756523]
[null,null,0,{"$f":"IF(C28<>0,LOOKUP(,-CODE(C$3:C28),C$3:C28),D27)","v":4},"4(800)-528",null,null,null,"800",720,"528",8915.574955785507,9645.1872725855064,9735.3640757855064,10466.001128985507,12125.049360585506,12789.078547785508]
[null,null,0,{"$f":"IF(C29<>0,LOOKUP(,-CODE(C$3:C29),C$3:C29),D28)","v":4},"4(850)-528",null,null,null,"850",720,"528",9382.7619378144918,10158.319614614493,10254.175057814493,11030.822001014492,12794.344302614492,13500.188929814492]
[null,null,0,{"$f":"IF(C30<>0,LOOKUP(,-CODE(C$3:C30),C$3:C30),D29)","v":4},"4(900)-528",null,null,null,"900",720,"528",9849.9489198434767,10671.451956643477,10772.986039843478,11595.642873043476,13463.639244643477,14211.299311843477]
[null,null,0,{"$f":"IF(C31<>0,LOOKUP(,-CODE(C$3:C31),C$3:C31),D30)","v":4},"4(950)-528",null,null,null,"950",720,"528",10317.135901872463,11184.584298672464,11291.797021872464,12160.463745072464,14132.934186672464,14922.409693872463]
[null,null,0,{"$f":"IF(C32<>0,LOOKUP(,-CODE(C$3:C32),C$3:C32),D31)","v":4},"4(1000)-528",null,null,null,"1000",720,"528",10784.32288390145,11697.71664070145,11810.608003901451,12725.28461710145,14802.22912870145,15633.52007590145]
[null,"8/1",5,{"$f":"IF(C33<>0,LOOKUP(,-CODE(C$3:C33),C$3:C33),D32)","v":5},"5-180(600)-528","Тумба кухонная двухдверная с двумя метабоксами,Н - 180 мм, полка ЛДСП",null,null,"600",720,"528",8962.5300831362329,9506.0771487362326,9573.2571231362308,10117.567597536232,11353.526444736231,11848.215347136231]
[null,null,0,{"$f":"IF(C34<>0,LOOKUP(,-CODE(C$3:C34),C$3:C34),D33)","v":5},"5-180(650)-528",null,null,null,"650",720,"528",9456.1979451652187,10045.498130765218,10118.332985165218,10708.460839565218,12048.456626765219,12584.786009165218]
[null,null,0,{"$f":"IF(C35<>0,LOOKUP(,-CODE(C$3:C35),C$3:C35),D34)","v":5},"5-180(700)-528",null,null,null,"700",720,"528",9949.8658071942027,10584.919112794203,10663.408847194203,11299.354081594203,12743.386808794203,13321.356671194204]
[null,null,0,{"$f":"IF(C36<>0,LOOKUP(,-CODE(C$3:C36),C$3:C36),D35)","v":5},"5-180(750)-528",null,null,null,"750",720,"528",10443.533669223189,11124.340094823188,11208.484709223188,11890.247323623189,13438.316990823188,14057.927333223188]
[null,null,0,{"$f":"IF(C37<>0,LOOKUP(,-CODE(C$3:C37),C$3:C37),D36)","v":5},"5-180(800)-528",null,null,null,"800",720,"528",10937.201531252174,11663.761076852174,11753.560571252176,12481.140565652175,14133.247172852176,14794.497995252173]
[null,null,0,{"$f":"IF(C38<>0,LOOKUP(,-CODE(C$3:C38),C$3:C38),D37)","v":5},"5-180(850)-528",null,null,null,"850",720,"528",11430.86939328116,12203.182058881161,12298.636433281161,13072.03380768116,14828.177354881162,15531.068657281161]
[null,null,0,{"$f":"IF(C39<>0,LOOKUP(,-CODE(C$3:C39),C$3:C39),D38)","v":5},"5-180(900)-528",null,null,null,"900",720,"528",11924.537255310146,12742.603040910144,12843.712295310146,13662.927049710146,15523.107536910145,16267.639319310147]
[null,null,0,{"$f":"IF(C40<>0,LOOKUP(,-CODE(C$3:C40),C$3:C40),D39)","v":5},"5-180(950)-528",null,null,null,"950",720,"528",12418.20511733913,13282.024022939131,13388.788157339131,14253.820291739132,16218.037718939129,17004.209981339132]
[null,null,0,{"$f":"IF(C41<>0,LOOKUP(,-CODE(C$3:C41),C$3:C41),D40)","v":5},"5-180(1000)-528",null,null,null,"1000",720,"528",12911.872979368116,13821.445004968116,13933.864019368117,14844.713533768117,16912.96790096812,17740.780643368118]
[null,"219/1",6,{"$f":"IF(C42<>0,LOOKUP(,-CODE(C$3:C42),C$3:C42),D41)","v":6},"6-180(600)-528","Тумба кухонная двухдверная с двумя леграбоксами,Н - 180 мм, полка ЛДСП",null,null,"600",720,"528",11639.3526922029,12182.899757802899,12250.079732202899,12794.3902066029,14030.3490538029,14525.037956202897]
[null,null,0,{"$f":"IF(C43<>0,LOOKUP(,-CODE(C$3:C43),C$3:C43),D42)","v":6},"6-180(650)-528",null,null,null,"650",720,"528",12132.705554231885,12722.005739831884,12794.840594231884,13384.968448631884,14724.964235831885,15261.293618231884]
[null,null,0,{"$f":"IF(C44<>0,LOOKUP(,-CODE(C$3:C44),C$3:C44),D43)","v":6},"6-180(700)-528",null,null,null,"700",720,"528",12626.05841626087,13261.111721860871,13339.601456260871,13975.546690660871,15419.57941786087,15997.549280260871]
[null,null,0,{"$f":"IF(C45<>0,LOOKUP(,-CODE(C$3:C45),C$3:C45),D44)","v":6},"6-180(750)-528",null,null,null,"750",720,"528",13119.411278289856,13800.217703889855,13884.362318289855,14566.124932689854,16114.194599889855,16733.804942289855]
[null,null,0,{"$f":"IF(C46<>0,LOOKUP(,-CODE(C$3:C46),C$3:C46),D45)","v":6},"6-180(800)-528",null,null,null,"800",720,"528",13612.764140318841,14339.32368591884,14429.123180318842,15156.703174718841,16808.809781918841,17470.060604318838]
[null,null,0,{"$f":"IF(C47<>0,LOOKUP(,-CODE(C$3:C47),C$3:C47),D46)","v":6},"6-180(850)-528",null,null,null,"850",720,"528",14106.117002347826,14878.429667947827,14973.884042347827,15747.281416747826,17503.424963947829,18206.316266347829]
[null,null,0,{"$f":"IF(C48<>0,LOOKUP(,-CODE(C$3:C48),C$3:C48),D47)","v":6},"6-180(900)-528",null,null,null,"900",720,"528",14599.469864376813,15417.535649976811,15518.644904376812,16337.859658776812,18198.040145976811,18942.571928376812]
[null,null,0,{"$f":"IF(C49<>0,LOOKUP(,-CODE(C$3:C49),C$3:C49),D48)","v":6},"6-180(950)-528",null,null,null,"950",720,"528",15092.822726405797,15956.641632005796,16063.405766405796,16928.437900805795,18892.655328005796,19678.827590405795]
[null,null,0,{"$f":"IF(C50<>0,LOOKUP(,-CODE(C$3:C50),C$3:C50),D49)","v":6},"6-180(1000)-528",null,null,null,"1000",720,"528",15586.175588434784,16495.747614034783,16608.166628434781,17519.016142834786,19587.270510034785,20415.083252434786]
[null,"10/1",7,{"$f":"IF(C51<>0,LOOKUP(,-CODE(C$3:C51),C$3:C51),D50)","v":7},"7-180(600)-528","Тумба кухонная двухдверная с  метабоксом,Н - 180 мм, полка ЛДСП",null,null,"600",720,"528",8020.8925002028991,8564.4395658028989,8631.6195402028989,9175.9300146028982,10411.888861802898,10906.577764202897]
[null,null,0,{"$f":"IF(C52<>0,LOOKUP(,-CODE(C$3:C52),C$3:C52),D51)","v":7},"7-180(650)-528",null,null,null,"650",720,"528",8509.9308688985511,9099.2310544985503,9172.0659088985503,9762.19376329855,11102.189550498551,11638.518932898551]
[null,null,0,{"$f":"IF(C53<>0,LOOKUP(,-CODE(C$3:C53),C$3:C53),D52)","v":7},"7-180(700)-528",null,null,null,"700",720,"528",8998.9692375942032,9634.0225431942017,9712.5122775942036,10348.457511994202,11792.490239194201,12370.460101594203]
[null,null,0,{"$f":"IF(C54<>0,LOOKUP(,-CODE(C$3:C54),C$3:C54),D53)","v":7},"7-180(750)-528",null,null,null,"750",720,"528",9488.0076062898552,10168.814031889855,10252.958646289855,10934.721260689856,12482.790927889855,13102.401270289854]
[null,null,0,{"$f":"IF(C55<>0,LOOKUP(,-CODE(C$3:C55),C$3:C55),D54)","v":7},"7-180(800)-528",null,null,null,"800",720,"528",9977.0459749855072,10703.605520585508,10793.405014985507,11520.985009385508,13173.091616585509,13834.342438985506]
[null,null,0,{"$f":"IF(C56<>0,LOOKUP(,-CODE(C$3:C56),C$3:C56),D55)","v":7},"7-180(850)-528",null,null,null,"850",720,"528",10466.084343681159,11238.39700928116,11333.85138368116,12107.248758081159,13863.392305281161,14566.28360768116]
[null,null,0,{"$f":"IF(C57<>0,LOOKUP(,-CODE(C$3:C57),C$3:C57),D56)","v":7},"7-180(900)-528",null,null,null,"900",720,"528",10955.122712376811,11773.188497976811,11874.297752376811,12693.512506776811,14553.692993976812,15298.224776376812]
[null,null,0,{"$f":"IF(C58<>0,LOOKUP(,-CODE(C$3:C58),C$3:C58),D57)","v":7},"7-180(950)-528",null,null,null,"950",720,"528",11444.161081072463,12307.979986672462,12414.744121072463,13279.776255472463,15243.993682672462,16030.165945072464]
[null,null,0,{"$f":"IF(C59<>0,LOOKUP(,-CODE(C$3:C59),C$3:C59),D58)","v":7},"7-180(1000)-528",null,null,null,"1000",720,"528",11933.199449768115,12842.771475368116,12955.190489768116,13866.040004168117,15934.294371368118,16762.107113768117]
[null,null,8,{"$f":"IF(C60<>0,LOOKUP(,-CODE(C$3:C60),C$3:C60),D59)","v":8},"8-180(600)-528","Тумба кухонная двухдверная с леграбоксом,Н - 180 мм, полка ЛДСП",null,null,"600",720,"528",9357.4138047362321,9900.9608703362319,9968.1408447362337,10512.451319136233,11748.410166336233,12243.099068736232]
[null,null,0,{"$f":"IF(C61<>0,LOOKUP(,-CODE(C$3:C61),C$3:C61),D60)","v":8},"8-180(650)-528",null,null,null,"650",720,"528",9846.1371734318855,10435.437359031885,10508.272213431885,11098.400067831884,12438.395855031886,12974.725237431885]
[null,null,0,{"$f":"IF(C62<>0,LOOKUP(,-CODE(C$3:C62),C$3:C62),D61)","v":8},"8-180(700)-528",null,null,null,"700",720,"528",10334.860542127537,10969.913847727537,11048.403582127537,11684.348816527538,13128.381543727537,13706.351406127538]
[null,null,0,{"$f":"IF(C63<>0,LOOKUP(,-CODE(C$3:C63),C$3:C63),D62)","v":8},"8-180(750)-528",null,null,null,"750",720,"528",10823.58391082319,11504.39033642319,11588.53495082319,12270.297565223191,13818.36723242319,14437.97757482319]
[null,null,0,{"$f":"IF(C64<>0,LOOKUP(,-CODE(C$3:C64),C$3:C64),D63)","v":8},"8-180(800)-528",null,null,null,"800",720,"528",11312.307279518842,12038.866825118841,12128.666319518841,12856.24631391884,14508.352921118843,15169.603743518841]
[null,null,0,{"$f":"IF(C65<>0,LOOKUP(,-CODE(C$3:C65),C$3:C65),D64)","v":8},"8-180(850)-528",null,null,null,"850",720,"528",11801.030648214495,12573.343313814494,12668.797688214494,13442.195062614494,15198.338609814495,15901.229912214494]
[null,null,0,{"$f":"IF(C66<>0,LOOKUP(,-CODE(C$3:C66),C$3:C66),D65)","v":8},"8-180(900)-528",null,null,null,"900",720,"528",12289.754016910147,13107.819802510145,13208.929056910147,14028.143811310147,15888.324298510146,16632.856080910147]
[null,null,0,{"$f":"IF(C67<>0,LOOKUP(,-CODE(C$3:C67),C$3:C67),D66)","v":8},"8-180(950)-528",null,null,null,"950",720,"528",12778.477385605798,13642.296291205797,13749.060425605798,14614.092560005798,16578.309987205797,17364.482249605797]
[null,null,0,{"$f":"IF(C68<>0,LOOKUP(,-CODE(C$3:C68),C$3:C68),D67)","v":8},"8-180(1000)-528",null,null,null,"1000",720,"528",13267.20075430145,14176.77277990145,14289.191794301449,15200.041308701449,17268.295675901452,18096.10841830145]
[null,"12",9,{"$f":"IF(C69<>0,LOOKUP(,-CODE(C$3:C69),C$3:C69),D68)","v":9},"9(300)-528","Тумба кухонная однодверная со стеклом, полка ЛДСП",null,null,"300",720,"528",3866.6340534956526,4139.9328000956521,4140.6994164956523,4413.9981630956518,4936.4472396956526,5184.8309532956519]
[null,null,0,{"$f":"IF(C70<>0,LOOKUP(,-CODE(C$3:C70),C$3:C70),D69)","v":9},"9(350)-528",null,null,null,"350",720,"528",4338.7371355246378,4658.0457721246376,4658.941448524638,4978.2500851246377,5588.6535517246375,5878.852705324638]
[null,null,0,{"$f":"IF(C71<>0,LOOKUP(,-CODE(C$3:C71),C$3:C71),D70)","v":9},"9(400)-528",null,null,null,"400",720,"528",4810.840217553623,5176.158744153623,5177.1834805536228,5542.5020071536228,6240.8598637536234,6572.8744573536223]
[null,null,0,{"$f":"IF(C72<>0,LOOKUP(,-CODE(C$3:C72),C$3:C72),D71)","v":9},"9(450)-528",null,null,null,"450",720,"528",5282.9432995826082,5694.2717161826085,5695.4255125826085,6106.7539291826079,6893.0661757826083,7266.8962093826076]
[null,null,0,{"$f":"IF(C73<>0,LOOKUP(,-CODE(C$3:C73),C$3:C73),D72)","v":9},"9(500)-528",null,null,null,"500",720,"528",5755.0463816115944,6212.384688211594,6213.6675446115951,6671.0058512115938,7545.2724878115941,7960.9179614115947]
[null,null,0,{"$f":"IF(C74<>0,LOOKUP(,-CODE(C$3:C74),C$3:C74),D73)","v":9},"9(550)-528",null,null,null,"550",720,"528",6227.1494636405796,6730.4976602405804,6731.9095766405799,7235.2577732405798,8197.4787998405809,8654.9397134405808]
[null,null,0,{"$f":"IF(C75<>0,LOOKUP(,-CODE(C$3:C75),C$3:C75),D74)","v":9},"9(600)-528",null,null,null,"600",720,"528",6699.2525456695648,7248.610632269565,7250.1516086695647,7799.5096952695649,8849.6851118695649,9348.9614654695652]
[null,"13",10,{"$f":"IF(C76<>0,LOOKUP(,-CODE(C$3:C76),C$3:C76),D75)","v":10},"10(600)-528","Тумба кухонная двухдверная со стеклом, полка ЛДСП",null,null,"600",720,"528",6932.3186956695654,7478.9161888695653,7480.4494216695648,8027.0469148695647,9071.9450680695663,9568.7124952695649]
[null,null,0,{"$f":"IF(C77<>0,LOOKUP(,-CODE(C$3:C77),C$3:C77),D76)","v":10},"10(650)-528",null,null,null,"650",720,"528",7404.4217776985506,7997.0291608985508,7998.6914536985505,8591.2988368985498,9724.1513800985522,10262.734247298551]
[null,null,0,{"$f":"IF(C78<>0,LOOKUP(,-CODE(C$3:C78),C$3:C78),D77)","v":10},"10(700)-528",null,null,null,"700",720,"528",7876.5248597275349,8515.1421329275345,8516.9334857275353,9155.5507589275367,10376.357692127536,10956.755999327537]
[null,null,0,{"$f":"IF(C79<>0,LOOKUP(,-CODE(C$3:C79),C$3:C79),D78)","v":10},"10(750)-528",null,null,null,"750",720,"528",8348.627941756522,9033.2551049565227,9035.1755177565228,9719.8026809565235,11028.564004156522,11650.777751356523]
[null,null,0,{"$f":"IF(C80<>0,LOOKUP(,-CODE(C$3:C80),C$3:C80),D79)","v":10},"10(800)-528",null,null,null,"800",720,"528",8820.7310237855054,9551.3680769855055,9553.4175497855067,10284.054602985507,11680.770316185506,12344.799503385504]
[null,null,0,{"$f":"IF(C81<>0,LOOKUP(,-CODE(C$3:C81),C$3:C81),D80)","v":10},"10(850)-528",null,null,null,"850",720,"528",9292.8341058144943,10069.481049014494,10071.659581814494,10848.306525014494,12332.976628214494,13038.821255414494]
[null,null,0,{"$f":"IF(C82<>0,LOOKUP(,-CODE(C$3:C82),C$3:C82),D81)","v":10},"10(900)-528",null,null,null,"900",720,"528",9764.9371878434777,10587.594021043476,10589.901613843476,11412.558447043475,12985.182940243476,13732.843007443476]
[null,null,0,{"$f":"IF(C83<>0,LOOKUP(,-CODE(C$3:C83),C$3:C83),D82)","v":10},"10(950)-528",null,null,null,"950",720,"528",10237.040269872465,11105.706993072463,11108.143645872466,11976.810369072466,13637.389252272465,14426.864759472463]
[null,null,0,{"$f":"IF(C84<>0,LOOKUP(,-CODE(C$3:C84),C$3:C84),D83)","v":10},"10(1000)-528",null,null,null,"1000",720,"528",10709.14335190145,11623.819965101447,11626.38567790145,12541.062291101447,14289.595564301449,15120.886511501449]
[null,"14",11,{"$f":"IF(C85<>0,LOOKUP(,-CODE(C$3:C85),C$3:C85),D84)","v":11},"11(300)-528","Тумба кухонная торцевая (скошенная)",null,null,"300",720,"528",6946.524095466666,7550.2461258666663,7624.863455466666,8229.4334100666674,9602.2226898666668,10151.677571466669]
[null,null,0,{"$f":"IF(C86<>0,LOOKUP(,-CODE(C$3:C86),C$3:C86),D85)","v":11},"11(350)-528",null,null,null,"350",720,"528",7602.3782448000002,8270.4237792000004,8352.9912048000006,9021.9750053999996,10541.027983200001,11149.024480800002]
[null,null,0,{"$f":"IF(C87<>0,LOOKUP(,-CODE(C$3:C87),C$3:C87),D86)","v":11},"11(400)-528",null,null,null,"400",720,"528",8245.842163733334,8978.2112021333342,9068.728723733333,9802.1263703333334,11467.443046133332,12133.981159733332]
[null,"15",12,{"$f":"IF(C88<>0,LOOKUP(,-CODE(C$3:C88),C$3:C88),D87)","v":12},"12(350)-528","Тумба кухонная торцевая (радиусная)",null,null,"350",720,"528",15327.157893866666,15576.300933866667,15607.093893866666,15856.586853866665,16423.107333866665,16649.855493866668]
[null,"16",13,{"$f":"IF(C89<>0,LOOKUP(,-CODE(C$3:C89),C$3:C89),D88)","v":13},"13(300)-528","Тумба кухонная торцевая (скошенная) со стеклом, полка ЛДСП",null,null,"300",720,"528",6900.8602494666675,7255.9372440666675,7256.9332524666679,7612.010247066667,8290.789971666667,8613.4966932666666]
[null,null,0,{"$f":"IF(C90<>0,LOOKUP(,-CODE(C$3:C90),C$3:C90),D89)","v":13},"13(350)-528",null,null,null,"350",720,"528",7576.0969388000003,7995.5877793999998,7996.7644718000001,8416.2553123999987,9218.1711830000004,9599.4195206000004]
[null,null,0,{"$f":"IF(C91<>0,LOOKUP(,-CODE(C$3:C91),C$3:C91),D90)","v":13},"13(400)-528",null,null,null,"400",720,"528",8213.9433977333319,8697.8480843333327,8699.2054607333321,9183.1101473333329,10108.162163933332,10547.952117533332]
[null,"17",14,{"$f":"IF(C92<>0,LOOKUP(,-CODE(C$3:C92),C$3:C92),D91)","v":14},"14(350)-528","Тумба кухонная торцевая (радиусная) со стеклом, полка ЛДСП",null,null,"350",720,"528",11754.864893866667,12004.007933866667,12034.800893866666,12284.293853866666,12850.814333866665,13077.562493866666]
[null,"18",15,{"$f":"IF(C93<>0,LOOKUP(,-CODE(C$3:C93),C$3:C93),D92)","v":15},"15(300)-560","Тумба кухонная открытая торцевая (радиусная)",null,null,"300",720,"560",1000.8103072,1000.8103072,1000.8103072,1000.8103072,1000.8103072,1000.8103072]
[null,"18",16,{"$f":"IF(C94<>0,LOOKUP(,-CODE(C$3:C94),C$3:C94),D93)","v":16},"16(300)-560","Тумба кухонная открытая торцевая (скошенная)",null,null,"300",720,"560",1000.8103072,1000.8103072,1000.8103072,1000.8103072,1000.8103072,1000.8103072]
[null,null,0,{"$f":"IF(C95<>0,LOOKUP(,-CODE(C$3:C95),C$3:C95),D94)","v":16},"16(350)-560",null,null,null,"350",720,"560",1087.7040405333335,1087.7040405333335,1087.7040405333335,1087.7040405333335,1087.7040405333335,1087.7040405333335]
[null,null,0,{"$f":"IF(C96<>0,LOOKUP(,-CODE(C$3:C96),C$3:C96),D95)","v":16},"16(400)-560",null,null,null,"400",720,"560",1174.5977738666668,1174.5977738666668,1174.5977738666668,1174.5977738666668,1174.5977738666668,1174.5977738666668]
[null,"19",17,{"$f":"IF(C97<>0,LOOKUP(,-CODE(C$3:C97),C$3:C97),D96)","v":17},"17(300)-528","Тумба кухонная открытая ",null,null,"300",720,"528",1053.7263321623188,1053.7263321623188,1053.7263321623188,1053.7263321623188,1053.7263321623188,1053.7263321623188]
[null,null,0,{"$f":"IF(C98<>0,LOOKUP(,-CODE(C$3:C98),C$3:C98),D97)","v":17},"17(350)-528",null,null,null,"350",720,"528",1102.4189408579712,1102.4189408579712,1102.4189408579712,1102.4189408579712,1102.4189408579712,1102.4189408579712]
[null,null,0,{"$f":"IF(C99<>0,LOOKUP(,-CODE(C$3:C99),C$3:C99),D98)","v":17},"17(400)-528",null,null,null,"400",720,"528",1151.1115495536233,1151.1115495536233,1151.1115495536233,1151.1115495536233,1151.1115495536233,1151.1115495536233]
[null,null,0,{"$f":"IF(C100<>0,LOOKUP(,-CODE(C$3:C100),C$3:C100),D99)","v":17},"17(450)-528",null,null,null,"450",720,"528",1199.8041582492756,1199.8041582492756,1199.8041582492756,1199.8041582492756,1199.8041582492756,1199.8041582492756]
[null,null,0,{"$f":"IF(C101<>0,LOOKUP(,-CODE(C$3:C101),C$3:C101),D100)","v":17},"17(500)-528",null,null,null,"500",720,"528",1248.4967669449277,1248.4967669449277,1248.4967669449277,1248.4967669449277,1248.4967669449277,1248.4967669449277]
[null,null,0,{"$f":"IF(C102<>0,LOOKUP(,-CODE(C$3:C102),C$3:C102),D101)","v":17},"17(550)-528",null,null,null,"550",720,"528",1297.1893756405798,1297.1893756405798,1297.1893756405798,1297.1893756405798,1297.1893756405798,1297.1893756405798]
[null,null,0,{"$f":"IF(C103<>0,LOOKUP(,-CODE(C$3:C103),C$3:C103),D102)","v":17},"17(600)-528",null,null,null,"600",720,"528",1345.8819843362319,1345.8819843362319,1345.8819843362319,1345.8819843362319,1345.8819843362319,1345.8819843362319]
[null,null,0,{"$f":"IF(C104<>0,LOOKUP(,-CODE(C$3:C104),C$3:C104),D103)","v":17},"17(650)-528",null,null,null,"650",720,"528",1394.5745930318842,1394.5745930318842,1394.5745930318842,1394.5745930318842,1394.5745930318842,1394.5745930318842]
[null,null,0,{"$f":"IF(C105<>0,LOOKUP(,-CODE(C$3:C105),C$3:C105),D104)","v":17},"17(700)-528",null,null,null,"700",720,"528",1443.2672017275363,1443.2672017275363,1443.2672017275363,1443.2672017275363,1443.2672017275363,1443.2672017275363]
[null,null,0,{"$f":"IF(C106<>0,LOOKUP(,-CODE(C$3:C106),C$3:C106),D105)","v":17},"17(750)-528",null,null,null,"750",720,"528",1491.9598104231886,1491.9598104231886,1491.9598104231886,1491.9598104231886,1491.9598104231886,1491.9598104231886]
[null,null,0,{"$f":"IF(C107<>0,LOOKUP(,-CODE(C$3:C107),C$3:C107),D106)","v":17},"17(800)-528",null,null,null,"800",720,"528",1540.6524191188407,1540.6524191188407,1540.6524191188407,1540.6524191188407,1540.6524191188407,1540.6524191188407]
[null,null,0,{"$f":"IF(C108<>0,LOOKUP(,-CODE(C$3:C108),C$3:C108),D107)","v":17},"17(850)-528",null,null,null,"850",720,"528",1589.3450278144926,1589.3450278144926,1589.3450278144926,1589.3450278144926,1589.3450278144926,1589.3450278144926]
[null,null,0,{"$f":"IF(C109<>0,LOOKUP(,-CODE(C$3:C109),C$3:C109),D108)","v":17},"17(900)-528",null,null,null,"900",720,"528",1638.0376365101451,1638.0376365101451,1638.0376365101451,1638.0376365101451,1638.0376365101451,1638.0376365101451]
[null,"20",18,{"$f":"IF(C110<>0,LOOKUP(,-CODE(C$3:C110),C$3:C110),D109)","v":18},"18(300)-528","Тумба кухонная с метабоксом и нишей",null,null,"300",720,"528",3195.6881414956524,3331.5749078956524,3348.3699014956524,3484.4475200956522,3793.4372318956521,3917.1094574956524]
[null,null,0,{"$f":"IF(C111<>0,LOOKUP(,-CODE(C$3:C111),C$3:C111),D110)","v":18},"18(350)-528",null,null,null,"350",720,"528",3484.777110191304,3643.5404365913041,3663.1628701913041,3822.1491787913042,4183.1573605913036,4327.6498261913039]
[null,null,0,{"$f":"IF(C112<>0,LOOKUP(,-CODE(C$3:C112),C$3:C112),D111)","v":18},"18(400)-528",null,null,null,"400",720,"528",3773.8660788869565,3955.5059652869568,3977.9558388869564,4159.8508374869562,4572.8774892869569,4738.1901948869563]
[null,null,0,{"$f":"IF(C113<>0,LOOKUP(,-CODE(C$3:C113),C$3:C113),D112)","v":18},"18(450)-528",null,null,null,"450",720,"528",4062.9550475826081,4267.4714939826081,4292.7488075826077,4497.5524961826086,4962.5976179826084,5148.7305635826087]
[null,null,0,{"$f":"IF(C114<>0,LOOKUP(,-CODE(C$3:C114),C$3:C114),D113)","v":18},"18(500)-528",null,null,null,"500",720,"528",4352.0440162782606,4579.4370226782612,4607.5417762782608,4835.254154878261,5352.3177466782618,5559.2709322782612]
[null,null,0,{"$f":"IF(C115<>0,LOOKUP(,-CODE(C$3:C115),C$3:C115),D114)","v":18},"18(550)-528",null,null,null,"550",720,"528",4641.1329849739132,4891.4025513739125,4922.3347449739131,5172.9558135739135,5742.0378753739133,5969.8113009739136]
[null,null,0,{"$f":"IF(C116<>0,LOOKUP(,-CODE(C$3:C116),C$3:C116),D115)","v":18},"18(600)-528",null,null,null,"600",720,"528",4930.2219536695648,5203.3680800695656,5237.1277136695653,5510.6574722695659,6131.7580040695657,6380.3516696695651]
[null,null,0,{"$f":"IF(C117<>0,LOOKUP(,-CODE(C$3:C117),C$3:C117),D116)","v":18},"18(650)-528",null,null,null,"650",720,"528",5219.3109223652173,5515.3336087652169,5551.9206823652166,5848.3591309652165,6521.4781327652172,6790.8920383652166]
[null,null,0,{"$f":"IF(C118<>0,LOOKUP(,-CODE(C$3:C118),C$3:C118),D117)","v":18},"18(700)-528",null,null,null,"700",720,"528",5508.3998910608698,5827.2991374608691,5866.7136510608689,6186.060789660869,6911.1982614608696,7201.43240706087]
[null,null,0,{"$f":"IF(C119<>0,LOOKUP(,-CODE(C$3:C119),C$3:C119),D118)","v":18},"18(750)-528",null,null,null,"750",720,"528",5797.4888597565214,6139.2646661565213,6181.5066197565211,6523.7624483565214,7300.9183901565211,7611.9727757565215]
[null,null,0,{"$f":"IF(C120<>0,LOOKUP(,-CODE(C$3:C120),C$3:C120),D119)","v":18},"18(800)-528",null,null,null,"800",720,"528",6086.5778284521739,6451.2301948521736,6496.2995884521733,6861.4641070521739,7690.6385188521745,8022.5131444521739]
[null,null,0,{"$f":"IF(C121<>0,LOOKUP(,-CODE(C$3:C121),C$3:C121),D120)","v":18},"18(850)-528",null,null,null,"850",720,"528",6375.6667971478264,6763.1957235478258,6811.0925571478265,7199.1657657478263,8080.358647547826,8433.0535131478264]
[null,null,0,{"$f":"IF(C122<>0,LOOKUP(,-CODE(C$3:C122),C$3:C122),D121)","v":18},"18(900)-528",null,null,null,"900",720,"528",6664.755765843478,7075.1612522434789,7125.8855258434787,7536.8674244434787,8470.0787762434775,8843.5938818434788]
[null,null,19,{"$f":"IF(C123<>0,LOOKUP(,-CODE(C$3:C123),C$3:C123),D122)","v":19},"19(300)-528","Тумба кухонная с леграбоксом и нишей",null,null,"300",720,"528",4924.0289777623184,5059.9157441623192,5076.7107377623188,5212.7883563623191,5521.778068162319,5645.4502937623183]
[null,null,0,{"$f":"IF(C124<>0,LOOKUP(,-CODE(C$3:C124),C$3:C124),D123)","v":19},"19(350)-528",null,null,null,"350",720,"528",5212.3479464579714,5371.1112728579719,5390.7337064579715,5549.720015057972,5910.7281968579719,6055.2206624579721]
[null,null,0,{"$f":"IF(C125<>0,LOOKUP(,-CODE(C$3:C125),C$3:C125),D124)","v":19},"19(400)-528",null,null,null,"400",720,"528",5500.6669151536225,5682.3068015536228,5704.7566751536233,5886.6516737536231,6299.6783255536229,6464.9910311536223]
[null,null,0,{"$f":"IF(C126<>0,LOOKUP(,-CODE(C$3:C126),C$3:C126),D125)","v":19},"19(450)-528",null,null,null,"450",720,"528",5788.9858838492755,5993.5023302492755,6018.7796438492751,6223.583332449276,6688.6284542492758,6874.7613998492761]
[null,null,0,{"$f":"IF(C127<>0,LOOKUP(,-CODE(C$3:C127),C$3:C127),D126)","v":19},"19(500)-528",null,null,null,"500",720,"528",6077.3048525449276,6304.6978589449282,6332.8026125449278,6560.514991144928,7077.5785829449287,7284.5317685449281]
[null,null,0,{"$f":"IF(C128<>0,LOOKUP(,-CODE(C$3:C128),C$3:C128),D127)","v":19},"19(550)-528",null,null,null,"550",720,"528",6365.6238212405806,6615.8933876405808,6646.8255812405805,6897.44664984058,7466.5287116405807,7694.3021372405801]
[null,null,0,{"$f":"IF(C129<>0,LOOKUP(,-CODE(C$3:C129),C$3:C129),D128)","v":19},"19(600)-528",null,null,null,"600",720,"528",6653.9427899362327,6927.0889163362335,6960.8485499362332,7234.3783085362338,7855.4788403362336,8104.072505936233]
[null,null,0,{"$f":"IF(C130<>0,LOOKUP(,-CODE(C$3:C130),C$3:C130),D129)","v":19},"19(650)-528",null,null,null,"650",720,"528",6942.2617586318847,7238.2844450318844,7274.8715186318841,7571.309967231884,8244.4289690318838,8513.8428746318841]
[null,null,0,{"$f":"IF(C131<>0,LOOKUP(,-CODE(C$3:C131),C$3:C131),D130)","v":19},"19(700)-528",null,null,null,"700",720,"528",7230.5807273275368,7549.4799737275362,7588.8944873275359,7908.241625927536,8633.3790977275366,8923.6132433275379]
[null,null,0,{"$f":"IF(C132<>0,LOOKUP(,-CODE(C$3:C132),C$3:C132),D131)","v":19},"19(750)-528",null,null,null,"750",720,"528",7518.8996960231889,7860.6755024231888,7902.9174560231895,8245.1732846231898,9022.3292264231895,9333.3836120231899]
[null,null,0,{"$f":"IF(C133<>0,LOOKUP(,-CODE(C$3:C133),C$3:C133),D132)","v":19},"19(800)-528",null,null,null,"800",720,"528",7807.218664718841,8171.8710311188406,8216.9404247188413,8582.1049433188418,9411.2793551188406,9743.1539807188419]
[null,null,0,{"$f":"IF(C134<>0,LOOKUP(,-CODE(C$3:C134),C$3:C134),D133)","v":19},"19(850)-528",null,null,null,"850",720,"528",8095.537633414493,8483.0665598144933,8530.9633934144931,8919.0366020144938,9800.2294838144935,10152.924349414494]
[null,null,0,{"$f":"IF(C135<>0,LOOKUP(,-CODE(C$3:C135),C$3:C135),D134)","v":19},"19(900)-528",null,null,null,"900",720,"528",8383.8566021101451,8794.2620885101442,8844.9863621101449,9255.9682607101458,10189.179612510145,10562.694718110146]
[null,"22",20,{"$f":"IF(C136<>0,LOOKUP(,-CODE(C$3:C136),C$3:C136),D135)","v":20},"20(300)-528","Тумба кухонная с двумя метабоксами",null,null,"300",720,"528",5179.9611190956521,5451.734651895652,5485.3246390956519,5757.4798762956525,6375.4592998956523,6622.803751095651]
[null,null,0,{"$f":"IF(C137<>0,LOOKUP(,-CODE(C$3:C137),C$3:C137),D136)","v":20},"20(350)-528",null,null,null,"350",720,"528",5682.3439811246371,5999.8706339246373,6039.1155011246374,6357.0881183246374,7079.1044819246372,7368.0894131246378]
[null,null,0,{"$f":"IF(C138<>0,LOOKUP(,-CODE(C$3:C138),C$3:C138),D137)","v":20},"20(400)-528",null,null,null,"400",720,"528",6184.7268431536231,6548.0066159536236,6592.9063631536228,6956.6963603536233,7782.7496639536239,8113.3750751536227]
[null,null,0,{"$f":"IF(C139<>0,LOOKUP(,-CODE(C$3:C139),C$3:C139),D138)","v":20},"20(450)-528",null,null,null,"450",720,"528",6687.1097051826091,7096.1425979826081,7146.6972251826082,7556.3046023826082,8486.3948459826097,8858.6607371826085]
[null,null,0,{"$f":"IF(C140<>0,LOOKUP(,-CODE(C$3:C140),C$3:C140),D139)","v":20},"20(500)-528",null,null,null,"500",720,"528",7189.4925672115942,7644.2785800115944,7700.4880872115937,8155.9128444115941,9190.0400280115955,9603.9463992115943]
[null,null,0,{"$f":"IF(C141<>0,LOOKUP(,-CODE(C$3:C141),C$3:C141),D140)","v":20},"20(550)-528",null,null,null,"550",720,"528",7691.8754292405802,8192.4145620405798,8254.2789492405791,8755.5210864405799,9893.6852100405813,10349.23206124058]
[null,null,0,{"$f":"IF(C142<>0,LOOKUP(,-CODE(C$3:C142),C$3:C142),D141)","v":20},"20(600)-528",null,null,null,"600",720,"528",8194.2582912695652,8740.5505440695651,8808.0698112695645,9355.1293284695657,10597.330392069565,11094.517723269564]
[null,null,0,{"$f":"IF(C143<>0,LOOKUP(,-CODE(C$3:C143),C$3:C143),D142)","v":20},"20(650)-528",null,null,null,"650",720,"528",8696.6411532985512,9288.6865260985505,9361.86067329855,9954.7375704985498,11300.975574098549,11839.80338529855]
[null,null,0,{"$f":"IF(C144<>0,LOOKUP(,-CODE(C$3:C144),C$3:C144),D143)","v":20},"20(700)-528",null,null,null,"700",720,"528",9199.0240153275372,9836.8225081275359,9915.6515353275354,10554.345812527536,12004.620756127537,12585.089047327538]
[null,null,0,{"$f":"IF(C145<>0,LOOKUP(,-CODE(C$3:C145),C$3:C145),D144)","v":20},"20(750)-528",null,null,null,"750",720,"528",9701.4068773565214,10384.958490156521,10469.442397356521,11153.954054556521,12708.265938156521,13330.374709356522]
[null,null,0,{"$f":"IF(C146<>0,LOOKUP(,-CODE(C$3:C146),C$3:C146),D145)","v":20},"20(800)-528",null,null,null,"800",720,"528",10203.789739385506,10933.094472185505,11023.233259385506,11753.562296585505,13411.911120185507,14075.660371385506]
[null,null,0,{"$f":"IF(C147<>0,LOOKUP(,-CODE(C$3:C147),C$3:C147),D146)","v":20},"20(850)-528",null,null,null,"850",720,"528",10706.172601414492,11481.230454214492,11577.024121414492,12353.170538614493,14115.556302214492,14820.946033414493]
[null,null,0,{"$f":"IF(C148<>0,LOOKUP(,-CODE(C$3:C148),C$3:C148),D147)","v":20},"20(900)-528",null,null,null,"900",720,"528",11208.555463443477,12029.366436243477,12130.814983443477,12952.778780643479,14819.201484243476,15566.231695443479]
[null,"22В",21,{"$f":"IF(C149<>0,LOOKUP(,-CODE(C$3:C149),C$3:C149),D148)","v":21},"21(450)-528","Тумба кухонная с двумя метабоксами под варочную поверхность",null,null,"450",720,"528",6669.0640530086948,7078.0969458086947,7128.6515730086949,7538.2589502086948,8468.3491938086954,8840.615085008696]
[null,null,0,{"$f":"IF(C150<>0,LOOKUP(,-CODE(C$3:C150),C$3:C150),D149)","v":21},"21(600)-528",null,null,null,"600",720,"528",8165.9408999652169,8712.2331527652168,8779.752419965218,9326.8119371652174,10569.013000765219,11066.200331965218]
[null,null,0,{"$f":"IF(C151<>0,LOOKUP(,-CODE(C$3:C151),C$3:C151),D150)","v":21},"21(900)-528",null,null,null,"900",720,"528",11159.694593878259,11980.505566678261,12081.954113878261,12903.917911078261,14770.34061467826,15517.370825878261]
[null,"23",22,{"$f":"IF(C152<>0,LOOKUP(,-CODE(C$3:C152),C$3:C152),D151)","v":22},"22(300)-528","Тумба кухонная с двумя леграбоксами",null,null,"300",720,"528",8636.6427916289867,8908.4163244289848,8942.0063116289857,9214.1615488289863,9832.1409724289861,10079.485423628985]
[null,null,0,{"$f":"IF(C153<>0,LOOKUP(,-CODE(C$3:C153),C$3:C153),D152)","v":22},"22(350)-528",null,null,null,"350",720,"528",9137.4856536579719,9455.0123064579711,9494.2571736579703,9812.2297908579712,10534.246154457971,10823.231085657972]
[null,null,0,{"$f":"IF(C154<>0,LOOKUP(,-CODE(C$3:C154),C$3:C154),D153)","v":22},"22(400)-528",null,null,null,"400",720,"528",9638.328515686957,10001.608288486956,10046.508035686957,10410.298032886956,11236.351336486958,11566.976747686957]
[null,null,0,{"$f":"IF(C155<>0,LOOKUP(,-CODE(C$3:C155),C$3:C155),D154)","v":22},"22(450)-528",null,null,null,"450",720,"528",10139.171377715942,10548.204270515942,10598.758897715943,11008.366274915941,11938.456518515943,12310.722409715941]
[null,null,0,{"$f":"IF(C156<>0,LOOKUP(,-CODE(C$3:C156),C$3:C156),D155)","v":22},"22(500)-528",null,null,null,"500",720,"528",10640.014239744927,11094.800252544926,11151.009759744928,11606.434516944928,12640.561700544928,13054.468071744928]
[null,null,0,{"$f":"IF(C157<>0,LOOKUP(,-CODE(C$3:C157),C$3:C157),D156)","v":22},"22(550)-528",null,null,null,"550",720,"528",11140.857101773912,11641.396234573913,11703.260621773912,12204.502758973913,13342.666882573914,13798.213733773913]
[null,null,0,{"$f":"IF(C158<>0,LOOKUP(,-CODE(C$3:C158),C$3:C158),D157)","v":22},"22(600)-528",null,null,null,"600",720,"528",11641.699963802899,12187.992216602899,12255.5114838029,12802.5710010029,14044.772064602901,14541.9593958029]
[null,null,0,{"$f":"IF(C159<>0,LOOKUP(,-CODE(C$3:C159),C$3:C159),D158)","v":22},"22(650)-528",null,null,null,"650",720,"528",12142.542825831884,12734.588198631884,12807.762345831885,13400.639243031885,14746.877246631884,15285.705057831883]
[null,null,0,{"$f":"IF(C160<>0,LOOKUP(,-CODE(C$3:C160),C$3:C160),D159)","v":22},"22(700)-528",null,null,null,"700",720,"528",12643.385687860869,13281.184180660868,13360.013207860869,13998.70748506087,15448.982428660871,16029.45071986087]
[null,null,0,{"$f":"IF(C161<>0,LOOKUP(,-CODE(C$3:C161),C$3:C161),D160)","v":22},"22(750)-528",null,null,null,"750",720,"528",13144.228549889855,13827.780162689854,13912.264069889854,14596.775727089855,16151.087610689854,16773.196381889855]
[null,null,0,{"$f":"IF(C162<>0,LOOKUP(,-CODE(C$3:C162),C$3:C162),D161)","v":22},"22(800)-528",null,null,null,"800",720,"528",13645.07141191884,14374.376144718839,14464.514931918839,15194.84396911884,16853.192792718841,17516.94204391884]
[null,null,0,{"$f":"IF(C163<>0,LOOKUP(,-CODE(C$3:C163),C$3:C163),D162)","v":22},"22(850)-528",null,null,null,"850",720,"528",14145.914273947827,14920.972126747827,15016.765793947827,15792.912211147828,17555.297974747828,18260.687705947828]
[null,null,0,{"$f":"IF(C164<>0,LOOKUP(,-CODE(C$3:C164),C$3:C164),D163)","v":22},"22(900)-528",null,null,null,"900",720,"528",14646.757135976812,15467.56810877681,15569.016655976811,16390.98045317681,18257.403156776811,19004.43336797681]
[null,"23В",23,{"$f":"IF(C165<>0,LOOKUP(,-CODE(C$3:C165),C$3:C165),D164)","v":23},"23(450)-528","Тумба кухонная с двумя леграбоксами под варочную поверхность",null,null,"450",720,"528",10121.12572554203,10530.15861834203,10580.713245542029,10990.320622742029,11920.41086634203,12292.676757542029]
[null,null,0,{"$f":"IF(C166<>0,LOOKUP(,-CODE(C$3:C166),C$3:C166),D165)","v":23},"23(600)-528",null,null,null,"600",720,"528",11613.382572498551,12159.674825298551,12227.19409249855,12774.253609698551,14016.454673298551,14513.64200449855]
[null,null,0,{"$f":"IF(C167<>0,LOOKUP(,-CODE(C$3:C167),C$3:C167),D166)","v":23},"23(900)-528",null,null,null,"900",720,"528",14597.896266411593,15418.707239211593,15520.155786411593,16342.119583611595,18208.542287211592,18955.572498411595]
[null,"26",24,{"$f":"IF(C168<>0,LOOKUP(,-CODE(C$3:C168),C$3:C168),D167)","v":24},"24(300)-528","Тумба кухонная метабоксом(верх) и леграбоксом",null,null,"300",720,"528",6908.3019553623189,7180.0754881623188,7213.6654753623188,7485.8207125623194,8103.8001361623192,8351.1445873623179]
[null,null,0,{"$f":"IF(C169<>0,LOOKUP(,-CODE(C$3:C169),C$3:C169),D168)","v":24},"24(350)-528",null,null,null,"350",720,"528",7409.9148173913045,7727.4414701913047,7766.6863373913047,8084.6589545913048,8806.6753181913045,9095.6602493913051]
[null,null,0,{"$f":"IF(C170<>0,LOOKUP(,-CODE(C$3:C170),C$3:C170),D169)","v":24},"24(400)-528",null,null,null,"400",720,"528",7911.52767942029,8274.8074522202896,8319.7071994202906,8683.4971966202902,9509.5505002202917,9840.1759114202905]
[null,null,0,{"$f":"IF(C171<>0,LOOKUP(,-CODE(C$3:C171),C$3:C171),D170)","v":24},"24(450)-528",null,null,null,"450",720,"528",8413.1405414492747,8822.1734342492746,8872.7280614492738,9282.3354386492756,10212.425682249275,10584.691573449276]
[null,null,0,{"$f":"IF(C172<>0,LOOKUP(,-CODE(C$3:C172),C$3:C172),D171)","v":24},"24(500)-528",null,null,null,"500",720,"528",8914.7534034782602,9369.5394162782613,9425.7489234782606,9881.173680678261,10915.300864278262,11329.207235478261]
[null,null,0,{"$f":"IF(C173<>0,LOOKUP(,-CODE(C$3:C173),C$3:C173),D172)","v":24},"24(550)-528",null,null,null,"550",720,"528",9416.3662655072476,9916.9053983072463,9978.7697855072474,10480.011922707246,11618.176046307246,12073.722897507247]
[null,null,0,{"$f":"IF(C174<>0,LOOKUP(,-CODE(C$3:C174),C$3:C174),D173)","v":24},"24(600)-528",null,null,null,"600",720,"528",9917.9791275362331,10464.271380336231,10531.790647536232,11078.850164736232,12321.051228336233,12818.238559536232]
[null,null,0,{"$f":"IF(C175<>0,LOOKUP(,-CODE(C$3:C175),C$3:C175),D174)","v":24},"24(650)-528",null,null,null,"650",720,"528",10419.591989565219,11011.637362365218,11084.811509565217,11677.688406765217,13023.926410365217,13562.754221565217]
[null,null,0,{"$f":"IF(C176<>0,LOOKUP(,-CODE(C$3:C176),C$3:C176),D175)","v":24},"24(700)-528",null,null,null,"700",720,"528",10921.204851594202,11559.003344394201,11637.832371594202,12276.526648794203,13726.801592394204,14307.269883594203]
[null,null,0,{"$f":"IF(C177<>0,LOOKUP(,-CODE(C$3:C177),C$3:C177),D176)","v":24},"24(750)-528",null,null,null,"750",720,"528",11422.817713623188,12106.369326423188,12190.853233623187,12875.364890823188,14429.676774423187,15051.785545623188]
[null,null,0,{"$f":"IF(C178<>0,LOOKUP(,-CODE(C$3:C178),C$3:C178),D177)","v":24},"24(800)-528",null,null,null,"800",720,"528",11924.430575652174,12653.735308452173,12743.874095652172,13474.203132852173,15132.551956452175,15796.301207652174]
[null,null,0,{"$f":"IF(C179<>0,LOOKUP(,-CODE(C$3:C179),C$3:C179),D178)","v":24},"24(850)-528",null,null,null,"850",720,"528",12426.043437681161,13201.10129048116,13296.894957681161,14073.041374881161,15835.42713848116,16540.816869681163]
[null,null,0,{"$f":"IF(C180<>0,LOOKUP(,-CODE(C$3:C180),C$3:C180),D179)","v":24},"24(900)-528",null,null,null,"900",720,"528",12927.656299710145,13748.467272510145,13849.915819710146,14671.879616910144,16538.302320510145,17285.332531710144]
[null,null,25,{"$f":"IF(C181<>0,LOOKUP(,-CODE(C$3:C181),C$3:C181),D180)","v":25},"25(300)-528","Тумба кухонная леграбоксом(верх) и метабоксом",null,null,"300",720,"528",6908.3019553623189,7180.0754881623188,7213.6654753623188,7485.8207125623194,8103.8001361623192,8351.1445873623179]
[null,null,0,{"$f":"IF(C182<>0,LOOKUP(,-CODE(C$3:C182),C$3:C182),D181)","v":25},"25(350)-528",null,null,null,"350",720,"528",7409.9148173913045,7727.4414701913047,7766.6863373913047,8084.6589545913048,8806.6753181913045,9095.6602493913051]
[null,null,0,{"$f":"IF(C183<>0,LOOKUP(,-CODE(C$3:C183),C$3:C183),D182)","v":25},"25(400)-528",null,null,null,"400",720,"528",7911.52767942029,8274.8074522202896,8319.7071994202906,8683.4971966202902,9509.5505002202917,9840.1759114202905]
[null,null,0,{"$f":"IF(C184<>0,LOOKUP(,-CODE(C$3:C184),C$3:C184),D183)","v":25},"25(450)-528",null,null,null,"450",720,"528",8413.1405414492747,8822.1734342492746,8872.7280614492738,9282.3354386492756,10212.425682249275,10584.691573449276]
[null,null,0,{"$f":"IF(C185<>0,LOOKUP(,-CODE(C$3:C185),C$3:C185),D184)","v":25},"25(500)-528",null,null,null,"500",720,"528",8914.7534034782602,9369.5394162782613,9425.7489234782606,9881.173680678261,10915.300864278262,11329.207235478261]
[null,null,0,{"$f":"IF(C186<>0,LOOKUP(,-CODE(C$3:C186),C$3:C186),D185)","v":25},"25(550)-528",null,null,null,"550",720,"528",9416.3662655072476,9916.9053983072463,9978.7697855072474,10480.011922707246,11618.176046307246,12073.722897507247]
[null,null,0,{"$f":"IF(C187<>0,LOOKUP(,-CODE(C$3:C187),C$3:C187),D186)","v":25},"25(600)-528",null,null,null,"600",720,"528",9917.9791275362331,10464.271380336231,10531.790647536232,11078.850164736232,12321.051228336233,12818.238559536232]
[null,null,0,{"$f":"IF(C188<>0,LOOKUP(,-CODE(C$3:C188),C$3:C188),D187)","v":25},"25(650)-528",null,null,null,"650",720,"528",10419.591989565219,11011.637362365218,11084.811509565217,11677.688406765217,13023.926410365217,13562.754221565217]
[null,null,0,{"$f":"IF(C189<>0,LOOKUP(,-CODE(C$3:C189),C$3:C189),D188)","v":25},"25(700)-528",null,null,null,"700",720,"528",10921.204851594202,11559.003344394201,11637.832371594202,12276.526648794203,13726.801592394204,14307.269883594203]
[null,null,0,{"$f":"IF(C190<>0,LOOKUP(,-CODE(C$3:C190),C$3:C190),D189)","v":25},"25(750)-528",null,null,null,"750",720,"528",11422.817713623188,12106.369326423188,12190.853233623187,12875.364890823188,14429.676774423187,15051.785545623188]
[null,null,0,{"$f":"IF(C191<>0,LOOKUP(,-CODE(C$3:C191),C$3:C191),D190)","v":25},"25(800)-528",null,null,null,"800",720,"528",11924.430575652174,12653.735308452173,12743.874095652172,13474.203132852173,15132.551956452175,15796.301207652174]
[null,null,0,{"$f":"IF(C192<>0,LOOKUP(,-CODE(C$3:C192),C$3:C192),D191)","v":25},"25(850)-528",null,null,null,"850",720,"528",12426.043437681161,13201.10129048116,13296.894957681161,14073.041374881161,15835.42713848116,16540.816869681163]
[null,null,0,{"$f":"IF(C193<>0,LOOKUP(,-CODE(C$3:C193),C$3:C193),D192)","v":25},"25(900)-528",null,null,null,"900",720,"528",12927.656299710145,13748.467272510145,13849.915819710146,14671.879616910144,16538.302320510145,17285.332531710144]
[null,"30/1",26,{"$f":"IF(C194<>0,LOOKUP(,-CODE(C$3:C194),C$3:C194),D193)","v":26},"26-180(300)-528","Тумба кухонная с тремя метабоксами,Н - 180 мм",null,null,"300",720,"528",6360.3240228289851,6630.9556500289855,6664.4045028289856,6935.4162306289854,7550.7991020289855,7797.1042908289855]
[null,null,0,{"$f":"IF(C195<>0,LOOKUP(,-CODE(C$3:C195),C$3:C195),D194)","v":26},"26-180(350)-528",null,null,null,"350",720,"528",6878.7432715246377,7194.9357787246372,7234.0157515246374,7550.6523493246368,8269.6350307246375,8557.4057395246382]
[null,null,0,{"$f":"IF(C196<>0,LOOKUP(,-CODE(C$3:C196),C$3:C196),D195)","v":26},"26-180(400)-528",null,null,null,"400",720,"528",7398.4625202202906,7760.21590742029,7804.9270002202902,8167.1884680202911,8989.7709594202897,9319.0071882202901]
[null,null,0,{"$f":"IF(C197<>0,LOOKUP(,-CODE(C$3:C197),C$3:C197),D196)","v":26},"26-180(450)-528",null,null,null,"450",720,"528",7918.1817689159434,8325.4960361159428,8375.838248915943,8783.7245867159436,9709.9068881159437,10080.608636915942]
[null,null,0,{"$f":"IF(C198<>0,LOOKUP(,-CODE(C$3:C198),C$3:C198),D197)","v":26},"26-180(500)-528",null,null,null,"500",720,"528",8437.9010176115953,8890.7761648115957,8946.7494976115959,9400.2607054115942,10430.042816811594,10842.210085611594]
[null,null,0,{"$f":"IF(C199<>0,LOOKUP(,-CODE(C$3:C199),C$3:C199),D198)","v":26},"26-180(550)-528",null,null,null,"550",720,"528",8957.6202663072472,9456.0562935072485,9517.6607463072469,10016.796824107247,11150.178745507248,11603.811534307248]
[null,null,0,{"$f":"IF(C200<>0,LOOKUP(,-CODE(C$3:C200),C$3:C200),D199)","v":26},"26-180(600)-528",null,null,null,"600",720,"528",9477.3395150028991,10021.336422202898,10088.5719950029,10633.332942802899,11870.314674202898,12365.412983002898]
[null,null,0,{"$f":"IF(C201<>0,LOOKUP(,-CODE(C$3:C201),C$3:C201),D200)","v":26},"26-180(650)-528",null,null,null,"650",720,"528",9997.058763698551,10586.61655089855,10659.483243698551,11249.869061498552,12590.450602898552,13127.014431698552]
[null,null,0,{"$f":"IF(C202<>0,LOOKUP(,-CODE(C$3:C202),C$3:C202),D201)","v":26},"26-180(700)-528",null,null,null,"700",720,"528",10516.778012394203,11151.896679594203,11230.394492394204,11866.405180194204,13310.586531594203,13888.615880394203]
[null,null,0,{"$f":"IF(C203<>0,LOOKUP(,-CODE(C$3:C203),C$3:C203),D202)","v":26},"26-180(750)-528",null,null,null,"750",720,"528",11036.497261089855,11717.176808289854,11801.305741089855,12482.941298889855,14030.722460289855,14650.217329089854]
[null,null,0,{"$f":"IF(C204<>0,LOOKUP(,-CODE(C$3:C204),C$3:C204),D203)","v":26},"26-180(800)-528",null,null,null,"800",720,"528",11556.216509785507,12282.456936985509,12372.216989785509,13099.477417585509,14750.858388985507,15411.818777785507]
[null,null,0,{"$f":"IF(C205<>0,LOOKUP(,-CODE(C$3:C205),C$3:C205),D204)","v":26},"26-180(850)-528",null,null,null,"850",720,"528",12075.935758481159,12847.73706568116,12943.12823848116,13716.01353628116,15470.994317681159,16173.420226481161]
[null,null,0,{"$f":"IF(C206<>0,LOOKUP(,-CODE(C$3:C206),C$3:C206),D205)","v":26},"26-180(900)-528",null,null,null,"900",720,"528",12595.655007176811,13413.017194376811,13514.039487176811,14332.549654976812,16191.130246376812,16935.021675176809]
[null,"30В/1",27,{"$f":"IF(C207<>0,LOOKUP(,-CODE(C$3:C207),C$3:C207),D206)","v":27},"27-180(450)-528","Тумба кухонная с тремя метабоксами,Н - 180 мм под варочную поверхность",null,null,"450",720,"528",7916.1589428289863,8323.4732100289857,8373.8154228289859,8781.7017606289864,9707.8840620289848,10078.585810828987]
[null,null,0,{"$f":"IF(C208<>0,LOOKUP(,-CODE(C$3:C208),C$3:C208),D207)","v":27},"27-180(600)-528",null,null,null,"600",720,"528",9468.8808193507248,10012.877726550723,10080.113299350725,10624.874247150725,11861.855978550724,12356.954287350723]
[null,null,0,{"$f":"IF(C209<>0,LOOKUP(,-CODE(C$3:C209),C$3:C209),D208)","v":27},"27-180(900)-528",null,null,null,"900",720,"528",12576.924572394204,13394.286759594203,13495.309052394203,14313.819220194204,16172.399811594203,16916.291240394203]
[null,"31/1",28,{"$f":"IF(C210<>0,LOOKUP(,-CODE(C$3:C210),C$3:C210),D209)","v":28},"28-180(300)-528","Тумба кухонная с тремя леграбоксами,Н - 180 мм",null,null,"300",720,"528",10400.64746816232,10671.279095362321,10704.727948162319,10975.739675962321,11591.12254736232,11837.427736162321]
[null,null,0,{"$f":"IF(C211<>0,LOOKUP(,-CODE(C$3:C211),C$3:C211),D210)","v":28},"28-180(350)-528",null,null,null,"350",720,"528",10918.966716857971,11235.159224057972,11274.239196857972,11590.875794657972,12309.858476057972,12597.629184857971]
[null,null,0,{"$f":"IF(C212<>0,LOOKUP(,-CODE(C$3:C212),C$3:C212),D211)","v":28},"28-180(400)-528",null,null,null,"400",720,"528",11437.285965553623,11799.039352753623,11843.750445553624,12206.011913353625,13028.594404753625,13357.830633553624]
[null,null,0,{"$f":"IF(C213<>0,LOOKUP(,-CODE(C$3:C213),C$3:C213),D212)","v":28},"28-180(450)-528",null,null,null,"450",720,"528",11955.605214249277,12362.919481449277,12413.261694249277,12821.148032049277,13747.330333449278,14118.032082249276]
[null,null,0,{"$f":"IF(C214<>0,LOOKUP(,-CODE(C$3:C214),C$3:C214),D213)","v":28},"28-180(500)-528",null,null,null,"500",720,"528",12473.924462944929,12926.799610144928,12982.772942944928,13436.28415074493,14466.066262144928,14878.23353094493]
[null,null,0,{"$f":"IF(C215<>0,LOOKUP(,-CODE(C$3:C215),C$3:C215),D214)","v":28},"28-180(550)-528",null,null,null,"550",720,"528",12992.243711640582,13490.679738840583,13552.284191640581,14051.420269440581,15184.802190840583,15638.434979640582]
[null,null,0,{"$f":"IF(C216<>0,LOOKUP(,-CODE(C$3:C216),C$3:C216),D215)","v":28},"28-180(600)-528",null,null,null,"600",720,"528",13510.562960336232,14054.559867536231,14121.795440336233,14666.556388136232,15903.538119536232,16398.636428336231]
[null,null,0,{"$f":"IF(C217<>0,LOOKUP(,-CODE(C$3:C217),C$3:C217),D216)","v":28},"28-180(650)-528",null,null,null,"650",720,"528",14028.882209031884,14618.439996231886,14691.306689031884,15281.692506831885,16622.274048231884,17158.837877031885]
[null,null,0,{"$f":"IF(C218<>0,LOOKUP(,-CODE(C$3:C218),C$3:C218),D217)","v":28},"28-180(700)-528",null,null,null,"700",720,"528",14547.201457727537,15182.320124927537,15260.817937727537,15896.828625527538,17341.009976927537,17919.039325727535]
[null,null,0,{"$f":"IF(C219<>0,LOOKUP(,-CODE(C$3:C219),C$3:C219),D218)","v":28},"28-180(750)-528",null,null,null,"750",720,"528",15065.520706423189,15746.200253623188,15830.329186423189,16511.964744223187,18059.745905623189,18679.24077442319]
[null,null,0,{"$f":"IF(C220<>0,LOOKUP(,-CODE(C$3:C220),C$3:C220),D219)","v":28},"28-180(800)-528",null,null,null,"800",720,"528",15583.839955118841,16310.080382318843,16399.840435118844,17127.100862918844,18778.481834318842,19439.442223118844]
[null,null,0,{"$f":"IF(C221<>0,LOOKUP(,-CODE(C$3:C221),C$3:C221),D220)","v":28},"28-180(850)-528",null,null,null,"850",720,"528",16102.159203814492,16873.960511014491,16969.351683814493,17742.236981614493,19497.217763014494,20199.643671814494]
[null,null,0,{"$f":"IF(C222<>0,LOOKUP(,-CODE(C$3:C222),C$3:C222),D221)","v":28},"28-180(900)-528",null,null,null,"900",720,"528",16620.478452510146,17437.840639710146,17538.862932510146,18357.373100310149,20215.953691710147,20959.845120510145]
[null,"31В/1",29,{"$f":"IF(C223<>0,LOOKUP(,-CODE(C$3:C223),C$3:C223),D222)","v":29},"29-180(450)-528","Тумба кухонная с тремя леграбоксами под варочную поверхность,Н - 180 мм",null,null,"450",720,"528",11952.282388162321,12359.59665536232,12409.93886816232,12817.825205962321,13744.007507362319,14114.709256162321]
[null,null,0,{"$f":"IF(C224<>0,LOOKUP(,-CODE(C$3:C224),C$3:C224),D223)","v":29},"29-180(600)-528",null,null,null,"600",720,"528",13502.10426468406,14046.10117188406,14113.33674468406,14658.09769248406,15895.079423884061,16390.17773268406]
[null,null,0,{"$f":"IF(C225<>0,LOOKUP(,-CODE(C$3:C225),C$3:C225),D224)","v":29},"29-180(900)-528",null,null,null,"900",720,"528",16601.748017727536,17419.110204927536,17520.132497727536,18338.642665527535,20197.223256927537,20941.114685727538]
[null,"36/1",30,{"$f":"IF(C226<>0,LOOKUP(,-CODE(C$3:C226),C$3:C226),D225)","v":30},"30-180(300)-528","Тумба кухонная леграбоксом(верх) и двумя метабоксами,Н - 180 мм",null,null,"300",720,"528",7698.7353273623194,7969.3669545623197,8002.815807362319,8273.8275351623197,8889.2104065623189,9135.5155953623198]
[null,null,0,{"$f":"IF(C227<>0,LOOKUP(,-CODE(C$3:C227),C$3:C227),D226)","v":30},"30-180(350)-528",null,null,null,"350",720,"528",8216.8395760579715,8533.032083257971,8572.1120560579711,8888.7486538579706,9607.7313352579713,9895.5020440579719]
[null,null,0,{"$f":"IF(C228<>0,LOOKUP(,-CODE(C$3:C228),C$3:C228),D227)","v":30},"30-180(400)-528",null,null,null,"400",720,"528",8736.2438247536229,9097.9972119536233,9142.7083047536235,9504.9697725536244,10327.552263953625,10656.788492753623]
[null,null,0,{"$f":"IF(C229<>0,LOOKUP(,-CODE(C$3:C229),C$3:C229),D228)","v":30},"30-180(450)-528",null,null,null,"450",720,"528",9255.6480734492761,9662.9623406492756,9713.3045534492758,10121.190891249276,11047.373192649276,11418.074941449275]
[null,null,0,{"$f":"IF(C230<>0,LOOKUP(,-CODE(C$3:C230),C$3:C230),D229)","v":30},"30-180(500)-528",null,null,null,"500",720,"528",9775.0523221449275,10227.927469344928,10283.900802144928,10737.412009944928,11767.194121344928,12179.361390144928]
[null,null,0,{"$f":"IF(C231<>0,LOOKUP(,-CODE(C$3:C231),C$3:C231),D230)","v":30},"30-180(550)-528",null,null,null,"550",720,"528",10294.456570840581,10792.89259804058,10854.497050840582,11353.63312864058,12487.01505004058,12940.647838840581]
[null,null,0,{"$f":"IF(C232<>0,LOOKUP(,-CODE(C$3:C232),C$3:C232),D231)","v":30},"30-180(600)-528",null,null,null,"600",720,"528",10813.860819536232,11357.857726736231,11425.093299536233,11969.854247336232,13206.835978736231,13701.934287536231]
[null,null,0,{"$f":"IF(C233<>0,LOOKUP(,-CODE(C$3:C233),C$3:C233),D232)","v":30},"30-180(650)-528",null,null,null,"650",720,"528",11333.265068231884,11922.822855431885,11995.689548231883,12586.075366031884,13926.656907431885,14463.220736231884]
[null,null,0,{"$f":"IF(C234<>0,LOOKUP(,-CODE(C$3:C234),C$3:C234),D233)","v":30},"30-180(700)-528",null,null,null,"700",720,"528",11852.669316927535,12487.787984127535,12566.285796927536,13202.296484727536,14646.477836127535,15224.507184927537]
[null,null,0,{"$f":"IF(C235<>0,LOOKUP(,-CODE(C$3:C235),C$3:C235),D234)","v":30},"30-180(750)-528",null,null,null,"750",720,"528",12372.073565623188,13052.753112823188,13136.882045623188,13818.517603423188,15366.298764823188,15985.793633623187]
[null,null,0,{"$f":"IF(C236<>0,LOOKUP(,-CODE(C$3:C236),C$3:C236),D235)","v":30},"30-180(800)-528",null,null,null,"800",720,"528",12891.477814318841,13617.71824151884,13707.47829431884,14434.73872211884,16086.11969351884,16747.08008231884]
[null,null,0,{"$f":"IF(C237<>0,LOOKUP(,-CODE(C$3:C237),C$3:C237),D236)","v":30},"30-180(850)-528",null,null,null,"850",720,"528",13410.882063014493,14182.683370214494,14278.074543014493,15050.959840814492,16805.940622214493,17508.366531014493]
[null,null,0,{"$f":"IF(C238<>0,LOOKUP(,-CODE(C$3:C238),C$3:C238),D237)","v":30},"30-180(900)-528",null,null,null,"900",720,"528",13930.286311710144,14747.648498910145,14848.670791710145,15667.180959510146,17525.761550910145,18269.652979710147]
[null,"40",31,{"$f":"IF(C239<>0,LOOKUP(,-CODE(C$3:C239),C$3:C239),D238)","v":31},"31(300)-528","Тумба кухонная с четырьмя метабоксами,Н - 180 мм",null,null,"300",720,"528",6811.0069265623188,7080.4966481623178,7113.8043665623181,7383.6725849623181,7996.4589041623185,8241.7248305623179]
[null,null,0,{"$f":"IF(C240<>0,LOOKUP(,-CODE(C$3:C240),C$3:C240),D239)","v":31},"31(350)-528",null,null,null,"350",720,"528",7348.0625619246375,7662.9209235246371,7701.8360019246375,8017.1365803246372,8733.0855795246371,9019.6420659246378]
[null,null,0,{"$f":"IF(C241<>0,LOOKUP(,-CODE(C$3:C241),C$3:C241),D240)","v":31},"31(400)-528",null,null,null,"400",720,"528",7885.1181972869563,8245.3451988869565,8289.8676372869559,8650.6005756869563,9469.7122548869556,9797.5593012869576]
[null,null,0,{"$f":"IF(C242<>0,LOOKUP(,-CODE(C$3:C242),C$3:C242),D241)","v":31},"31(450)-528",null,null,null,"450",720,"528",8422.1738326492741,8827.7694742492749,8877.8992726492743,9284.0645710492754,10206.338930249276,10575.476536649276]
[null,null,0,{"$f":"IF(C243<>0,LOOKUP(,-CODE(C$3:C243),C$3:C243),D242)","v":31},"31(500)-528",null,null,null,"500",720,"528",8959.2294680115938,9410.1937496115934,9465.9309080115927,9917.5285664115945,10942.965605611595,11353.393772011594]
[null,null,0,{"$f":"IF(C244<>0,LOOKUP(,-CODE(C$3:C244),C$3:C244),D243)","v":31},"31(550)-528",null,null,null,"550",720,"528",9496.2851033739134,9992.6180249739136,10053.962543373913,10550.992561773914,11679.592280973913,12131.311007373914]
[null,null,0,{"$f":"IF(C245<>0,LOOKUP(,-CODE(C$3:C245),C$3:C245),D244)","v":31},"31(600)-528",null,null,null,"600",720,"528",10033.340738736231,10575.04230033623,10641.994178736231,11184.456557136233,12416.21895633623,12909.22824273623]
[null,null,0,{"$f":"IF(C246<>0,LOOKUP(,-CODE(C$3:C246),C$3:C246),D245)","v":31},"31(650)-528",null,null,null,"650",720,"528",10570.396374098549,11157.466575698549,11230.02581409855,11817.92055249855,13152.84563169855,13687.145478098551]
[null,null,0,{"$f":"IF(C247<>0,LOOKUP(,-CODE(C$3:C247),C$3:C247),D246)","v":31},"31(700)-528",null,null,null,"700",720,"528",11107.452009460869,11739.890851060869,11818.05744946087,12451.384547860869,13889.472307060869,14465.062713460869]
[null,null,0,{"$f":"IF(C248<>0,LOOKUP(,-CODE(C$3:C248),C$3:C248),D247)","v":31},"31(750)-528",null,null,null,"750",720,"528",11644.507644823188,12322.315126423189,12406.08908482319,13084.84854322319,14626.098982423187,15242.979948823187]
[null,null,0,{"$f":"IF(C249<>0,LOOKUP(,-CODE(C$3:C249),C$3:C249),D248)","v":31},"31(800)-528",null,null,null,"800",720,"528",12181.563280185506,12904.739401785508,12994.120720185507,13718.312538585506,15362.725657785508,16020.897184185507]
[null,null,0,{"$f":"IF(C250<>0,LOOKUP(,-CODE(C$3:C250),C$3:C250),D249)","v":31},"31(850)-528",null,null,null,"850",720,"528",12718.618915547824,13487.163677147826,13582.152355547825,14351.776533947825,16099.352333147826,16798.814419547823]
[null,null,0,{"$f":"IF(C251<>0,LOOKUP(,-CODE(C$3:C251),C$3:C251),D250)","v":31},"31(900)-528",null,null,null,"900",720,"528",13255.674550910144,14069.587952510145,14170.183990910144,14985.240529310144,16835.979008510145,17576.731654910145]
[null,"41",32,{"$f":"IF(C252<>0,LOOKUP(,-CODE(C$3:C252),C$3:C252),D251)","v":32},"32(300)-528","Тумба кухонная с четырьмя леграбоксами,Н - 180 мм",null,null,"300",720,"528",12164.652144695654,12434.141866295653,12467.449584695652,12737.317803095653,13350.104122295654,13595.370048695653]
[null,null,0,{"$f":"IF(C253<>0,LOOKUP(,-CODE(C$3:C253),C$3:C253),D252)","v":32},"32(350)-528",null,null,null,"350",720,"528",12700.44778005797,13015.306141657969,13054.221220057971,13369.52179845797,14085.47079765797,14372.027284057971]
[null,null,0,{"$f":"IF(C254<>0,LOOKUP(,-CODE(C$3:C254),C$3:C254),D253)","v":32},"32(400)-528",null,null,null,"400",720,"528",13236.243415420291,13596.470417020291,13640.992855420291,14001.725793820291,14820.837473020292,15148.684519420291]
[null,null,0,{"$f":"IF(C255<>0,LOOKUP(,-CODE(C$3:C255),C$3:C255),D254)","v":32},"32(450)-528",null,null,null,"450",720,"528",13772.039050782609,14177.634692382608,14227.764490782607,14633.929789182608,15556.204148382607,15925.341754782607]
[null,null,0,{"$f":"IF(C256<>0,LOOKUP(,-CODE(C$3:C256),C$3:C256),D255)","v":32},"32(500)-528",null,null,null,"500",720,"528",14307.83468614493,14758.79896774493,14814.536126144929,15266.133784544929,16291.570823744929,16701.99899014493]
[null,null,0,{"$f":"IF(C257<>0,LOOKUP(,-CODE(C$3:C257),C$3:C257),D256)","v":32},"32(550)-528",null,null,null,"550",720,"528",14843.630321507246,15339.963243107246,15401.307761507247,15898.337779907246,17026.937499107247,17478.656225507246]
[null,null,0,{"$f":"IF(C258<>0,LOOKUP(,-CODE(C$3:C258),C$3:C258),D257)","v":32},"32(600)-528",null,null,null,"600",720,"528",15379.425956869563,15921.127518469564,15988.079396869565,16530.541775269565,17762.304174469566,18255.313460869562]
[null,null,0,{"$f":"IF(C259<>0,LOOKUP(,-CODE(C$3:C259),C$3:C259),D258)","v":32},"32(650)-528",null,null,null,"650",720,"528",15915.221592231885,16502.291793831886,16574.851032231883,17162.745770631886,18497.670849831884,19031.970696231885]
[null,null,0,{"$f":"IF(C260<>0,LOOKUP(,-CODE(C$3:C260),C$3:C260),D259)","v":32},"32(700)-528",null,null,null,"700",720,"528",16451.017227594202,17083.456069194202,17161.622667594205,17794.949765994206,19233.037525194202,19808.627931594205]
[null,null,0,{"$f":"IF(C261<>0,LOOKUP(,-CODE(C$3:C261),C$3:C261),D260)","v":32},"32(750)-528",null,null,null,"750",720,"528",16986.812862956522,17664.620344556519,17748.39430295652,18427.153761356523,19968.404200556521,20585.285166956521]
[null,null,0,{"$f":"IF(C262<>0,LOOKUP(,-CODE(C$3:C262),C$3:C262),D261)","v":32},"32(800)-528",null,null,null,"800",720,"528",17522.608498318841,18245.784619918843,18335.165938318842,19059.35775671884,20703.770875918843,21361.94240231884]
[null,null,0,{"$f":"IF(C263<>0,LOOKUP(,-CODE(C$3:C263),C$3:C263),D262)","v":32},"32(850)-528",null,null,null,"850",720,"528",18058.404133681161,18826.948895281159,18921.93757368116,19691.561752081157,21439.137551281161,22138.59963768116]
[null,null,0,{"$f":"IF(C264<>0,LOOKUP(,-CODE(C$3:C264),C$3:C264),D263)","v":32},"32(900)-528",null,null,null,"900",720,"528",18594.19976904348,19408.113170643479,19508.709209043478,20323.765747443478,22174.504226643479,22915.25687304348]
[null,"48",33,{"$f":"IF(C265<>0,LOOKUP(,-CODE(C$3:C265),C$3:C265),D264)","v":33},"33(300)-528","Тумба кухонная леграбоксом(верх) и тремя метабоксами, Н - 180 мм",null,null,"300",720,"528",8149.4182310956512,8418.9079526956521,8452.2156710956515,8722.0838894956523,9334.8702086956509,9580.1361350956522]
[null,null,0,{"$f":"IF(C266<>0,LOOKUP(,-CODE(C$3:C266),C$3:C266),D265)","v":33},"33(350)-528",null,null,null,"350",720,"528",8686.1588664579704,9001.01722805797,9039.9323064579694,9355.2328848579709,10071.181884057969,10357.73837045797]
[null,null,0,{"$f":"IF(C267<>0,LOOKUP(,-CODE(C$3:C267),C$3:C267),D266)","v":33},"33(400)-528",null,null,null,"400",720,"528",9222.8995018202895,9583.1265034202897,9627.6489418202891,9988.3818802202895,10807.493559420291,11135.340605820289]
[null,null,0,{"$f":"IF(C268<>0,LOOKUP(,-CODE(C$3:C268),C$3:C268),D267)","v":33},"33(450)-528",null,null,null,"450",720,"528",9759.6401371826068,10165.235778782608,10215.365577182607,10621.530875582608,11543.805234782609,11912.942841182608]
[null,null,0,{"$f":"IF(C269<>0,LOOKUP(,-CODE(C$3:C269),C$3:C269),D268)","v":33},"33(500)-528",null,null,null,"500",720,"528",10296.380772544928,10747.345054144927,10803.082212544927,11254.679870944927,12280.116910144927,12690.545076544928]
[null,null,0,{"$f":"IF(C270<>0,LOOKUP(,-CODE(C$3:C270),C$3:C270),D269)","v":33},"33(550)-528",null,null,null,"550",720,"528",10833.121407907245,11329.454329507245,11390.798847907245,11887.828866307245,13016.428585507245,13468.147311907245]
[null,null,0,{"$f":"IF(C271<>0,LOOKUP(,-CODE(C$3:C271),C$3:C271),D270)","v":33},"33(600)-528",null,null,null,"600",720,"528",11369.862043269564,11911.563604869563,11978.515483269564,12520.977861669566,13752.740260869563,14245.749547269563]
[null,null,0,{"$f":"IF(C272<>0,LOOKUP(,-CODE(C$3:C272),C$3:C272),D271)","v":33},"33(650)-528",null,null,null,"650",720,"528",11906.602678631883,12493.672880231883,12566.232118631884,13154.126857031883,14489.051936231885,15023.351782631884]
[null,null,0,{"$f":"IF(C273<>0,LOOKUP(,-CODE(C$3:C273),C$3:C273),D272)","v":33},"33(700)-528",null,null,null,"700",720,"528",12443.343313994203,13075.782155594203,13153.948753994202,13787.275852394203,15225.363611594203,15800.954017994203]
[null,null,0,{"$f":"IF(C274<>0,LOOKUP(,-CODE(C$3:C274),C$3:C274),D273)","v":33},"33(750)-528",null,null,null,"750",720,"528",12980.083949356522,13657.891430956521,13741.665389356522,14420.424847756522,15961.675286956521,16578.556253356521]
[null,null,0,{"$f":"IF(C275<>0,LOOKUP(,-CODE(C$3:C275),C$3:C275),D274)","v":33},"33(800)-528",null,null,null,"800",720,"528",13516.824584718841,14240.00070631884,14329.38202471884,15053.57384311884,16697.986962318842,17356.15848871884]
[null,null,0,{"$f":"IF(C276<>0,LOOKUP(,-CODE(C$3:C276),C$3:C276),D275)","v":33},"33(850)-528",null,null,null,"850",720,"528",14053.56522008116,14822.109981681158,14917.098660081159,15686.722838481159,17434.29863768116,18133.760724081159]
[null,null,0,{"$f":"IF(C277<>0,LOOKUP(,-CODE(C$3:C277),C$3:C277),D276)","v":33},"33(900)-528",null,null,null,"900",720,"528",14590.305855443477,15404.219257043478,15504.815295443477,16319.871833843477,18170.610313043479,18911.362959443479]
[null,"52",34,{"$f":"IF(C278<>0,LOOKUP(,-CODE(C$3:C278),C$3:C278),D277)","v":34},"34(300)-528","Тумба кухонная с тремя метабоксами, с одним стеклом,Н - 180 мм",null,null,"300",720,"528",6317.6823338289851,6588.5040113289851,6605.6085383289847,6876.6202661289853,7443.3502607289847,7689.6554495289856]
[null,null,0,{"$f":"IF(C279<>0,LOOKUP(,-CODE(C$3:C279),C$3:C279),D278)","v":34},"34(350)-528",null,null,null,"350",720,"528",6836.3547325246382,7152.7692850246367,7172.7533620246377,7489.3899598246371,8151.5290444246384,8439.2997532246372]
[null,null,0,{"$f":"IF(C280<>0,LOOKUP(,-CODE(C$3:C280),C$3:C280),D279)","v":34},"34(400)-528",null,null,null,"400",720,"528",7355.0271312202904,7717.0345587202901,7739.8981857202907,8102.1596535202907,8859.7078281202903,9188.9440569202907]
[null,null,0,{"$f":"IF(C281<>0,LOOKUP(,-CODE(C$3:C281),C$3:C281),D280)","v":34},"34(450)-528",null,null,null,"450",720,"528",7873.6995299159416,8281.2998324159435,8307.0430094159437,8714.9293472159425,9567.886611815944,9938.5883606159423]
[null,null,0,{"$f":"IF(C282<>0,LOOKUP(,-CODE(C$3:C282),C$3:C282),D281)","v":34},"34(500)-528",null,null,null,"500",720,"528",8392.3719286115956,8845.565106111595,8874.187833111595,9327.6990409115951,10276.065395511596,10688.232664311596]
[null,null,0,{"$f":"IF(C283<>0,LOOKUP(,-CODE(C$3:C283),C$3:C283),D282)","v":34},"34(550)-528",null,null,null,"550",720,"528",8911.0443273072469,9409.8303798072466,9441.3326568072462,9940.4687346072478,10984.244179207248,11437.876968007247]
[null,null,0,{"$f":"IF(C284<>0,LOOKUP(,-CODE(C$3:C284),C$3:C284),D283)","v":34},"34(600)-528",null,null,null,"600",720,"528",9429.7167260028982,9974.0956535028999,10008.477480502899,10553.238428302899,11692.4229629029,12187.521271702899]
[null,null,0,{"$f":"IF(C285<>0,LOOKUP(,-CODE(C$3:C285),C$3:C285),D284)","v":34},"34(650)-528",null,null,null,"650",720,"528",9948.3891246985513,10538.360927198553,10575.622304198552,11166.008121998553,12400.601746598553,12937.165575398552]
[null,null,0,{"$f":"IF(C286<>0,LOOKUP(,-CODE(C$3:C286),C$3:C286),D285)","v":34},"34(700)-528",null,null,null,"700",720,"528",10467.061523394204,11102.626200894203,11142.767127894203,11778.777815694204,13108.780530294203,13686.809879094204]
[null,null,0,{"$f":"IF(C287<>0,LOOKUP(,-CODE(C$3:C287),C$3:C287),D286)","v":34},"34(750)-528",null,null,null,"750",720,"528",10985.733922089854,11666.891474589855,11709.911951589855,12391.547509389853,13816.959313989855,14436.454182789854]
[null,null,0,{"$f":"IF(C288<>0,LOOKUP(,-CODE(C$3:C288),C$3:C288),D287)","v":34},"34(800)-528",null,null,null,"800",720,"528",11504.406320785509,12231.156748285508,12277.056775285508,13004.317203085508,14525.138097685507,15186.098486485509]
[null,null,0,{"$f":"IF(C289<>0,LOOKUP(,-CODE(C$3:C289),C$3:C289),D288)","v":34},"34(850)-528",null,null,null,"850",720,"528",12023.07871948116,12795.422021981161,12844.201598981159,13617.08689678116,15233.316881381159,15935.742790181159]
[null,null,0,{"$f":"IF(C290<>0,LOOKUP(,-CODE(C$3:C290),C$3:C290),D289)","v":34},"34(900)-528",null,null,null,"900",720,"528",12541.751118176811,13359.687295676811,13411.346422676812,14229.856590476809,15941.495665076809,16685.387093876816]
[null,"53",35,{"$f":"IF(C291<>0,LOOKUP(,-CODE(C$3:C291),C$3:C291),D290)","v":35},"35(300)-528","Тумба кухонная с тремя леграбоксами, с одним стеклом,Н - 180 мм",null,null,"300",720,"528",10359.30577916232,10630.12745666232,10647.231983662321,10918.243711462321,11484.973706062319,11731.27889486232]
[null,null,0,{"$f":"IF(C292<>0,LOOKUP(,-CODE(C$3:C292),C$3:C292),D291)","v":35},"35(350)-528",null,null,null,"350",720,"528",10876.578177857973,11192.992730357972,11212.976807357973,11529.613405157972,12191.752489757973,12479.523198557972]
[null,null,0,{"$f":"IF(C293<>0,LOOKUP(,-CODE(C$3:C293),C$3:C293),D292)","v":35},"35(400)-528",null,null,null,"400",720,"528",11393.850576553625,11755.858004053625,11778.721631053624,12140.983098853625,12898.531273453624,13227.767502253624]
[null,null,0,{"$f":"IF(C294<>0,LOOKUP(,-CODE(C$3:C294),C$3:C294),D293)","v":35},"35(450)-528",null,null,null,"450",720,"528",11911.122975249278,12318.723277749277,12344.466454749278,12752.352792549278,13605.310057149278,13976.011805949278]
[null,null,0,{"$f":"IF(C295<>0,LOOKUP(,-CODE(C$3:C295),C$3:C295),D294)","v":35},"35(500)-528",null,null,null,"500",720,"528",12428.395373944928,12881.588551444929,12910.211278444929,13363.722486244929,14312.088840844928,14724.256109644928]
[null,null,0,{"$f":"IF(C296<>0,LOOKUP(,-CODE(C$3:C296),C$3:C296),D295)","v":35},"35(550)-528",null,null,null,"550",720,"528",12945.667772640581,13444.453825140581,13475.956102140583,13975.092179940582,15018.867624540582,15472.500413340584]
[null,null,0,{"$f":"IF(C297<>0,LOOKUP(,-CODE(C$3:C297),C$3:C297),D296)","v":35},"35(600)-528",null,null,null,"600",720,"528",13462.940171336233,14007.319098836233,14041.700925836234,14586.461873636234,15725.646408236233,16220.744717036234]
[null,null,0,{"$f":"IF(C298<>0,LOOKUP(,-CODE(C$3:C298),C$3:C298),D297)","v":35},"35(650)-528",null,null,null,"650",720,"528",13980.212570031885,14570.184372531887,14607.445749531887,15197.831567331887,16432.425191931885,16968.989020731886]
[null,null,0,{"$f":"IF(C299<>0,LOOKUP(,-CODE(C$3:C299),C$3:C299),D298)","v":35},"35(700)-528",null,null,null,"700",720,"528",14497.484968727538,15133.049646227537,15173.190573227537,15809.201261027538,17139.203975627537,17717.233324427536]
[null,null,0,{"$f":"IF(C300<>0,LOOKUP(,-CODE(C$3:C300),C$3:C300),D299)","v":35},"35(750)-528",null,null,null,"750",720,"528",15014.757367423188,15695.914919923187,15738.935396923189,16420.570954723189,17845.982759323189,18465.47762812319]
[null,null,0,{"$f":"IF(C301<>0,LOOKUP(,-CODE(C$3:C301),C$3:C301),D300)","v":35},"35(800)-528",null,null,null,"800",720,"528",15532.02976611884,16258.780193618839,16304.68022061884,17031.94064841884,18552.761543018842,19213.721931818844]
[null,null,0,{"$f":"IF(C302<>0,LOOKUP(,-CODE(C$3:C302),C$3:C302),D301)","v":35},"35(850)-528",null,null,null,"850",720,"528",16049.302164814493,16821.645467314494,16870.425044314492,17643.310342114495,19259.54032671449,19961.966235514494]
[null,null,0,{"$f":"IF(C303<>0,LOOKUP(,-CODE(C$3:C303),C$3:C303),D302)","v":35},"35(900)-528",null,null,null,"900",720,"528",16566.574563510145,17384.510741010145,17436.169868010147,18254.680035810146,19966.319110410142,20710.210539210148]
[null,"55",36,{"$f":"IF(C304<>0,LOOKUP(,-CODE(C$3:C304),C$3:C304),D303)","v":36},"36(300)-528","Тумба кухонная с двумя метабоксами, с одним стеклом",null,null,"300",720,"528",5138.1142330956518,5410.078618095652,5427.2553160956522,5699.4105532956519,6268.5318136956521,6515.8762648956517]
[null,null,0,{"$f":"IF(C305<>0,LOOKUP(,-CODE(C$3:C305),C$3:C305),D304)","v":36},"36(350)-528",null,null,null,"350",720,"528",5639.3651951246375,5957.1148301246376,5977.183228124637,6295.155845324638,6960.0887657246376,7249.0736969246373]
[null,null,0,{"$f":"IF(C306<>0,LOOKUP(,-CODE(C$3:C306),C$3:C306),D305)","v":36},"36(400)-528",null,null,null,"400",720,"528",6140.6161571536231,6504.1510421536223,6527.1111401536227,6890.9011373536232,7651.6457177536231,7982.2711289536228]
[null,null,0,{"$f":"IF(C307<>0,LOOKUP(,-CODE(C$3:C307),C$3:C307),D306)","v":36},"36(450)-528",null,null,null,"450",720,"528",6641.8671191826079,7051.1872541826087,7077.0390521826093,7486.6464293826075,8343.2026697826095,8715.4685609826083]
[null,null,0,{"$f":"IF(C308<>0,LOOKUP(,-CODE(C$3:C308),C$3:C308),D307)","v":36},"36(500)-528",null,null,null,"500",720,"528",7143.1180812115945,7598.2234662115943,7626.9669642115941,8082.3917214115945,9034.7596218115959,9448.6659930115948]
[null,null,0,{"$f":"IF(C309<>0,LOOKUP(,-CODE(C$3:C309),C$3:C309),D308)","v":36},"36(550)-528",null,null,null,"550",720,"528",7644.3690432405792,8145.259678240579,8176.8948762405789,8678.1370134405806,9726.3165738405805,10181.863425040579]
[null,null,0,{"$f":"IF(C310<>0,LOOKUP(,-CODE(C$3:C310),C$3:C310),D309)","v":36},"36(600)-528",null,null,null,"600",720,"528",8145.6200052695658,8692.2958902695664,8726.8227882695664,9273.8823054695677,10417.873525869567,10915.060857069566]
[null,null,0,{"$f":"IF(C311<>0,LOOKUP(,-CODE(C$3:C311),C$3:C311),D310)","v":36},"36(650)-528",null,null,null,"650",720,"528",8646.8709672985515,9239.332102298551,9276.7507002985531,9869.6275974985529,11109.430477898552,11648.25828909855]
[null,null,0,{"$f":"IF(C312<>0,LOOKUP(,-CODE(C$3:C312),C$3:C312),D311)","v":36},"36(700)-528",null,null,null,"700",720,"528",9148.1219293275353,9786.3683143275375,9826.6786123275378,10465.372889527536,11800.987429927536,12381.455721127537]
[null,null,0,{"$f":"IF(C313<>0,LOOKUP(,-CODE(C$3:C313),C$3:C313),D312)","v":36},"36(750)-528",null,null,null,"750",720,"528",9649.372891356521,10333.40452635652,10376.606524356521,11061.118181556521,12492.544381956521,13114.653153156522]
[null,null,0,{"$f":"IF(C314<>0,LOOKUP(,-CODE(C$3:C314),C$3:C314),D313)","v":36},"36(800)-528",null,null,null,"800",720,"528",10150.623853385507,10880.440738385505,10926.534436385506,11656.863473585507,13184.101333985505,13847.850585185506]
[null,null,0,{"$f":"IF(C315<>0,LOOKUP(,-CODE(C$3:C315),C$3:C315),D314)","v":36},"36(850)-528",null,null,null,"850",720,"528",10651.874815414492,11427.476950414492,11476.462348414492,12252.608765614492,13875.658286014492,14581.048017214493]
[null,null,0,{"$f":"IF(C316<>0,LOOKUP(,-CODE(C$3:C316),C$3:C316),D315)","v":36},"36(900)-528",null,null,null,"900",720,"528",11153.125777443478,11974.513162443478,12026.390260443479,12848.354057643477,14567.215238043478,15314.245449243477]
[null,"56",37,{"$f":"IF(C317<>0,LOOKUP(,-CODE(C$3:C317),C$3:C317),D316)","v":37},"37(300)-528","Тумба кухонная с двумя леграбоксами, с одним стеклом",null,null,"300",720,"528",8594.7959056289856,8866.7602906289849,8883.936988628986,9156.0922258289847,9725.2134862289859,9972.5579374289846]
[null,null,0,{"$f":"IF(C318<>0,LOOKUP(,-CODE(C$3:C318),C$3:C318),D317)","v":37},"37(350)-528",null,null,null,"350",720,"528",9094.5068676579704,9412.2565026579705,9432.3249006579699,9750.2975178579709,10415.230438257971,10704.21536945797]
[null,null,0,{"$f":"IF(C319<>0,LOOKUP(,-CODE(C$3:C319),C$3:C319),D318)","v":37},"37(400)-528",null,null,null,"400",720,"528",9594.217829686957,9957.7527146869561,9980.7128126869575,10344.502809886957,11105.247390286957,11435.872801486956]
[null,null,0,{"$f":"IF(C320<>0,LOOKUP(,-CODE(C$3:C320),C$3:C320),D319)","v":37},"37(450)-528",null,null,null,"450",720,"528",10093.928791715944,10503.248926715944,10529.100724715943,10938.708101915943,11795.264342315942,12167.530233515941]
[null,null,0,{"$f":"IF(C321<>0,LOOKUP(,-CODE(C$3:C321),C$3:C321),D320)","v":37},"37(500)-528",null,null,null,"500",720,"528",10593.639753744928,11048.745138744929,11077.488636744929,11532.913393944928,12485.281294344928,12899.187665544929]
[null,null,0,{"$f":"IF(C322<>0,LOOKUP(,-CODE(C$3:C322),C$3:C322),D321)","v":37},"37(550)-528",null,null,null,"550",720,"528",11093.350715773913,11594.241350773913,11625.876548773913,12127.118685973914,13175.298246373914,13630.845097573912]
[null,null,0,{"$f":"IF(C323<>0,LOOKUP(,-CODE(C$3:C323),C$3:C323),D322)","v":37},"37(600)-528",null,null,null,"600",720,"528",11593.0616778029,12139.7375628029,12174.2644608029,12721.3239780029,13865.315198402899,14362.5025296029]
[null,null,0,{"$f":"IF(C324<>0,LOOKUP(,-CODE(C$3:C324),C$3:C324),D323)","v":37},"37(650)-528",null,null,null,"650",720,"528",12092.772639831885,12685.233774831884,12722.652372831884,13315.529270031884,14555.332150431883,15094.159961631884]
[null,null,0,{"$f":"IF(C325<>0,LOOKUP(,-CODE(C$3:C325),C$3:C325),D324)","v":37},"37(700)-528",null,null,null,"700",720,"528",12592.483601860869,13230.72998686087,13271.04028486087,13909.734562060868,15245.34910246087,15825.817393660869]
[null,null,0,{"$f":"IF(C326<>0,LOOKUP(,-CODE(C$3:C326),C$3:C326),D325)","v":37},"37(750)-528",null,null,null,"750",720,"528",13092.194563889854,13776.226198889855,13819.428196889856,14503.939854089855,15935.366054489856,16557.474825689857]
[null,null,0,{"$f":"IF(C327<>0,LOOKUP(,-CODE(C$3:C327),C$3:C327),D326)","v":37},"37(800)-528",null,null,null,"800",720,"528",13591.905525918841,14321.722410918839,14367.816108918838,15098.145146118839,16625.383006518841,17289.13225771884]
[null,null,0,{"$f":"IF(C328<>0,LOOKUP(,-CODE(C$3:C328),C$3:C328),D327)","v":37},"37(850)-528",null,null,null,"850",720,"528",14091.616487947827,14867.218622947827,14916.204020947827,15692.350438147827,17315.399958547827,18020.789689747828]
[null,null,0,{"$f":"IF(C329<>0,LOOKUP(,-CODE(C$3:C329),C$3:C329),D328)","v":37},"37(900)-528",null,null,null,"900",720,"528",14591.32744997681,15412.71483497681,15464.591932976811,16286.555730176811,18005.416910576812,18752.447121776811]
[null,null,38,{"$f":"IF(C330<>0,LOOKUP(,-CODE(C$3:C330),C$3:C330),D329)","v":38},"38(300)-528","Тумба кухонная метабоксом(верх), с одним стеклом и леграбоксом",null,null,"300",720,"528",6866.4550693623187,7138.4194543623198,7155.5961523623191,7427.7513895623197,7996.872649962319,8244.2171011623195]
[null,null,0,{"$f":"IF(C331<>0,LOOKUP(,-CODE(C$3:C331),C$3:C331),D330)","v":38},"38(350)-528",null,null,null,"350",720,"528",7366.9360313913048,7684.6856663913049,7704.7540643913044,8022.7266815913044,8687.659601991305,8976.6445331913037]
[null,null,0,{"$f":"IF(C332<>0,LOOKUP(,-CODE(C$3:C332),C$3:C332),D331)","v":38},"38(400)-528",null,null,null,"400",720,"528",7867.4169934202891,8230.9518784202901,8253.9119764202896,8617.7019736202892,9378.4465540202909,9709.0719652202897]
[null,null,0,{"$f":"IF(C333<>0,LOOKUP(,-CODE(C$3:C333),C$3:C333),D332)","v":38},"38(450)-528",null,null,null,"450",720,"528",8367.8979554492744,8777.2180904492761,8803.0698884492758,9212.677265649274,10069.233506049275,10441.499397249276]
[null,null,0,{"$f":"IF(C334<>0,LOOKUP(,-CODE(C$3:C334),C$3:C334),D333)","v":38},"38(500)-528",null,null,null,"500",720,"528",8868.3789174782614,9323.4843024782604,9352.2278004782602,9807.6525576782624,10760.020458078263,11173.926829278262]
[null,null,0,{"$f":"IF(C335<>0,LOOKUP(,-CODE(C$3:C335),C$3:C335),D334)","v":38},"38(550)-528",null,null,null,"550",720,"528",9368.8598795072448,9869.7505145072446,9901.3857125072464,10402.627849707247,11450.807410107247,11906.354261307246]
[null,null,0,{"$f":"IF(C336<>0,LOOKUP(,-CODE(C$3:C336),C$3:C336),D335)","v":38},"38(600)-528",null,null,null,"600",720,"528",9869.3408415362319,10416.016726536232,10450.543624536233,10997.603141736232,12141.594362136233,12638.781693336234]
[null,null,0,{"$f":"IF(C337<>0,LOOKUP(,-CODE(C$3:C337),C$3:C337),D336)","v":38},"38(650)-528",null,null,null,"650",720,"528",10369.821803565219,10962.282938565217,10999.701536565217,11592.578433765217,12832.381314165217,13371.209125365216]
[null,null,0,{"$f":"IF(C338<>0,LOOKUP(,-CODE(C$3:C338),C$3:C338),D337)","v":38},"38(700)-528",null,null,null,"700",720,"528",10870.302765594202,11508.549150594203,11548.859448594203,12187.553725794201,13523.168266194203,14103.636557394202]
[null,null,0,{"$f":"IF(C339<>0,LOOKUP(,-CODE(C$3:C339),C$3:C339),D338)","v":38},"38(750)-528",null,null,null,"750",720,"528",11370.783727623188,12054.815362623187,12098.017360623187,12782.529017823188,14213.955218223187,14836.063989423188]
[null,null,0,{"$f":"IF(C340<>0,LOOKUP(,-CODE(C$3:C340),C$3:C340),D339)","v":38},"38(800)-528",null,null,null,"800",720,"528",11871.264689652173,12601.081574652171,12647.175272652172,13377.504309852173,14904.742170252171,15568.491421452172]
[null,null,0,{"$f":"IF(C341<>0,LOOKUP(,-CODE(C$3:C341),C$3:C341),D340)","v":38},"38(850)-528",null,null,null,"850",720,"528",12371.74565168116,13147.347786681159,13196.33318468116,13972.479601881161,15595.529122281161,16300.918853481162]
[null,null,0,{"$f":"IF(C342<>0,LOOKUP(,-CODE(C$3:C342),C$3:C342),D341)","v":38},"38(900)-528",null,null,null,"900",720,"528",12872.226613710145,13693.613998710143,13745.491096710144,14567.454893910144,16286.316074310145,17033.346285510146]
[null,null,39,{"$f":"IF(C343<>0,LOOKUP(,-CODE(C$3:C343),C$3:C343),D342)","v":39},"39(300)-528","Тумба кухонная леграбоксом(верх), с одним стеклом и метабоксом",null,null,"300",720,"528",6866.4550693623187,7138.4194543623198,7155.5961523623191,7427.7513895623197,7996.872649962319,8244.2171011623195]
[null,null,0,{"$f":"IF(C344<>0,LOOKUP(,-CODE(C$3:C344),C$3:C344),D343)","v":39},"39(350)-528",null,null,null,"350",720,"528",7366.9360313913048,7684.6856663913049,7704.7540643913044,8022.7266815913044,8687.659601991305,8976.6445331913037]
[null,null,0,{"$f":"IF(C345<>0,LOOKUP(,-CODE(C$3:C345),C$3:C345),D344)","v":39},"39(400)-528",null,null,null,"400",720,"528",7867.4169934202891,8230.9518784202901,8253.9119764202896,8617.7019736202892,9378.4465540202909,9709.0719652202897]
[null,null,0,{"$f":"IF(C346<>0,LOOKUP(,-CODE(C$3:C346),C$3:C346),D345)","v":39},"39(450)-528",null,null,null,"450",720,"528",8367.8979554492744,8777.2180904492761,8803.0698884492758,9212.677265649274,10069.233506049275,10441.499397249276]
[null,null,0,{"$f":"IF(C347<>0,LOOKUP(,-CODE(C$3:C347),C$3:C347),D346)","v":39},"39(500)-528",null,null,null,"500",720,"528",8868.3789174782614,9323.4843024782604,9352.2278004782602,9807.6525576782624,10760.020458078263,11173.926829278262]
[null,null,0,{"$f":"IF(C348<>0,LOOKUP(,-CODE(C$3:C348),C$3:C348),D347)","v":39},"39(550)-528",null,null,null,"550",720,"528",9368.8598795072448,9869.7505145072446,9901.3857125072464,10402.627849707247,11450.807410107247,11906.354261307246]
[null,null,0,{"$f":"IF(C349<>0,LOOKUP(,-CODE(C$3:C349),C$3:C349),D348)","v":39},"39(600)-528",null,null,null,"600",720,"528",9869.3408415362319,10416.016726536232,10450.543624536233,10997.603141736232,12141.594362136233,12638.781693336234]
[null,null,0,{"$f":"IF(C350<>0,LOOKUP(,-CODE(C$3:C350),C$3:C350),D349)","v":39},"39(650)-528",null,null,null,"650",720,"528",10369.821803565219,10962.282938565217,10999.701536565217,11592.578433765217,12832.381314165217,13371.209125365216]
[null,null,0,{"$f":"IF(C351<>0,LOOKUP(,-CODE(C$3:C351),C$3:C351),D350)","v":39},"39(700)-528",null,null,null,"700",720,"528",10870.302765594202,11508.549150594203,11548.859448594203,12187.553725794201,13523.168266194203,14103.636557394202]
[null,null,0,{"$f":"IF(C352<>0,LOOKUP(,-CODE(C$3:C352),C$3:C352),D351)","v":39},"39(750)-528",null,null,null,"750",720,"528",11370.783727623188,12054.815362623187,12098.017360623187,12782.529017823188,14213.955218223187,14836.063989423188]
[null,null,0,{"$f":"IF(C353<>0,LOOKUP(,-CODE(C$3:C353),C$3:C353),D352)","v":39},"39(800)-528",null,null,null,"800",720,"528",11871.264689652173,12601.081574652171,12647.175272652172,13377.504309852173,14904.742170252171,15568.491421452172]
[null,null,0,{"$f":"IF(C354<>0,LOOKUP(,-CODE(C$3:C354),C$3:C354),D353)","v":39},"39(850)-528",null,null,null,"850",720,"528",12371.74565168116,13147.347786681159,13196.33318468116,13972.479601881161,15595.529122281161,16300.918853481162]
[null,null,0,{"$f":"IF(C355<>0,LOOKUP(,-CODE(C$3:C355),C$3:C355),D354)","v":39},"39(900)-528",null,null,null,"900",720,"528",12872.226613710145,13693.613998710143,13745.491096710144,14567.454893910144,16286.316074310145,17033.346285510146]
[null,"61",40,{"$f":"IF(C356<>0,LOOKUP(,-CODE(C$3:C356),C$3:C356),D355)","v":40},"40(300)-528","Тумба кухонная с двумя метабоксами, со стеклом",null,null,"300",720,"528",5096.2673470956515,5368.4225842956521,5369.1859930956516,5641.3412302956522,6161.6043274956519,6408.9487786956515]
[null,null,0,{"$f":"IF(C357<>0,LOOKUP(,-CODE(C$3:C357),C$3:C357),D356)","v":40},"40(350)-528",null,null,null,"350",720,"528",5596.3864091246369,5914.3590263246379,5915.2509551246376,6233.2235723246367,6841.073049524638,7130.0579807246377]
[null,null,0,{"$f":"IF(C358<>0,LOOKUP(,-CODE(C$3:C358),C$3:C358),D357)","v":40},"40(400)-528",null,null,null,"400",720,"528",6096.5054711536231,6460.2954683536227,6461.3159171536236,6825.1059143536231,7520.5417715536232,7851.1671827536238]
[null,null,0,{"$f":"IF(C359<>0,LOOKUP(,-CODE(C$3:C359),C$3:C359),D358)","v":40},"40(450)-528",null,null,null,"450",720,"528",6596.6245331826085,7006.2319103826094,7007.3808791826095,7416.9882563826077,8200.0104935826075,8572.2763847826081]
[null,null,0,{"$f":"IF(C360<>0,LOOKUP(,-CODE(C$3:C360),C$3:C360),D359)","v":40},"40(500)-528",null,null,null,"500",720,"528",7096.7435952115948,7552.1683524115952,7553.4458412115937,8008.8705984115941,8879.4792156115927,9293.3855868115934]
[null,null,0,{"$f":"IF(C361<>0,LOOKUP(,-CODE(C$3:C361),C$3:C361),D360)","v":40},"40(550)-528",null,null,null,"550",720,"528",7596.8626572405801,8098.1047944405791,8099.5108032405797,8600.7529404405796,9558.9479376405779,10014.494788840579]
[null,null,0,{"$f":"IF(C362<>0,LOOKUP(,-CODE(C$3:C362),C$3:C362),D361)","v":40},"40(600)-528",null,null,null,"600",720,"528",8096.9817192695655,8644.041236469564,8645.5757652695647,9192.6352824695659,10238.416659669565,10735.603990869566]
[null,null,0,{"$f":"IF(C363<>0,LOOKUP(,-CODE(C$3:C363),C$3:C363),D362)","v":40},"40(650)-528",null,null,null,"650",720,"528",8597.1007812985499,9189.9776784985497,9191.6407272985507,9784.5176244985505,10917.885381698548,11456.713192898549]
[null,null,0,{"$f":"IF(C364<>0,LOOKUP(,-CODE(C$3:C364),C$3:C364),D363)","v":40},"40(700)-528",null,null,null,"700",720,"528",9097.2198433275353,9735.9141205275355,9737.7056893275349,10376.399966527535,11597.354103727535,12177.822394927536]
[null,null,0,{"$f":"IF(C365<>0,LOOKUP(,-CODE(C$3:C365),C$3:C365),D364)","v":40},"40(750)-528",null,null,null,"750",720,"528",9597.3389053565224,10281.850562556521,10283.770651356523,10968.282308556523,12276.822825756522,12898.931596956523]
[null,null,0,{"$f":"IF(C366<>0,LOOKUP(,-CODE(C$3:C366),C$3:C366),D365)","v":40},"40(800)-528",null,null,null,"800",720,"528",10097.457967385506,10827.787004585507,10829.835613385507,11560.164650585506,12956.291547785508,13620.040798985507]
[null,null,0,{"$f":"IF(C367<>0,LOOKUP(,-CODE(C$3:C367),C$3:C367),D366)","v":40},"40(850)-528",null,null,null,"850",720,"528",10597.577029414493,11373.723446614493,11375.900575414493,12152.046992614492,13635.760269814493,14341.150001014494]
[null,null,0,{"$f":"IF(C368<>0,LOOKUP(,-CODE(C$3:C368),C$3:C368),D367)","v":40},"40(900)-528",null,null,null,"900",720,"528",11097.69609144348,11919.659888643479,11921.965537443479,12743.929334643481,14315.228991843478,15062.259203043481]
[null,"62",41,{"$f":"IF(C369<>0,LOOKUP(,-CODE(C$3:C369),C$3:C369),D368)","v":41},"41(300)-528","Тумба кухонная с двумя леграбоксами, со стеклом",null,null,"300",720,"528",8552.9490196289844,8825.1042568289849,8825.8676656289863,9098.022902828985,9618.2860000289857,9865.6304512289862]
[null,null,0,{"$f":"IF(C370<>0,LOOKUP(,-CODE(C$3:C370),C$3:C370),D369)","v":41},"41(350)-528",null,null,null,"350",720,"528",9051.5280816579707,9369.5006988579717,9370.3926276579714,9688.3652448579705,10296.214722057972,10585.199653257972]
[null,null,0,{"$f":"IF(C371<>0,LOOKUP(,-CODE(C$3:C371),C$3:C371),D370)","v":41},"41(400)-528",null,null,null,"400",720,"528",9550.107143686957,9913.8971408869565,9914.9175896869565,10278.707586886956,10974.143444086956,11304.768855286957]
[null,null,0,{"$f":"IF(C372<>0,LOOKUP(,-CODE(C$3:C372),C$3:C372),D371)","v":41},"41(450)-528",null,null,null,"450",720,"528",10048.686205715941,10458.293582915941,10459.442551715942,10869.04992891594,11652.07216611594,12024.338057315941]
[null,null,0,{"$f":"IF(C373<>0,LOOKUP(,-CODE(C$3:C373),C$3:C373),D372)","v":41},"41(500)-528",null,null,null,"500",720,"528",10547.265267744928,11002.690024944928,11003.967513744929,11459.392270944927,12330.000888144927,12743.907259344929]
[null,null,0,{"$f":"IF(C374<>0,LOOKUP(,-CODE(C$3:C374),C$3:C374),D373)","v":41},"41(550)-528",null,null,null,"550",720,"528",11045.844329773912,11547.086466973913,11548.492475773914,12049.734612973914,13007.929610173913,13463.476461373912]
[null,null,0,{"$f":"IF(C375<>0,LOOKUP(,-CODE(C$3:C375),C$3:C375),D374)","v":41},"41(600)-528",null,null,null,"600",720,"528",11544.4233918029,12091.4829090029,12093.017437802899,12640.076955002898,13685.858332202899,14183.045663402898]
[null,null,0,{"$f":"IF(C376<>0,LOOKUP(,-CODE(C$3:C376),C$3:C376),D375)","v":41},"41(650)-528",null,null,null,"650",720,"528",12043.002453831885,12635.879351031885,12637.542399831884,13230.419297031884,14363.787054231883,14902.614865431884]
[null,null,0,{"$f":"IF(C377<>0,LOOKUP(,-CODE(C$3:C377),C$3:C377),D376)","v":41},"41(700)-528",null,null,null,"700",720,"528",12541.581515860869,13180.27579306087,13182.067361860869,13820.761639060869,15041.715776260869,15622.18406746087]
[null,null,0,{"$f":"IF(C378<>0,LOOKUP(,-CODE(C$3:C378),C$3:C378),D377)","v":41},"41(750)-528",null,null,null,"750",720,"528",13040.160577889856,13724.672235089854,13726.592323889856,14411.103981089856,15719.644498289856,16341.753269489856]
[null,null,0,{"$f":"IF(C379<>0,LOOKUP(,-CODE(C$3:C379),C$3:C379),D378)","v":41},"41(800)-528",null,null,null,"800",720,"528",13538.73963991884,14269.068677118839,14271.117285918839,15001.44632311884,16397.573220318838,17061.322471518837]
[null,null,0,{"$f":"IF(C380<>0,LOOKUP(,-CODE(C$3:C380),C$3:C380),D379)","v":41},"41(850)-528",null,null,null,"850",720,"528",14037.318701947826,14813.465119147828,14815.642247947826,15591.788665147827,17075.501942347822,17780.891673547827]
[null,null,0,{"$f":"IF(C381<>0,LOOKUP(,-CODE(C$3:C381),C$3:C381),D380)","v":41},"41(900)-528",null,null,null,"900",720,"528",14535.897763976811,15357.861561176811,15360.167209976811,16182.131007176811,17753.43066437681,18500.460875576809]
[null,null,42,{"$f":"IF(C382<>0,LOOKUP(,-CODE(C$3:C382),C$3:C382),D381)","v":42},"42(300)-528","Тумба кухонная метабоксом(верх), и леграбоксом, со стеклом",null,null,"300",720,"528",6824.6081833623184,7096.763420562319,7097.5268293623185,7369.6820665623191,7889.9451637623188,8137.2896149623184]
[null,null,0,{"$f":"IF(C383<>0,LOOKUP(,-CODE(C$3:C383),C$3:C383),D382)","v":42},"42(350)-528",null,null,null,"350",720,"528",7323.9572453913033,7641.9298625913043,7642.821791391304,7960.7944085913032,8568.6438857913054,8857.6288169913059]
[null,null,0,{"$f":"IF(C384<>0,LOOKUP(,-CODE(C$3:C384),C$3:C384),D383)","v":42},"42(400)-528",null,null,null,"400",720,"528",7823.3063074202901,8187.0963046202896,8188.1167534202896,8551.90675062029,9247.3426078202901,9577.9680190202907]
[null,null,0,{"$f":"IF(C385<>0,LOOKUP(,-CODE(C$3:C385),C$3:C385),D384)","v":42},"42(450)-528",null,null,null,"450",720,"528",8322.6553694492741,8732.2627466492759,8733.411715449276,9143.0190926492742,9926.0413298492731,10298.307221049274]
[null,null,0,{"$f":"IF(C386<>0,LOOKUP(,-CODE(C$3:C386),C$3:C386),D385)","v":42},"42(500)-528",null,null,null,"500",720,"528",8822.0044314782608,9277.4291886782612,9278.7066774782597,9734.1314346782619,10604.740051878262,11018.64642307826]
[null,null,0,{"$f":"IF(C387<>0,LOOKUP(,-CODE(C$3:C387),C$3:C387),D386)","v":42},"42(550)-528",null,null,null,"550",720,"528",9321.3534935072475,9822.5956307072465,9824.0016395072471,10325.243776707246,11283.438773907246,11738.985625107247]
[null,null,0,{"$f":"IF(C388<>0,LOOKUP(,-CODE(C$3:C388),C$3:C388),D387)","v":42},"42(600)-528",null,null,null,"600",720,"528",9820.7025555362325,10367.762072736232,10369.296601536231,10916.356118736232,11962.137495936231,12459.324827136232]
[null,null,0,{"$f":"IF(C389<>0,LOOKUP(,-CODE(C$3:C389),C$3:C389),D388)","v":42},"42(650)-528",null,null,null,"650",720,"528",10320.051617565217,10912.928514765217,10914.591563565218,11507.468460765218,12640.836217965216,13179.664029165217]
[null,null,0,{"$f":"IF(C390<>0,LOOKUP(,-CODE(C$3:C390),C$3:C390),D389)","v":42},"42(700)-528",null,null,null,"700",720,"528",10819.400679594202,11458.094956794203,11459.886525594202,12098.580802794202,13319.534939994202,13900.003231194203]
[null,null,0,{"$f":"IF(C391<>0,LOOKUP(,-CODE(C$3:C391),C$3:C391),D390)","v":42},"42(750)-528",null,null,null,"750",720,"528",11318.749741623189,12003.261398823188,12005.181487623189,12689.69314482319,13998.233662023189,14620.34243322319]
[null,null,0,{"$f":"IF(C392<>0,LOOKUP(,-CODE(C$3:C392),C$3:C392),D391)","v":42},"42(800)-528",null,null,null,"800",720,"528",11818.098803652172,12548.427840852173,12550.476449652173,13280.805486852172,14676.932384052174,15340.681635252173]
[null,null,0,{"$f":"IF(C393<>0,LOOKUP(,-CODE(C$3:C393),C$3:C393),D392)","v":42},"42(850)-528",null,null,null,"850",720,"528",12317.447865681161,13093.59428288116,13095.77141168116,13871.91782888116,15355.631106081159,16061.020837281159]
[null,null,0,{"$f":"IF(C394<>0,LOOKUP(,-CODE(C$3:C394),C$3:C394),D393)","v":42},"42(900)-528",null,null,null,"900",720,"528",12816.796927710146,13638.760724910144,13641.066373710144,14463.030170910146,16034.329828110143,16781.360039310144]
[null,null,43,{"$f":"IF(C395<>0,LOOKUP(,-CODE(C$3:C395),C$3:C395),D394)","v":43},"43(300)-528","Тумба кухонная леграбоксом(верх), и метабоксом, со стеклом",null,null,"300",720,"528",6824.6081833623184,7096.763420562319,7097.5268293623185,7369.6820665623191,7889.9451637623188,8137.2896149623184]
[null,null,0,{"$f":"IF(C396<>0,LOOKUP(,-CODE(C$3:C396),C$3:C396),D395)","v":43},"43(350)-528",null,null,null,"350",720,"528",7323.9572453913033,7641.9298625913043,7642.821791391304,7960.7944085913032,8568.6438857913054,8857.6288169913059]
[null,null,0,{"$f":"IF(C397<>0,LOOKUP(,-CODE(C$3:C397),C$3:C397),D396)","v":43},"43(400)-528",null,null,null,"400",720,"528",7823.3063074202901,8187.0963046202896,8188.1167534202896,8551.90675062029,9247.3426078202901,9577.9680190202907]
[null,null,0,{"$f":"IF(C398<>0,LOOKUP(,-CODE(C$3:C398),C$3:C398),D397)","v":43},"43(450)-528",null,null,null,"450",720,"528",8322.6553694492741,8732.2627466492759,8733.411715449276,9143.0190926492742,9926.0413298492731,10298.307221049274]
[null,null,0,{"$f":"IF(C399<>0,LOOKUP(,-CODE(C$3:C399),C$3:C399),D398)","v":43},"43(500)-528",null,null,null,"500",720,"528",8822.0044314782608,9277.4291886782612,9278.7066774782597,9734.1314346782619,10604.740051878262,11018.64642307826]
[null,null,0,{"$f":"IF(C400<>0,LOOKUP(,-CODE(C$3:C400),C$3:C400),D399)","v":43},"43(550)-528",null,null,null,"550",720,"528",9321.3534935072475,9822.5956307072465,9824.0016395072471,10325.243776707246,11283.438773907246,11738.985625107247]
[null,null,0,{"$f":"IF(C401<>0,LOOKUP(,-CODE(C$3:C401),C$3:C401),D400)","v":43},"43(600)-528",null,null,null,"600",720,"528",9820.7025555362325,10367.762072736232,10369.296601536231,10916.356118736232,11962.137495936231,12459.324827136232]
[null,null,0,{"$f":"IF(C402<>0,LOOKUP(,-CODE(C$3:C402),C$3:C402),D401)","v":43},"43(650)-528",null,null,null,"650",720,"528",10320.051617565217,10912.928514765217,10914.591563565218,11507.468460765218,12640.836217965216,13179.664029165217]
[null,null,0,{"$f":"IF(C403<>0,LOOKUP(,-CODE(C$3:C403),C$3:C403),D402)","v":43},"43(700)-528",null,null,null,"700",720,"528",10819.400679594202,11458.094956794203,11459.886525594202,12098.580802794202,13319.534939994202,13900.003231194203]
[null,null,0,{"$f":"IF(C404<>0,LOOKUP(,-CODE(C$3:C404),C$3:C404),D403)","v":43},"43(750)-528",null,null,null,"750",720,"528",11318.749741623189,12003.261398823188,12005.181487623189,12689.69314482319,13998.233662023189,14620.34243322319]
[null,null,0,{"$f":"IF(C405<>0,LOOKUP(,-CODE(C$3:C405),C$3:C405),D404)","v":43},"43(800)-528",null,null,null,"800",720,"528",11818.098803652172,12548.427840852173,12550.476449652173,13280.805486852172,14676.932384052174,15340.681635252173]
[null,null,0,{"$f":"IF(C406<>0,LOOKUP(,-CODE(C$3:C406),C$3:C406),D405)","v":43},"43(850)-528",null,null,null,"850",720,"528",12317.447865681161,13093.59428288116,13095.77141168116,13871.91782888116,15355.631106081159,16061.020837281159]
[null,null,0,{"$f":"IF(C407<>0,LOOKUP(,-CODE(C$3:C407),C$3:C407),D406)","v":43},"43(900)-528",null,null,null,"900",720,"528",12816.796927710146,13638.760724910144,13641.066373710144,14463.030170910146,16034.329828110143,16781.360039310144]
[null,"65",44,{"$f":"IF(C408<>0,LOOKUP(,-CODE(C$3:C408),C$3:C408),D407)","v":44},"44(800)-528","Тумба кухонная угловая-трапеция",null,null,"800",720,800,5523.5533726028989,5798.3066254028981,5832.2648926028978,6107.4040348028975,6732.1589734028985,6982.215304602898]
[null,null,0,{"$f":"IF(C409<>0,LOOKUP(,-CODE(C$3:C409),C$3:C409),D408)","v":44},"44(900)-528",null,null,null,"900",720,900,7070.4685044521739,7475.7065796521747,7525.7921844521734,7931.599414252174,8853.0607116521733,9221.8728924521747]
[null,null,0,{"$f":"IF(C410<>0,LOOKUP(,-CODE(C$3:C410),C$3:C410),D409)","v":44},"44(1000)-528",null,null,null,"1000",720,1000,8651.1130184347821,9185.9170088347819,9252.0163784347824,9787.5714980347821,11003.649672834783,11490.381394434784]
[null,"66",45,{"$f":"IF(C411<>0,LOOKUP(,-CODE(C$3:C411),C$3:C411),D410)","v":45},"45(900)-528","Тумба кухоннаяугловая-радиус",null,null,900,720,900,15392.624348707248,15392.624348707248,15392.624348707248,15392.624348707248,15392.624348707248,15392.624348707248]
[null,"67",46,{"$f":"IF(C412<>0,LOOKUP(,-CODE(C$3:C412),C$3:C412),D411)","v":46},"46(900-100)-528","Тумба кухонная-угловая однодверная (левая) фальш-планка L - 100/150 мм, полка ЛДСП",null,null,"900",720,"528",6085.3161427188406,6450.506781118841,6495.6427027188402,6861.3462493188408,7691.7446251188412,8024.1091387188417]
[null,null,0,{"$f":"IF(C413<>0,LOOKUP(,-CODE(C$3:C413),C$3:C413),D412)","v":46},"46(950-100)-528",null,null,null,"950",720,"528",6552.5031247478255,6963.6391231478265,7014.4536847478266,7426.1671213478257,8361.0395671478254,8735.2195207478271]
[null,null,0,{"$f":"IF(C414<>0,LOOKUP(,-CODE(C$3:C414),C$3:C414),D413)","v":46},"46(1000-100)-528",null,null,null,"1000",720,"528",7019.6901067768122,7476.771465176811,7533.2646667768113,7990.9879933768116,9030.3345091768115,9446.3299027768117]
[null,null,0,{"$f":"IF(C415<>0,LOOKUP(,-CODE(C$3:C415),C$3:C415),D414)","v":46},"46(1050-100)-528",null,null,null,"1050",720,"528",7486.877088805797,7989.9038072057974,8052.0756488057978,8555.8088654057974,9699.6294512057975,10157.440284805798]
[null,null,0,{"$f":"IF(C416<>0,LOOKUP(,-CODE(C$3:C416),C$3:C416),D415)","v":46},"46(1100-100)-528",null,null,null,"1100",720,"528",7954.0640708347819,8503.036149234782,8570.8866308347824,9120.6297374347814,10368.924393234782,10868.550666834783]
[null,null,0,{"$f":"IF(C417<>0,LOOKUP(,-CODE(C$3:C417),C$3:C417),D416)","v":46},"46(900-150)-528",null,null,null,"900",720,"528",6141.0977293855076,6506.4806077855083,6551.6402893855075,6917.536345985508,7748.3718517855077,8080.9113253855076]
[null,null,0,{"$f":"IF(C418<>0,LOOKUP(,-CODE(C$3:C418),C$3:C418),D417)","v":46},"46(950-150)-528",null,null,null,"950",720,"528",6608.2847114144934,7019.6129498144928,7070.451271414493,7482.3572180144929,8417.6667938144928,8792.021707414493]
[null,null,0,{"$f":"IF(C419<>0,LOOKUP(,-CODE(C$3:C419),C$3:C419),D418)","v":46},"46(1000-150)-528",null,null,null,"1000",720,"528",7075.4716934434782,7532.7452918434792,7589.2622534434795,8047.1780900434787,9086.9617358434789,9503.1320894434793]
[null,null,0,{"$f":"IF(C420<>0,LOOKUP(,-CODE(C$3:C420),C$3:C420),D419)","v":46},"46(1050-150)-528",null,null,null,"1050",720,"528",7542.6586754724649,8045.8776338724638,8108.0732354724641,8611.9989620724646,9756.2566778724649,10214.242471472464]
[null,null,0,{"$f":"IF(C421<>0,LOOKUP(,-CODE(C$3:C421),C$3:C421),D420)","v":46},"46(1100-150)-528",null,null,null,"1100",720,"528",8009.8456575014498,8559.0099759014483,8626.8842175014506,9176.8198341014504,10425.551619901449,10925.35285350145]
[null,"68",47,{"$f":"IF(C422<>0,LOOKUP(,-CODE(C$3:C422),C$3:C422),D421)","v":47},"47(900-100)-528","Тумба кухонная-угловая однодверная (правая) фальш-планка L - 100/150 мм, полка ЛДСП",null,null,"900",720,"528",6085.3161427188406,6450.506781118841,6495.6427027188402,6861.3462493188408,7691.7446251188412,8024.1091387188417]
[null,null,0,{"$f":"IF(C423<>0,LOOKUP(,-CODE(C$3:C423),C$3:C423),D422)","v":47},"47(950-100)-528",null,null,null,"950",720,"528",6552.5031247478255,6963.6391231478265,7014.4536847478266,7426.1671213478257,8361.0395671478254,8735.2195207478271]
[null,null,0,{"$f":"IF(C424<>0,LOOKUP(,-CODE(C$3:C424),C$3:C424),D423)","v":47},"47(1000-100)-528",null,null,null,"1000",720,"528",7019.6901067768122,7476.771465176811,7533.2646667768113,7990.9879933768116,9030.3345091768115,9446.3299027768117]
[null,null,0,{"$f":"IF(C425<>0,LOOKUP(,-CODE(C$3:C425),C$3:C425),D424)","v":47},"47(1050-100)-528",null,null,null,"1050",720,"528",7486.877088805797,7989.9038072057974,8052.0756488057978,8555.8088654057974,9699.6294512057975,10157.440284805798]
[null,null,0,{"$f":"IF(C426<>0,LOOKUP(,-CODE(C$3:C426),C$3:C426),D425)","v":47},"47(1100-100)-528",null,null,null,"1100",720,"528",7954.0640708347819,8503.036149234782,8570.8866308347824,9120.6297374347814,10368.924393234782,10868.550666834783]
[null,null,0,{"$f":"IF(C427<>0,LOOKUP(,-CODE(C$3:C427),C$3:C427),D426)","v":47},"47(900-150)-528",null,null,null,"900",720,"528",6141.0977293855076,6506.4806077855083,6551.6402893855075,6917.536345985508,7748.3718517855077,8080.9113253855076]
[null,null,0,{"$f":"IF(C428<>0,LOOKUP(,-CODE(C$3:C428),C$3:C428),D427)","v":47},"47(950-150)-528",null,null,null,"950",720,"528",6608.2847114144934,7019.6129498144928,7070.451271414493,7482.3572180144929,8417.6667938144928,8792.021707414493]
[null,null,0,{"$f":"IF(C429<>0,LOOKUP(,-CODE(C$3:C429),C$3:C429),D428)","v":47},"47(1000-150)-528",null,null,null,"1000",720,"528",7075.4716934434782,7532.7452918434792,7589.2622534434795,8047.1780900434787,9086.9617358434789,9503.1320894434793]
[null,null,0,{"$f":"IF(C430<>0,LOOKUP(,-CODE(C$3:C430),C$3:C430),D429)","v":47},"47(1050-150)-528",null,null,null,"1050",720,"528",7542.6586754724649,8045.8776338724638,8108.0732354724641,8611.9989620724646,9756.2566778724649,10214.242471472464]
[null,null,0,{"$f":"IF(C431<>0,LOOKUP(,-CODE(C$3:C431),C$3:C431),D430)","v":47},"47(1100-150)-528",null,null,null,"1100",720,"528",8009.8456575014498,8559.0099759014483,8626.8842175014506,9176.8198341014504,10425.551619901449,10925.35285350145]
[null,"69",48,{"$f":"IF(C432<>0,LOOKUP(,-CODE(C$3:C432),C$3:C432),D431)","v":48},"48(1200-100)-528","Тумба кухонная-угловая двухдверная (левая) фальш-планка L - 100/150 мм, полка ЛДСП",null,null,"1200",720,"528",9232.9570348927518,9873.8198332927532,9953.0275948927519,10594.790481492753,12052.033277292754,12635.290430892754]
[null,null,0,{"$f":"IF(C433<>0,LOOKUP(,-CODE(C$3:C433),C$3:C433),D432)","v":48},"48(1300-100)-528",null,null,null,"1300",720,"528",10167.330998950723,10900.084517350724,10990.649558950723,11724.432225550723,13390.623161350724,14057.511194950725]
[null,null,0,{"$f":"IF(C434<>0,LOOKUP(,-CODE(C$3:C434),C$3:C434),D433)","v":48},"48(1400-100)-528",null,null,null,"1400",720,"528",11101.704963008697,11926.349201408699,12028.271523008694,12854.073969608697,14729.213045408698,15479.731959008695]
[null,null,0,{"$f":"IF(C435<>0,LOOKUP(,-CODE(C$3:C435),C$3:C435),D434)","v":48},"48(1200-150)-528",null,null,null,"1200",720,"528",9288.7386215594197,9929.7936599594195,10009.02518155942,10650.980578159419,12108.66050395942,12692.09261755942]
[null,null,0,{"$f":"IF(C436<>0,LOOKUP(,-CODE(C$3:C436),C$3:C436),D435)","v":48},"48(1300-150)-528",null,null,null,"1300",720,"528",10223.112585617393,10956.058344017392,11046.647145617393,11780.622322217392,13447.250388017394,14114.313381617392]
[null,null,0,{"$f":"IF(C437<>0,LOOKUP(,-CODE(C$3:C437),C$3:C437),D436)","v":48},"48(1400-150)-528",null,null,null,"1400",720,"528",11157.486549675363,11982.323028075363,12084.269109675362,12910.264066275362,14785.840272075364,15536.534145675363]
[null,"69",49,{"$f":"IF(C438<>0,LOOKUP(,-CODE(C$3:C438),C$3:C438),D437)","v":49},"49(1200-100)-528","Тумба кухонная-угловая двухдверная (правая) фальш-планкаL - 100/150 мм, полка ЛДСП",null,null,"1200",720,"528",9232.9570348927518,9873.8198332927532,9953.0275948927519,10594.790481492753,12052.033277292754,12635.290430892754]
[null,null,0,{"$f":"IF(C439<>0,LOOKUP(,-CODE(C$3:C439),C$3:C439),D438)","v":49},"49(1300-100)-528",null,null,null,"1300",720,"528",10167.330998950723,10900.084517350724,10990.649558950723,11724.432225550723,13390.623161350724,14057.511194950725]
[null,null,0,{"$f":"IF(C440<>0,LOOKUP(,-CODE(C$3:C440),C$3:C440),D439)","v":49},"49(1400-100)-528",null,null,null,"1400",720,"528",11101.704963008697,11926.349201408699,12028.271523008694,12854.073969608697,14729.213045408698,15479.731959008695]
[null,null,0,{"$f":"IF(C441<>0,LOOKUP(,-CODE(C$3:C441),C$3:C441),D440)","v":49},"49(1200-150)-528",null,null,null,"1200",720,"528",9288.7386215594197,9929.7936599594195,10009.02518155942,10650.980578159419,12108.66050395942,12692.09261755942]
[null,null,0,{"$f":"IF(C442<>0,LOOKUP(,-CODE(C$3:C442),C$3:C442),D441)","v":49},"49(1300-150)-528",null,null,null,"1300",720,"528",10223.112585617393,10956.058344017392,11046.647145617393,11780.622322217392,13447.250388017394,14114.313381617392]
[null,null,0,{"$f":"IF(C443<>0,LOOKUP(,-CODE(C$3:C443),C$3:C443),D442)","v":49},"49(1400-150)-528",null,null,null,"1400",720,"528",11157.486549675363,11982.323028075363,12084.269109675362,12910.264066275362,14785.840272075364,15536.534145675363]
[null,"70",50,{"$f":"IF(C444<>0,LOOKUP(,-CODE(C$3:C444),C$3:C444),D443)","v":50},"50(500)-528","Тумба кухонная однодверная под накладную мойку",null,null,"500",720,"528",5484.5994077333335,5941.2962861333344,5997.7419677333346,6455.0802743333334,7493.5525301333346,7909.1980037333342]
[null,null,0,{"$f":"IF(C445<>0,LOOKUP(,-CODE(C$3:C445),C$3:C445),D444)","v":50},"50(600)-528",null,null,null,"600",720,"528",6364.3391677333339,6912.9267661333333,6980.7297277333337,7530.0878143333339,8777.5082101333337,9276.7845637333339]
[null,"71/1",51,{"$f":"IF(C446<>0,LOOKUP(,-CODE(C$3:C446),C$3:C446),D445)","v":51},"51-180(500)-528","Тумба кухонная однодверная под накладную мойку с фальш-панелью, Н - 180 мм ",null,null,"500",720,"528",5467.4767637333334,5922.2627765333327,5978.4722837333338,6433.8970409333342,7468.0242245333338,7881.9305957333345]
[null,null,0,{"$f":"IF(C447<>0,LOOKUP(,-CODE(C$3:C447),C$3:C447),D446)","v":51},"51-180(600)-528",null,null,null,"600",720,"528",6343.7713237333337,6890.0635765333336,6957.5828437333339,7504.6423609333342,8746.8434245333337,9244.0307557333326]
[null,"74",52,{"$f":"IF(C448<>0,LOOKUP(,-CODE(C$3:C448),C$3:C448),D447)","v":52},"52(500)-528","Тумба кухонная двухдверная под накладную мойку ",null,null,"500",720,"528",5804.4163237333341,6258.3564805333335,6314.4614437333348,6769.0391569333333,7801.2429685333336,8214.3795157333334]
[null,null,0,{"$f":"IF(C449<>0,LOOKUP(,-CODE(C$3:C449),C$3:C449),D448)","v":52},"52(600)-528",null,null,null,"600",720,"528",6684.1560837333327,7229.9869605333333,7297.449203733333,7844.0466969333338,9085.1986485333327,9581.9660757333331]
[null,null,0,{"$f":"IF(C450<>0,LOOKUP(,-CODE(C$3:C450),C$3:C450),D449)","v":52},"52(800)-528",null,null,null,"800",720,"528",8443.6356037333335,9173.2479205333329,9263.4247237333329,9994.061776933333,11653.110008533333,12317.139195733334]
[null,"75/1",53,{"$f":"IF(C451<>0,LOOKUP(,-CODE(C$3:C451),C$3:C451),D450)","v":53},"53-180(500)-528","Тумба кухонная двухдверная под накладную мойку с фальш-панелью,Н - 180 мм ",null,null,"500",720,"528",5787.3970357333328,6239.4378613333338,6295.3080757333337,6747.983790133334,7775.8687573333336,8187.2766997333329]
[null,null,0,{"$f":"IF(C452<>0,LOOKUP(,-CODE(C$3:C452),C$3:C452),D451)","v":53},"53-180(600)-528",null,null,null,"600",720,"528",6663.6915957333331,7207.2386613333329,7274.4186357333328,7818.729110133334,9054.6879573333335,9549.3768597333328]
[null,null,0,{"$f":"IF(C453<>0,LOOKUP(,-CODE(C$3:C453),C$3:C453),D452)","v":53},"53-180(800)-528",null,null,null,"800",720,"528",8416.2807157333336,9142.8402613333328,9232.639755733333,9960.2197501333339,11612.326357333335,12273.577179733333]
[null,"76",54,{"$f":"IF(C454<>0,LOOKUP(,-CODE(C$3:C454),C$3:C454),D453)","v":54},"54(500)-528","Тумба кухонная однодверная под врезную мойку",null,null,"500",720,"528",5493.2994077333333,5949.9962861333343,6006.4419677333344,6463.7802743333341,7502.2525301333344,7917.898003733334]
[null,null,0,{"$f":"IF(C455<>0,LOOKUP(,-CODE(C$3:C455),C$3:C455),D454)","v":54},"54(600)-528",null,null,null,"600",720,"528",6373.0391677333337,6921.6267661333331,6989.4297277333335,7538.7878143333337,8786.2082101333326,9285.4845637333347]
[null,"77/1",55,{"$f":"IF(C456<>0,LOOKUP(,-CODE(C$3:C456),C$3:C456),D455)","v":55},"55-180(500)-528","Тумба кухонная однодверная под врезную мойку с фальш-панелью, Н-180 мм",null,null,"500",720,"528",5476.1767637333332,5930.9627765333335,5987.1722837333336,6442.597040933334,7476.7242245333346,7890.6305957333343]
[null,null,0,{"$f":"IF(C457<>0,LOOKUP(,-CODE(C$3:C457),C$3:C457),D456)","v":55},"55-180(600)-528",null,null,null,"600",720,"528",6352.4713237333335,6898.7635765333334,6966.2828437333337,7513.342360933334,8755.5434245333345,9252.7307557333334]
[null,"78",56,{"$f":"IF(C458<>0,LOOKUP(,-CODE(C$3:C458),C$3:C458),D457)","v":56},"56(500)-528","Тумба кухонная двухдверная под врезную мойку",null,null,"500",720,"528",5813.116323733334,6267.0564805333343,6323.1614437333337,6777.739156933334,7809.9429685333344,8223.0795157333341]
[null,null,0,{"$f":"IF(C459<>0,LOOKUP(,-CODE(C$3:C459),C$3:C459),D458)","v":56},"56(600)-528",null,null,null,"600",720,"528",6692.8560837333334,7238.6869605333341,7306.1492037333337,7852.7466969333327,9093.8986485333335,9590.666075733332]
[null,null,0,{"$f":"IF(C460<>0,LOOKUP(,-CODE(C$3:C460),C$3:C460),D459)","v":56},"56(800)-528",null,null,null,"800",720,"528",8452.3356037333324,9181.9479205333319,9272.1247237333337,10002.761776933332,11661.810008533332,12325.839195733333]
[null,"79/1",57,{"$f":"IF(C461<>0,LOOKUP(,-CODE(C$3:C461),C$3:C461),D460)","v":57},"57-180(500)-528","Тумба кухонная двухдверная под врезную мойку с фальш-панелью, Н-180 мм",null,null,"500",720,"528",5796.0970357333335,6248.1378613333327,6304.0080757333326,6756.6837901333329,7784.5687573333344,8195.9766997333336]
[null,null,0,{"$f":"IF(C462<>0,LOOKUP(,-CODE(C$3:C462),C$3:C462),D461)","v":57},"57-180(600)-528",null,null,null,"600",720,"528",6672.3915957333338,7215.9386613333336,7283.1186357333336,7827.4291101333329,9063.3879573333325,9558.0768597333317]
[null,null,0,{"$f":"IF(C463<>0,LOOKUP(,-CODE(C$3:C463),C$3:C463),D462)","v":57},"57-180(800)-528",null,null,null,"800",720,"528",8424.9807157333325,9151.5402613333335,9241.3397557333337,9968.9197501333329,11621.026357333334,12282.277179733332]
[null,"80",58,{"$f":"IF(C464<>0,LOOKUP(,-CODE(C$3:C464),C$3:C464),D463)","v":58},"58(900-100)-528","Тумба кухонная угловой однодверная под врезную мойку (левый) фальш-планка L - 100/150 мм",null,null,"900",720,"528",5640.4688040000001,6005.6594424000004,6050.7953639999996,6416.4989106000003,7246.8972864000007,7579.2618000000011]
[null,null,0,{"$f":"IF(C465<>0,LOOKUP(,-CODE(C$3:C465),C$3:C465),D464)","v":58},"58(950-100)-528",null,null,null,"950",720,"528",6076.7386839999999,6487.8746824,6538.6892440000001,6950.4026806000002,7885.2751263999999,8259.4550799999997]
[null,null,0,{"$f":"IF(C466<>0,LOOKUP(,-CODE(C$3:C466),C$3:C466),D465)","v":58},"58(1000-100)-528",null,null,null,"1000",720,"528",6523.0085639999998,6980.0899223999995,7036.5831239999998,7494.3064506000001,8533.6529664000009,8949.6483599999992]
[null,null,0,{"$f":"IF(C467<>0,LOOKUP(,-CODE(C$3:C467),C$3:C467),D466)","v":58},"58(1050-100)-528",null,null,null,"1050",720,"528",6959.2784439999996,7462.3051624,7524.4770040000003,8028.2102206,9172.0308064000001,9629.8416399999987]
[null,null,0,{"$f":"IF(C468<>0,LOOKUP(,-CODE(C$3:C468),C$3:C468),D467)","v":58},"58(1100-100)-528",null,null,null,"1100",720,"528",7405.5483239999994,7954.5204023999995,8022.3708839999999,8572.1139905999989,9820.4086463999993,10320.03492]
[null,null,0,{"$f":"IF(C469<>0,LOOKUP(,-CODE(C$3:C469),C$3:C469),D468)","v":58},"58(900-150)-528",null,null,null,"900",720,"528",5696.2503906666661,6061.6332690666668,6106.792950666666,6472.6890072666665,7303.5245130666663,7636.0639866666661]
[null,null,0,{"$f":"IF(C470<>0,LOOKUP(,-CODE(C$3:C470),C$3:C470),D469)","v":58},"58(950-150)-528",null,null,null,"950",720,"528",6132.520270666666,6543.8485090666654,6594.6868306666656,7006.5927772666673,7941.9023530666673,8316.2572666666674]
[null,null,0,{"$f":"IF(C471<>0,LOOKUP(,-CODE(C$3:C471),C$3:C471),D470)","v":58},"58(1000-150)-528",null,null,null,"1000",720,"528",6578.7901506666667,7036.0637490666668,7092.5807106666671,7550.4965472666663,8590.2801930666665,9006.4505466666669]
[null,null,0,{"$f":"IF(C472<>0,LOOKUP(,-CODE(C$3:C472),C$3:C472),D471)","v":58},"58(1050-150)-528",null,null,null,"1050",720,"528",7015.0600306666674,7518.2789890666672,7580.4745906666676,8084.4003172666671,9228.6580330666675,9686.6438266666664]
[null,null,0,{"$f":"IF(C473<>0,LOOKUP(,-CODE(C$3:C473),C$3:C473),D472)","v":58},"58(1100-150)-528",null,null,null,"1100",720,"528",7461.3299106666673,8010.4942290666668,8078.3684706666672,8628.3040872666679,9877.0358730666667,10376.837106666668]
[null,"81",59,{"$f":"IF(C474<>0,LOOKUP(,-CODE(C$3:C474),C$3:C474),D473)","v":59},"59(900-100)-528","Тумба кухонная угловая однодверная под врезную мойку (праевый) фальш-планка L - 100/150 мм",null,null,"900",720,"528",5640.4688040000001,6005.6594424000004,6050.7953639999996,6416.4989106000003,7246.8972864000007,7579.2618000000011]
[null,null,0,{"$f":"IF(C475<>0,LOOKUP(,-CODE(C$3:C475),C$3:C475),D474)","v":59},"59(950-100)-528",null,null,null,"950",720,"528",6076.7386839999999,6487.8746824,6538.6892440000001,6950.4026806000002,7885.2751263999999,8259.4550799999997]
[null,null,0,{"$f":"IF(C476<>0,LOOKUP(,-CODE(C$3:C476),C$3:C476),D475)","v":59},"59(1000-100)-528",null,null,null,"1000",720,"528",6523.0085639999998,6980.0899223999995,7036.5831239999998,7494.3064506000001,8533.6529664000009,8949.6483599999992]
[null,null,0,{"$f":"IF(C477<>0,LOOKUP(,-CODE(C$3:C477),C$3:C477),D476)","v":59},"59(1050-100)-528",null,null,null,"1050",720,"528",6959.2784439999996,7462.3051624,7524.4770040000003,8028.2102206,9172.0308064000001,9629.8416399999987]
[null,null,0,{"$f":"IF(C478<>0,LOOKUP(,-CODE(C$3:C478),C$3:C478),D477)","v":59},"59(1100-100)-528",null,null,null,"1100",720,"528",7405.5483239999994,7954.5204023999995,8022.3708839999999,8572.1139905999989,9820.4086463999993,10320.03492]
[null,null,0,{"$f":"IF(C479<>0,LOOKUP(,-CODE(C$3:C479),C$3:C479),D478)","v":59},"59(900-150)-528",null,null,null,"900",720,"528",5696.2503906666661,6061.6332690666668,6106.792950666666,6472.6890072666665,7303.5245130666663,7636.0639866666661]
[null,null,0,{"$f":"IF(C480<>0,LOOKUP(,-CODE(C$3:C480),C$3:C480),D479)","v":59},"59(950-150)-528",null,null,null,"950",720,"528",6132.520270666666,6543.8485090666654,6594.6868306666656,7006.5927772666673,7941.9023530666673,8316.2572666666674]
[null,null,0,{"$f":"IF(C481<>0,LOOKUP(,-CODE(C$3:C481),C$3:C481),D480)","v":59},"59(1000-150)-528",null,null,null,"1000",720,"528",6578.7901506666667,7036.0637490666668,7092.5807106666671,7550.4965472666663,8590.2801930666665,9006.4505466666669]
[null,null,0,{"$f":"IF(C482<>0,LOOKUP(,-CODE(C$3:C482),C$3:C482),D481)","v":59},"59(1050-150)-528",null,null,null,"1050",720,"528",7015.0600306666674,7518.2789890666672,7580.4745906666676,8084.4003172666671,9228.6580330666675,9686.6438266666664]
[null,null,0,{"$f":"IF(C483<>0,LOOKUP(,-CODE(C$3:C483),C$3:C483),D482)","v":59},"59(1100-150)-528",null,null,null,"1100",720,"528",7461.3299106666673,8010.4942290666668,8078.3684706666672,8628.3040872666679,9877.0358730666667,10376.837106666668]
[null,"82",60,{"$f":"IF(C484<>0,LOOKUP(,-CODE(C$3:C484),C$3:C484),D483)","v":60},"60(1200-100)-528","Тумба кухонная угловая двухдверная под врезную мойку (левый) фальш-планка L - 100/150 мм",null,null,"1200",720,"528",8632.6070839999993,9273.4698823999988,9352.6776439999994,9994.440530599999,11451.6833264,12034.940479999999]
[null,null,0,{"$f":"IF(C485<>0,LOOKUP(,-CODE(C$3:C485),C$3:C485),D484)","v":60},"60(1300-100)-528",null,null,null,"1300",720,"528",9510.146843999999,10242.9003624,10333.465403999999,11067.248070599999,12733.439006399998,13400.327039999998]
[null,null,0,{"$f":"IF(C486<>0,LOOKUP(,-CODE(C$3:C486),C$3:C486),D485)","v":60},"60(1400-100)-528",null,null,null,"1400",720,"528",10397.686604,11222.330842400002,11324.253164,12150.055610600002,14025.194686400002,14775.713600000001]
[null,null,0,{"$f":"IF(C487<>0,LOOKUP(,-CODE(C$3:C487),C$3:C487),D486)","v":60},"60(1200-150)-528",null,null,null,"1200",720,"528",8688.3886706666653,9329.4437090666652,9408.6752306666658,10050.630627266666,11508.310553066665,12091.742666666665]
[null,null,0,{"$f":"IF(C488<>0,LOOKUP(,-CODE(C$3:C488),C$3:C488),D487)","v":60},"60(1300-150)-528",null,null,null,"1300",720,"528",9565.9284306666668,10298.874189066666,10389.462990666667,11123.438167266666,12790.066233066667,13457.129226666666]
[null,null,0,{"$f":"IF(C489<>0,LOOKUP(,-CODE(C$3:C489),C$3:C489),D488)","v":60},"60(1400-150)-528",null,null,null,"1400",720,"528",10453.468190666666,11278.304669066667,11380.250750666666,12206.245707266666,14081.821913066669,14832.515786666667]
[null,"82",61,{"$f":"IF(C490<>0,LOOKUP(,-CODE(C$3:C490),C$3:C490),D489)","v":61},"61(1200-100)-528","Тумба кухонная угловая двухдверная под врезную мойку (правый) фальш-планка L - 100/150 мм",null,null,"1200",720,"528",8632.6070839999993,9273.4698823999988,9352.6776439999994,9994.440530599999,11451.6833264,12034.940479999999]
[null,null,0,{"$f":"IF(C491<>0,LOOKUP(,-CODE(C$3:C491),C$3:C491),D490)","v":61},"61(1300-100)-528",null,null,null,"1300",720,"528",9510.146843999999,10242.9003624,10333.465403999999,11067.248070599999,12733.439006399998,13400.327039999998]
[null,null,0,{"$f":"IF(C492<>0,LOOKUP(,-CODE(C$3:C492),C$3:C492),D491)","v":61},"61(1400-100)-528",null,null,null,"1400",720,"528",10392.686604,11217.330842400002,11319.253164,12145.055610600002,14020.194686400002,14770.713600000001]
[null,null,0,{"$f":"IF(C493<>0,LOOKUP(,-CODE(C$3:C493),C$3:C493),D492)","v":61},"61(1200-150)-528",null,null,null,"1200",720,"528",8683.3886706666653,9324.4437090666652,9403.6752306666658,10045.630627266666,11503.310553066665,12086.742666666665]
[null,null,0,{"$f":"IF(C494<>0,LOOKUP(,-CODE(C$3:C494),C$3:C494),D493)","v":61},"61(1300-150)-528",null,null,null,"1300",720,"528",9565.9284306666668,10298.874189066666,10389.462990666667,11123.438167266666,12790.066233066667,13457.129226666666]
[null,null,0,{"$f":"IF(C495<>0,LOOKUP(,-CODE(C$3:C495),C$3:C495),D494)","v":61},"61(1400-150)-528",null,null,null,"1400",720,"528",10453.468190666666,11278.304669066667,11380.250750666666,12206.245707266666,14081.821913066669,14832.515786666667]
[null,"83",62,{"$f":"IF(C496<>0,LOOKUP(,-CODE(C$3:C496),C$3:C496),D495)","v":62},"62(800)-528","Тумба кухонная угловая (трапеция) под врезную мойку",null,null,"800",720,800,4955.040459466667,5229.7937122666663,5263.7519794666669,5538.8911216666665,6163.6460602666666,6413.702391466667]
[null,null,0,{"$f":"IF(C497<>0,LOOKUP(,-CODE(C$3:C497),C$3:C497),D496)","v":62},"62(900)-528",null,null,null,"900",720,900,6361.346169866667,6766.5842450666678,6816.6698498666665,7222.4770796666671,8143.9383770666664,8512.7505578666678]
[null,null,0,{"$f":"IF(C498<>0,LOOKUP(,-CODE(C$3:C498),C$3:C498),D497)","v":62},"62(1000)-528",null,null,null,"1000",720,1000,7787.3812624000002,8322.1852527999999,8388.2846224000004,8923.8397420000001,10139.917916799999,10626.6496384]
[null,"84",63,{"$f":"IF(C499<>0,LOOKUP(,-CODE(C$3:C499),C$3:C499),D498)","v":63},"63(900)-528","Тумба кухонная угловая  (радиусный) под врезную мойку",null,null,"900",720,900,14718.780522666668,14718.780522666668,14718.780522666668,14718.780522666668,14718.780522666668,14718.780522666668]
[null,"163",64,{"$f":"IF(C500<>0,LOOKUP(,-CODE(C$3:C500),C$3:C500),D499)","v":64},"64-120(450)-560","Тумба кухонная под встраиваемую технику, Н-120 мм",null,null,"450",720,"560",2596.1495291999995,2663.1759275999993,2671.4600891999999,2738.5806257999993,2890.9903715999994,2951.9919251999995]
[null,null,0,{"$f":"IF(C501<>0,LOOKUP(,-CODE(C$3:C501),C$3:C501),D500)","v":64},"64-120(600)-560",null,null,null,"600",720,"560",2933.8591692,3023.3776476000003,3034.4417291999998,3124.0859357999998,3327.6398915999998,3409.1117651999998]
[null,"165",65,{"$f":"IF(C502<>0,LOOKUP(,-CODE(C$3:C502),C$3:C502),D501)","v":65},"65-120(450)-560","Тумба кухонная под встраиваемую технику с метабоксом, Н-120 мм",null,null,"450",720,"560",3110.1412540000001,3177.1676524,3185.451814,3252.5723505999999,3404.9820964,3465.9836500000001]
[null,null,0,{"$f":"IF(C503<>0,LOOKUP(,-CODE(C$3:C503),C$3:C503),D502)","v":65},"65-120(600)-560",null,null,null,"600",720,"560",3515.2128539999999,3604.7313323999997,3615.7954140000002,3705.4396205999997,3908.9935764000002,3990.4654499999997]
[null,null,66,{"$f":"IF(C504<>0,LOOKUP(,-CODE(C$3:C504),C$3:C504),D503)","v":66},"66-120(450)-560","Тумба кухонная под встраиваемую технику с леграбоксом, Н-120 мм",null,null,"450",720,"560",4880.194986266667,4947.2213846666673,4955.5055462666669,5022.6260828666673,5175.0358286666669,5236.037382266667]
[null,null,0,{"$f":"IF(C505<>0,LOOKUP(,-CODE(C$3:C505),C$3:C505),D504)","v":66},"66-120(600)-560",null,null,null,"600",720,"560",5286.1065862666674,5375.6250646666667,5386.6891462666672,5476.3333528666672,5679.8873086666672,5761.3591822666667]
[null,"166",67,{"$f":"IF(C506<>0,LOOKUP(,-CODE(C$3:C506),C$3:C506),D505)","v":67},"67(600)-560","Шкаф кухонный под встраиваемую технику однодверная, полка ЛДСП",null,null,"600",1320,"560",7913.4512197333333,8462.0388181333328,8529.8417797333332,9079.1998663333343,10326.620262133334,10825.896615733334]
[null,"167",68,{"$f":"IF(C507<>0,LOOKUP(,-CODE(C$3:C507),C$3:C507),D506)","v":68},"68(600)-560","Шкаф кухонный под встраиваемую технику с метабоксом, Н-360",null,null,"600",960,"560",5927.6259302666667,6200.7720566666667,6234.5316902666673,6508.061448866667,7129.1619806666677,7377.7556462666671]
[null,null,69,{"$f":"IF(C508<>0,LOOKUP(,-CODE(C$3:C508),C$3:C508),D507)","v":69},"69(600)-560","Шкаф кухонный под встраиваемую технику с леграбоксом, Н-360",null,null,"600",960,"560",7288.4567665333343,7561.6028929333334,7595.3625265333339,7868.8922851333336,8489.9928169333343,8738.5864825333338]
[null,"168",70,{"$f":"IF(C509<>0,LOOKUP(,-CODE(C$3:C509),C$3:C509),D508)","v":70},"70(600)-560","Шкаф кухонный под встраиваемую технику с двумя метабоксами,Н-360",null,null,"600",1320,"560",10096.9249236,10643.2171764,10710.736443599999,11257.7959608,12499.9970244,12997.184355599999]
[null,null,71,{"$f":"IF(C510<>0,LOOKUP(,-CODE(C$3:C510),C$3:C510),D509)","v":71},"71(600)-560","Шкаф кухонный под встраиваемую технику с двумя леграбоксами,Н-360",null,null,"600",1320,"560",12817.286596133334,13363.578848933334,13431.098116133333,13978.157633333334,15220.358696933334,15717.546028133333]
[null,"173",72,{"$f":"IF(C511<>0,LOOKUP(,-CODE(C$3:C511),C$3:C511),D510)","v":72},"72(700)-560","Тумба кухонная под стиральную машину двухдверная",null,null,"700",820,"560",7480.1116335999995,8117.8332304000005,8196.6527535999994,8835.2700268000008,10285.3701184,10865.768425599999]
[null,"174",73,{"$f":"IF(C512<>0,LOOKUP(,-CODE(C$3:C512),C$3:C512),D511)","v":73},"73(650)-560","Тумба кухонная под стиральную машину открытая",null,null,"650",820,"560",1043.3382016,1043.3382016,1043.3382016,1043.3382016,1043.3382016,1043.3382016]
[null,"176",74,{"$f":"IF(C513<>0,LOOKUP(,-CODE(C$3:C513),C$3:C513),D512)","v":74},"74(150)-528","Тумба кухонная с бутылочницей с доводкой, КАЛИБРИ",null,null,"150",720,"528",6184.7870303420295,6319.8663887420298,6336.5615903420294,6471.830666942029,6778.9844327420296,6901.9218263420298]
[null,null,0,{"$f":"IF(C514<>0,LOOKUP(,-CODE(C$3:C514),C$3:C514),D513)","v":74},"74(200)-528",null,null,null,"200",720,"528",7835.7545190376813,8016.7792374376813,8039.1530790376819,8220.4320456376809,8632.0598814376808,8796.8127150376822]
[null,null,0,{"$f":"IF(C515<>0,LOOKUP(,-CODE(C$3:C515),C$3:C515),D514)","v":74},"74(300)-528",null,null,null,"300",720,"528",9297.7394964289851,9570.6549348289846,9604.3860564289862,9877.6848030289857,10498.260778828986,10746.644492428984]
[null,"177",75,{"$f":"IF(C516<>0,LOOKUP(,-CODE(C$3:C516),C$3:C516),D515)","v":75},"75(150)-528","Тумба кухонная с бутылочницей с доводкой, VIBO",null,null,"150",720,"528",9453.6030303420303,9588.6823887420287,9605.3775903420301,9740.6466669420297,10047.800432742029,10170.737826342029]
[null,null,0,{"$f":"IF(C517<>0,LOOKUP(,-CODE(C$3:C517),C$3:C517),D516)","v":75},"75(200)-528",null,null,null,"200",720,"528",11083.530519037682,11264.555237437682,11286.929079037682,11468.208045637681,11879.835881437681,12044.58871503768]
[null,null,0,{"$f":"IF(C518<>0,LOOKUP(,-CODE(C$3:C518),C$3:C518),D517)","v":75},"75(300)-528",null,null,null,"300",720,"528",12633.435496428985,12906.350934828986,12940.082056428986,13213.380803028986,13833.956778828986,14082.340492428986]
[null,"178",76,{"$f":"IF(C519<>0,LOOKUP(,-CODE(C$3:C519),C$3:C519),D518)","v":76},"76(600)-528","Тумба кухонная с двумя корзинами-сетками",null,null,"600",720,"528",20765.685159602901,21311.977412402899,21379.4966796029,21926.5561968029,23168.757260402901,23665.9445916029]
[null,null,0,{"$f":"IF(C520<>0,LOOKUP(,-CODE(C$3:C520),C$3:C520),D519)","v":76},"76(900)-528",null,null,null,"900",720,"528",25472.189491776811,26293.000464576813,26394.449011776815,27216.412808976813,29082.835512576814,29829.865723776813]
[null,"179",77,{"$f":"IF(C521<>0,LOOKUP(,-CODE(C$3:C521),C$3:C521),D520)","v":77},"77(600)-528","Тумба кухонная с посудосушителем с доводкой и метабоксом",null,null,"600",720,"528",12861.305437936233,13407.597690736235,13475.116957936234,14022.176475136235,15264.377538736235,15761.564869936234]
[null,null,0,{"$f":"IF(C522<>0,LOOKUP(,-CODE(C$3:C522),C$3:C522),D521)","v":77},"77(800)-528",null,null,null,"800",720,"528",15063.854539385509,15793.159272185509,15883.298059385508,16613.627096585507,18271.975920185509,18935.725171385508]
[null,"179/1",78,{"$f":"IF(C523<>0,LOOKUP(,-CODE(C$3:C523),C$3:C523),D522)","v":78},"78(600)-528","Тумба кухонная с метабоксом и посудосушителем с доводкой ",null,null,"600",720,"528",12861.305437936233,13407.597690736235,13475.116957936234,14022.176475136235,15264.377538736235,15761.564869936234]
[null,null,0,{"$f":"IF(C524<>0,LOOKUP(,-CODE(C$3:C524),C$3:C524),D523)","v":78},"78(800)-528",null,null,null,"800",720,"528",15063.854539385509,15793.159272185509,15883.298059385508,16613.627096585507,18271.975920185509,18935.725171385508]
[null,"179/Т",79,{"$f":"IF(C525<>0,LOOKUP(,-CODE(C$3:C525),C$3:C525),D524)","v":79},"79(600)-528","Тумба кухонная с посудосушителем с доводкой и леграбоксом",null,null,"600",720,"528",14222.136274202901,14768.4285270029,14835.947794202901,15383.0073114029,16625.208375002901,17122.3957062029]
[null,null,0,{"$f":"IF(C526<>0,LOOKUP(,-CODE(C$3:C526),C$3:C526),D525)","v":79},"79(800)-528",null,null,null,"800",720,"528",16421.605375652176,17150.910108452175,17241.048895652173,17971.377932852174,19629.726756452175,20293.476007652174]
[null,"179/Т/1",80,{"$f":"IF(C527<>0,LOOKUP(,-CODE(C$3:C527),C$3:C527),D526)","v":80},"80(600)-528","Тумба кухонная с леграбоксом и посудосушителем с доводкой ",null,null,"600",720,"528",14222.136274202901,14768.4285270029,14835.947794202901,15383.0073114029,16625.208375002901,17122.3957062029]
[null,null,0,{"$f":"IF(C528<>0,LOOKUP(,-CODE(C$3:C528),C$3:C528),D527)","v":80},"80(800)-528",null,null,null,"800",720,"528",16421.605375652176,17150.910108452175,17241.048895652173,17971.377932852174,19629.726756452175,20293.476007652174]
[null,"180",81,{"$f":"IF(C529<>0,LOOKUP(,-CODE(C$3:C529),C$3:C529),D528)","v":81},"81(900)-528","Тумба кухонная под мойку с П-образной корзиной и сеткой с доводкой",null,null,"900",720,"528",26788.496401666664,27609.307374466665,27710.755921666663,28532.719718866665,30399.142422466663,31146.172633666665]
[null,"180/М",82,{"$f":"IF(C530<>0,LOOKUP(,-CODE(C$3:C530),C$3:C530),D529)","v":82},"82(900)-528","Тумба кухонная под мойку с П-образной корзиной и метабоксом",null,null,"900",720,"528",19281.570052833333,20102.381025633335,20203.829572833332,21025.793370033334,22892.216073633332,23639.246284833334]
[null,"180/Т",83,{"$f":"IF(C531<>0,LOOKUP(,-CODE(C$3:C531),C$3:C531),D530)","v":83},"83(900)-528","Тумба кухонная под мойку с П-образной корзиной и леграбоксом",null,null,"900",720,"528",20637.780889100002,21458.5918619,21560.040409100002,22382.0042063,24248.426909900001,24995.4571211]
[null,"220",84,{"$f":"IF(C532<>0,LOOKUP(,-CODE(C$3:C532),C$3:C532),D531)","v":84},"84(50)-528","Тумба кухонная с декоративной колонной (пилястра)",null,null,"50",720,"528",2765.9326261333335,2765.9326261333335,2765.9326261333335,2765.9326261333335,2765.9326261333335,2765.9326261333335]
[null,null,0,{"$f":"IF(C533<>0,LOOKUP(,-CODE(C$3:C533),C$3:C533),D532)","v":84},"84(75)-528",null,null,null,"75",720,"528",2799.1968661333331,2799.1968661333331,2799.1968661333331,2799.1968661333331,2799.1968661333331,2799.1968661333331]
[null,"224",85,{"$f":"IF(C534<>0,LOOKUP(,-CODE(C$3:C534),C$3:C534),D533)","v":85},"85(100)-528","Тумба кухонная с декоративной колонной (пилястра)",null,null,"100",720,"528",3157.9117408000002,3157.9117408000002,3157.9117408000002,3157.9117408000002,3157.9117408000002,3157.9117408000002]
[null,null,86,{"$f":"IF(C535<>0,LOOKUP(,-CODE(C$3:C535),C$3:C535),D534)","v":86},"86(1050-150)-560","Тумба кухонная-угловая (левая) с Волшебным уголком (левая) фальш-планкаL - 150 мм",null,null,"1050",720,"560",36635.041144633338,37138.260103033339,37200.455704633336,37704.381431233342,38848.63914703334,39306.624940633337]
[null,null,0,{"$f":"IF(C536<>0,LOOKUP(,-CODE(C$3:C536),C$3:C536),D535)","v":86},"86(1100-150)-560",null,null,null,"1100",720,"560",37077.431024633333,37626.595343033332,37694.469584633334,38244.405201233334,39493.136987033336,39992.938220633339]
[null,null,0,{"$f":"IF(C537<>0,LOOKUP(,-CODE(C$3:C537),C$3:C537),D536)","v":86},"86(1150-150)-560",null,null,null,"1150",720,"560",37519.820904633336,38114.93058303334,38188.483464633333,38784.428971233334,40137.63482703334,40679.251500633341]
[null,null,87,{"$f":"IF(C538<>0,LOOKUP(,-CODE(C$3:C538),C$3:C538),D537)","v":87},"87(1050-150)-560","Тумба кухонная-угловая (правая) с Волшебным уголком (правая) фальш-планка  L - 150 мм",null,null,"1050",720,"560",36635.041144633338,37138.260103033339,37200.455704633336,37704.381431233342,38848.63914703334,39306.624940633337]
[null,null,0,{"$f":"IF(C539<>0,LOOKUP(,-CODE(C$3:C539),C$3:C539),D538)","v":87},"87(1100-150)-560",null,null,null,"1100",720,"560",37077.431024633333,37626.595343033332,37694.469584633334,38244.405201233334,39493.136987033336,39992.938220633339]
[null,null,0,{"$f":"IF(C540<>0,LOOKUP(,-CODE(C$3:C540),C$3:C540),D539)","v":87},"87(1150-150)-560",null,null,null,"1150",720,"560",37519.820904633336,38114.93058303334,38188.483464633333,38784.428971233334,40137.63482703334,40679.251500633341]
[null,null,88,{"$f":"IF(C541<>0,LOOKUP(,-CODE(C$3:C541),C$3:C541),D540)","v":88},"88(1100-150)-560","Тумба кухонная-угловая (левая) с TWIN CORNER (левая) фальш-планка L - 150 мм",null,null,"1100",720,"560",33532.452899633332,34081.617218033331,34149.491459633333,34699.427076233333,35948.158862033335,36447.960095633331]
[null,null,0,{"$f":"IF(C542<>0,LOOKUP(,-CODE(C$3:C542),C$3:C542),D541)","v":88},"88(1150-150)-560",null,null,null,"1150",720,"560",33974.842779633334,34569.952458033331,34643.505339633331,35239.450846233332,36592.656702033331,37134.273375633333]
[null,null,0,{"$f":"IF(C543<>0,LOOKUP(,-CODE(C$3:C543),C$3:C543),D542)","v":88},"88(1250-150)-560",null,null,null,"1250",720,"560",34859.622539633332,35546.622938033332,35631.533099633336,36319.498386233332,37881.652382033331,38506.899935633337]
[null,null,89,{"$f":"IF(C544<>0,LOOKUP(,-CODE(C$3:C544),C$3:C544),D543)","v":89},"89(1100-150)-560","Тумба кухонная-угловая  (правая)  с TWIN CORNER  (правая) фальш-планка L - 150 мм",null,null,"1100",720,"560",33532.452899633332,34081.617218033331,34149.491459633333,34699.427076233333,35948.158862033335,36447.960095633331]
[null,null,0,{"$f":"IF(C545<>0,LOOKUP(,-CODE(C$3:C545),C$3:C545),D544)","v":89},"89(1150-150)-560",null,null,null,"1150",720,"560",33974.842779633334,34569.952458033331,34643.505339633331,35239.450846233332,36592.656702033331,37134.273375633333]
[null,null,0,{"$f":"IF(C546<>0,LOOKUP(,-CODE(C$3:C546),C$3:C546),D545)","v":89},"89(1250-150)-560",null,null,null,"1250",720,"560",34859.622539633332,35546.622938033332,35631.533099633336,36319.498386233332,37881.652382033331,38506.899935633337]
[null,null,90,{"$f":"IF(C547<>0,LOOKUP(,-CODE(C$3:C547),C$3:C547),D546)","v":90},"90(300)-560","Тумба кухонная-угловая скошенная с Угловой корзиной (правая)глубина только 560 мм",null,null,"300",720,"560",12815.876333699998,13419.598364099998,13494.2156937,14098.7856483,15471.574928099999,16021.029809700001]
[null,null,91,{"$f":"IF(C548<>0,LOOKUP(,-CODE(C$3:C548),C$3:C548),D547)","v":91},"91(300)-560","Тумба кухонная-угловая скошенная с Угловой корзиной (левая)глубина только 560 мм",null,null,"300",720,"560",12815.876333699998,13419.598364099998,13494.2156937,14098.7856483,15471.574928099999,16021.029809700001]
[null,null,92,{"$f":"IF(C549<>0,LOOKUP(,-CODE(C$3:C549),C$3:C549),D548)","v":92},"92(400)-528","Тумба кухонная с двумя леграбоксами, под систему SERVO-DRIVE (без механизма)",null,null,"400",720,"528",9638.328515686957,10001.608288486956,10046.508035686957,10410.298032886956,11236.351336486958,11566.976747686957]
[null,null,0,{"$f":"IF(C550<>0,LOOKUP(,-CODE(C$3:C550),C$3:C550),D549)","v":92},"92(450)-528",null,null,null,"450",720,"528",10139.171377715942,10548.204270515942,10598.758897715943,11008.366274915941,11938.456518515943,12310.722409715941]
[null,null,0,{"$f":"IF(C551<>0,LOOKUP(,-CODE(C$3:C551),C$3:C551),D550)","v":92},"92(500)-528",null,null,null,"500",720,"528",10640.014239744927,11094.800252544926,11151.009759744928,11606.434516944928,12640.561700544928,13054.468071744928]
[null,null,0,{"$f":"IF(C552<>0,LOOKUP(,-CODE(C$3:C552),C$3:C552),D551)","v":92},"92(550)-528",null,null,null,"550",720,"528",11140.857101773912,11641.396234573913,11703.260621773912,12204.502758973913,13342.666882573914,13798.213733773913]
[null,null,0,{"$f":"IF(C553<>0,LOOKUP(,-CODE(C$3:C553),C$3:C553),D552)","v":92},"92(600)-528",null,null,null,"600",720,"528",11641.699963802899,12187.992216602899,12255.5114838029,12802.5710010029,14044.772064602901,14541.9593958029]
[null,null,0,{"$f":"IF(C554<>0,LOOKUP(,-CODE(C$3:C554),C$3:C554),D553)","v":92},"92(650)-528",null,null,null,"650",720,"528",12142.542825831884,12734.588198631884,12807.762345831885,13400.639243031885,14746.877246631884,15285.705057831883]
[null,null,0,{"$f":"IF(C555<>0,LOOKUP(,-CODE(C$3:C555),C$3:C555),D554)","v":92},"92(700)-528",null,null,null,"700",720,"528",12643.385687860869,13281.184180660868,13360.013207860869,13998.70748506087,15448.982428660871,16029.45071986087]
[null,null,0,{"$f":"IF(C556<>0,LOOKUP(,-CODE(C$3:C556),C$3:C556),D555)","v":92},"92(750)-528",null,null,null,"750",720,"528",13144.228549889855,13827.780162689854,13912.264069889854,14596.775727089855,16151.087610689854,16773.196381889855]
[null,null,0,{"$f":"IF(C557<>0,LOOKUP(,-CODE(C$3:C557),C$3:C557),D556)","v":92},"92(800)-528",null,null,null,"800",720,"528",13645.07141191884,14374.376144718839,14464.514931918839,15194.84396911884,16853.192792718841,17516.94204391884]
[null,null,0,{"$f":"IF(C558<>0,LOOKUP(,-CODE(C$3:C558),C$3:C558),D557)","v":92},"92(850)-528",null,null,null,"850",720,"528",14145.914273947827,14920.972126747827,15016.765793947827,15792.912211147828,17555.297974747828,18260.687705947828]
[null,null,0,{"$f":"IF(C559<>0,LOOKUP(,-CODE(C$3:C559),C$3:C559),D558)","v":92},"92(900)-528",null,null,null,"900",720,"528",14646.757135976812,15467.56810877681,15569.016655976811,16390.98045317681,18257.403156776811,19004.43336797681]
[null,null,93,{"$f":"IF(C560<>0,LOOKUP(,-CODE(C$3:C560),C$3:C560),D559)","v":93},"93-180(400)-528","Тумба кухонная с тремя леграбоксами, под систему SERVO-DRIVE (без механизма),Н - 180 мм",null,null,"400",720,"528",11437.285965553623,11799.039352753623,11843.750445553624,12206.011913353625,13028.594404753625,13357.830633553624]
[null,null,0,{"$f":"IF(C561<>0,LOOKUP(,-CODE(C$3:C561),C$3:C561),D560)","v":93},"93-180(450)-528",null,null,null,"450",720,"528",11955.605214249277,12362.919481449277,12413.261694249277,12821.148032049277,13747.330333449278,14118.032082249276]
[null,null,0,{"$f":"IF(C562<>0,LOOKUP(,-CODE(C$3:C562),C$3:C562),D561)","v":93},"93-180(500)-528",null,null,null,"500",720,"528",12473.924462944929,12926.799610144928,12982.772942944928,13436.28415074493,14466.066262144928,14878.23353094493]
[null,null,0,{"$f":"IF(C563<>0,LOOKUP(,-CODE(C$3:C563),C$3:C563),D562)","v":93},"93-180(550)-528",null,null,null,"550",720,"528",12992.243711640582,13490.679738840583,13552.284191640581,14051.420269440581,15184.802190840583,15638.434979640582]
[null,null,0,{"$f":"IF(C564<>0,LOOKUP(,-CODE(C$3:C564),C$3:C564),D563)","v":93},"93-180(600)-528",null,null,null,"600",720,"528",13510.562960336232,14054.559867536231,14121.795440336233,14666.556388136232,15903.538119536232,16398.636428336231]
[null,null,0,{"$f":"IF(C565<>0,LOOKUP(,-CODE(C$3:C565),C$3:C565),D564)","v":93},"93-180(650)-528",null,null,null,"650",720,"528",14028.882209031884,14618.439996231886,14691.306689031884,15281.692506831885,16622.274048231884,17158.837877031885]
[null,null,0,{"$f":"IF(C566<>0,LOOKUP(,-CODE(C$3:C566),C$3:C566),D565)","v":93},"93-180(700)-528",null,null,null,"700",720,"528",14547.201457727537,15182.320124927537,15260.817937727537,15896.828625527538,17341.009976927537,17919.039325727535]
[null,null,0,{"$f":"IF(C567<>0,LOOKUP(,-CODE(C$3:C567),C$3:C567),D566)","v":93},"93-180(750)-528",null,null,null,"750",720,"528",15065.520706423189,15746.200253623188,15830.329186423189,16511.964744223187,18059.745905623189,18679.24077442319]
[null,null,0,{"$f":"IF(C568<>0,LOOKUP(,-CODE(C$3:C568),C$3:C568),D567)","v":93},"93-180(800)-528",null,null,null,"800",720,"528",15583.839955118841,16310.080382318843,16399.840435118844,17127.100862918844,18778.481834318842,19439.442223118844]
[null,null,0,{"$f":"IF(C569<>0,LOOKUP(,-CODE(C$3:C569),C$3:C569),D568)","v":93},"93-180(850)-528",null,null,null,"850",720,"528",16102.159203814492,16873.960511014491,16969.351683814493,17742.236981614493,19497.217763014494,20199.643671814494]
[null,null,0,{"$f":"IF(C570<>0,LOOKUP(,-CODE(C$3:C570),C$3:C570),D569)","v":93},"93-180(900)-528",null,null,null,"900",720,"528",16620.478452510146,17437.840639710146,17538.862932510146,18357.373100310149,20215.953691710147,20959.845120510145]
[null,null,94,{"$f":"IF(C571<>0,LOOKUP(,-CODE(C$3:C571),C$3:C571),D570)","v":94},"94(400)-528","Тумба кухонная с четырьмя леграбоксами, под систему SERVO-DRIVE (без механизма),Н - 180 мм",null,null,"400",720,"528",13236.243415420291,13596.470417020291,13640.992855420291,14001.725793820291,14820.837473020292,15148.684519420291]
[null,null,0,{"$f":"IF(C572<>0,LOOKUP(,-CODE(C$3:C572),C$3:C572),D571)","v":94},"94(450)-528",null,null,null,"450",720,"528",13772.039050782609,14177.634692382608,14227.764490782607,14633.929789182608,15556.204148382607,15925.341754782607]
[null,null,0,{"$f":"IF(C573<>0,LOOKUP(,-CODE(C$3:C573),C$3:C573),D572)","v":94},"94(500)-528",null,null,null,"500",720,"528",14307.83468614493,14758.79896774493,14814.536126144929,15266.133784544929,16291.570823744929,16701.99899014493]
[null,null,0,{"$f":"IF(C574<>0,LOOKUP(,-CODE(C$3:C574),C$3:C574),D573)","v":94},"94(550)-528",null,null,null,"550",720,"528",14843.630321507246,15339.963243107246,15401.307761507247,15898.337779907246,17026.937499107247,17478.656225507246]
[null,null,0,{"$f":"IF(C575<>0,LOOKUP(,-CODE(C$3:C575),C$3:C575),D574)","v":94},"94(600)-528",null,null,null,"600",720,"528",15379.425956869563,15921.127518469564,15988.079396869565,16530.541775269565,17762.304174469566,18255.313460869562]
[null,null,0,{"$f":"IF(C576<>0,LOOKUP(,-CODE(C$3:C576),C$3:C576),D575)","v":94},"94(650)-528",null,null,null,"650",720,"528",15915.221592231885,16502.291793831886,16574.851032231883,17162.745770631886,18497.670849831884,19031.970696231885]
[null,null,0,{"$f":"IF(C577<>0,LOOKUP(,-CODE(C$3:C577),C$3:C577),D576)","v":94},"94(700)-528",null,null,null,"700",720,"528",16451.017227594202,17083.456069194202,17161.622667594205,17794.949765994206,19233.037525194202,19808.627931594205]
[null,null,0,{"$f":"IF(C578<>0,LOOKUP(,-CODE(C$3:C578),C$3:C578),D577)","v":94},"94(750)-528",null,null,null,"750",720,"528",16986.812862956522,17664.620344556519,17748.39430295652,18427.153761356523,19968.404200556521,20585.285166956521]
[null,null,0,{"$f":"IF(C579<>0,LOOKUP(,-CODE(C$3:C579),C$3:C579),D578)","v":94},"94(800)-528",null,null,null,"800",720,"528",17522.608498318841,18245.784619918843,18335.165938318842,19059.35775671884,20703.770875918843,21361.94240231884]
[null,null,0,{"$f":"IF(C580<>0,LOOKUP(,-CODE(C$3:C580),C$3:C580),D579)","v":94},"94(850)-528",null,null,null,"850",720,"528",18058.404133681161,18826.948895281159,18921.93757368116,19691.561752081157,21439.137551281161,22138.59963768116]
[null,null,0,{"$f":"IF(C581<>0,LOOKUP(,-CODE(C$3:C581),C$3:C581),D580)","v":94},"94(900)-528",null,null,null,"900",720,"528",18594.19976904348,19408.113170643479,19508.709209043478,20323.765747443478,22174.504226643479,22915.25687304348]
[null,null,95,{"$f":"IF(C582<>0,LOOKUP(,-CODE(C$3:C582),C$3:C582),D581)","v":95},"95(400)-528","Тумба кухонная с тремя леграбоксами, с одним скрытым",null,null,"400",720,"528",11370.800915686956,11734.080688486956,11778.980435686957,12142.770432886957,12968.823736486956,13299.449147686955]
[null,null,0,{"$f":"IF(C583<>0,LOOKUP(,-CODE(C$3:C583),C$3:C583),D582)","v":95},"95(450)-528",null,null,null,"450",720,"528",11887.183777715944,12296.216670515943,12346.771297715943,12756.378674915943,13686.468918515944,14058.734809715943]
[null,null,0,{"$f":"IF(C584<>0,LOOKUP(,-CODE(C$3:C584),C$3:C584),D583)","v":95},"95(500)-528",null,null,null,"500",720,"528",12403.566639744929,12858.352652544931,12914.56215974493,13369.98691694493,14404.114100544932,14818.020471744931]
[null,null,0,{"$f":"IF(C585<>0,LOOKUP(,-CODE(C$3:C585),C$3:C585),D584)","v":95},"95(550)-528",null,null,null,"550",720,"528",12919.949501773915,13420.488634573914,13482.353021773915,13983.595158973916,15121.759282573916,15577.306133773916]
[null,null,0,{"$f":"IF(C586<>0,LOOKUP(,-CODE(C$3:C586),C$3:C586),D585)","v":95},"95(600)-528",null,null,null,"600",720,"528",13436.3323638029,13982.624616602901,14050.143883802901,14597.203401002902,15839.404464602901,16336.5917958029]
[null,null,0,{"$f":"IF(C587<>0,LOOKUP(,-CODE(C$3:C587),C$3:C587),D586)","v":95},"95(650)-528",null,null,null,"650",720,"528",13952.715225831886,14544.760598631885,14617.934745831884,15210.811643031884,16557.049646631887,17095.877457831884]
[null,null,0,{"$f":"IF(C588<>0,LOOKUP(,-CODE(C$3:C588),C$3:C588),D587)","v":95},"95(700)-528",null,null,null,"700",720,"528",14469.098087860872,15106.89658066087,15185.72560786087,15824.41988506087,17274.694828660871,17855.163119860874]
[null,null,0,{"$f":"IF(C589<>0,LOOKUP(,-CODE(C$3:C589),C$3:C589),D588)","v":95},"95(750)-528",null,null,null,"750",720,"528",14985.480949889856,15669.032562689856,15753.516469889855,16438.028127089856,17992.340010689855,18614.448781889856]
[null,null,0,{"$f":"IF(C590<>0,LOOKUP(,-CODE(C$3:C590),C$3:C590),D589)","v":95},"95(800)-528",null,null,null,"800",720,"528",15501.86381191884,16231.168544718839,16321.307331918841,17051.636369118838,18709.985192718843,19373.734443918838]
[null,null,0,{"$f":"IF(C591<>0,LOOKUP(,-CODE(C$3:C591),C$3:C591),D590)","v":95},"95(850)-528",null,null,null,"850",720,"528",16018.246673947826,16793.304526747826,16889.098193947826,17665.244611147828,19427.630374747827,20133.020105947828]
[null,null,0,{"$f":"IF(C592<>0,LOOKUP(,-CODE(C$3:C592),C$3:C592),D591)","v":95},"95(900)-528",null,null,null,"900",720,"528",16534.629535976812,17355.440508776814,17456.889055976812,18278.852853176813,20145.275556776811,20892.305767976814]
[null,null,96,{"$f":"IF(C593<>0,LOOKUP(,-CODE(C$3:C593),C$3:C593),D592)","v":96},"96(400)-528","Тумба кухонная с тремя леграбоксами, с одним скрытым и с одним стеклом",null,null,"400",720,"528",11326.690229686958,11690.225114686957,11713.185212686956,12076.975209886958,12837.719790286958,13168.345201486958]
[null,null,0,{"$f":"IF(C594<>0,LOOKUP(,-CODE(C$3:C594),C$3:C594),D593)","v":96},"96(450)-528",null,null,null,"450",720,"528",11841.941191715947,12251.261326715947,12277.113124715946,12686.720501915946,13543.276742315946,13915.542633515945]
[null,null,0,{"$f":"IF(C595<>0,LOOKUP(,-CODE(C$3:C595),C$3:C595),D594)","v":96},"96(500)-528",null,null,null,"500",720,"528",12357.192153744931,12812.29753874493,12841.041036744929,13296.46579394493,14248.83369434493,14662.740065544931]
[null,null,0,{"$f":"IF(C596<>0,LOOKUP(,-CODE(C$3:C596),C$3:C596),D595)","v":96},"96(550)-528",null,null,null,"550",720,"528",12872.443115773915,13373.333750773914,13404.968948773916,13906.211085973917,14954.390646373917,15409.937497573916]
[null,null,0,{"$f":"IF(C597<>0,LOOKUP(,-CODE(C$3:C597),C$3:C597),D596)","v":96},"96(600)-528",null,null,null,"600",720,"528",13387.694077802902,13934.369962802903,13968.896860802903,14515.956378002902,15659.947598402901,16157.134929602902]
[null,null,0,{"$f":"IF(C598<>0,LOOKUP(,-CODE(C$3:C598),C$3:C598),D597)","v":96},"96(650)-528",null,null,null,"650",720,"528",13902.945039831888,14495.406174831887,14532.824772831887,15125.701670031887,16365.504550431886,16904.332361631885]
[null,null,0,{"$f":"IF(C599<>0,LOOKUP(,-CODE(C$3:C599),C$3:C599),D598)","v":96},"96(700)-528",null,null,null,"700",720,"528",14418.19600186087,15056.442386860872,15096.752684860872,15735.446962060871,17071.061502460871,17651.529793660869]
[null,null,0,{"$f":"IF(C600<>0,LOOKUP(,-CODE(C$3:C600),C$3:C600),D599)","v":96},"96(750)-528",null,null,null,"750",720,"528",14933.446963889857,15617.478598889858,15660.680596889859,16345.192254089858,17776.618454489857,18398.727225689858]
[null,null,0,{"$f":"IF(C601<>0,LOOKUP(,-CODE(C$3:C601),C$3:C601),D600)","v":96},"96(800)-528",null,null,null,"800",720,"528",15448.697925918841,16178.514810918839,16224.60850891884,16954.937546118843,18482.17540651884,19145.924657718842]
[null,null,0,{"$f":"IF(C602<>0,LOOKUP(,-CODE(C$3:C602),C$3:C602),D601)","v":96},"96(850)-528",null,null,null,"850",720,"528",15963.948887947827,16739.551022947828,16788.536420947828,17564.68283814783,19187.732358547826,19893.122089747831]
[null,null,0,{"$f":"IF(C603<>0,LOOKUP(,-CODE(C$3:C603),C$3:C603),D602)","v":96},"96(900)-528",null,null,null,"900",720,"528",16479.199849976812,17300.587234976814,17352.464332976815,18174.428130176813,19893.289310576816,20640.319521776815]
[null,null,99,{"$f":"IF(C604<>0,LOOKUP(,-CODE(C$3:C604),C$3:C604),#REF!)","v":99},"99(350)-560","Шкаф кухонный торцевой (радиусный)",null,null,350,1320,"560",29697.343447466668,30154.105687466665,30210.559447466665,30667.96320746667,31706.584087466665,32122.289047466664]
[null,"103",100,{"$f":"IF(C605<>0,LOOKUP(,-CODE(C$3:C605),C$3:C605),D604)","v":100},"100(600)-300","Шкаф настенный однодверный, полка ЛДСП",null,null,"300",600,315,3348.8152020811594,3576.054416481159,3604.1401620811594,3831.6985326811591,4348.4124204811596,4555.2256380811596]
[null,null,0,{"$f":"IF(C606<>0,LOOKUP(,-CODE(C$3:C606),C$3:C606),D605)","v":100},"100(600)-350",null,null,null,"350",600,315,3713.0909549623193,3978.5859293623189,4011.3999149623187,4277.267775562319,4880.9705333623197,5122.6007909623186]
[null,null,0,{"$f":"IF(C607<>0,LOOKUP(,-CODE(C$3:C607),C$3:C607),D606)","v":100},"100(600)-400",null,null,null,"400",600,315,4098.9181393101453,4402.6688737101449,4440.2110993101451,4744.388449910145,5435.0800777101449,5711.5273753101446]
[null,null,0,{"$f":"IF(C608<>0,LOOKUP(,-CODE(C$3:C608),C$3:C608),D607)","v":100},"100(600)-450",null,null,null,"450",600,315,4484.7453236579713,4826.7518180579709,4869.0222836579715,5211.5091242579711,5989.1896220579711,6300.4539596579707]
[null,null,0,{"$f":"IF(C609<>0,LOOKUP(,-CODE(C$3:C609),C$3:C609),D608)","v":100},"100(600)-500",null,null,null,"500",600,315,4870.5725080057973,5250.8347624057969,5297.8334680057978,5678.6297986057971,6543.2991664057972,6889.3805440057977]
[null,null,0,{"$f":"IF(C610<>0,LOOKUP(,-CODE(C$3:C610),C$3:C610),D609)","v":100},"100(600)-550",null,null,null,"550",600,315,5256.3996923536224,5674.917706753623,5726.6446523536233,6145.7504729536231,7097.4087107536225,7478.3071283536228]
[null,null,0,{"$f":"IF(C611<>0,LOOKUP(,-CODE(C$3:C611),C$3:C611),D610)","v":100},"100(600)-600",null,null,null,"600",600,315,5642.2268767014493,6099.000651101449,6155.4558367014497,6612.8711473014491,7651.5182551014486,8067.2337127014489]
[null,null,0,{"$f":"IF(C612<>0,LOOKUP(,-CODE(C$3:C612),C$3:C612),D611)","v":100},"100(720)-300",null,null,null,"300",720,315,3804.6464029623185,4077.5618413623188,4111.2929629623186,4384.591709562319,5005.1676853623185,5253.5513989623187]
[null,null,0,{"$f":"IF(C613<>0,LOOKUP(,-CODE(C$3:C613),C$3:C613),D612)","v":100},"100(720)-350",null,null,null,"350",720,315,4260.5188916579709,4579.3796900579709,4618.7894516579709,4938.0980882579715,5663.1481340579712,5953.3472876579708]
[null,null,0,{"$f":"IF(C614<>0,LOOKUP(,-CODE(C$3:C614),C$3:C614),D613)","v":100},"100(720)-400",null,null,null,"400",720,315,4716.3913803536225,5081.1975387536222,5126.2859403536231,5491.6044669536223,6321.1285827536221,6653.1431763536229]
[null,null,0,{"$f":"IF(C615<>0,LOOKUP(,-CODE(C$3:C615),C$3:C615),D614)","v":100},"100(720)-450",null,null,null,"450",720,315,5172.2638690492749,5583.0153874492753,5633.7824290492754,6045.1108456492748,6979.1090314492749,7352.9390650492751]
[null,null,0,{"$f":"IF(C616<>0,LOOKUP(,-CODE(C$3:C616),C$3:C616),D615)","v":100},"100(720)-500",null,null,null,"500",720,315,5628.1363577449274,6084.8332361449284,6141.2789177449285,6598.6172243449282,7637.0894801449285,8052.7349537449281]
[null,null,0,{"$f":"IF(C617<>0,LOOKUP(,-CODE(C$3:C617),C$3:C617),D616)","v":100},"100(720)-550",null,null,null,"550",720,315,6084.0088464405799,6586.6510848405796,6648.7754064405799,7152.1236030405798,8295.0699288405795,8752.5308424405794]
[null,null,0,{"$f":"IF(C618<>0,LOOKUP(,-CODE(C$3:C618),C$3:C618),D617)","v":100},"100(720)-600",null,null,null,"600",720,315,6539.8813351362323,7088.4689335362318,7156.2718951362322,7705.6299817362324,8953.0503775362322,9452.3267311362324]
[null,null,0,{"$f":"IF(C619<>0,LOOKUP(,-CODE(C$3:C619),C$3:C619),D618)","v":100},"100(800)-300",null,null,null,"300",800,315,4225.755172660869,4529.1214270608698,4566.616132660869,4870.4084632608701,5560.2258310608695,5836.3232086608696]
[null,null,0,{"$f":"IF(C620<>0,LOOKUP(,-CODE(C$3:C620),C$3:C620),D619)","v":100},"100(800)-350",null,null,null,"350",800,315,4740.1290242550731,5094.5670386550728,5138.3739842550731,5493.3098048550728,6299.2580426550721,6621.8364602550728]
[null,null,0,{"$f":"IF(C621<>0,LOOKUP(,-CODE(C$3:C621),C$3:C621),D620)","v":100},"100(800)-400",null,null,null,"400",800,315,5254.5028758492754,5660.0126502492749,5710.1318358492754,6116.2111464492755,7038.2902542492757,7407.3497118492751]
[null,null,0,{"$f":"IF(C622<>0,LOOKUP(,-CODE(C$3:C622),C$3:C622),D621)","v":100},"100(800)-450",null,null,null,"450",800,315,5768.8767274434776,6225.4582618434779,6281.8896874434786,6739.1124880434782,7777.3224658434783,8192.8629634434783]
[null,null,0,{"$f":"IF(C623<>0,LOOKUP(,-CODE(C$3:C623),C$3:C623),D622)","v":100},"100(800)-500",null,null,null,"500",800,315,6283.2505790376817,6790.9038734376809,6853.64753903768,7362.0138296376808,8516.3546774376809,8978.3762150376806]
[null,null,0,{"$f":"IF(C624<>0,LOOKUP(,-CODE(C$3:C624),C$3:C624),D623)","v":100},"100(800)-550",null,null,null,"550",800,315,6797.624430631884,7356.3494850318839,7425.4053906318841,7984.9151712318844,9255.3868890318845,9763.8894666318847]
[null,null,0,{"$f":"IF(C625<>0,LOOKUP(,-CODE(C$3:C625),C$3:C625),D624)","v":100},"100(800)-600",null,null,null,"600",800,315,7311.9982822260863,7921.795096626086,7997.1632422260864,8607.8165128260862,9994.419100626088,10549.402718226087]
[null,null,0,{"$f":"IF(C626<>0,LOOKUP(,-CODE(C$3:C626),C$3:C626),D625)","v":100},"100(920)-300",null,null,null,"300",920,315,4855.3673050086954,5204.4097834086951,5247.5498650086956,5597.0825716086956,6390.7620274086958,6708.4299010086961]
[null,null,0,{"$f":"IF(C627<>0,LOOKUP(,-CODE(C$3:C627),C$3:C627),D626)","v":100},"100(920)-350",null,null,null,"350",920,315,5439.7864609507242,5847.5902993507243,5897.9930209507247,6306.3696175507248,7233.665143350725,7604.8124569507245]
[null,null,0,{"$f":"IF(C628<>0,LOOKUP(,-CODE(C$3:C628),C$3:C628),D627)","v":100},"100(920)-400",null,null,null,"400",920,315,6024.2056168927538,6490.7708152927535,6548.4361768927538,7015.6566634927531,8076.5682592927533,8501.1950128927547]
[null,null,0,{"$f":"IF(C629<>0,LOOKUP(,-CODE(C$3:C629),C$3:C629),D628)","v":100},"100(920)-450",null,null,null,"450",920,315,6608.6247728347826,7133.9513312347835,7198.8793328347829,7724.9437094347832,8919.4713752347816,9397.5775688347821]
[null,null,0,{"$f":"IF(C630<>0,LOOKUP(,-CODE(C$3:C630),C$3:C630),D629)","v":100},"100(920)-500",null,null,null,"500",920,315,7193.0439287768113,7777.1318471768118,7849.322488776812,8434.2307553768114,9762.3744911768117,10293.960124776811]
[null,null,0,{"$f":"IF(C631<>0,LOOKUP(,-CODE(C$3:C631),C$3:C631),D630)","v":100},"100(920)-550",null,null,null,"550",920,315,7777.4630847188419,8420.3123631188409,8499.7656447188401,9143.5178013188397,10605.27760711884,11190.342680718841]
[null,null,0,{"$f":"IF(C632<>0,LOOKUP(,-CODE(C$3:C632),C$3:C632),D631)","v":100},"100(920)-600",null,null,null,"600",920,315,8361.8822406608706,9063.4928790608683,9150.2088006608683,9852.804847260868,11448.180723060868,12086.72523666087]
[null,null,0,{"$f":"IF(C633<>0,LOOKUP(,-CODE(C$3:C633),C$3:C633),D632)","v":100},"100(960)-300",null,null,null,"300",960,315,5014.4948491246378,5378.7627355246377,5423.7846091246374,5788.5641077246373,6616.8642595246374,6948.3889651246382]
[null,null,0,{"$f":"IF(C634<>0,LOOKUP(,-CODE(C$3:C634),C$3:C634),D633)","v":100},"100(960)-350",null,null,null,"350",960,315,5622.2624398492753,6047.8548862492753,6100.4561998492754,6526.6463884492759,7494.3910102492755,7881.7279558492755]
[null,null,0,{"$f":"IF(C635<>0,LOOKUP(,-CODE(C$3:C635),C$3:C635),D634)","v":100},"100(960)-400",null,null,null,"400",960,315,6230.0300305739129,6716.9470369739138,6777.1277905739134,7264.7286691739137,8371.9177609739127,8815.066946573912]
[null,null,0,{"$f":"IF(C636<>0,LOOKUP(,-CODE(C$3:C636),C$3:C636),D635)","v":100},"100(960)-450",null,null,null,"450",960,315,6837.7976212985504,7386.0391876985504,7453.7993812985515,8002.8109498985505,9249.4445116985517,9748.4059372985521]
[null,null,0,{"$f":"IF(C637<>0,LOOKUP(,-CODE(C$3:C637),C$3:C637),D636)","v":100},"100(960)-500",null,null,null,"500",960,315,7445.5652120231889,8055.1313384231889,8130.4709720231886,8740.8932306231873,10126.971262423187,10681.744928023189]
[null,null,0,{"$f":"IF(C638<>0,LOOKUP(,-CODE(C$3:C638),C$3:C638),D637)","v":100},"100(960)-550",null,null,null,"550",960,315,8053.3328027478265,8724.2234891478256,8807.1425627478257,9478.9755113478277,11004.498013147826,11615.083918747827]
[null,null,0,{"$f":"IF(C639<>0,LOOKUP(,-CODE(C$3:C639),C$3:C639),D638)","v":100},"100(960)-600",null,null,null,"600",960,315,8661.1003934724631,9393.3156398724641,9483.8141534724637,10217.057792072463,11882.024763872463,12548.422909472463]
[null,"104",101,{"$f":"IF(C640<>0,LOOKUP(,-CODE(C$3:C640),C$3:C640),D639)","v":101},"101(600)-500","Шкаф настенный двухдверный, полка ЛДСП",null,null,"500",600,315,5194.5236640057974,5572.4905728057975,5619.2055840057983,5997.7033452057967,6857.1533808057975,7201.1457360057975]
[null,null,0,{"$f":"IF(C641<>0,LOOKUP(,-CODE(C$3:C641),C$3:C641),D640)","v":101},"101(600)-550",null,null,null,"550",600,315,5580.3508483536225,5996.5735171536235,6048.0167683536238,6464.8240195536237,7411.2629251536237,7790.0723203536227]
[null,null,0,{"$f":"IF(C642<>0,LOOKUP(,-CODE(C$3:C642),C$3:C642),D641)","v":101},"101(600)-600",null,null,null,"600",600,315,5966.1780327014494,6420.6564615014486,6476.8279527014492,6931.9446939014488,7965.3724695014498,8378.9989047014496]
[null,null,0,{"$f":"IF(C643<>0,LOOKUP(,-CODE(C$3:C643),C$3:C643),D642)","v":101},"101(600)-650",null,null,null,"650",600,315,6352.0052170492754,6844.7394058492755,6905.6391370492756,7399.0653682492757,8519.482013849276,8967.9254890492739]
[null,null,0,{"$f":"IF(C644<>0,LOOKUP(,-CODE(C$3:C644),C$3:C644),D643)","v":101},"101(600)-700",null,null,null,"700",600,315,6737.8324013971014,7268.8223501971024,7334.450321397102,7866.1860425971026,9073.5915581971021,9556.8520733971018]
[null,null,0,{"$f":"IF(C645<>0,LOOKUP(,-CODE(C$3:C645),C$3:C645),D644)","v":101},"101(600)-750",null,null,null,"750",600,315,7123.6595857449274,7692.9052945449275,7763.2615057449275,8333.3067169449278,9627.7011025449283,10145.778657744926]
[null,null,0,{"$f":"IF(C646<>0,LOOKUP(,-CODE(C$3:C646),C$3:C646),D645)","v":101},"101(600)-800",null,null,null,"800",600,315,7509.4867700927534,8116.9882388927526,8192.072690092753,8800.4273912927529,10181.810646892753,10734.705242092752]
[null,null,0,{"$f":"IF(C647<>0,LOOKUP(,-CODE(C$3:C647),C$3:C647),D646)","v":101},"101(600)-850",null,null,null,"850",600,315,7895.3139544405794,8541.0711832405796,8620.8838744405803,9267.5480656405798,10735.920191240581,11323.631826440578]
[null,null,0,{"$f":"IF(C648<>0,LOOKUP(,-CODE(C$3:C648),C$3:C648),D647)","v":101},"101(600)-900",null,null,null,"900",600,315,8281.1411387884054,8965.1541275884047,9049.6950587884057,9734.6687399884067,11290.029735588407,11912.558410788406]
[null,null,0,{"$f":"IF(C649<>0,LOOKUP(,-CODE(C$3:C649),C$3:C649),D648)","v":101},"101(720)-500",null,null,null,"500",720,315,5947.9532737449281,6401.8934305449275,6457.9983937449288,6912.5761069449272,7944.7799185449276,8357.9164657449273]
[null,null,0,{"$f":"IF(C650<>0,LOOKUP(,-CODE(C$3:C650),C$3:C650),D649)","v":101},"101(720)-550",null,null,null,"550",720,315,6403.8257624405796,6903.7112792405796,6965.4948824405801,7466.0824856405798,8602.7603672405785,9057.7123544405804]
[null,null,0,{"$f":"IF(C651<>0,LOOKUP(,-CODE(C$3:C651),C$3:C651),D650)","v":101},"101(720)-600",null,null,null,"600",720,315,6859.6982511362312,7405.5291279362318,7472.9913711362315,8019.5888643362323,9260.7408159362312,9757.5082431362316]
[null,null,0,{"$f":"IF(C652<>0,LOOKUP(,-CODE(C$3:C652),C$3:C652),D651)","v":101},"101(720)-650",null,null,null,"650",720,315,7315.5707398318846,7907.3469766318849,7980.4878598318846,8573.0952430318848,9918.721264631884,10457.304131831885]
[null,null,0,{"$f":"IF(C653<>0,LOOKUP(,-CODE(C$3:C653),C$3:C653),D652)","v":101},"101(720)-700",null,null,null,"700",720,315,7771.4432285275361,8409.1648253275362,8487.984348527536,9126.6016217275355,10576.701713327537,11157.100020527536]
[null,null,0,{"$f":"IF(C654<>0,LOOKUP(,-CODE(C$3:C654),C$3:C654),D653)","v":101},"101(720)-750",null,null,null,"750",720,315,8227.3157172231877,8910.9826740231892,8995.4808372231892,9680.1080004231881,11234.682162023188,11856.895909223189]
[null,null,0,{"$f":"IF(C655<>0,LOOKUP(,-CODE(C$3:C655),C$3:C655),D654)","v":101},"101(720)-800",null,null,null,"800",720,315,8683.1882059188392,9412.8005227188405,9502.9773259188405,10233.614379118841,11892.662610718839,12556.69179791884]
[null,null,0,{"$f":"IF(C656<>0,LOOKUP(,-CODE(C$3:C656),C$3:C656),D655)","v":101},"101(720)-850",null,null,null,"850",720,315,9139.0606946144908,9914.6183714144936,10010.473814614492,10787.120757814493,12550.643059414491,13256.487686614491]
[null,null,0,{"$f":"IF(C657<>0,LOOKUP(,-CODE(C$3:C657),C$3:C657),D656)","v":101},"101(720)-900",null,null,null,"900",720,315,9594.9331833101442,10416.436220110145,10517.970303310145,11340.627136510144,13208.623508110144,13956.283575310144]
[null,null,0,{"$f":"IF(C658<>0,LOOKUP(,-CODE(C$3:C658),C$3:C658),D657)","v":101},"101(800)-500",null,null,null,"500",800,315,6812.2023350376821,7316.7913238376814,7379.1562550376821,7884.4539362376818,9031.8269318376824,9491.0596070376814]
[null,null,0,{"$f":"IF(C659<>0,LOOKUP(,-CODE(C$3:C659),C$3:C659),D658)","v":101},"101(800)-550",null,null,null,"550",800,315,7316.601186631884,7872.2619354318831,7940.939106631884,8497.3802778318841,9760.8841434318838,10266.597858631883]
[null,null,0,{"$f":"IF(C660<>0,LOOKUP(,-CODE(C$3:C660),C$3:C660),D659)","v":101},"101(800)-600",null,null,null,"600",800,315,7821.0000382260869,8427.7325470260876,8502.7219582260877,9110.3066194260864,10489.941355026087,11042.136110226085]
[null,null,0,{"$f":"IF(C661<>0,LOOKUP(,-CODE(C$3:C661),C$3:C661),D660)","v":101},"101(800)-650",null,null,null,"650",800,315,8325.3988898202897,8983.2031586202902,9064.5048098202897,9723.2329610202905,11218.998566620288,11817.674361820289]
[null,null,0,{"$f":"IF(C662<>0,LOOKUP(,-CODE(C$3:C662),C$3:C662),D661)","v":101},"101(800)-700",null,null,null,"700",800,315,8829.7977414144934,9538.6737702144928,9626.2876614144934,10336.159302614493,11948.055778214492,12593.212613414493]
[null,null,0,{"$f":"IF(C663<>0,LOOKUP(,-CODE(C$3:C663),C$3:C663),D662)","v":101},"101(800)-750",null,null,null,"750",800,315,9334.1965930086972,10094.144381808697,10188.070513008697,10949.085644208697,12677.112989808698,13368.750865008698]
[null,null,0,{"$f":"IF(C664<>0,LOOKUP(,-CODE(C$3:C664),C$3:C664),D663)","v":101},"101(800)-800",null,null,null,"800",800,315,9838.5954446028991,10649.614993402898,10749.853364602899,11562.011985802899,13406.1702014029,14144.289116602899]
[null,null,0,{"$f":"IF(C665<>0,LOOKUP(,-CODE(C$3:C665),C$3:C665),D664)","v":101},"101(800)-850",null,null,null,"850",800,315,10342.994296197103,11205.085604997103,11311.636216197103,12174.938327397102,14135.227412997103,14919.827368197102]
[null,null,0,{"$f":"IF(C666<>0,LOOKUP(,-CODE(C$3:C666),C$3:C666),D665)","v":101},"101(800)-900",null,null,null,"900",800,315,10847.393147791305,11760.556216591305,11873.419067791307,12787.864668991306,14864.284624591306,15695.365619791306]
[null,null,0,{"$f":"IF(C667<>0,LOOKUP(,-CODE(C$3:C667),C$3:C667),D666)","v":101},"101(920)-500",null,null,null,"500",920,315,7565.6319447768119,8146.1941815768123,8217.9490647768125,8799.3266979768123,10119.453469576812,10647.830336776811]
[null,null,0,{"$f":"IF(C668<>0,LOOKUP(,-CODE(C$3:C668),C$3:C668),D667)","v":101},"101(920)-550",null,null,null,"550",920,315,8140.0761007188412,8779.3996975188402,8858.4172207188403,9498.6387439188402,10952.38158551884,11534.23789271884]
[null,null,0,{"$f":"IF(C669<>0,LOOKUP(,-CODE(C$3:C669),C$3:C669),D668)","v":101},"101(920)-600",null,null,null,"600",920,315,8714.5202566608696,9412.605213460869,9498.88537666087,10197.95078986087,11785.30970146087,12420.645448660871]
[null,null,0,{"$f":"IF(C670<>0,LOOKUP(,-CODE(C$3:C670),C$3:C670),D669)","v":101},"101(920)-650",null,null,null,"650",920,315,9288.9644126028979,10045.8107294029,10139.353532602898,10897.262835802898,12618.237817402898,13307.053004602898]
[null,null,0,{"$f":"IF(C671<>0,LOOKUP(,-CODE(C$3:C671),C$3:C671),D670)","v":101},"101(920)-700",null,null,null,"700",920,315,9863.4085685449281,10679.016245344928,10779.821688544929,11596.574881744928,13451.165933344928,14193.460560544929]
[null,null,0,{"$f":"IF(C672<>0,LOOKUP(,-CODE(C$3:C672),C$3:C672),D671)","v":101},"101(920)-750",null,null,null,"750",920,315,10437.852724486957,11312.221761286957,11420.289844486957,12295.886927686957,14284.094049286956,15079.868116486956]
[null,null,0,{"$f":"IF(C673<>0,LOOKUP(,-CODE(C$3:C673),C$3:C673),D672)","v":101},"101(920)-800",null,null,null,"800",920,315,11012.296880428985,11945.427277228986,12060.758000428987,12995.198973628985,15117.022165228986,15966.275672428987]
[null,null,0,{"$f":"IF(C674<>0,LOOKUP(,-CODE(C$3:C674),C$3:C674),D673)","v":101},"101(920)-850",null,null,null,"850",920,315,11586.741036371015,12578.632793171015,12701.226156371016,13694.511019571015,15949.950281171015,16852.683228371014]
[null,null,0,{"$f":"IF(C675<>0,LOOKUP(,-CODE(C$3:C675),C$3:C675),D674)","v":101},"101(920)-900",null,null,null,"900",920,315,12161.185192313043,13211.838309113045,13341.694312313044,14393.823065513045,16782.878397113043,17739.090784313044]
[null,null,0,{"$f":"IF(C676<>0,LOOKUP(,-CODE(C$3:C676),C$3:C676),D675)","v":101},"101(960)-500",null,null,null,"500",960,315,7816.7751480231891,8422.661800823189,8497.5466680231893,9104.2842852231879,10481.995648823189,11033.420580023188]
[null,null,0,{"$f":"IF(C677<>0,LOOKUP(,-CODE(C$3:C677),C$3:C677),D676)","v":101},"101(960)-550",null,null,null,"550",960,315,8414.5677387478245,9081.7789515478253,9164.2432587478252,9832.3915659478262,11349.547399547824,11956.784570747826]
[null,null,0,{"$f":"IF(C678<>0,LOOKUP(,-CODE(C$3:C678),C$3:C678),D677)","v":101},"101(960)-600",null,null,null,"600",960,315,9012.3603294724635,9740.8961022724652,9830.9398494724646,10560.498846672464,12217.099150272465,12880.148561472466]
[null,null,0,{"$f":"IF(C679<>0,LOOKUP(,-CODE(C$3:C679),C$3:C679),D678)","v":101},"101(960)-650",null,null,null,"650",960,315,9610.1529201971025,10400.013252997102,10497.636440197102,11288.606127397101,13084.650900997101,13803.5125521971]
[null,null,0,{"$f":"IF(C680<>0,LOOKUP(,-CODE(C$3:C680),C$3:C680),D679)","v":101},"101(960)-700",null,null,null,"700",960,315,10207.945510921742,11059.13040372174,11164.33303092174,12016.713408121741,13952.20265172174,14726.87654292174]
[null,null,0,{"$f":"IF(C681<>0,LOOKUP(,-CODE(C$3:C681),C$3:C681),D680)","v":101},"101(960)-750",null,null,null,"750",960,315,10805.738101646377,11718.247554446378,11831.029621646376,12744.820688846376,14819.754402446375,15650.240533646374]
[null,null,0,{"$f":"IF(C682<>0,LOOKUP(,-CODE(C$3:C682),C$3:C682),D681)","v":101},"101(960)-800",null,null,null,"800",960,315,11403.530692371014,12377.364705171016,12497.726212371015,13472.927969571016,15687.306153171015,16573.604524371014]
[null,null,0,{"$f":"IF(C683<>0,LOOKUP(,-CODE(C$3:C683),C$3:C683),D682)","v":101},"101(960)-850",null,null,null,"850",960,315,12001.323283095651,13036.481855895652,13164.422803095651,14201.035250295652,16554.857903895652,17496.968515095654]
[null,null,0,{"$f":"IF(C684<>0,LOOKUP(,-CODE(C$3:C684),C$3:C684),D683)","v":101},"101(960)-900",null,null,null,"900",960,315,12599.11587382029,13695.59900662029,13831.119393820292,14929.14253102029,17422.409654620289,18420.332505820294]
[null,"105",102,{"$f":"IF(C685<>0,LOOKUP(,-CODE(C$3:C685),C$3:C685),D684)","v":102},"102(720)-300","Шкаф настенный однодверный с нишей вверху, полка ЛДСП",null,null,"300",720,315,3264.8699546956523,3469.2710570956524,3494.5341146956525,3699.2222972956524,4164.0051410956521,4350.0331106956528]
[null,null,0,{"$f":"IF(C686<>0,LOOKUP(,-CODE(C$3:C686),C$3:C686),D685)","v":102},"102(720)-350",null,null,null,"350",720,315,3629.7509367246375,3868.5629991246378,3898.0790967246376,4137.2265693246372,4680.2556831246375,4897.6014927246379]
[null,null,0,{"$f":"IF(C687<>0,LOOKUP(,-CODE(C$3:C687),C$3:C687),D686)","v":102},"102(720)-400",null,null,null,"400",720,315,3994.6319187536228,4267.8549411536233,4301.6240787536226,4575.230841353623,5196.5062251536228,5445.1698747536229]
[null,null,0,{"$f":"IF(C688<>0,LOOKUP(,-CODE(C$3:C688),C$3:C688),D687)","v":102},"102(720)-450",null,null,null,"450",720,315,4359.512900782609,4667.1468831826087,4705.1690607826085,5013.2351133826087,5712.7567671826091,5992.7382567826089]
[null,null,0,{"$f":"IF(C689<>0,LOOKUP(,-CODE(C$3:C689),C$3:C689),D688)","v":102},"102(720)-500",null,null,null,"500",720,315,4724.3938828115943,5066.4388252115941,5108.7140428115945,5451.2393854115944,6229.0073092115936,6540.306638811594]
[null,null,0,{"$f":"IF(C690<>0,LOOKUP(,-CODE(C$3:C690),C$3:C690),D689)","v":102},"102(720)-550",null,null,null,"550",720,315,5089.2748648405795,5465.7307672405796,5512.2590248405795,5889.2436574405801,6745.2578512405798,7087.87502084058]
[null,null,0,{"$f":"IF(C691<>0,LOOKUP(,-CODE(C$3:C691),C$3:C691),D690)","v":102},"102(720)-600",null,null,null,"600",720,315,5454.1558468695657,5865.0227092695659,5915.8040068695655,6327.2479294695659,7261.5083932695652,7635.443402869565]
[null,null,0,{"$f":"IF(C692<>0,LOOKUP(,-CODE(C$3:C692),C$3:C692),D691)","v":102},"102(800)-300",null,null,null,"300",800,315,3514.9100829275362,3742.1492973275363,3770.2350429275366,3997.7934135275364,4514.507301327536,4721.3205189275359]
[null,null,0,{"$f":"IF(C693<>0,LOOKUP(,-CODE(C$3:C693),C$3:C693),D692)","v":102},"102(800)-350",null,null,null,"350",800,315,3915.0039345217392,4180.4989089217397,4213.3128945217395,4479.1807551217398,5082.8835129217396,5324.5137705217394]
[null,null,0,{"$f":"IF(C694<>0,LOOKUP(,-CODE(C$3:C694),C$3:C694),D693)","v":102},"102(800)-400",null,null,null,"400",800,315,4315.0977861159427,4618.8485205159423,4656.3907461159424,4960.5680967159424,5651.2597245159423,5927.707022115942]
[null,null,0,{"$f":"IF(C695<>0,LOOKUP(,-CODE(C$3:C695),C$3:C695),D694)","v":102},"102(800)-450",null,null,null,"450",800,315,4715.1916377101452,5057.1981321101448,5099.4685977101453,5441.9554383101449,6219.6359361101449,6530.9002737101446]
[null,null,0,{"$f":"IF(C696<>0,LOOKUP(,-CODE(C$3:C696),C$3:C696),D695)","v":102},"102(800)-500",null,null,null,"500",800,315,5115.2854893043477,5495.5477437043482,5542.5464493043482,5923.3427799043475,6788.0121477043476,7134.0935253043481]
[null,null,0,{"$f":"IF(C697<>0,LOOKUP(,-CODE(C$3:C697),C$3:C697),D696)","v":102},"102(800)-550",null,null,null,"550",800,315,5515.3793408985503,5933.8973552985508,5985.6243008985512,6404.7301214985509,7356.3883592985503,7737.2867768985507]
[null,null,0,{"$f":"IF(C698<>0,LOOKUP(,-CODE(C$3:C698),C$3:C698),D697)","v":102},"102(800)-600",null,null,null,"600",800,315,5915.4731924927537,6372.2469668927533,6428.7021524927541,6886.1174630927535,7924.764570892753,8340.4800284927533]
[null,null,0,{"$f":"IF(C699<>0,LOOKUP(,-CODE(C$3:C699),C$3:C699),D698)","v":102},"102(920)-300",null,null,null,"300",920,315,3992.2927152753628,4265.2081536753631,4298.9392752753629,4572.2380218753624,5192.8139976753628,5441.1977112753621]
[null,null,0,{"$f":"IF(C700<>0,LOOKUP(,-CODE(C$3:C700),C$3:C700),D699)","v":102},"102(920)-350",null,null,null,"350",920,315,4462.4318712173908,4781.2926696173918,4820.7024312173908,5140.0110678173914,5865.0611136173911,6155.2602672173907]
[null,null,0,{"$f":"IF(C701<>0,LOOKUP(,-CODE(C$3:C701),C$3:C701),D700)","v":102},"102(920)-400",null,null,null,"400",920,315,4932.5710271594198,5297.3771855594196,5342.4655871594205,5707.7841137594196,6537.3082295594195,6869.3228231594203]
[null,null,0,{"$f":"IF(C702<>0,LOOKUP(,-CODE(C$3:C702),C$3:C702),D701)","v":102},"102(920)-450",null,null,null,"450",920,315,5402.7101831014488,5813.4617015014492,5864.2287431014493,6275.5571597014487,7209.5553455014488,7583.385379101449]
[null,null,0,{"$f":"IF(C703<>0,LOOKUP(,-CODE(C$3:C703),C$3:C703),D702)","v":102},"102(920)-500",null,null,null,"500",920,315,5872.8493390434787,6329.5462174434788,6385.991899043479,6843.3302056434786,7881.8024614434789,8297.4479350434794]
[null,null,0,{"$f":"IF(C704<>0,LOOKUP(,-CODE(C$3:C704),C$3:C704),D703)","v":102},"102(920)-550",null,null,null,"550",920,315,6342.9884949855077,6845.6307333855075,6907.7550549855077,7411.1032515855077,8554.0495773855073,9011.5104909855072]
[null,null,0,{"$f":"IF(C705<>0,LOOKUP(,-CODE(C$3:C705),C$3:C705),D704)","v":102},"102(920)-600",null,null,null,"600",920,315,6813.1276509275367,7361.7152493275362,7429.5182109275365,7978.8762975275367,9226.2966933275366,9725.5730469275368]
[null,null,0,{"$f":"IF(C706<>0,LOOKUP(,-CODE(C$3:C706),C$3:C706),D705)","v":102},"102(960)-300",null,null,null,"300",960,315,4014.9903393913046,4287.9057777913049,4321.6368993913047,4594.9356459913042,5215.5116217913046,5463.8953353913039]
[null,null,0,{"$f":"IF(C707<>0,LOOKUP(,-CODE(C$3:C707),C$3:C707),D706)","v":102},"102(960)-350",null,null,null,"350",960,315,4485.5099301159416,4804.3707285159426,4843.7804901159416,5163.0891267159423,5888.1391725159419,6178.3383261159415]
[null,null,0,{"$f":"IF(C708<>0,LOOKUP(,-CODE(C$3:C708),C$3:C708),D707)","v":102},"102(960)-400",null,null,null,"400",960,315,4956.0295208405796,5320.8356792405793,5365.9240808405793,5731.2426074405794,6560.7667232405793,6892.7813168405801]
[null,null,0,{"$f":"IF(C709<>0,LOOKUP(,-CODE(C$3:C709),C$3:C709),D708)","v":102},"102(960)-450",null,null,null,"450",960,315,5426.5491115652176,5837.3006299652179,5888.067671565218,6299.3960881652174,7233.3942739652175,7607.2243075652177]
[null,null,0,{"$f":"IF(C710<>0,LOOKUP(,-CODE(C$3:C710),C$3:C710),D709)","v":102},"102(960)-500",null,null,null,"500",960,315,5897.0687022898555,6353.7655806898556,6410.2112622898558,6867.5495688898554,7906.0218246898557,8321.6672982898563]
[null,null,0,{"$f":"IF(C711<>0,LOOKUP(,-CODE(C$3:C711),C$3:C711),D710)","v":102},"102(960)-550",null,null,null,"550",960,315,6367.5882930144935,6870.2305314144933,6932.3548530144935,7435.7030496144935,8578.6493754144922,9036.1102890144921]
[null,null,0,{"$f":"IF(C712<>0,LOOKUP(,-CODE(C$3:C712),C$3:C712),D711)","v":102},"102(960)-600",null,null,null,"600",960,315,6838.1078837391315,7386.6954821391309,7454.4984437391313,8003.8565303391315,9251.2769261391313,9750.5532797391315]
[null,"105",103,{"$f":"IF(C713<>0,LOOKUP(,-CODE(C$3:C713),C$3:C713),D712)","v":103},"103(720)-300","Шкаф настенный однодверный с нишей внизу, полка ЛДСП",null,null,"300",720,315,3264.8699546956523,3469.2710570956524,3494.5341146956525,3699.2222972956524,4164.0051410956521,4350.0331106956528]
[null,null,0,{"$f":"IF(C714<>0,LOOKUP(,-CODE(C$3:C714),C$3:C714),D713)","v":103},"103(720)-350",null,null,null,"350",720,315,3629.7509367246375,3868.5629991246378,3898.0790967246376,4137.2265693246372,4680.2556831246375,4897.6014927246379]
[null,null,0,{"$f":"IF(C715<>0,LOOKUP(,-CODE(C$3:C715),C$3:C715),D714)","v":103},"103(720)-400",null,null,null,"400",720,315,3994.6319187536228,4267.8549411536233,4301.6240787536226,4575.230841353623,5196.5062251536228,5445.1698747536229]
[null,null,0,{"$f":"IF(C716<>0,LOOKUP(,-CODE(C$3:C716),C$3:C716),D715)","v":103},"103(720)-450",null,null,null,"450",720,315,4359.512900782609,4667.1468831826087,4705.1690607826085,5013.2351133826087,5712.7567671826091,5992.7382567826089]
[null,null,0,{"$f":"IF(C717<>0,LOOKUP(,-CODE(C$3:C717),C$3:C717),D716)","v":103},"103(720)-500",null,null,null,"500",720,315,4724.3938828115943,5066.4388252115941,5108.7140428115945,5451.2393854115944,6229.0073092115936,6540.306638811594]
[null,null,0,{"$f":"IF(C718<>0,LOOKUP(,-CODE(C$3:C718),C$3:C718),D717)","v":103},"103(720)-550",null,null,null,"550",720,315,5089.2748648405795,5465.7307672405796,5512.2590248405795,5889.2436574405801,6745.2578512405798,7087.87502084058]
[null,null,0,{"$f":"IF(C719<>0,LOOKUP(,-CODE(C$3:C719),C$3:C719),D718)","v":103},"103(720)-600",null,null,null,"600",720,315,5454.1558468695657,5865.0227092695659,5915.8040068695655,6327.2479294695659,7261.5083932695652,7635.443402869565]
[null,null,0,{"$f":"IF(C720<>0,LOOKUP(,-CODE(C$3:C720),C$3:C720),D719)","v":103},"103(800)-300",null,null,null,"300",800,315,3514.9100829275362,3742.1492973275363,3770.2350429275366,3997.7934135275364,4514.507301327536,4721.3205189275359]
[null,null,0,{"$f":"IF(C721<>0,LOOKUP(,-CODE(C$3:C721),C$3:C721),D720)","v":103},"103(800)-350",null,null,null,"350",800,315,3915.0039345217392,4180.4989089217397,4213.3128945217395,4479.1807551217398,5082.8835129217396,5324.5137705217394]
[null,null,0,{"$f":"IF(C722<>0,LOOKUP(,-CODE(C$3:C722),C$3:C722),D721)","v":103},"103(800)-400",null,null,null,"400",800,315,4315.0977861159427,4618.8485205159423,4656.3907461159424,4960.5680967159424,5651.2597245159423,5927.707022115942]
[null,null,0,{"$f":"IF(C723<>0,LOOKUP(,-CODE(C$3:C723),C$3:C723),D722)","v":103},"103(800)-450",null,null,null,"450",800,315,4715.1916377101452,5057.1981321101448,5099.4685977101453,5441.9554383101449,6219.6359361101449,6530.9002737101446]
[null,null,0,{"$f":"IF(C724<>0,LOOKUP(,-CODE(C$3:C724),C$3:C724),D723)","v":103},"103(800)-500",null,null,null,"500",800,315,5115.2854893043477,5495.5477437043482,5542.5464493043482,5923.3427799043475,6788.0121477043476,7134.0935253043481]
[null,null,0,{"$f":"IF(C725<>0,LOOKUP(,-CODE(C$3:C725),C$3:C725),D724)","v":103},"103(800)-550",null,null,null,"550",800,315,5515.3793408985503,5933.8973552985508,5985.6243008985512,6404.7301214985509,7356.3883592985503,7737.2867768985507]
[null,null,0,{"$f":"IF(C726<>0,LOOKUP(,-CODE(C$3:C726),C$3:C726),D725)","v":103},"103(800)-600",null,null,null,"600",800,315,5915.4731924927537,6372.2469668927533,6428.7021524927541,6886.1174630927535,7924.764570892753,8340.4800284927533]
[null,null,0,{"$f":"IF(C727<>0,LOOKUP(,-CODE(C$3:C727),C$3:C727),D726)","v":103},"103(920)-300",null,null,null,"300",920,315,3992.2927152753628,4265.2081536753631,4298.9392752753629,4572.2380218753624,5192.8139976753628,5441.1977112753621]
[null,null,0,{"$f":"IF(C728<>0,LOOKUP(,-CODE(C$3:C728),C$3:C728),D727)","v":103},"103(920)-350",null,null,null,"350",920,315,4462.4318712173908,4781.2926696173918,4820.7024312173908,5140.0110678173914,5865.0611136173911,6155.2602672173907]
[null,null,0,{"$f":"IF(C729<>0,LOOKUP(,-CODE(C$3:C729),C$3:C729),D728)","v":103},"103(920)-400",null,null,null,"400",920,315,4932.5710271594198,5297.3771855594196,5342.4655871594205,5707.7841137594196,6537.3082295594195,6869.3228231594203]
[null,null,0,{"$f":"IF(C730<>0,LOOKUP(,-CODE(C$3:C730),C$3:C730),D729)","v":103},"103(920)-450",null,null,null,"450",920,315,5402.7101831014488,5813.4617015014492,5864.2287431014493,6275.5571597014487,7209.5553455014488,7583.385379101449]
[null,null,0,{"$f":"IF(C731<>0,LOOKUP(,-CODE(C$3:C731),C$3:C731),D730)","v":103},"103(920)-500",null,null,null,"500",920,315,5872.8493390434787,6329.5462174434788,6385.991899043479,6843.3302056434786,7881.8024614434789,8297.4479350434794]
[null,null,0,{"$f":"IF(C732<>0,LOOKUP(,-CODE(C$3:C732),C$3:C732),D731)","v":103},"103(920)-550",null,null,null,"550",920,315,6342.9884949855077,6845.6307333855075,6907.7550549855077,7411.1032515855077,8554.0495773855073,9011.5104909855072]
[null,null,0,{"$f":"IF(C733<>0,LOOKUP(,-CODE(C$3:C733),C$3:C733),D732)","v":103},"103(920)-600",null,null,null,"600",920,315,6813.1276509275367,7361.7152493275362,7429.5182109275365,7978.8762975275367,9226.2966933275366,9725.5730469275368]
[null,null,0,{"$f":"IF(C734<>0,LOOKUP(,-CODE(C$3:C734),C$3:C734),D733)","v":103},"103(960)-300",null,null,null,"300",960,315,4014.9903393913046,4287.9057777913049,4321.6368993913047,4594.9356459913042,5215.5116217913046,5463.8953353913039]
[null,null,0,{"$f":"IF(C735<>0,LOOKUP(,-CODE(C$3:C735),C$3:C735),D734)","v":103},"103(960)-350",null,null,null,"350",960,315,4485.5099301159416,4804.3707285159426,4843.7804901159416,5163.0891267159423,5888.1391725159419,6178.3383261159415]
[null,null,0,{"$f":"IF(C736<>0,LOOKUP(,-CODE(C$3:C736),C$3:C736),D735)","v":103},"103(960)-400",null,null,null,"400",960,315,4956.0295208405796,5320.8356792405793,5365.9240808405793,5731.2426074405794,6560.7667232405793,6892.7813168405801]
[null,null,0,{"$f":"IF(C737<>0,LOOKUP(,-CODE(C$3:C737),C$3:C737),D736)","v":103},"103(960)-450",null,null,null,"450",960,315,5426.5491115652176,5837.3006299652179,5888.067671565218,6299.3960881652174,7233.3942739652175,7607.2243075652177]
[null,null,0,{"$f":"IF(C738<>0,LOOKUP(,-CODE(C$3:C738),C$3:C738),D737)","v":103},"103(960)-500",null,null,null,"500",960,315,5897.0687022898555,6353.7655806898556,6410.2112622898558,6867.5495688898554,7906.0218246898557,8321.6672982898563]
[null,null,0,{"$f":"IF(C739<>0,LOOKUP(,-CODE(C$3:C739),C$3:C739),D738)","v":103},"103(960)-550",null,null,null,"550",960,315,6367.5882930144935,6870.2305314144933,6932.3548530144935,7435.7030496144935,8578.6493754144922,9036.1102890144921]
[null,null,0,{"$f":"IF(C740<>0,LOOKUP(,-CODE(C$3:C740),C$3:C740),D739)","v":103},"103(960)-600",null,null,null,"600",960,315,6838.1078837391315,7386.6954821391309,7454.4984437391313,8003.8565303391315,9251.2769261391313,9750.5532797391315]
[null,"106",104,{"$f":"IF(C741<>0,LOOKUP(,-CODE(C$3:C741),C$3:C741),D740)","v":104},"104(720)-500","Шкаф настенный двухдверный с нишей вверху, полка ЛДСП",null,null,"500",720,315,4745.9531588115951,5085.9334436115951,5127.9534788115943,5468.4112640115945,6241.4844116115946,6550.9046708115948]
[null,null,0,{"$f":"IF(C742<>0,LOOKUP(,-CODE(C$3:C742),C$3:C742),D741)","v":104},"104(720)-550",null,null,null,"550",720,315,5110.8341408405804,5485.2253856405805,5531.4984608405803,5906.4155360405803,6757.73495364058,7098.4730528405798]
[null,null,0,{"$f":"IF(C743<>0,LOOKUP(,-CODE(C$3:C743),C$3:C743),D742)","v":104},"104(720)-600",null,null,null,"600",720,315,5475.7151228695657,5884.5173276695659,5935.0434428695662,6344.419808069566,7273.9854956695654,7646.0414348695658]
[null,null,0,{"$f":"IF(C744<>0,LOOKUP(,-CODE(C$3:C744),C$3:C744),D743)","v":104},"104(720)-650",null,null,null,"650",720,315,5840.5961048985519,6283.8092696985514,6338.5884248985512,6782.4240800985517,7790.2360376985525,8193.6098168985518]
[null,null,0,{"$f":"IF(C745<>0,LOOKUP(,-CODE(C$3:C745),C$3:C745),D744)","v":104},"104(720)-700",null,null,null,"700",720,315,6205.4770869275362,6683.1012117275368,6742.1334069275363,7220.4283521275356,8306.4865797275361,8741.1781989275369]
[null,null,0,{"$f":"IF(C746<>0,LOOKUP(,-CODE(C$3:C746),C$3:C746),D745)","v":104},"104(720)-750",null,null,null,"750",720,315,6570.3580689565224,7082.3931537565222,7145.6783889565213,7658.4326241565213,8822.7371217565233,9288.7465809565219]
[null,null,0,{"$f":"IF(C747<>0,LOOKUP(,-CODE(C$3:C747),C$3:C747),D746)","v":104},"104(720)-800",null,null,null,"800",720,315,6935.2390509855068,7481.6850957855077,7549.2233709855063,8096.4368961855071,9338.9876637855068,9836.314962985507]
[null,null,0,{"$f":"IF(C748<>0,LOOKUP(,-CODE(C$3:C748),C$3:C748),D747)","v":104},"104(720)-850",null,null,null,"850",720,315,7300.1200330144939,7880.9770378144931,7952.7683530144932,8534.4411682144928,9855.238205814494,10383.883345014494]
[null,null,0,{"$f":"IF(C749<>0,LOOKUP(,-CODE(C$3:C749),C$3:C749),D748)","v":104},"104(720)-900",null,null,null,"900",720,315,7665.0010150434782,8280.2689798434785,8356.3133350434782,8972.4454402434785,10371.488747843479,10931.451727043477]
[null,null,0,{"$f":"IF(C750<>0,LOOKUP(,-CODE(C$3:C750),C$3:C750),D749)","v":104},"104(800)-500",null,null,null,"500",800,315,5134.777645304348,5512.7445541043489,5559.4595653043489,5937.9573265043482,6797.407362104349,7141.3997173043481]
[null,null,0,{"$f":"IF(C751<>0,LOOKUP(,-CODE(C$3:C751),C$3:C751),D750)","v":104},"104(800)-550",null,null,null,"550",800,315,5534.8714968985514,5951.0941656985515,6002.5374168985518,6419.3446680985517,7365.7835736985517,7744.5929688985507]
[null,null,0,{"$f":"IF(C752<>0,LOOKUP(,-CODE(C$3:C752),C$3:C752),D751)","v":104},"104(800)-600",null,null,null,"600",800,315,5934.9653484927539,6389.443777292754,6445.6152684927547,6900.7320096927542,7934.1597852927534,8347.7862204927533]
[null,null,0,{"$f":"IF(C753<>0,LOOKUP(,-CODE(C$3:C753),C$3:C753),D752)","v":104},"104(800)-650",null,null,null,"650",800,315,6335.0592000869565,6827.7933888869575,6888.6931200869567,7382.1193512869577,8502.5359968869561,8950.9794720869559]
[null,null,0,{"$f":"IF(C754<>0,LOOKUP(,-CODE(C$3:C754),C$3:C754),D753)","v":104},"104(800)-700",null,null,null,"700",800,315,6735.1530516811599,7266.14300048116,7331.7709716811596,7863.5066928811602,9070.9122084811606,9554.1727236811603]
[null,null,0,{"$f":"IF(C755<>0,LOOKUP(,-CODE(C$3:C755),C$3:C755),D754)","v":104},"104(800)-750",null,null,null,"750",800,315,7135.2469032753625,7704.4926120753626,7774.8488232753625,8344.8940344753628,9639.2884200753633,10157.365975275363]
[null,null,0,{"$f":"IF(C756<>0,LOOKUP(,-CODE(C$3:C756),C$3:C756),D755)","v":104},"104(800)-800",null,null,null,"800",800,315,7535.3407548695659,8142.8422236695651,8217.9266748695663,8826.2813760695644,10207.664631669566,10760.559226869565]
[null,null,0,{"$f":"IF(C757<>0,LOOKUP(,-CODE(C$3:C757),C$3:C757),D756)","v":104},"104(800)-850",null,null,null,"850",800,315,7935.4346064637684,8581.1918352637695,8661.0045264637683,9307.6687176637679,10776.040843263769,11363.752478463768]
[null,null,0,{"$f":"IF(C758<>0,LOOKUP(,-CODE(C$3:C758),C$3:C758),D757)","v":104},"104(800)-900",null,null,null,"900",800,315,8335.5284580579719,9019.5414468579711,9104.0823780579722,9789.0560592579714,11344.417054857971,11966.945730057971]
[null,null,0,{"$f":"IF(C759<>0,LOOKUP(,-CODE(C$3:C759),C$3:C759),D758)","v":104},"104(920)-500",null,null,null,"500",920,315,5888.2072550434787,6342.1474118434789,6398.2523750434793,6852.8300882434787,7885.033899843479,8298.1704470434779]
[null,null,0,{"$f":"IF(C760<>0,LOOKUP(,-CODE(C$3:C760),C$3:C760),D759)","v":104},"104(920)-550",null,null,null,"550",920,315,6358.3464109855076,6858.2319277855077,6920.0155309855081,7420.6031341855078,8557.2810157855074,9012.2330029855075]
[null,null,0,{"$f":"IF(C761<>0,LOOKUP(,-CODE(C$3:C761),C$3:C761),D760)","v":104},"104(920)-600",null,null,null,"600",920,315,6828.4855669275366,7374.3164437275373,7441.7786869275369,7988.3761801275359,9229.5281317275367,9726.2955589275352]
[null,null,0,{"$f":"IF(C762<>0,LOOKUP(,-CODE(C$3:C762),C$3:C762),D761)","v":104},"104(920)-650",null,null,null,"650",920,315,7298.6247228695647,7890.4009596695651,7963.5418428695648,8556.149226069565,9901.7752476695659,10440.358114869565]
[null,null,0,{"$f":"IF(C763<>0,LOOKUP(,-CODE(C$3:C763),C$3:C763),D762)","v":104},"104(920)-700",null,null,null,"700",920,315,7768.7638788115946,8406.4854756115965,8485.3049988115945,9123.922272011594,10574.022363611595,11154.420670811594]
[null,null,0,{"$f":"IF(C764<>0,LOOKUP(,-CODE(C$3:C764),C$3:C764),D763)","v":104},"104(920)-750",null,null,null,"750",920,315,8238.9030347536227,8922.5699915536243,9007.0681547536242,9691.6953179536231,11246.269479553623,11868.483226753624]
[null,null,0,{"$f":"IF(C765<>0,LOOKUP(,-CODE(C$3:C765),C$3:C765),D764)","v":104},"104(920)-800",null,null,null,"800",920,315,8709.0421906956508,9438.6545074956521,9528.8313106956521,10259.468363895652,11918.51659549565,12582.545782695652]
[null,null,0,{"$f":"IF(C766<>0,LOOKUP(,-CODE(C$3:C766),C$3:C766),D765)","v":104},"104(920)-850",null,null,null,"850",920,315,9179.1813466376807,9954.7390234376817,10050.594466637682,10827.241409837681,12590.763711437681,13296.608338637681]
[null,null,0,{"$f":"IF(C767<>0,LOOKUP(,-CODE(C$3:C767),C$3:C767),D766)","v":104},"104(920)-900",null,null,null,"900",920,315,9649.3205025797106,10470.823539379711,10572.357622579711,11395.01445577971,13263.010827379709,14010.670894579711]
[null,null,0,{"$f":"IF(C768<>0,LOOKUP(,-CODE(C$3:C768),C$3:C768),D767)","v":104},"104(960)-500",null,null,null,"500",960,315,5912.4266182898555,6366.3667750898558,6422.4717382898561,6877.0494514898555,7909.2532630898559,8322.3898102898565]
[null,null,0,{"$f":"IF(C769<>0,LOOKUP(,-CODE(C$3:C769),C$3:C769),D768)","v":104},"104(960)-550",null,null,null,"550",960,315,6382.9462090144934,6882.8317258144925,6944.6153290144939,7445.2029322144936,8581.8808138144923,9036.8328010144942]
[null,null,0,{"$f":"IF(C770<>0,LOOKUP(,-CODE(C$3:C770),C$3:C770),D769)","v":104},"104(960)-600",null,null,null,"600",960,315,6853.4657997391314,7399.296676539132,7466.7589197391317,8013.3564129391307,9254.5083645391314,9751.27579173913]
[null,null,0,{"$f":"IF(C771<>0,LOOKUP(,-CODE(C$3:C771),C$3:C771),D770)","v":104},"104(960)-650",null,null,null,"650",960,315,7323.9853904637685,7915.7616272637688,7988.9025104637685,8581.5098936637696,9927.1359152637688,10465.718782463769]
[null,null,0,{"$f":"IF(C772<>0,LOOKUP(,-CODE(C$3:C772),C$3:C772),D771)","v":104},"104(960)-700",null,null,null,"700",960,315,7794.5049811884055,8432.2265779884074,8511.0461011884054,9149.6633743884067,10599.763465988406,11180.161773188405]
[null,null,0,{"$f":"IF(C773<>0,LOOKUP(,-CODE(C$3:C773),C$3:C773),D772)","v":104},"104(960)-750",null,null,null,"750",960,315,8265.0245719130435,8948.6915287130432,9033.189691913045,9717.8168551130439,11272.391016713043,11894.604763913045]
[null,null,0,{"$f":"IF(C774<>0,LOOKUP(,-CODE(C$3:C774),C$3:C774),D773)","v":104},"104(960)-800",null,null,null,"800",960,315,8735.5441626376814,9465.1564794376791,9555.3332826376809,10285.970335837679,11945.018567437681,12609.047754637682]
[null,null,0,{"$f":"IF(C775<>0,LOOKUP(,-CODE(C$3:C775),C$3:C775),D774)","v":104},"104(960)-850",null,null,null,"850",960,315,9206.0637533623194,9981.6214301623204,10077.476873362319,10854.12381656232,12617.64611816232,13323.49074536232]
[null,null,0,{"$f":"IF(C776<>0,LOOKUP(,-CODE(C$3:C776),C$3:C776),D775)","v":104},"104(960)-900",null,null,null,"900",960,315,9676.5833440869555,10498.086380886956,10599.620464086956,11422.277297286955,13290.273668886955,14037.933736086956]
[null,"106",105,{"$f":"IF(C777<>0,LOOKUP(,-CODE(C$3:C777),C$3:C777),D776)","v":105},"105(720)-500","Шкаф настенный двухдверный с нишей внизу, полка ЛДСП",null,null,"500",720,315,4745.9531588115951,5085.9334436115951,5127.9534788115943,5468.4112640115945,6241.4844116115946,6550.9046708115948]
[null,null,0,{"$f":"IF(C778<>0,LOOKUP(,-CODE(C$3:C778),C$3:C778),D777)","v":105},"105(720)-550",null,null,null,"550",720,315,5110.8341408405804,5485.2253856405805,5531.4984608405803,5906.4155360405803,6757.73495364058,7098.4730528405798]
[null,null,0,{"$f":"IF(C779<>0,LOOKUP(,-CODE(C$3:C779),C$3:C779),D778)","v":105},"105(720)-600",null,null,null,"600",720,315,5475.7151228695657,5884.5173276695659,5935.0434428695662,6344.419808069566,7273.9854956695654,7646.0414348695658]
[null,null,0,{"$f":"IF(C780<>0,LOOKUP(,-CODE(C$3:C780),C$3:C780),D779)","v":105},"105(720)-650",null,null,null,"650",720,315,5840.5961048985519,6283.8092696985514,6338.5884248985512,6782.4240800985517,7790.2360376985525,8193.6098168985518]
[null,null,0,{"$f":"IF(C781<>0,LOOKUP(,-CODE(C$3:C781),C$3:C781),D780)","v":105},"105(720)-700",null,null,null,"700",720,315,6205.4770869275362,6683.1012117275368,6742.1334069275363,7220.4283521275356,8306.4865797275361,8741.1781989275369]
[null,null,0,{"$f":"IF(C782<>0,LOOKUP(,-CODE(C$3:C782),C$3:C782),D781)","v":105},"105(720)-750",null,null,null,"750",720,315,6570.3580689565224,7082.3931537565222,7145.6783889565213,7658.4326241565213,8822.7371217565233,9288.7465809565219]
[null,null,0,{"$f":"IF(C783<>0,LOOKUP(,-CODE(C$3:C783),C$3:C783),D782)","v":105},"105(720)-800",null,null,null,"800",720,315,6935.2390509855068,7481.6850957855077,7549.2233709855063,8096.4368961855071,9338.9876637855068,9836.314962985507]
[null,null,0,{"$f":"IF(C784<>0,LOOKUP(,-CODE(C$3:C784),C$3:C784),D783)","v":105},"105(720)-850",null,null,null,"850",720,315,7300.1200330144939,7880.9770378144931,7952.7683530144932,8534.4411682144928,9855.238205814494,10383.883345014494]
[null,null,0,{"$f":"IF(C785<>0,LOOKUP(,-CODE(C$3:C785),C$3:C785),D784)","v":105},"105(720)-900",null,null,null,"900",720,315,7665.0010150434782,8280.2689798434785,8356.3133350434782,8972.4454402434785,10371.488747843479,10931.451727043477]
[null,null,0,{"$f":"IF(C786<>0,LOOKUP(,-CODE(C$3:C786),C$3:C786),D785)","v":105},"105(800)-500",null,null,null,"500",800,315,5134.777645304348,5512.7445541043489,5559.4595653043489,5937.9573265043482,6797.407362104349,7141.3997173043481]
[null,null,0,{"$f":"IF(C787<>0,LOOKUP(,-CODE(C$3:C787),C$3:C787),D786)","v":105},"105(800)-550",null,null,null,"550",800,315,5534.8714968985514,5951.0941656985515,6002.5374168985518,6419.3446680985517,7365.7835736985517,7744.5929688985507]
[null,null,0,{"$f":"IF(C788<>0,LOOKUP(,-CODE(C$3:C788),C$3:C788),D787)","v":105},"105(800)-600",null,null,null,"600",800,315,5934.9653484927539,6389.443777292754,6445.6152684927547,6900.7320096927542,7934.1597852927534,8347.7862204927533]
[null,null,0,{"$f":"IF(C789<>0,LOOKUP(,-CODE(C$3:C789),C$3:C789),D788)","v":105},"105(800)-650",null,null,null,"650",800,315,6335.0592000869565,6827.7933888869575,6888.6931200869567,7382.1193512869577,8502.5359968869561,8950.9794720869559]
[null,null,0,{"$f":"IF(C790<>0,LOOKUP(,-CODE(C$3:C790),C$3:C790),D789)","v":105},"105(800)-700",null,null,null,"700",800,315,6735.1530516811599,7266.14300048116,7331.7709716811596,7863.5066928811602,9070.9122084811606,9554.1727236811603]
[null,null,0,{"$f":"IF(C791<>0,LOOKUP(,-CODE(C$3:C791),C$3:C791),D790)","v":105},"105(800)-750",null,null,null,"750",800,315,7135.2469032753625,7704.4926120753626,7774.8488232753625,8344.8940344753628,9639.2884200753633,10157.365975275363]
[null,null,0,{"$f":"IF(C792<>0,LOOKUP(,-CODE(C$3:C792),C$3:C792),D791)","v":105},"105(800)-800",null,null,null,"800",800,315,7535.3407548695659,8142.8422236695651,8217.9266748695663,8826.2813760695644,10207.664631669566,10760.559226869565]
[null,null,0,{"$f":"IF(C793<>0,LOOKUP(,-CODE(C$3:C793),C$3:C793),D792)","v":105},"105(800)-850",null,null,null,"850",800,315,7935.4346064637684,8581.1918352637695,8661.0045264637683,9307.6687176637679,10776.040843263769,11363.752478463768]
[null,null,0,{"$f":"IF(C794<>0,LOOKUP(,-CODE(C$3:C794),C$3:C794),D793)","v":105},"105(800)-900",null,null,null,"900",800,315,8335.5284580579719,9019.5414468579711,9104.0823780579722,9789.0560592579714,11344.417054857971,11966.945730057971]
[null,null,0,{"$f":"IF(C795<>0,LOOKUP(,-CODE(C$3:C795),C$3:C795),D794)","v":105},"105(920)-500",null,null,null,"500",920,315,5888.2072550434787,6342.1474118434789,6398.2523750434793,6852.8300882434787,7885.033899843479,8298.1704470434779]
[null,null,0,{"$f":"IF(C796<>0,LOOKUP(,-CODE(C$3:C796),C$3:C796),D795)","v":105},"105(920)-550",null,null,null,"550",920,315,6358.3464109855076,6858.2319277855077,6920.0155309855081,7420.6031341855078,8557.2810157855074,9012.2330029855075]
[null,null,0,{"$f":"IF(C797<>0,LOOKUP(,-CODE(C$3:C797),C$3:C797),D796)","v":105},"105(920)-600",null,null,null,"600",920,315,6828.4855669275366,7374.3164437275373,7441.7786869275369,7988.3761801275359,9229.5281317275367,9726.2955589275352]
[null,null,0,{"$f":"IF(C798<>0,LOOKUP(,-CODE(C$3:C798),C$3:C798),D797)","v":105},"105(920)-650",null,null,null,"650",920,315,7298.6247228695647,7890.4009596695651,7963.5418428695648,8556.149226069565,9901.7752476695659,10440.358114869565]
[null,null,0,{"$f":"IF(C799<>0,LOOKUP(,-CODE(C$3:C799),C$3:C799),D798)","v":105},"105(920)-700",null,null,null,"700",920,315,7768.7638788115946,8406.4854756115965,8485.3049988115945,9123.922272011594,10574.022363611595,11154.420670811594]
[null,null,0,{"$f":"IF(C800<>0,LOOKUP(,-CODE(C$3:C800),C$3:C800),D799)","v":105},"105(920)-750",null,null,null,"750",920,315,8238.9030347536227,8922.5699915536243,9007.0681547536242,9691.6953179536231,11246.269479553623,11868.483226753624]
[null,null,0,{"$f":"IF(C801<>0,LOOKUP(,-CODE(C$3:C801),C$3:C801),D800)","v":105},"105(920)-800",null,null,null,"800",920,315,8709.0421906956508,9438.6545074956521,9528.8313106956521,10259.468363895652,11918.51659549565,12582.545782695652]
[null,null,0,{"$f":"IF(C802<>0,LOOKUP(,-CODE(C$3:C802),C$3:C802),D801)","v":105},"105(920)-850",null,null,null,"850",920,315,9179.1813466376807,9954.7390234376817,10050.594466637682,10827.241409837681,12590.763711437681,13296.608338637681]
[null,null,0,{"$f":"IF(C803<>0,LOOKUP(,-CODE(C$3:C803),C$3:C803),D802)","v":105},"105(920)-900",null,null,null,"900",920,315,9649.3205025797106,10470.823539379711,10572.357622579711,11395.01445577971,13263.010827379709,14010.670894579711]
[null,null,0,{"$f":"IF(C804<>0,LOOKUP(,-CODE(C$3:C804),C$3:C804),D803)","v":105},"105(960)-500",null,null,null,"500",960,315,5912.4266182898555,6366.3667750898558,6422.4717382898561,6877.0494514898555,7909.2532630898559,8322.3898102898565]
[null,null,0,{"$f":"IF(C805<>0,LOOKUP(,-CODE(C$3:C805),C$3:C805),D804)","v":105},"105(960)-550",null,null,null,"550",960,315,6382.9462090144934,6882.8317258144925,6944.6153290144939,7445.2029322144936,8581.8808138144923,9036.8328010144942]
[null,null,0,{"$f":"IF(C806<>0,LOOKUP(,-CODE(C$3:C806),C$3:C806),D805)","v":105},"105(960)-600",null,null,null,"600",960,315,6853.4657997391314,7399.296676539132,7466.7589197391317,8013.3564129391307,9254.5083645391314,9751.27579173913]
[null,null,0,{"$f":"IF(C807<>0,LOOKUP(,-CODE(C$3:C807),C$3:C807),D806)","v":105},"105(960)-650",null,null,null,"650",960,315,7323.9853904637685,7915.7616272637688,7988.9025104637685,8581.5098936637696,9927.1359152637688,10465.718782463769]
[null,null,0,{"$f":"IF(C808<>0,LOOKUP(,-CODE(C$3:C808),C$3:C808),D807)","v":105},"105(960)-700",null,null,null,"700",960,315,7794.5049811884055,8432.2265779884074,8511.0461011884054,9149.6633743884067,10599.763465988406,11180.161773188405]
[null,null,0,{"$f":"IF(C809<>0,LOOKUP(,-CODE(C$3:C809),C$3:C809),D808)","v":105},"105(960)-750",null,null,null,"750",960,315,8265.0245719130435,8948.6915287130432,9033.189691913045,9717.8168551130439,11272.391016713043,11894.604763913045]
[null,null,0,{"$f":"IF(C810<>0,LOOKUP(,-CODE(C$3:C810),C$3:C810),D809)","v":105},"105(960)-800",null,null,null,"800",960,315,8735.5441626376814,9465.1564794376791,9555.3332826376809,10285.970335837679,11945.018567437681,12609.047754637682]
[null,null,0,{"$f":"IF(C811<>0,LOOKUP(,-CODE(C$3:C811),C$3:C811),D810)","v":105},"105(960)-850",null,null,null,"850",960,315,9206.0637533623194,9981.6214301623204,10077.476873362319,10854.12381656232,12617.64611816232,13323.49074536232]
[null,null,0,{"$f":"IF(C812<>0,LOOKUP(,-CODE(C$3:C812),C$3:C812),D811)","v":105},"105(960)-900",null,null,null,"900",960,315,9676.5833440869555,10498.086380886956,10599.620464086956,11422.277297286955,13290.273668886955,14037.933736086956]
[null,"107",106,{"$f":"IF(C813<>0,LOOKUP(,-CODE(C$3:C813),C$3:C813),D812)","v":106},"106(600)-300","Шкаф настенный однодверный со стеклом, полки стекло",null,null,"300",600,315,3237.2416831478258,3464.8000537478265,3465.4383661478259,3692.9967367478257,4128.0066373478257,4334.8198549478257]
[null,null,0,{"$f":"IF(C814<>0,LOOKUP(,-CODE(C$3:C814),C$3:C814),D813)","v":106},"106(600)-350",null,null,null,"350",600,315,3614.1644741623186,3880.0323347623189,3880.7781071623185,4146.6459677623188,4654.8898583623186,4896.5201159623184]
[null,null,0,{"$f":"IF(C815<>0,LOOKUP(,-CODE(C$3:C815),C$3:C815),D814)","v":106},"106(600)-400",null,null,null,"400",600,315,3991.0872651768123,4295.2646157768113,4296.117848176812,4600.295198776812,5181.7730793768114,5458.2203769768112]
[null,null,0,{"$f":"IF(C816<>0,LOOKUP(,-CODE(C$3:C816),C$3:C816),D815)","v":106},"106(600)-450",null,null,null,"450",600,315,4368.0100561913041,4710.4968967913046,4711.4575891913046,5053.9444297913051,5708.6563003913052,6019.9206379913048]
[null,null,0,{"$f":"IF(C817<>0,LOOKUP(,-CODE(C$3:C817),C$3:C817),D816)","v":106},"106(600)-500",null,null,null,"500",600,315,4744.9328472057969,5125.729177805797,5126.7973302057972,5507.5936608057973,6235.5395214057971,6581.6208990057976]
[null,null,0,{"$f":"IF(C818<>0,LOOKUP(,-CODE(C$3:C818),C$3:C818),D817)","v":106},"106(600)-550",null,null,null,"550",600,315,5121.8556382202896,5540.9614588202894,5542.1370712202897,5961.2428918202895,6762.4227424202891,7143.3211600202894]
[null,null,0,{"$f":"IF(C819<>0,LOOKUP(,-CODE(C$3:C819),C$3:C819),D818)","v":106},"106(600)-600",null,null,null,"600",600,315,5498.7784292347824,5956.1937398347827,5957.4768122347832,6414.8921228347826,7289.3059634347819,7705.0214210347831]
[null,null,0,{"$f":"IF(C820<>0,LOOKUP(,-CODE(C$3:C820),C$3:C820),D819)","v":106},"106(720)-300",null,null,null,"300",720,315,3709.4885554956527,3982.7873020956522,3983.5539184956524,4256.8526650956519,4779.3017416956527,5027.685455295652]
[null,null,0,{"$f":"IF(C821<>0,LOOKUP(,-CODE(C$3:C821),C$3:C821),D820)","v":106},"106(720)-350",null,null,null,"350",720,315,4158.4726508579706,4477.7812874579704,4478.6769638579708,4797.9856004579715,5408.3890670579713,5698.5882206579718]
[null,null,0,{"$f":"IF(C822<>0,LOOKUP(,-CODE(C$3:C822),C$3:C822),D821)","v":106},"106(720)-400",null,null,null,"400",720,315,4607.4567462202904,4972.7752728202904,4973.8000092202892,5339.1185358202893,6037.4763924202907,6369.4909860202897]
[null,null,0,{"$f":"IF(C823<>0,LOOKUP(,-CODE(C$3:C823),C$3:C823),D822)","v":106},"106(720)-450",null,null,null,"450",720,315,5056.4408415826083,5467.7692581826077,5468.9230545826076,5880.251471182607,6666.5637177826075,7040.3937513826086]
[null,null,0,{"$f":"IF(C824<>0,LOOKUP(,-CODE(C$3:C824),C$3:C824),D823)","v":106},"106(720)-500",null,null,null,"500",720,315,5505.424936944928,5962.7632435449268,5964.0460999449278,6421.3844065449266,7295.6510431449278,7711.2965167449274]
[null,null,0,{"$f":"IF(C825<>0,LOOKUP(,-CODE(C$3:C825),C$3:C825),D824)","v":106},"106(720)-550",null,null,null,"550",720,315,5954.409032307246,6457.7572289072468,6459.1691453072463,6962.5173419072462,7924.7383685072464,8382.1992821072472]
[null,null,0,{"$f":"IF(C826<>0,LOOKUP(,-CODE(C$3:C826),C$3:C826),D825)","v":106},"106(720)-600",null,null,null,"600",720,315,6403.3931276695657,6952.751214269565,6954.2921906695647,7503.6502772695658,8553.8256938695649,9053.1020474695652]
[null,null,0,{"$f":"IF(C827<>0,LOOKUP(,-CODE(C$3:C827),C$3:C827),D826)","v":106},"106(800)-300",null,null,null,"300",800,315,4089.2698037275363,4393.062134327537,4393.9142867275368,4697.7066173275362,5278.4484779275372,5554.5458555275363]
[null,null,0,{"$f":"IF(C828<>0,LOOKUP(,-CODE(C$3:C828),C$3:C828),D827)","v":106},"106(800)-350",null,null,null,"350",800,315,4586.2947686550724,4941.2305892550721,4942.2262016550721,5297.1620222550728,5975.6718728550723,6298.250290455072]
[null,null,0,{"$f":"IF(C829<>0,LOOKUP(,-CODE(C$3:C829),C$3:C829),D828)","v":106},"106(800)-400",null,null,null,"400",800,315,5083.319733582608,5489.3990441826081,5490.5381165826084,5896.6174271826085,6672.8952677826092,7041.9547253826086]
[null,null,0,{"$f":"IF(C830<>0,LOOKUP(,-CODE(C$3:C830),C$3:C830),D829)","v":106},"106(800)-450",null,null,null,"450",800,315,5580.3446985101446,6037.567499110145,6038.8500315101446,6496.0728321101451,7370.1186627101442,7785.6591603101451]
[null,null,0,{"$f":"IF(C831<>0,LOOKUP(,-CODE(C$3:C831),C$3:C831),D830)","v":106},"106(800)-500",null,null,null,"500",800,315,6077.3696634376811,6585.735954037681,6587.1619464376818,7095.5282370376817,8067.3420576376811,8529.3635952376826]
[null,null,0,{"$f":"IF(C832<>0,LOOKUP(,-CODE(C$3:C832),C$3:C832),D831)","v":106},"106(800)-550",null,null,null,"550",800,315,6574.3946283652167,7133.904408965217,7135.4738613652171,7694.9836419652174,8764.5654525652171,9273.0680301652174]
[null,null,0,{"$f":"IF(C833<>0,LOOKUP(,-CODE(C$3:C833),C$3:C833),D832)","v":106},"106(800)-600",null,null,null,"600",800,315,7071.4195932927541,7682.072863892754,7683.7857762927533,8294.4390468927522,9461.7888474927531,10016.772465092754]
[null,null,0,{"$f":"IF(C834<>0,LOOKUP(,-CODE(C$3:C834),C$3:C834),D833)","v":106},"106(920)-300",null,null,null,"300",920,315,4713.7461760753631,5063.2788826753631,5064.2593390753627,5413.7920456753627,6081.9730822753627,6399.640955875363]
[null,null,0,{"$f":"IF(C835<>0,LOOKUP(,-CODE(C$3:C835),C$3:C835),D834)","v":106},"106(920)-350",null,null,null,"350",920,315,5282.8324453507248,5691.2090419507249,5692.3545583507248,6100.7311549507249,6881.4005815507244,7252.5478951507248]
[null,null,0,{"$f":"IF(C836<>0,LOOKUP(,-CODE(C$3:C836),C$3:C836),D835)","v":106},"106(920)-400",null,null,null,"400",920,315,5851.9187146260874,6319.1392012260876,6320.4497776260878,6787.670264226088,7680.8280808260879,8105.4548344260884]
[null,null,0,{"$f":"IF(C837<>0,LOOKUP(,-CODE(C$3:C837),C$3:C837),D836)","v":106},"106(920)-450",null,null,null,"450",920,315,6421.0049839014482,6947.0693605014494,6948.544996901448,7474.6093735014492,8480.2555801014496,8958.3617737014501]
[null,null,0,{"$f":"IF(C838<>0,LOOKUP(,-CODE(C$3:C838),C$3:C838),D837)","v":106},"106(920)-500",null,null,null,"500",920,315,6990.0912531768126,7574.999519776813,7576.6402161768128,8161.5484827768132,9279.6830793768113,9811.2687129768128]
[null,null,0,{"$f":"IF(C839<>0,LOOKUP(,-CODE(C$3:C839),C$3:C839),D838)","v":106},"106(920)-550",null,null,null,"550",920,315,7559.1775224521743,8202.929679052173,8204.735435452174,8848.4875920521736,10079.110578652173,10664.175652252172]
[null,null,0,{"$f":"IF(C840<>0,LOOKUP(,-CODE(C$3:C840),C$3:C840),D839)","v":106},"106(920)-600",null,null,null,"600",920,315,8128.2637917275351,8830.8598383275366,8832.8306547275351,9535.4267013275366,10878.538077927535,11517.082591527535]
[null,null,0,{"$f":"IF(C841<>0,LOOKUP(,-CODE(C$3:C841),C$3:C841),D840)","v":106},"106(960)-300",null,null,null,"300",960,315,4871.1618001913039,5235.9412987913038,5236.9645231913037,5601.7440217913045,6299.0714503913041,6630.5961559913048]
[null,null,0,{"$f":"IF(C842<>0,LOOKUP(,-CODE(C$3:C842),C$3:C842),D841)","v":106},"106(960)-350",null,null,null,"350",960,315,5464.2685042492758,5890.4586928492754,5891.6541772492756,6317.8443658492761,7132.5669844492768,7519.9039300492759]
[null,null,0,{"$f":"IF(C843<>0,LOOKUP(,-CODE(C$3:C843),C$3:C843),D842)","v":106},"106(960)-400",null,null,null,"400",960,315,6057.3752083072468,6544.976086907247,6546.3438313072465,7033.9447099072477,7966.0625185072468,8409.211704107247]
[null,null,0,{"$f":"IF(C844<>0,LOOKUP(,-CODE(C$3:C844),C$3:C844),D843)","v":106},"106(960)-450",null,null,null,"450",960,315,6650.4819123652178,7199.4934809652186,7201.0334853652184,7750.0450539652174,8799.5580525652185,9298.519478165219]
[null,null,0,{"$f":"IF(C845<>0,LOOKUP(,-CODE(C$3:C845),C$3:C845),D844)","v":106},"106(960)-500",null,null,null,"500",960,315,7243.5886164231879,7854.0108750231893,7855.7231394231885,8466.145398023189,9633.0535866231876,10187.827252223187]
[null,null,0,{"$f":"IF(C846<>0,LOOKUP(,-CODE(C$3:C846),C$3:C846),D845)","v":106},"106(960)-550",null,null,null,"550",960,315,7836.6953204811598,8508.52826908116,8510.4127934811604,9182.2457420811606,10466.54912068116,11077.135026281159]
[null,null,0,{"$f":"IF(C847<>0,LOOKUP(,-CODE(C$3:C847),C$3:C847),D846)","v":106},"106(960)-600",null,null,null,"600",960,315,8429.8020245391308,9163.0456631391316,9165.1024475391314,9898.3460861391322,11300.044654739129,11966.442800339129]
[null,"108",107,{"$f":"IF(C848<>0,LOOKUP(,-CODE(C$3:C848),C$3:C848),D847)","v":107},"107(600)-500","Шкаф настенный двухдверный со стеклом, полки стекло",null,null,"500",600,315,4999.3649972057974,5377.8627584057976,5378.924463205798,5757.4222244057983,6480.9740456057971,6824.9664008057971]
[null,null,0,{"$f":"IF(C849<>0,LOOKUP(,-CODE(C$3:C849),C$3:C849),D848)","v":107},"107(600)-550",null,null,null,"550",600,315,5376.2877882202902,5793.09503942029,5794.2642042202897,6211.0714554202896,7007.8572666202908,7386.6666618202908]
[null,null,0,{"$f":"IF(C850<>0,LOOKUP(,-CODE(C$3:C850),C$3:C850),D849)","v":107},"107(600)-600",null,null,null,"600",600,315,5753.2105792347829,6208.3273204347834,6209.6039452347823,6664.7206864347827,7534.7404876347828,7948.3669228347826]
[null,null,0,{"$f":"IF(C851<>0,LOOKUP(,-CODE(C$3:C851),C$3:C851),D850)","v":107},"107(600)-650",null,null,null,"650",600,315,6130.1333702492757,6623.5596014492758,6624.9436862492757,7118.3699174492758,8061.6237086492756,8510.0671838492744]
[null,null,0,{"$f":"IF(C852<>0,LOOKUP(,-CODE(C$3:C852),C$3:C852),D851)","v":107},"107(600)-700",null,null,null,"700",600,315,6507.0561612637684,7038.7918824637682,7040.2834272637683,7572.019148463768,8588.5069296637685,9071.7674448637681]
[null,null,0,{"$f":"IF(C853<>0,LOOKUP(,-CODE(C$3:C853),C$3:C853),D852)","v":107},"107(600)-750",null,null,null,"750",600,315,6883.9789522782603,7454.0241634782606,7455.6231682782609,8025.6683794782612,9115.3901506782604,9633.4677058782618]
[null,null,0,{"$f":"IF(C854<>0,LOOKUP(,-CODE(C$3:C854),C$3:C854),D853)","v":107},"107(600)-800",null,null,null,"800",600,315,7260.901743292754,7869.2564444927539,7870.9629092927535,8479.3176104927534,9642.2733716927542,10195.167966892754]
[null,null,0,{"$f":"IF(C855<>0,LOOKUP(,-CODE(C$3:C855),C$3:C855),D854)","v":107},"107(600)-850",null,null,null,"850",600,315,7637.8245343072467,8284.4887255072463,8286.3026503072469,8932.9668415072465,10169.156592707246,10756.868227907245]
[null,null,0,{"$f":"IF(C856<>0,LOOKUP(,-CODE(C$3:C856),C$3:C856),D855)","v":107},"107(600)-900",null,null,null,"900",600,315,8014.7473253217395,8699.7210065217405,8701.6423913217404,9386.6160725217396,10696.039813721742,11318.568488921741]
[null,null,0,{"$f":"IF(C857<>0,LOOKUP(,-CODE(C$3:C857),C$3:C857),D856)","v":107},"107(720)-500",null,null,null,"500",720,315,5738.4910869449277,6193.0688001449271,6194.3439129449271,6648.9216261449283,7517.9109993449283,7931.0475465449272]
[null,null,0,{"$f":"IF(C858<>0,LOOKUP(,-CODE(C$3:C858),C$3:C858),D857)","v":107},"107(720)-550",null,null,null,"550",720,315,6187.4751823072456,6688.0627855072462,6689.4669583072455,7190.054561507246,8146.998324707246,8601.9503119072469]
[null,null,0,{"$f":"IF(C859<>0,LOOKUP(,-CODE(C$3:C859),C$3:C859),D858)","v":107},"107(720)-600",null,null,null,"600",720,315,6636.4592776695654,7183.0567708695653,7184.5900036695648,7731.1874968695647,8776.0856500695663,9272.8530772695649]
[null,null,0,{"$f":"IF(C860<>0,LOOKUP(,-CODE(C$3:C860),C$3:C860),D859)","v":107},"107(720)-650",null,null,null,"650",720,315,7085.4433730318842,7678.0507562318844,7679.7130490318841,8272.3204322318834,9405.172975431884,9943.7558426318847]
[null,null,0,{"$f":"IF(C861<>0,LOOKUP(,-CODE(C$3:C861),C$3:C861),D860)","v":107},"107(720)-700",null,null,null,"700",720,315,7534.4274683942022,8173.0447415942017,8174.8360943942025,8813.4533675942039,10034.260300794203,10614.658607994204]
[null,null,0,{"$f":"IF(C862<>0,LOOKUP(,-CODE(C$3:C862),C$3:C862),D861)","v":107},"107(720)-750",null,null,null,"750",720,315,7983.4115637565219,8668.0387269565235,8669.9591397565218,9354.5863029565244,10663.347626156521,11285.561373356524]
[null,null,0,{"$f":"IF(C863<>0,LOOKUP(,-CODE(C$3:C863),C$3:C863),D862)","v":107},"107(720)-800",null,null,null,"800",720,315,8432.3956591188398,9163.0327123188399,9165.0821851188393,9895.7192383188394,11292.434951518841,11956.464138718839]
[null,null,0,{"$f":"IF(C864<>0,LOOKUP(,-CODE(C$3:C864),C$3:C864),D863)","v":107},"107(720)-850",null,null,null,"850",720,315,8881.3797544811605,9658.0266976811599,9660.2052304811605,10436.85217368116,11921.52227688116,12627.36690408116]
[null,null,0,{"$f":"IF(C865<>0,LOOKUP(,-CODE(C$3:C865),C$3:C865),D864)","v":107},"107(720)-900",null,null,null,"900",720,315,9330.3638498434775,10153.020683043478,10155.328275843478,10977.985109043477,12550.609602243478,13298.269669443476]
[null,null,0,{"$f":"IF(C866<>0,LOOKUP(,-CODE(C$3:C866),C$3:C866),D865)","v":107},"107(800)-500",null,null,null,"500",800,315,6600.6508134376818,7105.9484946376815,7107.3658794376825,7612.6635606376822,8578.6113018376818,9037.8439770376808]
[null,null,0,{"$f":"IF(C867<>0,LOOKUP(,-CODE(C$3:C867),C$3:C867),D866)","v":107},"107(800)-550",null,null,null,"550",800,315,7097.6757783652183,7654.1169495652184,7655.6777943652178,8212.1189655652179,9275.8346967652178,9781.5484119652174]
[null,null,0,{"$f":"IF(C868<>0,LOOKUP(,-CODE(C$3:C868),C$3:C868),D867)","v":107},"107(800)-600",null,null,null,"600",800,315,7594.7007432927539,8202.2854044927553,8203.9897092927549,8811.5743704927536,9973.0580916927556,10525.252846892754]
[null,null,0,{"$f":"IF(C869<>0,LOOKUP(,-CODE(C$3:C869),C$3:C869),D868)","v":107},"107(800)-650",null,null,null,"650",800,315,8091.7257082202896,8750.4538594202895,8752.3016242202903,9411.0297754202893,10670.28148662029,11268.957281820291]
[null,null,0,{"$f":"IF(C870<>0,LOOKUP(,-CODE(C$3:C870),C$3:C870),D869)","v":107},"107(800)-700",null,null,null,"700",800,315,8588.7506731478261,9298.6223143478255,9300.6135391478256,10010.485180347827,11367.504881547826,12012.661716747825]
[null,null,0,{"$f":"IF(C871<>0,LOOKUP(,-CODE(C$3:C871),C$3:C871),D870)","v":107},"107(800)-750",null,null,null,"750",800,315,9085.7756380753635,9846.7907692753633,9848.9254540753627,10609.940585275364,12064.728276475365,12756.366151675364]
[null,null,0,{"$f":"IF(C872<>0,LOOKUP(,-CODE(C$3:C872),C$3:C872),D871)","v":107},"107(800)-800",null,null,null,"800",800,315,9582.8006030028973,10394.959224202898,10397.237369002898,11209.395990202898,12761.9516714029,13500.070586602898]
[null,null,0,{"$f":"IF(C873<>0,LOOKUP(,-CODE(C$3:C873),C$3:C873),D872)","v":107},"107(800)-850",null,null,null,"850",800,315,10079.825567930437,10943.127679130437,10945.549283930437,11808.851395130436,13459.175066330436,14243.775021530437]
[null,null,0,{"$f":"IF(C874<>0,LOOKUP(,-CODE(C$3:C874),C$3:C874),D873)","v":107},"107(800)-900",null,null,null,"900",800,315,10576.850532857972,11491.296134057971,11493.861198857971,12408.306800057971,14156.39846125797,14987.479456457972]
[null,null,0,{"$f":"IF(C875<>0,LOOKUP(,-CODE(C$3:C875),C$3:C875),D874)","v":107},"107(920)-500",null,null,null,"500",920,315,7339.7769031768121,7921.1545363768128,7922.7853291768124,8504.1629623768113,9615.5482555768103,10143.925122776811]
[null,null,0,{"$f":"IF(C876<>0,LOOKUP(,-CODE(C$3:C876),C$3:C876),D875)","v":107},"107(920)-550",null,null,null,"550",920,315,7908.8631724521747,8549.0846956521727,8550.8805484521745,9191.1020716521743,10414.975754852174,10996.832062052174]
[null,null,0,{"$f":"IF(C877<>0,LOOKUP(,-CODE(C$3:C877),C$3:C877),D876)","v":107},"107(920)-600",null,null,null,"600",920,315,8477.9494417275364,9177.0148549275364,9178.9757677275356,9878.0411809275356,11214.403254127537,11849.739001327538]
[null,null,0,{"$f":"IF(C878<>0,LOOKUP(,-CODE(C$3:C878),C$3:C878),D877)","v":107},"107(920)-650",null,null,null,"650",920,315,9047.0357110028981,9804.9450142028982,9807.0709870028968,10564.980290202897,12013.830753402899,12702.645940602899]
[null,null,0,{"$f":"IF(C879<>0,LOOKUP(,-CODE(C$3:C879),C$3:C879),D878)","v":107},"107(920)-700",null,null,null,"700",920,315,9616.1219802782616,10432.87517347826,10435.166206278262,11251.919399478262,12813.258252678261,13555.552879878262]
[null,null,0,{"$f":"IF(C880<>0,LOOKUP(,-CODE(C$3:C880),C$3:C880),D879)","v":107},"107(920)-750",null,null,null,"750",920,315,10185.208249553623,11060.805332753624,11063.261425553623,11938.858508753625,13612.685751953622,14408.459819153624]
[null,null,0,{"$f":"IF(C881<>0,LOOKUP(,-CODE(C$3:C881),C$3:C881),D880)","v":107},"107(920)-800",null,null,null,"800",920,315,10754.294518828987,11688.735492028987,11691.356644828988,12625.797618028988,14412.113251228988,15261.366758428989]
[null,null,0,{"$f":"IF(C882<>0,LOOKUP(,-CODE(C$3:C882),C$3:C882),D881)","v":107},"107(920)-850",null,null,null,"850",920,315,11323.380788104349,12316.665651304347,12319.451864104345,13312.736727304347,15211.540750504346,16114.273697704348]
[null,null,0,{"$f":"IF(C883<>0,LOOKUP(,-CODE(C$3:C883),C$3:C883),D882)","v":107},"107(920)-900",null,null,null,"900",920,315,11892.467057379708,12944.595810579711,12947.547083379708,13999.67583657971,16010.968249779711,16967.180636979712]
[null,null,0,{"$f":"IF(C884<>0,LOOKUP(,-CODE(C$3:C884),C$3:C884),D883)","v":107},"107(960)-500",null,null,null,"500",960,315,7586.1522664231898,8192.8898836231892,8194.5918124231885,8801.3294296231888,9961.1939068231877,10512.618838023189]
[null,null,0,{"$f":"IF(C885<>0,LOOKUP(,-CODE(C$3:C885),C$3:C885),D884)","v":107},"107(960)-550",null,null,null,"550",960,315,8179.2589704811589,8847.407277681159,8849.2814664811594,9517.4297736811604,10794.68944088116,11401.926612081159]
[null,null,0,{"$f":"IF(C886<>0,LOOKUP(,-CODE(C$3:C886),C$3:C886),D885)","v":107},"107(960)-600",null,null,null,"600",960,315,8772.365674539129,9501.9246717391288,9503.9711205391286,10233.53011773913,11628.184974939129,12291.234386139131]
[null,null,0,{"$f":"IF(C887<>0,LOOKUP(,-CODE(C$3:C887),C$3:C887),D886)","v":107},"107(960)-650",null,null,null,"650",960,315,9365.4723785971019,10156.4420657971,10158.660774597101,10949.630461797102,12461.6805089971,13180.542160197101]
[null,null,0,{"$f":"IF(C888<>0,LOOKUP(,-CODE(C$3:C888),C$3:C888),D887)","v":107},"107(960)-700",null,null,null,"700",960,315,9958.5790826550729,10810.959459855072,10813.350428655074,11665.730805855073,13295.176043055075,14069.849934255073]
[null,null,0,{"$f":"IF(C889<>0,LOOKUP(,-CODE(C$3:C889),C$3:C889),D888)","v":107},"107(960)-750",null,null,null,"750",960,315,10551.685786713044,11465.476853913042,11468.040082713042,12381.831149913043,14128.671577113042,14959.157708313043]
[null,null,0,{"$f":"IF(C890<>0,LOOKUP(,-CODE(C$3:C890),C$3:C890),D889)","v":107},"107(960)-800",null,null,null,"800",960,315,11144.792490771017,12119.994247971017,12122.729736771014,13097.931493971018,14962.167111171015,15848.465482371017]
[null,null,0,{"$f":"IF(C891<>0,LOOKUP(,-CODE(C$3:C891),C$3:C891),D890)","v":107},"107(960)-850",null,null,null,"850",960,315,11737.899194828986,12774.511642028983,12777.419390828987,13814.031838028985,15795.662645228984,16737.773256428987]
[null,null,0,{"$f":"IF(C892<>0,LOOKUP(,-CODE(C$3:C892),C$3:C892),D891)","v":107},"107(960)-900",null,null,null,"900",960,315,12331.005898886957,13429.029036086959,13432.109044886958,14530.132182086956,16629.158179286958,17627.081030486959]
[null,"109",108,{"$f":"IF(C893<>0,LOOKUP(,-CODE(C$3:C893),C$3:C893),D892)","v":108},"108(720)-300","Шкаф настенный однодверный со стеклом, полки стекло, с нишей вверху",null,null,"300",720,315,3177.4157472289853,3382.1039298289861,3382.6780902289856,3587.366272828986,3978.6565854289856,4164.6845550289854]
[null,null,0,{"$f":"IF(C894<>0,LOOKUP(,-CODE(C$3:C894),C$3:C894),D893)","v":108},"108(720)-350",null,null,null,"350",720,315,3532.384335924638,3771.5318085246377,3772.2026289246382,4011.3501015246379,4468.5142041246372,4685.8600137246376]
[null,null,0,{"$f":"IF(C895<>0,LOOKUP(,-CODE(C$3:C895),C$3:C895),D894)","v":108},"108(720)-400",null,null,null,"400",720,315,3887.3529246202897,4160.9596872202901,4161.7271676202899,4435.3339302202894,4958.3718228202897,5207.0354724202898]
[null,null,0,{"$f":"IF(C896<>0,LOOKUP(,-CODE(C$3:C896),C$3:C896),D895)","v":108},"108(720)-450",null,null,null,"450",720,315,4242.321513315942,4550.3875659159421,4551.2517063159421,4859.3177589159422,5448.2294415159422,5728.210931115942]
[null,null,0,{"$f":"IF(C897<>0,LOOKUP(,-CODE(C$3:C897),C$3:C897),D896)","v":108},"108(720)-500",null,null,null,"500",720,315,4597.2901020115951,4939.815444611595,4940.7762450115943,5283.3015876115942,5938.0870602115938,6249.3863898115942]
[null,null,0,{"$f":"IF(C898<>0,LOOKUP(,-CODE(C$3:C898),C$3:C898),D897)","v":108},"108(720)-550",null,null,null,"550",720,315,4952.2586907072455,5329.2433233072461,5330.3007837072455,5707.2854163072461,6427.9446789072463,6770.5618485072455]
[null,null,0,{"$f":"IF(C899<>0,LOOKUP(,-CODE(C$3:C899),C$3:C899),D898)","v":108},"108(720)-600",null,null,null,"600",720,315,5307.2272794028986,5718.671202002899,5719.8253224028986,6131.269245002899,6917.8022976028988,7291.7373072028986]
[null,null,0,{"$f":"IF(C900<>0,LOOKUP(,-CODE(C$3:C900),C$3:C900),D899)","v":108},"108(800)-300",null,null,null,"300",800,315,3424.8879954608697,3652.4463660608699,3653.0846784608693,3880.6430490608695,4315.6529496608691,4522.466167260869]
[null,null,0,{"$f":"IF(C901<>0,LOOKUP(,-CODE(C$3:C901),C$3:C901),D900)","v":108},"108(800)-350",null,null,null,"350",800,315,3816.0774537217394,4081.9453143217393,4082.6910867217393,4348.5589473217387,4856.8028379217394,5098.4330955217392]
[null,null,0,{"$f":"IF(C902<>0,LOOKUP(,-CODE(C$3:C902),C$3:C902),D901)","v":108},"108(800)-400",null,null,null,"400",800,315,4207.2669119826096,4511.4442625826086,4512.2974949826094,4816.4748455826093,5397.9527261826088,5674.4000237826085]
[null,null,0,{"$f":"IF(C903<>0,LOOKUP(,-CODE(C$3:C903),C$3:C903),D902)","v":108},"108(800)-450",null,null,null,"450",800,315,4598.4563702434789,4940.9432108434785,4941.9039032434785,5284.390743843479,5939.1026144434791,6250.3669520434787]
[null,null,0,{"$f":"IF(C904<>0,LOOKUP(,-CODE(C$3:C904),C$3:C904),D903)","v":108},"108(800)-500",null,null,null,"500",800,315,4989.6458285043482,5370.4421591043483,5371.5103115043476,5752.3066421043486,6480.2525027043484,6826.3338803043489]
[null,null,0,{"$f":"IF(C905<>0,LOOKUP(,-CODE(C$3:C905),C$3:C905),D904)","v":108},"108(800)-550",null,null,null,"550",800,315,5380.8352867652175,5799.9411073652172,5801.1167197652176,6220.2225403652174,7021.4023909652169,7402.3008085652173]
[null,null,0,{"$f":"IF(C906<>0,LOOKUP(,-CODE(C$3:C906),C$3:C906),D905)","v":108},"108(800)-600",null,null,null,"600",800,315,5772.0247450260867,6229.4400556260871,6230.7231280260876,6688.138438626087,7562.5522792260863,7978.2677368260875]
[null,null,0,{"$f":"IF(C907<>0,LOOKUP(,-CODE(C$3:C907),C$3:C907),D906)","v":108},"108(920)-300",null,null,null,"300",920,315,3897.1348678086961,4170.4336144086956,4171.2002308086958,4444.4989774086953,4966.9480540086961,5215.3317676086954]
[null,null,0,{"$f":"IF(C908<>0,LOOKUP(,-CODE(C$3:C908),C$3:C908),D907)","v":108},"108(920)-350",null,null,null,"350",920,315,4360.3856304173914,4679.6942670173912,4680.5899434173916,4999.8985800173914,5610.3020466173912,5900.5012002173917]
[null,null,0,{"$f":"IF(C909<>0,LOOKUP(,-CODE(C$3:C909),C$3:C909),D908)","v":108},"108(920)-400",null,null,null,"400",920,315,4823.6363930260868,5188.9549196260868,5189.9796560260866,5555.2981826260866,6253.6560392260872,6585.6706328260861]
[null,null,0,{"$f":"IF(C910<>0,LOOKUP(,-CODE(C$3:C910),C$3:C910),D909)","v":108},"108(920)-450",null,null,null,"450",920,315,5286.8871556347831,5698.2155722347825,5699.3693686347824,6110.6977852347818,6897.0100318347822,7270.8400654347824]
[null,null,0,{"$f":"IF(C911<>0,LOOKUP(,-CODE(C$3:C911),C$3:C911),D910)","v":108},"108(920)-500",null,null,null,"500",920,315,5750.1379182434785,6207.4762248434781,6208.7590812434792,6666.0973878434779,7540.3640244434782,7956.0094980434787]
[null,null,0,{"$f":"IF(C912<>0,LOOKUP(,-CODE(C$3:C912),C$3:C912),D911)","v":108},"108(920)-550",null,null,null,"550",920,315,6213.3886808521738,6716.7368774521747,6718.1487938521741,7221.496990452174,8183.7180170521742,8641.178930652175]
[null,null,0,{"$f":"IF(C913<>0,LOOKUP(,-CODE(C$3:C913),C$3:C913),D912)","v":108},"108(920)-600",null,null,null,"600",920,315,6676.6394434608692,7225.9975300608694,7227.538506460869,7776.8965930608692,8827.0720096608693,9326.3483632608695]
[null,null,0,{"$f":"IF(C914<>0,LOOKUP(,-CODE(C$3:C914),C$3:C914),D913)","v":108},"108(960)-300",null,null,null,"300",960,315,3919.8324919246379,4193.1312385246383,4193.8978549246376,4467.196601524638,4989.6456781246379,5238.0293917246381]
[null,null,0,{"$f":"IF(C915<>0,LOOKUP(,-CODE(C$3:C915),C$3:C915),D914)","v":108},"108(960)-350",null,null,null,"350",960,315,4383.4636893159422,4702.772325915942,4703.6680023159424,5022.9766389159422,5633.380105515942,5923.5792591159425]
[null,null,0,{"$f":"IF(C916<>0,LOOKUP(,-CODE(C$3:C916),C$3:C916),D915)","v":108},"108(960)-400",null,null,null,"400",960,315,4847.0948867072457,5212.4134133072457,5213.4381497072463,5578.7566763072464,6277.114532907246,6609.129126507245]
[null,null,0,{"$f":"IF(C917<>0,LOOKUP(,-CODE(C$3:C917),C$3:C917),D916)","v":108},"108(960)-450",null,null,null,"450",960,315,5310.72608409855,5722.0545006985503,5723.2082970985502,6134.5367136985496,6920.8489602985501,7294.6789938985503]
[null,null,0,{"$f":"IF(C918<>0,LOOKUP(,-CODE(C$3:C918),C$3:C918),D917)","v":108},"108(960)-500",null,null,null,"500",960,315,5774.3572814898553,6231.6955880898549,6232.978444489856,6690.3167510898547,7564.583387689855,7980.2288612898556]
[null,null,0,{"$f":"IF(C919<>0,LOOKUP(,-CODE(C$3:C919),C$3:C919),D918)","v":108},"108(960)-550",null,null,null,"550",960,315,6237.9884788811596,6741.3366754811595,6742.748591881159,7246.0967884811589,8208.31781508116,8665.7787286811599]
[null,null,0,{"$f":"IF(C920<>0,LOOKUP(,-CODE(C$3:C920),C$3:C920),D919)","v":108},"108(960)-600",null,null,null,"600",960,315,6701.6196762724639,7250.9777628724642,7252.5187392724638,7801.876825872464,8852.0522424724641,9351.3285960724643]
[null,"109",109,{"$f":"IF(C921<>0,LOOKUP(,-CODE(C$3:C921),C$3:C921),D920)","v":109},"109(720)-300","Шкаф настенный однодверный со стеклом, полки стекло, с нишей внизу",null,null,"300",720,315,3177.4157472289853,3382.1039298289861,3382.6780902289856,3587.366272828986,3978.6565854289856,4164.6845550289854]
[null,null,0,{"$f":"IF(C922<>0,LOOKUP(,-CODE(C$3:C922),C$3:C922),D921)","v":109},"109(720)-350",null,null,null,"350",720,315,3532.384335924638,3771.5318085246377,3772.2026289246382,4011.3501015246379,4468.5142041246372,4685.8600137246376]
[null,null,0,{"$f":"IF(C923<>0,LOOKUP(,-CODE(C$3:C923),C$3:C923),D922)","v":109},"109(720)-400",null,null,null,"400",720,315,3887.3529246202897,4160.9596872202901,4161.7271676202899,4435.3339302202894,4958.3718228202897,5207.0354724202898]
[null,null,0,{"$f":"IF(C924<>0,LOOKUP(,-CODE(C$3:C924),C$3:C924),D923)","v":109},"109(720)-450",null,null,null,"450",720,315,4242.321513315942,4550.3875659159421,4551.2517063159421,4859.3177589159422,5448.2294415159422,5728.210931115942]
[null,null,0,{"$f":"IF(C925<>0,LOOKUP(,-CODE(C$3:C925),C$3:C925),D924)","v":109},"109(720)-500",null,null,null,"500",720,315,4597.2901020115951,4939.815444611595,4940.7762450115943,5283.3015876115942,5938.0870602115938,6249.3863898115942]
[null,null,0,{"$f":"IF(C926<>0,LOOKUP(,-CODE(C$3:C926),C$3:C926),D925)","v":109},"109(720)-550",null,null,null,"550",720,315,4952.2586907072455,5329.2433233072461,5330.3007837072455,5707.2854163072461,6427.9446789072463,6770.5618485072455]
[null,null,0,{"$f":"IF(C927<>0,LOOKUP(,-CODE(C$3:C927),C$3:C927),D926)","v":109},"109(720)-600",null,null,null,"600",720,315,5307.2272794028986,5718.671202002899,5719.8253224028986,6131.269245002899,6917.8022976028988,7291.7373072028986]
[null,null,0,{"$f":"IF(C928<>0,LOOKUP(,-CODE(C$3:C928),C$3:C928),D927)","v":109},"109(800)-300",null,null,null,"300",800,315,3424.8879954608697,3652.4463660608699,3653.0846784608693,3880.6430490608695,4315.6529496608691,4522.466167260869]
[null,null,0,{"$f":"IF(C929<>0,LOOKUP(,-CODE(C$3:C929),C$3:C929),D928)","v":109},"109(800)-350",null,null,null,"350",800,315,3816.0774537217394,4081.9453143217393,4082.6910867217393,4348.5589473217387,4856.8028379217394,5098.4330955217392]
[null,null,0,{"$f":"IF(C930<>0,LOOKUP(,-CODE(C$3:C930),C$3:C930),D929)","v":109},"109(800)-400",null,null,null,"400",800,315,4207.2669119826096,4511.4442625826086,4512.2974949826094,4816.4748455826093,5397.9527261826088,5674.4000237826085]
[null,null,0,{"$f":"IF(C931<>0,LOOKUP(,-CODE(C$3:C931),C$3:C931),D930)","v":109},"109(800)-450",null,null,null,"450",800,315,4598.4563702434789,4940.9432108434785,4941.9039032434785,5284.390743843479,5939.1026144434791,6250.3669520434787]
[null,null,0,{"$f":"IF(C932<>0,LOOKUP(,-CODE(C$3:C932),C$3:C932),D931)","v":109},"109(800)-500",null,null,null,"500",800,315,4989.6458285043482,5370.4421591043483,5371.5103115043476,5752.3066421043486,6480.2525027043484,6826.3338803043489]
[null,null,0,{"$f":"IF(C933<>0,LOOKUP(,-CODE(C$3:C933),C$3:C933),D932)","v":109},"109(800)-550",null,null,null,"550",800,315,5380.8352867652175,5799.9411073652172,5801.1167197652176,6220.2225403652174,7021.4023909652169,7402.3008085652173]
[null,null,0,{"$f":"IF(C934<>0,LOOKUP(,-CODE(C$3:C934),C$3:C934),D933)","v":109},"109(800)-600",null,null,null,"600",800,315,5772.0247450260867,6229.4400556260871,6230.7231280260876,6688.138438626087,7562.5522792260863,7978.2677368260875]
[null,null,0,{"$f":"IF(C935<>0,LOOKUP(,-CODE(C$3:C935),C$3:C935),D934)","v":109},"109(920)-300",null,null,null,"300",920,315,3897.1348678086961,4170.4336144086956,4171.2002308086958,4444.4989774086953,4966.9480540086961,5215.3317676086954]
[null,null,0,{"$f":"IF(C936<>0,LOOKUP(,-CODE(C$3:C936),C$3:C936),D935)","v":109},"109(920)-350",null,null,null,"350",920,315,4360.3856304173914,4679.6942670173912,4680.5899434173916,4999.8985800173914,5610.3020466173912,5900.5012002173917]
[null,null,0,{"$f":"IF(C937<>0,LOOKUP(,-CODE(C$3:C937),C$3:C937),D936)","v":109},"109(920)-400",null,null,null,"400",920,315,4823.6363930260868,5188.9549196260868,5189.9796560260866,5555.2981826260866,6253.6560392260872,6585.6706328260861]
[null,null,0,{"$f":"IF(C938<>0,LOOKUP(,-CODE(C$3:C938),C$3:C938),D937)","v":109},"109(920)-450",null,null,null,"450",920,315,5286.8871556347831,5698.2155722347825,5699.3693686347824,6110.6977852347818,6897.0100318347822,7270.8400654347824]
[null,null,0,{"$f":"IF(C939<>0,LOOKUP(,-CODE(C$3:C939),C$3:C939),D938)","v":109},"109(920)-500",null,null,null,"500",920,315,5750.1379182434785,6207.4762248434781,6208.7590812434792,6666.0973878434779,7540.3640244434782,7956.0094980434787]
[null,null,0,{"$f":"IF(C940<>0,LOOKUP(,-CODE(C$3:C940),C$3:C940),D939)","v":109},"109(920)-550",null,null,null,"550",920,315,6213.3886808521738,6716.7368774521747,6718.1487938521741,7221.496990452174,8183.7180170521742,8641.178930652175]
[null,null,0,{"$f":"IF(C941<>0,LOOKUP(,-CODE(C$3:C941),C$3:C941),D940)","v":109},"109(920)-600",null,null,null,"600",920,315,6676.6394434608692,7225.9975300608694,7227.538506460869,7776.8965930608692,8827.0720096608693,9326.3483632608695]
[null,null,0,{"$f":"IF(C942<>0,LOOKUP(,-CODE(C$3:C942),C$3:C942),D941)","v":109},"109(960)-300",null,null,null,"300",960,315,3919.8324919246379,4193.1312385246383,4193.8978549246376,4467.196601524638,4989.6456781246379,5238.0293917246381]
[null,null,0,{"$f":"IF(C943<>0,LOOKUP(,-CODE(C$3:C943),C$3:C943),D942)","v":109},"109(960)-350",null,null,null,"350",960,315,4383.4636893159422,4702.772325915942,4703.6680023159424,5022.9766389159422,5633.380105515942,5923.5792591159425]
[null,null,0,{"$f":"IF(C944<>0,LOOKUP(,-CODE(C$3:C944),C$3:C944),D943)","v":109},"109(960)-400",null,null,null,"400",960,315,4847.0948867072457,5212.4134133072457,5213.4381497072463,5578.7566763072464,6277.114532907246,6609.129126507245]
[null,null,0,{"$f":"IF(C945<>0,LOOKUP(,-CODE(C$3:C945),C$3:C945),D944)","v":109},"109(960)-450",null,null,null,"450",960,315,5310.72608409855,5722.0545006985503,5723.2082970985502,6134.5367136985496,6920.8489602985501,7294.6789938985503]
[null,null,0,{"$f":"IF(C946<>0,LOOKUP(,-CODE(C$3:C946),C$3:C946),D945)","v":109},"109(960)-500",null,null,null,"500",960,315,5774.3572814898553,6231.6955880898549,6232.978444489856,6690.3167510898547,7564.583387689855,7980.2288612898556]
[null,null,0,{"$f":"IF(C947<>0,LOOKUP(,-CODE(C$3:C947),C$3:C947),D946)","v":109},"109(960)-550",null,null,null,"550",960,315,6237.9884788811596,6741.3366754811595,6742.748591881159,7246.0967884811589,8208.31781508116,8665.7787286811599]
[null,null,0,{"$f":"IF(C948<>0,LOOKUP(,-CODE(C$3:C948),C$3:C948),D947)","v":109},"109(960)-600",null,null,null,"600",960,315,6701.6196762724639,7250.9777628724642,7252.5187392724638,7801.876825872464,8852.0522424724641,9351.3285960724643]
[null,"110",110,{"$f":"IF(C949<>0,LOOKUP(,-CODE(C$3:C949),C$3:C949),D948)","v":110},"110(720)-500","Шкаф настенный двухдверный со стеклом, полки стекло, с нишей вверху",null,null,"500",720,315,4557.9462520115949,4898.4040372115942,4899.3590380115947,5239.8168232115941,5890.649868411595,6200.0701276115951]
[null,null,0,{"$f":"IF(C950<>0,LOOKUP(,-CODE(C$3:C950),C$3:C950),D949)","v":110},"110(720)-550",null,null,null,"550",720,315,4912.9148407072462,5287.8319159072462,5288.883576707246,5663.8006519072469,6380.5074871072457,6721.2455863072464]
[null,null,0,{"$f":"IF(C951<>0,LOOKUP(,-CODE(C$3:C951),C$3:C951),D950)","v":110},"110(720)-600",null,null,null,"600",720,315,5267.8834294028984,5677.2597946028991,5678.4081154028991,6087.7844806028988,6870.3651058028991,7242.4210450028986]
[null,null,0,{"$f":"IF(C952<>0,LOOKUP(,-CODE(C$3:C952),C$3:C952),D951)","v":110},"110(720)-650",null,null,null,"650",720,315,5622.8520180985506,6066.6876732985511,6067.9326540985512,6511.7683092985517,7360.2227244985515,7763.5965036985508]
[null,null,0,{"$f":"IF(C953<>0,LOOKUP(,-CODE(C$3:C953),C$3:C953),D952)","v":110},"110(720)-700",null,null,null,"700",720,315,5977.8206067942037,6456.1155519942031,6457.4571927942043,6935.7521379942036,7850.0803431942031,8284.7719623942012]
[null,null,0,{"$f":"IF(C954<>0,LOOKUP(,-CODE(C$3:C954),C$3:C954),D953)","v":110},"110(720)-750",null,null,null,"750",720,315,6332.789195489855,6845.5434306898551,6846.9817314898546,7359.7359666898546,8339.9379618898547,8805.947421089857]
[null,null,0,{"$f":"IF(C955<>0,LOOKUP(,-CODE(C$3:C955),C$3:C955),D954)","v":110},"110(720)-800",null,null,null,"800",720,315,6687.7577841855082,7234.971309385508,7236.5062701855077,7783.7197953855075,8829.7955805855072,9327.1228797855074]
[null,null,0,{"$f":"IF(C956<>0,LOOKUP(,-CODE(C$3:C956),C$3:C956),D955)","v":110},"110(720)-850",null,null,null,"850",720,315,7042.7263728811595,7624.3991880811591,7626.0308088811598,8207.7036240811594,9319.6531992811597,9848.2983384811596]
[null,null,0,{"$f":"IF(C957<>0,LOOKUP(,-CODE(C$3:C957),C$3:C957),D956)","v":110},"110(720)-900",null,null,null,"900",720,315,7397.6949615768126,8013.8270667768129,8015.5553475768129,8631.6874527768105,9809.5108179768122,10369.47379717681]
[null,null,0,{"$f":"IF(C958<>0,LOOKUP(,-CODE(C$3:C958),C$3:C958),D957)","v":110},"110(800)-500",null,null,null,"500",800,315,4939.618978504348,5318.1167397043482,5319.1784445043486,5697.6762057043488,6421.2280269043476,6765.2203821043477]
[null,null,0,{"$f":"IF(C959<>0,LOOKUP(,-CODE(C$3:C959),C$3:C959),D958)","v":110},"110(800)-550",null,null,null,"550",800,315,5330.8084367652173,5747.6156879652171,5748.7848527652177,6165.5921039652176,6962.3779151652179,7341.1873103652179]
[null,null,0,{"$f":"IF(C960<>0,LOOKUP(,-CODE(C$3:C960),C$3:C960),D959)","v":110},"110(800)-600",null,null,null,"600",800,315,5721.9978950260866,6177.1146362260879,6178.3912610260868,6633.5080022260863,7503.5278034260864,7917.1542386260862]
[null,null,0,{"$f":"IF(C961<>0,LOOKUP(,-CODE(C$3:C961),C$3:C961),D960)","v":110},"110(800)-650",null,null,null,"650",800,315,6113.1873532869558,6606.6135844869568,6607.9976692869568,7101.4239004869569,8044.6776916869567,8493.1211668869564]
[null,null,0,{"$f":"IF(C962<>0,LOOKUP(,-CODE(C$3:C962),C$3:C962),D961)","v":110},"110(800)-700",null,null,null,"700",800,315,6504.3768115478269,7036.1125327478258,7037.6040775478268,7569.3397987478256,8585.827579947827,9069.0880951478266]
[null,null,0,{"$f":"IF(C963<>0,LOOKUP(,-CODE(C$3:C963),C$3:C963),D962)","v":110},"110(800)-750",null,null,null,"750",800,315,6895.5662698086953,7465.6114810086956,7467.2104858086959,8037.2556970086962,9126.9774682086954,9645.055023408695]
[null,null,0,{"$f":"IF(C964<>0,LOOKUP(,-CODE(C$3:C964),C$3:C964),D963)","v":110},"110(800)-800",null,null,null,"800",800,315,7286.7557280695664,7895.1104292695654,7896.8168940695659,8505.1715952695668,9668.1273564695657,10221.021951669565]
[null,null,0,{"$f":"IF(C965<>0,LOOKUP(,-CODE(C$3:C965),C$3:C965),D964)","v":110},"110(800)-850",null,null,null,"850",800,315,7677.9451863304348,8324.6093775304362,8326.423302330435,8973.0874935304346,10209.277244730434,10796.988879930435]
[null,null,0,{"$f":"IF(C966<>0,LOOKUP(,-CODE(C$3:C966),C$3:C966),D965)","v":110},"110(800)-900",null,null,null,"900",800,315,8069.134644591305,8754.1083257913051,8756.029710591305,9441.0033917913061,10750.427132991306,11372.955808191306]
[null,null,0,{"$f":"IF(C967<>0,LOOKUP(,-CODE(C$3:C967),C$3:C967),D966)","v":110},"110(920)-500",null,null,null,"500",920,315,5678.7450682434783,6133.3227814434777,6134.5978942434776,6589.1756074434788,7458.1649806434789,7871.3015278434777]
[null,null,0,{"$f":"IF(C968<>0,LOOKUP(,-CODE(C$3:C968),C$3:C968),D967)","v":110},"110(920)-550",null,null,null,"550",920,315,6141.9958308521736,6642.5834340521742,6643.9876068521735,7144.575210052174,8101.518973252174,8556.4709604521759]
[null,null,0,{"$f":"IF(C969<>0,LOOKUP(,-CODE(C$3:C969),C$3:C969),D968)","v":110},"110(920)-600",null,null,null,"600",920,315,6605.2465934608699,7151.8440866608689,7153.3773194608693,7699.9748126608683,8744.87296586087,9241.6403930608685]
[null,null,0,{"$f":"IF(C970<>0,LOOKUP(,-CODE(C$3:C970),C$3:C970),D969)","v":110},"110(920)-650",null,null,null,"650",920,315,7068.4973560695662,7661.1047392695664,7662.7670320695661,8255.3744152695654,9388.2269584695659,9926.8098256695666]
[null,null,0,{"$f":"IF(C971<>0,LOOKUP(,-CODE(C$3:C971),C$3:C971),D970)","v":110},"110(920)-700",null,null,null,"700",920,315,7531.7481186782607,8170.3653918782602,8172.156744678261,8810.7740178782606,10031.580951078262,10611.979258278263]
[null,null,0,{"$f":"IF(C972<>0,LOOKUP(,-CODE(C$3:C972),C$3:C972),D971)","v":110},"110(920)-750",null,null,null,"750",920,315,7994.9988812869569,8679.6260444869567,8681.5464572869587,9366.1736204869576,10674.934943686958,11297.148690886957]
[null,null,0,{"$f":"IF(C973<>0,LOOKUP(,-CODE(C$3:C973),C$3:C973),D972)","v":110},"110(920)-800",null,null,null,"800",920,315,8458.2496438956532,9188.8866970956515,9190.9361698956527,9921.5732230956528,11318.288936295652,11982.31812349565]
[null,null,0,{"$f":"IF(C974<>0,LOOKUP(,-CODE(C$3:C974),C$3:C974),D973)","v":110},"110(920)-850",null,null,null,"850",920,315,8921.5004065043486,9698.147349704348,9700.3258825043486,10476.97282570435,11961.642928904348,12667.487556104348]
[null,null,0,{"$f":"IF(C975<>0,LOOKUP(,-CODE(C$3:C975),C$3:C975),D974)","v":110},"110(920)-900",null,null,null,"900",920,315,9384.7511691130439,10207.408002313043,10209.715595113043,11032.372428313041,12604.996921513042,13352.656988713043]
[null,null,0,{"$f":"IF(C976<>0,LOOKUP(,-CODE(C$3:C976),C$3:C976),D975)","v":110},"110(960)-500",null,null,null,"500",960,315,5702.9644314898551,6157.5421446898545,6158.8172574898545,6613.3949706898557,7482.3843438898557,7895.5208910898546]
[null,null,0,{"$f":"IF(C977<>0,LOOKUP(,-CODE(C$3:C977),C$3:C977),D976)","v":110},"110(960)-550",null,null,null,"550",960,315,6166.5956288811585,6667.18323208116,6668.5874048811593,7169.1750080811589,8126.1187712811598,8581.0707584811607]
[null,null,0,{"$f":"IF(C978<>0,LOOKUP(,-CODE(C$3:C978),C$3:C978),D977)","v":110},"110(960)-600",null,null,null,"600",960,315,6630.2268262724638,7176.8243194724637,7178.3575522724632,7724.9550454724631,8769.8531986724629,9266.6206258724633]
[null,null,0,{"$f":"IF(C979<>0,LOOKUP(,-CODE(C$3:C979),C$3:C979),D978)","v":110},"110(960)-650",null,null,null,"650",960,315,7093.858023663769,7686.4654068637692,7688.1276996637689,8280.7350828637682,9413.5876260637688,9952.1704932637695]
[null,null,0,{"$f":"IF(C980<>0,LOOKUP(,-CODE(C$3:C980),C$3:C980),D979)","v":110},"110(960)-700",null,null,null,"700",960,315,7557.4892210550724,8196.1064942550729,8197.8978470550737,8836.5151202550733,10057.322053455073,10637.720360655074]
[null,null,0,{"$f":"IF(C981<>0,LOOKUP(,-CODE(C$3:C981),C$3:C981),D980)","v":110},"110(960)-750",null,null,null,"750",960,315,8021.1204184463777,8705.7475816463775,8707.6679944463776,9392.2951576463784,10701.056480846377,11323.270228046378]
[null,null,0,{"$f":"IF(C982<>0,LOOKUP(,-CODE(C$3:C982),C$3:C982),D981)","v":110},"110(960)-800",null,null,null,"800",960,315,8484.751615837682,9215.3886690376821,9217.4381418376797,9948.0751950376798,11344.790908237683,12008.820095437681]
[null,null,0,{"$f":"IF(C983<>0,LOOKUP(,-CODE(C$3:C983),C$3:C983),D982)","v":110},"110(960)-850",null,null,null,"850",960,315,8948.3828132289873,9725.0297564289867,9727.2082892289873,10503.855232428987,11988.525335628987,12694.369962828987]
[null,null,0,{"$f":"IF(C984<>0,LOOKUP(,-CODE(C$3:C984),C$3:C984),D983)","v":110},"110(960)-900",null,null,null,"900",960,315,9412.0140106202907,10234.67084382029,10236.978436620289,11059.635269820288,12632.259763020289,13379.919830220289]
[null,"110",111,{"$f":"IF(C985<>0,LOOKUP(,-CODE(C$3:C985),C$3:C985),D984)","v":111},"111(720)-500","Шкаф настенный двухдверный со стеклом, полки стекло, с нишей внизу",null,null,"500",720,315,4557.9462520115949,4898.4040372115942,4899.3590380115947,5239.8168232115941,5890.649868411595,6200.0701276115951]
[null,null,0,{"$f":"IF(C986<>0,LOOKUP(,-CODE(C$3:C986),C$3:C986),D985)","v":111},"111(720)-550",null,null,null,"550",720,315,4912.9148407072462,5287.8319159072462,5288.883576707246,5663.8006519072469,6380.5074871072457,6721.2455863072464]
[null,null,0,{"$f":"IF(C987<>0,LOOKUP(,-CODE(C$3:C987),C$3:C987),D986)","v":111},"111(720)-600",null,null,null,"600",720,315,5267.8834294028984,5677.2597946028991,5678.4081154028991,6087.7844806028988,6870.3651058028991,7242.4210450028986]
[null,null,0,{"$f":"IF(C988<>0,LOOKUP(,-CODE(C$3:C988),C$3:C988),D987)","v":111},"111(720)-650",null,null,null,"650",720,315,5622.8520180985506,6066.6876732985511,6067.9326540985512,6511.7683092985517,7360.2227244985515,7763.5965036985508]
[null,null,0,{"$f":"IF(C989<>0,LOOKUP(,-CODE(C$3:C989),C$3:C989),D988)","v":111},"111(720)-700",null,null,null,"700",720,315,5977.8206067942037,6456.1155519942031,6457.4571927942043,6935.7521379942036,7850.0803431942031,8284.7719623942012]
[null,null,0,{"$f":"IF(C990<>0,LOOKUP(,-CODE(C$3:C990),C$3:C990),D989)","v":111},"111(720)-750",null,null,null,"750",720,315,6332.789195489855,6845.5434306898551,6846.9817314898546,7359.7359666898546,8339.9379618898547,8805.947421089857]
[null,null,0,{"$f":"IF(C991<>0,LOOKUP(,-CODE(C$3:C991),C$3:C991),D990)","v":111},"111(720)-800",null,null,null,"800",720,315,6687.7577841855082,7234.971309385508,7236.5062701855077,7783.7197953855075,8829.7955805855072,9327.1228797855074]
[null,null,0,{"$f":"IF(C992<>0,LOOKUP(,-CODE(C$3:C992),C$3:C992),D991)","v":111},"111(720)-850",null,null,null,"850",720,315,7042.7263728811595,7624.3991880811591,7626.0308088811598,8207.7036240811594,9319.6531992811597,9848.2983384811596]
[null,null,0,{"$f":"IF(C993<>0,LOOKUP(,-CODE(C$3:C993),C$3:C993),D992)","v":111},"111(720)-900",null,null,null,"900",720,315,7397.6949615768126,8013.8270667768129,8015.5553475768129,8631.6874527768105,9809.5108179768122,10369.47379717681]
[null,null,0,{"$f":"IF(C994<>0,LOOKUP(,-CODE(C$3:C994),C$3:C994),D993)","v":111},"111(800)-500",null,null,null,"500",800,315,4939.618978504348,5318.1167397043482,5319.1784445043486,5697.6762057043488,6421.2280269043476,6765.2203821043477]
[null,null,0,{"$f":"IF(C995<>0,LOOKUP(,-CODE(C$3:C995),C$3:C995),D994)","v":111},"111(800)-550",null,null,null,"550",800,315,5330.8084367652173,5747.6156879652171,5748.7848527652177,6165.5921039652176,6962.3779151652179,7341.1873103652179]
[null,null,0,{"$f":"IF(C996<>0,LOOKUP(,-CODE(C$3:C996),C$3:C996),D995)","v":111},"111(800)-600",null,null,null,"600",800,315,5721.9978950260866,6177.1146362260879,6178.3912610260868,6633.5080022260863,7503.5278034260864,7917.1542386260862]
[null,null,0,{"$f":"IF(C997<>0,LOOKUP(,-CODE(C$3:C997),C$3:C997),D996)","v":111},"111(800)-650",null,null,null,"650",800,315,6113.1873532869558,6606.6135844869568,6607.9976692869568,7101.4239004869569,8044.6776916869567,8493.1211668869564]
[null,null,0,{"$f":"IF(C998<>0,LOOKUP(,-CODE(C$3:C998),C$3:C998),D997)","v":111},"111(800)-700",null,null,null,"700",800,315,6504.3768115478269,7036.1125327478258,7037.6040775478268,7569.3397987478256,8585.827579947827,9069.0880951478266]
[null,null,0,{"$f":"IF(C999<>0,LOOKUP(,-CODE(C$3:C999),C$3:C999),D998)","v":111},"111(800)-750",null,null,null,"750",800,315,6895.5662698086953,7465.6114810086956,7467.2104858086959,8037.2556970086962,9126.9774682086954,9645.055023408695]
[null,null,0,{"$f":"IF(C1000<>0,LOOKUP(,-CODE(C$3:C1000),C$3:C1000),D999)","v":111},"111(800)-800",null,null,null,"800",800,315,7286.7557280695664,7895.1104292695654,7896.8168940695659,8505.1715952695668,9668.1273564695657,10221.021951669565]
[null,null,0,{"$f":"IF(C1001<>0,LOOKUP(,-CODE(C$3:C1001),C$3:C1001),D1000)","v":111},"111(800)-850",null,null,null,"850",800,315,7677.9451863304348,8324.6093775304362,8326.423302330435,8973.0874935304346,10209.277244730434,10796.988879930435]
[null,null,0,{"$f":"IF(C1002<>0,LOOKUP(,-CODE(C$3:C1002),C$3:C1002),D1001)","v":111},"111(800)-900",null,null,null,"900",800,315,8069.134644591305,8754.1083257913051,8756.029710591305,9441.0033917913061,10750.427132991306,11372.955808191306]
[null,null,0,{"$f":"IF(C1003<>0,LOOKUP(,-CODE(C$3:C1003),C$3:C1003),D1002)","v":111},"111(920)-500",null,null,null,"500",920,315,5678.7450682434783,6133.3227814434777,6134.5978942434776,6589.1756074434788,7458.1649806434789,7871.3015278434777]
[null,null,0,{"$f":"IF(C1004<>0,LOOKUP(,-CODE(C$3:C1004),C$3:C1004),D1003)","v":111},"111(920)-550",null,null,null,"550",920,315,6141.9958308521736,6642.5834340521742,6643.9876068521735,7144.575210052174,8101.518973252174,8556.4709604521759]
[null,null,0,{"$f":"IF(C1005<>0,LOOKUP(,-CODE(C$3:C1005),C$3:C1005),D1004)","v":111},"111(920)-600",null,null,null,"600",920,315,6605.2465934608699,7151.8440866608689,7153.3773194608693,7699.9748126608683,8744.87296586087,9241.6403930608685]
[null,null,0,{"$f":"IF(C1006<>0,LOOKUP(,-CODE(C$3:C1006),C$3:C1006),D1005)","v":111},"111(920)-650",null,null,null,"650",920,315,7068.4973560695662,7661.1047392695664,7662.7670320695661,8255.3744152695654,9388.2269584695659,9926.8098256695666]
[null,null,0,{"$f":"IF(C1007<>0,LOOKUP(,-CODE(C$3:C1007),C$3:C1007),D1006)","v":111},"111(920)-700",null,null,null,"700",920,315,7531.7481186782607,8170.3653918782602,8172.156744678261,8810.7740178782606,10031.580951078262,10611.979258278263]
[null,null,0,{"$f":"IF(C1008<>0,LOOKUP(,-CODE(C$3:C1008),C$3:C1008),D1007)","v":111},"111(920)-750",null,null,null,"750",920,315,7994.9988812869569,8679.6260444869567,8681.5464572869587,9366.1736204869576,10674.934943686958,11297.148690886957]
[null,null,0,{"$f":"IF(C1009<>0,LOOKUP(,-CODE(C$3:C1009),C$3:C1009),D1008)","v":111},"111(920)-800",null,null,null,"800",920,315,8458.2496438956532,9188.8866970956515,9190.9361698956527,9921.5732230956528,11318.288936295652,11982.31812349565]
[null,null,0,{"$f":"IF(C1010<>0,LOOKUP(,-CODE(C$3:C1010),C$3:C1010),D1009)","v":111},"111(920)-850",null,null,null,"850",920,315,8921.5004065043486,9698.147349704348,9700.3258825043486,10476.97282570435,11961.642928904348,12667.487556104348]
[null,null,0,{"$f":"IF(C1011<>0,LOOKUP(,-CODE(C$3:C1011),C$3:C1011),D1010)","v":111},"111(920)-900",null,null,null,"900",920,315,9384.7511691130439,10207.408002313043,10209.715595113043,11032.372428313041,12604.996921513042,13352.656988713043]
[null,null,0,{"$f":"IF(C1012<>0,LOOKUP(,-CODE(C$3:C1012),C$3:C1012),D1011)","v":111},"111(960)-500",null,null,null,"500",960,315,5702.9644314898551,6157.5421446898545,6158.8172574898545,6613.3949706898557,7482.3843438898557,7895.5208910898546]
[null,null,0,{"$f":"IF(C1013<>0,LOOKUP(,-CODE(C$3:C1013),C$3:C1013),D1012)","v":111},"111(960)-550",null,null,null,"550",960,315,6166.5956288811585,6667.18323208116,6668.5874048811593,7169.1750080811589,8126.1187712811598,8581.0707584811607]
[null,null,0,{"$f":"IF(C1014<>0,LOOKUP(,-CODE(C$3:C1014),C$3:C1014),D1013)","v":111},"111(960)-600",null,null,null,"600",960,315,6630.2268262724638,7176.8243194724637,7178.3575522724632,7724.9550454724631,8769.8531986724629,9266.6206258724633]
[null,null,0,{"$f":"IF(C1015<>0,LOOKUP(,-CODE(C$3:C1015),C$3:C1015),D1014)","v":111},"111(960)-650",null,null,null,"650",960,315,7093.858023663769,7686.4654068637692,7688.1276996637689,8280.7350828637682,9413.5876260637688,9952.1704932637695]
[null,null,0,{"$f":"IF(C1016<>0,LOOKUP(,-CODE(C$3:C1016),C$3:C1016),D1015)","v":111},"111(960)-700",null,null,null,"700",960,315,7557.4892210550724,8196.1064942550729,8197.8978470550737,8836.5151202550733,10057.322053455073,10637.720360655074]
[null,null,0,{"$f":"IF(C1017<>0,LOOKUP(,-CODE(C$3:C1017),C$3:C1017),D1016)","v":111},"111(960)-750",null,null,null,"750",960,315,8021.1204184463777,8705.7475816463775,8707.6679944463776,9392.2951576463784,10701.056480846377,11323.270228046378]
[null,null,0,{"$f":"IF(C1018<>0,LOOKUP(,-CODE(C$3:C1018),C$3:C1018),D1017)","v":111},"111(960)-800",null,null,null,"800",960,315,8484.751615837682,9215.3886690376821,9217.4381418376797,9948.0751950376798,11344.790908237683,12008.820095437681]
[null,null,0,{"$f":"IF(C1019<>0,LOOKUP(,-CODE(C$3:C1019),C$3:C1019),D1018)","v":111},"111(960)-850",null,null,null,"850",960,315,8948.3828132289873,9725.0297564289867,9727.2082892289873,10503.855232428987,11988.525335628987,12694.369962828987]
[null,null,0,{"$f":"IF(C1020<>0,LOOKUP(,-CODE(C$3:C1020),C$3:C1020),D1019)","v":111},"111(960)-900",null,null,null,"900",960,315,9412.0140106202907,10234.67084382029,10236.978436620289,11059.635269820288,12632.259763020289,13379.919830220289]
[null,"114",112,{"$f":"IF(C1021<>0,LOOKUP(,-CODE(C$3:C1021),C$3:C1021),D1020)","v":112},"112(600)-300","Шкаф настенный однодверный торцевой (скошенный), полки ЛДСП",null,null,"300",600,315,4064.1155869846052,4412.2430029846055,4455.2699869846056,4803.8863459846052,5595.485062984606,5912.3201269846049]
[null,null,0,{"$f":"IF(C1022<>0,LOOKUP(,-CODE(C$3:C1022),C$3:C1022),D1021)","v":112},"112(600)-350",null,null,null,"350",600,315,4311.8128453745239,4681.3634869745238,4727.0382853745232,5097.1079587745235,5937.4204429745241,6273.7530493745244]
[null,null,0,{"$f":"IF(C1023<>0,LOOKUP(,-CODE(C$3:C1023),C$3:C1023),D1022)","v":112},"112(600)-400",null,null,null,"400",600,315,4896.6296061071253,5325.0941181071248,5378.0504061071251,5807.1166941071251,6781.3920381071248,7171.3428861071252]
[null,null,0,{"$f":"IF(C1024<>0,LOOKUP(,-CODE(C$3:C1024),C$3:C1024),D1023)","v":112},"112(720)-300",null,null,null,"300",720,315,4746.7001629846054,5164.8029389846051,5216.4785629846047,5635.1685619846048,6585.8825989846055,6966.4031029846046]
[null,null,0,{"$f":"IF(C1025<>0,LOOKUP(,-CODE(C$3:C1025),C$3:C1025),D1024)","v":112},"112(720)-350",null,null,null,"350",720,315,5037.1836613745236,5481.0158389745229,5535.8715013745241,5980.3270387745233,6989.546554974524,7393.4837053745232]
[null,null,0,{"$f":"IF(C1026<>0,LOOKUP(,-CODE(C$3:C1026),C$3:C1026),D1025)","v":112},"112(720)-400",null,null,null,"400",720,315,5732.3125821071244,6246.9006141071241,6310.5013821071243,6825.8121501071255,7995.9217341071235,8464.2546621071233]
[null,null,0,{"$f":"IF(C1027<>0,LOOKUP(,-CODE(C$3:C1027),C$3:C1027),D1026)","v":112},"112(800)-300",null,null,null,"300",800,315,5270.1633425572518,5734.9163585572514,5792.3577425572512,6257.7635015572514,7314.5544185572508,7737.5318825572513]
[null,null,0,{"$f":"IF(C1028<>0,LOOKUP(,-CODE(C$3:C1028),C$3:C1028),D1027)","v":112},"112(800)-350",null,null,null,"350",800,315,5599.6714079660305,6093.0246095660304,6154.000847966031,6648.0469613660307,7769.8711655660309,8218.8780119660314]
[null,null,0,{"$f":"IF(C1029<>0,LOOKUP(,-CODE(C$3:C1029),C$3:C1029),D1028)","v":112},"112(800)-400",null,null,null,"400",800,315,6379.2348591650552,6951.2385711650559,7021.9356591650558,7594.7427471650553,8895.4084911650552,9415.9961391650559]
[null,null,0,{"$f":"IF(C1030<>0,LOOKUP(,-CODE(C$3:C1030),C$3:C1030),D1029)","v":112},"112(920)-300",null,null,null,"300",920,315,6104.9774185572514,6639.7057945572515,6705.7958185572516,7241.2752175572523,8457.1814545572524,8943.8443585572531]
[null,null,0,{"$f":"IF(C1031<>0,LOOKUP(,-CODE(C$3:C1031),C$3:C1031),D1030)","v":112},"112(920)-350",null,null,null,"350",920,315,6477.2717239660305,7044.9064615660318,7115.0635639660322,7683.49554136603,8974.2267775660312,9490.8381679660324]
[null,null,0,{"$f":"IF(C1032<>0,LOOKUP(,-CODE(C$3:C1032),C$3:C1032),D1031)","v":112},"112(920)-400",null,null,null,"400",920,315,7367.1473351650548,8025.2745671650546,8106.6161351650544,8765.6677031650543,10262.167687165056,10861.137415165054]
[null,null,0,{"$f":"IF(C1033<>0,LOOKUP(,-CODE(C$3:C1033),C$3:C1033),D1032)","v":112},"112(960)-300",null,null,null,"300",960,315,6332.5056105572512,6890.5591065572517,6959.5320105572509,7518.3692895572522,8787.3139665572508,9295.2053505572512]
[null,null,0,{"$f":"IF(C1034<>0,LOOKUP(,-CODE(C$3:C1034),C$3:C1034),D1033)","v":112},"112(960)-350",null,null,null,"350",960,315,6719.0619959660316,7311.4572455660318,7384.6746359660319,7977.9019013660309,9324.9354815660317,9864.0817199660305]
[null,null,0,{"$f":"IF(C1035<>0,LOOKUP(,-CODE(C$3:C1035),C$3:C1035),D1034)","v":112},"112(960)-400",null,null,null,"400",960,315,7645.7083271650545,8332.5433991650534,8417.4331271650553,9105.2328551650553,10667.010919165055,11292.108007165054]
[null,"115",113,{"$f":"IF(C1036<>0,LOOKUP(,-CODE(C$3:C1036),C$3:C1036),D1035)","v":113},"113(600)-350","Шкаф настенный однодверный торцевой (радиусный), полки ЛДСП",null,null,350,600,315,12199.241599200001,12199.241599200001,12199.241599200001,12199.241599200001,12199.241599200001,12199.241599200001]
[null,null,0,{"$f":"IF(C1037<>0,LOOKUP(,-CODE(C$3:C1037),C$3:C1037),D1036)","v":113},"113(720)-350",null,null,null,350,720,315,12254.043775200002,12254.043775200002,12254.043775200002,12254.043775200002,12254.043775200002,12254.043775200002]
[null,null,0,{"$f":"IF(C1038<>0,LOOKUP(,-CODE(C$3:C1038),C$3:C1038),D1037)","v":113},"113(800)-350",null,null,null,350,800,315,12355.175361600001,12355.175361600001,12355.175361600001,12355.175361600001,12355.175361600001,12355.175361600001]
[null,null,0,{"$f":"IF(C1039<>0,LOOKUP(,-CODE(C$3:C1039),C$3:C1039),D1038)","v":113},"113(920)-350",null,null,null,350,920,315,12562.207037600001,12562.207037600001,12562.207037600001,12562.207037600001,12562.207037600001,12562.207037600001]
[null,null,0,{"$f":"IF(C1040<>0,LOOKUP(,-CODE(C$3:C1040),C$3:C1040),D1039)","v":113},"113(960)-350",null,null,null,350,960,315,12580.474429600001,12580.474429600001,12580.474429600001,12580.474429600001,12580.474429600001,12580.474429600001]
[null,"116/1",114,{"$f":"IF(C1041<>0,LOOKUP(,-CODE(C$3:C1041),C$3:C1041),D1040)","v":114},"114(600)-300","Шкаф настенный однодверный торцевой (скошенный) со стеклом, полки стекло",null,null,"300",600,315,3915.1747014119587,4263.7910604119588,4264.7689464119594,4613.3853054119591,5279.8146144119601,5596.649678411959]
[null,null,0,{"$f":"IF(C1042<>0,LOOKUP(,-CODE(C$3:C1042),C$3:C1042),D1041)","v":114},"114(600)-350",null,null,null,"350",600,315,4175.3106087830156,4545.3802821830159,4546.4183457830159,4916.4880191830161,5623.9283625830167,5960.260968983016]
[null,null,0,{"$f":"IF(C1043<>0,LOOKUP(,-CODE(C$3:C1043),C$3:C1043),D1042)","v":114},"114(600)-400",null,null,null,"400",600,315,4743.4104330491946,5172.4767210491946,5173.6802730491936,5602.7465610491945,6422.9672490491939,6812.9180970491943]
[null,null,0,{"$f":"IF(C1044<>0,LOOKUP(,-CODE(C$3:C1044),C$3:C1044),D1043)","v":114},"114(720)-300",null,null,null,"300",720,315,4576.4148774119585,4995.1048764119587,4996.2793224119578,5414.9693214119579,6215.3542704119582,6595.8747744119582]
[null,null,0,{"$f":"IF(C1045<>0,LOOKUP(,-CODE(C$3:C1045),C$3:C1045),D1044)","v":114},"114(720)-350",null,null,null,"350",720,315,4885.5815847830154,5330.0371221830155,5331.2838417830153,5775.7393791830154,6625.3787865830163,7029.3159369830155]
[null,null,0,{"$f":"IF(C1046<>0,LOOKUP(,-CODE(C$3:C1046),C$3:C1046),D1045)","v":114},"114(720)-400",null,null,null,"400",720,315,5564.6286090491931,6079.9393770491943,6081.3848490491937,6596.6956170491931,7581.7847850491935,8050.1177130491933]
[null,null,0,{"$f":"IF(C1047<>0,LOOKUP(,-CODE(C$3:C1047),C$3:C1047),D1046)","v":114},"114(800)-300",null,null,null,"300",800,315,5072.4416614119582,5537.8474204119593,5539.1529064119586,6004.5586654119579,6894.2473744119579,7317.2248384119575]
[null,null,0,{"$f":"IF(C1048<>0,LOOKUP(,-CODE(C$3:C1048),C$3:C1048),D1047)","v":114},"114(800)-350",null,null,null,"350",800,315,5414.2955687830154,5908.341682183016,5909.7275057830157,6403.7736191830154,7348.2124025830153,7797.2192489830159]
[null,null,0,{"$f":"IF(C1049<>0,LOOKUP(,-CODE(C$3:C1049),C$3:C1049),D1048)","v":114},"114(800)-400",null,null,null,"400",800,315,6167.3073930491946,6740.1144810491942,6741.7212330491939,7314.5283210491943,8409.5298090491924,8930.117457049193]
[null,null,0,{"$f":"IF(C1050<>0,LOOKUP(,-CODE(C$3:C1050),C$3:C1050),D1049)","v":114},"114(920)-300",null,null,null,"300",920,315,5885.9113374119597,6421.3907364119596,6422.8927824119601,6958.3721814119599,7982.0165304119591,8468.6794344119589]
[null,null,0,{"$f":"IF(C1051<>0,LOOKUP(,-CODE(C$3:C1051),C$3:C1051),D1050)","v":114},"114(920)-350",null,null,null,"350",920,315,6276.7960447830155,6845.228022183016,6846.8225017830155,7415.254479183016,8501.8923265830163,9018.5037169830157]
[null,null,0,{"$f":"IF(C1052<>0,LOOKUP(,-CODE(C$3:C1052),C$3:C1052),D1051)","v":114},"114(920)-400",null,null,null,"400",920,315,7140.7550690491935,7799.8066370491943,7801.6553090491943,8460.7068770491933,9720.5768450491923,10319.546573049194]
[null,null,0,{"$f":"IF(C1053<>0,LOOKUP(,-CODE(C$3:C1053),C$3:C1053),D1052)","v":114},"114(960)-300",null,null,null,"300",960,315,6106.3247294119592,6665.1620084119595,6666.7295744119592,7225.5668534119595,8293.8630824119591,8801.7544664119596]
[null,null,0,{"$f":"IF(C1054<>0,LOOKUP(,-CODE(C$3:C1054),C$3:C1054),D1053)","v":114},"114(960)-350",null,null,null,"350",960,315,6513.5530367830161,7106.7803021830159,7108.4443337830153,7701.671599183016,8835.7091345830158,9374.8553729830146]
[null,null,0,{"$f":"IF(C1055<>0,LOOKUP(,-CODE(C$3:C1055),C$3:C1055),D1054)","v":114},"114(960)-400",null,null,null,"400",960,315,7414.494461049193,8102.2941890491929,8104.2235010491931,8792.0232290491931,10106.849357049194,10731.946445049194]
[null,"117",115,{"$f":"IF(C1056<>0,LOOKUP(,-CODE(C$3:C1056),C$3:C1056),D1055)","v":115},"115(600)-350","Шкаф настенный однодверный торцевой (радиусный), со стеклом, полки ЛДСП",null,null,350,600,315,8700.8665991999987,8700.8665991999987,8700.8665991999987,8700.8665991999987,8700.8665991999987,8700.8665991999987]
[null,null,0,{"$f":"IF(C1057<>0,LOOKUP(,-CODE(C$3:C1057),C$3:C1057),D1056)","v":115},"115(720)-350",null,null,null,350,720,315,8781.7507752000001,8781.7507752000001,8781.7507752000001,8781.7507752000001,8781.7507752000001,8781.7507752000001]
[null,null,0,{"$f":"IF(C1058<>0,LOOKUP(,-CODE(C$3:C1058),C$3:C1058),D1057)","v":115},"115(800)-350",null,null,null,350,800,315,8900.2703615999999,8900.2703615999999,8900.2703615999999,8900.2703615999999,8900.2703615999999,8900.2703615999999]
[null,null,0,{"$f":"IF(C1059<>0,LOOKUP(,-CODE(C$3:C1059),C$3:C1059),D1058)","v":115},"115(920)-350",null,null,null,350,920,315,9133.3840376000007,9133.3840376000007,9133.3840376000007,9133.3840376000007,9133.3840376000007,9133.3840376000007]
[null,null,0,{"$f":"IF(C1060<>0,LOOKUP(,-CODE(C$3:C1060),C$3:C1060),D1059)","v":115},"115(960)-350",null,null,null,350,960,315,9160.3454296,9160.3454296,9160.3454296,9160.3454296,9160.3454296,9160.3454296]
[null,"117/1",116,{"$f":"IF(C1061<>0,LOOKUP(,-CODE(C$3:C1061),C$3:C1061),D1060)","v":116},"116(600)-350","Шкаф настенный однодверный торцевой (радиусный), со стеклом, полки стекло",null,null,350,600,315,8691.4697968,8691.4697968,8691.4697968,8691.4697968,8691.4697968,8691.4697968]
[null,null,0,{"$f":"IF(C1062<>0,LOOKUP(,-CODE(C$3:C1062),C$3:C1062),D1061)","v":116},"116(720)-350",null,null,null,350,720,315,8772.3539727999996,8772.3539727999996,8772.3539727999996,8772.3539727999996,8772.3539727999996,8772.3539727999996]
[null,null,0,{"$f":"IF(C1063<>0,LOOKUP(,-CODE(C$3:C1063),C$3:C1063),D1062)","v":116},"116(800)-350",null,null,null,350,800,315,8881.4767567999988,8881.4767567999988,8881.4767567999988,8881.4767567999988,8881.4767567999988,8881.4767567999988]
[null,null,0,{"$f":"IF(C1064<>0,LOOKUP(,-CODE(C$3:C1064),C$3:C1064),D1063)","v":116},"116(920)-350",null,null,null,350,920,315,9114.5904327999997,9114.5904327999997,9114.5904327999997,9114.5904327999997,9114.5904327999997,9114.5904327999997]
[null,null,0,{"$f":"IF(C1065<>0,LOOKUP(,-CODE(C$3:C1065),C$3:C1065),D1064)","v":116},"116(960)-350",null,null,null,350,960,315,9141.5518248000008,9141.5518248000008,9141.5518248000008,9141.5518248000008,9141.5518248000008,9141.5518248000008]
[null,"119",117,{"$f":"IF(C1066<>0,LOOKUP(,-CODE(C$3:C1066),C$3:C1066),D1065)","v":117},"117(600)-300","Шкаф настенный  открытый торцевой (радиусный)",null,null,"300",600,315,607.729648,607.729648,607.729648,607.729648,607.729648,607.729648]
[null,null,0,{"$f":"IF(C1067<>0,LOOKUP(,-CODE(C$3:C1067),C$3:C1067),D1066)","v":117},"117(600)-350",null,null,null,"350",600,315,666.89377333333334,666.89377333333334,666.89377333333334,666.89377333333334,666.89377333333334,666.89377333333334]
[null,null,0,{"$f":"IF(C1068<>0,LOOKUP(,-CODE(C$3:C1068),C$3:C1068),D1067)","v":117},"117(600)-400",null,null,null,"400",600,315,723.8625066666666,723.8625066666666,723.8625066666666,723.8625066666666,723.8625066666666,723.8625066666666]
[null,null,0,{"$f":"IF(C1069<>0,LOOKUP(,-CODE(C$3:C1069),C$3:C1069),D1068)","v":117},"117(720)-300",null,null,null,"300",720,315,666.88210079999999,666.88210079999999,666.88210079999999,666.88210079999999,666.88210079999999,666.88210079999999]
[null,null,0,{"$f":"IF(C1070<>0,LOOKUP(,-CODE(C$3:C1070),C$3:C1070),D1069)","v":117},"117(720)-350",null,null,null,"350",720,315,728.0508341333333,728.0508341333333,728.0508341333333,728.0508341333333,728.0508341333333,728.0508341333333]
[null,null,0,{"$f":"IF(C1071<>0,LOOKUP(,-CODE(C$3:C1071),C$3:C1071),D1070)","v":117},"117(720)-400",null,null,null,"400",720,315,789.21956746666683,789.21956746666683,789.21956746666683,789.21956746666683,789.21956746666683,789.21956746666683]
[null,null,0,{"$f":"IF(C1072<>0,LOOKUP(,-CODE(C$3:C1072),C$3:C1072),D1071)","v":117},"117(800)-300",null,null,null,"300",800,315,780.22020586666667,780.22020586666667,780.22020586666667,780.22020586666667,780.22020586666667,780.22020586666667]
[null,null,0,{"$f":"IF(C1073<>0,LOOKUP(,-CODE(C$3:C1073),C$3:C1073),D1072)","v":117},"117(800)-350",null,null,null,"350",800,315,855.56868586666667,855.56868586666667,855.56868586666667,855.56868586666667,855.56868586666667,855.56868586666667]
[null,null,0,{"$f":"IF(C1074<>0,LOOKUP(,-CODE(C$3:C1074),C$3:C1074),D1073)","v":117},"117(800)-400",null,null,null,"400",800,315,930.91716586666666,930.91716586666666,930.91716586666666,930.91716586666666,930.91716586666666,930.91716586666666]
[null,null,0,{"$f":"IF(C1075<>0,LOOKUP(,-CODE(C$3:C1075),C$3:C1075),D1074)","v":117},"117(920)-300",null,null,null,"300",920,315,837.19556160000002,837.19556160000002,837.19556160000002,837.19556160000002,837.19556160000002,837.19556160000002]
[null,null,0,{"$f":"IF(C1076<>0,LOOKUP(,-CODE(C$3:C1076),C$3:C1076),D1075)","v":117},"117(920)-350",null,null,null,"350",920,315,916.74404159999995,916.74404159999995,916.74404159999995,916.74404159999995,916.74404159999995,916.74404159999995]
[null,null,0,{"$f":"IF(C1077<>0,LOOKUP(,-CODE(C$3:C1077),C$3:C1077),D1076)","v":117},"117(920)-400",null,null,null,"400",920,315,996.29252159999999,996.29252159999999,996.29252159999999,996.29252159999999,996.29252159999999,996.29252159999999]
[null,null,0,{"$f":"IF(C1078<>0,LOOKUP(,-CODE(C$3:C1078),C$3:C1078),D1077)","v":117},"117(960)-300",null,null,null,"300",960,315,856.23613333333333,856.23613333333333,856.23613333333333,856.23613333333333,856.23613333333333,856.23613333333333]
[null,null,0,{"$f":"IF(C1079<>0,LOOKUP(,-CODE(C$3:C1079),C$3:C1079),D1078)","v":117},"117(960)-350",null,null,null,"350",960,315,937.18461333333346,937.18461333333346,937.18461333333346,937.18461333333346,937.18461333333346,937.18461333333346]
[null,null,0,{"$f":"IF(C1080<>0,LOOKUP(,-CODE(C$3:C1080),C$3:C1080),D1079)","v":117},"117(960)-400",null,null,null,"400",960,315,1018.1330933333334,1018.1330933333334,1018.1330933333334,1018.1330933333334,1018.1330933333334,1018.1330933333334]
[null,"120",118,{"$f":"IF(C1081<>0,LOOKUP(,-CODE(C$3:C1081),C$3:C1081),D1080)","v":118},"118(600)-300","Шкаф настенный  открытый торцевой (скошенный)",null,null,"300",600,315,609.8701552,609.8701552,609.8701552,609.8701552,609.8701552,609.8701552]
[null,null,0,{"$f":"IF(C1082<>0,LOOKUP(,-CODE(C$3:C1082),C$3:C1082),D1081)","v":118},"118(600)-350",null,null,null,"350",600,315,666.83888853333337,666.83888853333337,666.83888853333337,666.83888853333337,666.83888853333337,666.83888853333337]
[null,null,0,{"$f":"IF(C1083<>0,LOOKUP(,-CODE(C$3:C1083),C$3:C1083),D1082)","v":118},"118(600)-400",null,null,null,"400",600,315,723.80762186666664,723.80762186666664,723.80762186666664,723.80762186666664,723.80762186666664,723.80762186666664]
[null,null,0,{"$f":"IF(C1084<>0,LOOKUP(,-CODE(C$3:C1084),C$3:C1084),D1083)","v":118},"118(720)-300",null,null,null,"300",720,315,666.77233119999994,666.77233119999994,666.77233119999994,666.77233119999994,666.77233119999994,666.77233119999994]
[null,null,0,{"$f":"IF(C1085<>0,LOOKUP(,-CODE(C$3:C1085),C$3:C1085),D1084)","v":118},"118(720)-350",null,null,null,"350",720,315,727.94106453333325,727.94106453333325,727.94106453333325,727.94106453333325,727.94106453333325,727.94106453333325]
[null,null,0,{"$f":"IF(C1086<>0,LOOKUP(,-CODE(C$3:C1086),C$3:C1086),D1085)","v":118},"118(720)-400",null,null,null,"400",720,315,789.10979786666678,789.10979786666678,789.10979786666678,789.10979786666678,789.10979786666678,789.10979786666678]
[null,null,0,{"$f":"IF(C1087<>0,LOOKUP(,-CODE(C$3:C1087),C$3:C1087),D1086)","v":118},"118(800)-300",null,null,null,"300",800,315,780.00066666666669,780.00066666666669,780.00066666666669,780.00066666666669,780.00066666666669,780.00066666666669]
[null,null,0,{"$f":"IF(C1088<>0,LOOKUP(,-CODE(C$3:C1088),C$3:C1088),D1087)","v":118},"118(800)-350",null,null,null,"350",800,315,855.34914666666668,855.34914666666668,855.34914666666668,855.34914666666668,855.34914666666668,855.34914666666668]
[null,null,0,{"$f":"IF(C1089<>0,LOOKUP(,-CODE(C$3:C1089),C$3:C1089),D1088)","v":118},"118(800)-400",null,null,null,"400",800,315,930.69762666666668,930.69762666666668,930.69762666666668,930.69762666666668,930.69762666666668,930.69762666666668]
[null,null,0,{"$f":"IF(C1090<>0,LOOKUP(,-CODE(C$3:C1090),C$3:C1090),D1089)","v":118},"118(920)-300",null,null,null,"300",920,315,836.90284266666674,836.90284266666674,836.90284266666674,836.90284266666674,836.90284266666674,836.90284266666674]
[null,null,0,{"$f":"IF(C1091<>0,LOOKUP(,-CODE(C$3:C1091),C$3:C1091),D1090)","v":118},"118(920)-350",null,null,null,"350",920,315,916.45132266666667,916.45132266666667,916.45132266666667,916.45132266666667,916.45132266666667,916.45132266666667]
[null,null,0,{"$f":"IF(C1092<>0,LOOKUP(,-CODE(C$3:C1092),C$3:C1092),D1091)","v":118},"118(920)-400",null,null,null,"400",920,315,995.99980266666671,995.99980266666671,995.99980266666671,995.99980266666671,995.99980266666671,995.99980266666671]
[null,null,0,{"$f":"IF(C1093<>0,LOOKUP(,-CODE(C$3:C1093),C$3:C1093),D1092)","v":118},"118(960)-300",null,null,null,"300",960,315,855.87023466666665,855.87023466666665,855.87023466666665,855.87023466666665,855.87023466666665,855.87023466666665]
[null,null,0,{"$f":"IF(C1094<>0,LOOKUP(,-CODE(C$3:C1094),C$3:C1094),D1093)","v":118},"118(960)-350",null,null,null,"350",960,315,936.81871466666678,936.81871466666678,936.81871466666678,936.81871466666678,936.81871466666678,936.81871466666678]
[null,null,0,{"$f":"IF(C1095<>0,LOOKUP(,-CODE(C$3:C1095),C$3:C1095),D1094)","v":118},"118(960)-400",null,null,null,"400",960,315,1017.7671946666667,1017.7671946666667,1017.7671946666667,1017.7671946666667,1017.7671946666667,1017.7671946666667]
[null,"121",119,{"$f":"IF(C1096<>0,LOOKUP(,-CODE(C$3:C1096),C$3:C1096),D1095)","v":119},"119(600)-300","Шкаф настенный  открытый, две полки",null,null,"300",600,315,884.90184488115949,884.90184488115949,884.90184488115949,884.90184488115949,884.90184488115949,884.90184488115949]
[null,null,0,{"$f":"IF(C1097<>0,LOOKUP(,-CODE(C$3:C1097),C$3:C1097),D1096)","v":119},"119(600)-350",null,null,null,"350",600,315,923.00314922898554,923.00314922898554,923.00314922898554,923.00314922898554,923.00314922898554,923.00314922898554]
[null,null,0,{"$f":"IF(C1098<>0,LOOKUP(,-CODE(C$3:C1098),C$3:C1098),D1097)","v":119},"119(600)-400",null,null,null,"400",600,315,961.10445357681169,961.10445357681169,961.10445357681169,961.10445357681169,961.10445357681169,961.10445357681169]
[null,null,0,{"$f":"IF(C1099<>0,LOOKUP(,-CODE(C$3:C1099),C$3:C1099),D1098)","v":119},"119(600)-450",null,null,null,"450",600,315,999.20575792463762,999.20575792463762,999.20575792463762,999.20575792463762,999.20575792463762,999.20575792463762]
[null,null,0,{"$f":"IF(C1100<>0,LOOKUP(,-CODE(C$3:C1100),C$3:C1100),D1099)","v":119},"119(600)-500",null,null,null,"500",600,315,1037.3070622724638,1037.3070622724638,1037.3070622724638,1037.3070622724638,1037.3070622724638,1037.3070622724638]
[null,null,0,{"$f":"IF(C1101<>0,LOOKUP(,-CODE(C$3:C1101),C$3:C1101),D1100)","v":119},"119(600)-550",null,null,null,"550",600,315,1075.4083666202898,1075.4083666202898,1075.4083666202898,1075.4083666202898,1075.4083666202898,1075.4083666202898]
[null,null,0,{"$f":"IF(C1102<>0,LOOKUP(,-CODE(C$3:C1102),C$3:C1102),D1101)","v":119},"119(600)-600",null,null,null,"600",600,315,1113.5096709681159,1113.5096709681159,1113.5096709681159,1113.5096709681159,1113.5096709681159,1113.5096709681159]
[null,null,0,{"$f":"IF(C1103<>0,LOOKUP(,-CODE(C$3:C1103),C$3:C1103),D1102)","v":119},"119(720)-300",null,null,null,"300",720,315,952.99471722898545,952.99471722898545,952.99471722898545,952.99471722898545,952.99471722898545,952.99471722898545]
[null,null,0,{"$f":"IF(C1104<>0,LOOKUP(,-CODE(C$3:C1104),C$3:C1104),D1103)","v":119},"119(720)-350",null,null,null,"350",720,315,992.23732592463773,992.23732592463773,992.23732592463773,992.23732592463773,992.23732592463773,992.23732592463773]
[null,null,0,{"$f":"IF(C1105<>0,LOOKUP(,-CODE(C$3:C1105),C$3:C1105),D1104)","v":119},"119(720)-400",null,null,null,"400",720,315,1031.4799346202899,1031.4799346202899,1031.4799346202899,1031.4799346202899,1031.4799346202899,1031.4799346202899]
[null,null,0,{"$f":"IF(C1106<>0,LOOKUP(,-CODE(C$3:C1106),C$3:C1106),D1105)","v":119},"119(720)-450",null,null,null,"450",720,315,1070.7225433159422,1070.7225433159422,1070.7225433159422,1070.7225433159422,1070.7225433159422,1070.7225433159422]
[null,null,0,{"$f":"IF(C1107<>0,LOOKUP(,-CODE(C$3:C1107),C$3:C1107),D1106)","v":119},"119(720)-500",null,null,null,"500",720,315,1109.9651520115942,1109.9651520115942,1109.9651520115942,1109.9651520115942,1109.9651520115942,1109.9651520115942]
[null,null,0,{"$f":"IF(C1108<>0,LOOKUP(,-CODE(C$3:C1108),C$3:C1108),D1107)","v":119},"119(720)-550",null,null,null,"550",720,315,1149.2077607072463,1149.2077607072463,1149.2077607072463,1149.2077607072463,1149.2077607072463,1149.2077607072463]
[null,null,0,{"$f":"IF(C1109<>0,LOOKUP(,-CODE(C$3:C1109),C$3:C1109),D1108)","v":119},"119(720)-600",null,null,null,"600",720,315,1188.4503694028986,1188.4503694028986,1188.4503694028986,1188.4503694028986,1188.4503694028986,1188.4503694028986]
[null,null,0,{"$f":"IF(C1110<>0,LOOKUP(,-CODE(C$3:C1110),C$3:C1110),D1109)","v":119},"119(800)-300",null,null,null,"300",800,315,1061.5711971942028,1061.5711971942028,1061.5711971942028,1061.5711971942028,1061.5711971942028,1061.5711971942028]
[null,null,0,{"$f":"IF(C1111<>0,LOOKUP(,-CODE(C$3:C1111),C$3:C1111),D1110)","v":119},"119(800)-350",null,null,null,"350",800,315,1112.1096754550726,1112.1096754550726,1112.1096754550726,1112.1096754550726,1112.1096754550726,1112.1096754550726]
[null,null,0,{"$f":"IF(C1112<>0,LOOKUP(,-CODE(C$3:C1112),C$3:C1112),D1111)","v":119},"119(800)-400",null,null,null,"400",800,315,1162.648153715942,1162.648153715942,1162.648153715942,1162.648153715942,1162.648153715942,1162.648153715942]
[null,null,0,{"$f":"IF(C1113<>0,LOOKUP(,-CODE(C$3:C1113),C$3:C1113),D1112)","v":119},"119(800)-450",null,null,null,"450",800,315,1213.1866319768117,1213.1866319768117,1213.1866319768117,1213.1866319768117,1213.1866319768117,1213.1866319768117]
[null,null,0,{"$f":"IF(C1114<>0,LOOKUP(,-CODE(C$3:C1114),C$3:C1114),D1113)","v":119},"119(800)-500",null,null,null,"500",800,315,1263.7251102376813,1263.7251102376813,1263.7251102376813,1263.7251102376813,1263.7251102376813,1263.7251102376813]
[null,null,0,{"$f":"IF(C1115<>0,LOOKUP(,-CODE(C$3:C1115),C$3:C1115),D1114)","v":119},"119(800)-550",null,null,null,"550",800,315,1314.2635884985509,1314.2635884985509,1314.2635884985509,1314.2635884985509,1314.2635884985509,1314.2635884985509]
[null,null,0,{"$f":"IF(C1116<>0,LOOKUP(,-CODE(C$3:C1116),C$3:C1116),D1115)","v":119},"119(800)-600",null,null,null,"600",800,315,1364.8020667594203,1364.8020667594203,1364.8020667594203,1364.8020667594203,1364.8020667594203,1364.8020667594203]
[null,null,0,{"$f":"IF(C1117<>0,LOOKUP(,-CODE(C$3:C1117),C$3:C1117),D1116)","v":119},"119(920)-300",null,null,null,"300",920,315,1129.6640695420292,1129.6640695420292,1129.6640695420292,1129.6640695420292,1129.6640695420292,1129.6640695420292]
[null,null,0,{"$f":"IF(C1118<>0,LOOKUP(,-CODE(C$3:C1118),C$3:C1118),D1117)","v":119},"119(920)-350",null,null,null,"350",920,315,1181.3438521507246,1181.3438521507246,1181.3438521507246,1181.3438521507246,1181.3438521507246,1181.3438521507246]
[null,null,0,{"$f":"IF(C1119<>0,LOOKUP(,-CODE(C$3:C1119),C$3:C1119),D1118)","v":119},"119(920)-400",null,null,null,"400",920,315,1233.0236347594202,1233.0236347594202,1233.0236347594202,1233.0236347594202,1233.0236347594202,1233.0236347594202]
[null,null,0,{"$f":"IF(C1120<>0,LOOKUP(,-CODE(C$3:C1120),C$3:C1120),D1119)","v":119},"119(920)-450",null,null,null,"450",920,315,1284.7034173681159,1284.7034173681159,1284.7034173681159,1284.7034173681159,1284.7034173681159,1284.7034173681159]
[null,null,0,{"$f":"IF(C1121<>0,LOOKUP(,-CODE(C$3:C1121),C$3:C1121),D1120)","v":119},"119(920)-500",null,null,null,"500",920,315,1336.3831999768115,1336.3831999768115,1336.3831999768115,1336.3831999768115,1336.3831999768115,1336.3831999768115]
[null,null,0,{"$f":"IF(C1122<>0,LOOKUP(,-CODE(C$3:C1122),C$3:C1122),D1121)","v":119},"119(920)-550",null,null,null,"550",920,315,1388.0629825855074,1388.0629825855074,1388.0629825855074,1388.0629825855074,1388.0629825855074,1388.0629825855074]
[null,null,0,{"$f":"IF(C1123<>0,LOOKUP(,-CODE(C$3:C1123),C$3:C1123),D1122)","v":119},"119(920)-600",null,null,null,"600",920,315,1439.7427651942028,1439.7427651942028,1439.7427651942028,1439.7427651942028,1439.7427651942028,1439.7427651942028]
[null,null,0,{"$f":"IF(C1124<>0,LOOKUP(,-CODE(C$3:C1124),C$3:C1124),D1123)","v":119},"119(960)-300",null,null,null,"300",960,315,1152.361693657971,1152.361693657971,1152.361693657971,1152.361693657971,1152.361693657971,1152.361693657971]
[null,null,0,{"$f":"IF(C1125<>0,LOOKUP(,-CODE(C$3:C1125),C$3:C1125),D1124)","v":119},"119(960)-350",null,null,null,"350",960,315,1204.4219110492754,1204.4219110492754,1204.4219110492754,1204.4219110492754,1204.4219110492754,1204.4219110492754]
[null,null,0,{"$f":"IF(C1126<>0,LOOKUP(,-CODE(C$3:C1126),C$3:C1126),D1125)","v":119},"119(960)-400",null,null,null,"400",960,315,1256.4821284405798,1256.4821284405798,1256.4821284405798,1256.4821284405798,1256.4821284405798,1256.4821284405798]
[null,null,0,{"$f":"IF(C1127<>0,LOOKUP(,-CODE(C$3:C1127),C$3:C1127),D1126)","v":119},"119(960)-450",null,null,null,"450",960,315,1308.5423458318842,1308.5423458318842,1308.5423458318842,1308.5423458318842,1308.5423458318842,1308.5423458318842]
[null,null,0,{"$f":"IF(C1128<>0,LOOKUP(,-CODE(C$3:C1128),C$3:C1128),D1127)","v":119},"119(960)-500",null,null,null,"500",960,315,1360.6025632231886,1360.6025632231886,1360.6025632231886,1360.6025632231886,1360.6025632231886,1360.6025632231886]
[null,null,0,{"$f":"IF(C1129<>0,LOOKUP(,-CODE(C$3:C1129),C$3:C1129),D1128)","v":119},"119(960)-550",null,null,null,"550",960,315,1412.6627806144927,1412.6627806144927,1412.6627806144927,1412.6627806144927,1412.6627806144927,1412.6627806144927]
[null,null,0,{"$f":"IF(C1130<>0,LOOKUP(,-CODE(C$3:C1130),C$3:C1130),D1129)","v":119},"119(960)-600",null,null,null,"600",960,315,1464.7229980057973,1464.7229980057973,1464.7229980057973,1464.7229980057973,1464.7229980057973,1464.7229980057973]
[null,"127",120,{"$f":"IF(C1131<>0,LOOKUP(,-CODE(C$3:C1131),C$3:C1131),D1130)","v":120},"120(300)-500","Шкаф настенный  открытый, одна полка",null,null,"500",300,315,748.84060619130435,748.84060619130435,748.84060619130435,748.84060619130435,748.84060619130435,748.84060619130435]
[null,null,0,{"$f":"IF(C1132<>0,LOOKUP(,-CODE(C$3:C1132),C$3:C1132),D1131)","v":120},"120(300)-550",null,null,null,"550",300,315,773.55364966956529,773.55364966956529,773.55364966956529,773.55364966956529,773.55364966956529,773.55364966956529]
[null,null,0,{"$f":"IF(C1133<>0,LOOKUP(,-CODE(C$3:C1133),C$3:C1133),D1132)","v":120},"120(300)-600",null,null,null,"600",300,315,798.26669314782612,798.26669314782612,798.26669314782612,798.26669314782612,798.26669314782612,798.26669314782612]
[null,null,0,{"$f":"IF(C1134<>0,LOOKUP(,-CODE(C$3:C1134),C$3:C1134),D1133)","v":120},"120(300)-650",null,null,null,"650",300,315,822.97973662608695,822.97973662608695,822.97973662608695,822.97973662608695,822.97973662608695,822.97973662608695]
[null,null,0,{"$f":"IF(C1135<>0,LOOKUP(,-CODE(C$3:C1135),C$3:C1135),D1134)","v":120},"120(300)-700",null,null,null,"700",300,315,847.69278010434789,847.69278010434789,847.69278010434789,847.69278010434789,847.69278010434789,847.69278010434789]
[null,null,0,{"$f":"IF(C1136<>0,LOOKUP(,-CODE(C$3:C1136),C$3:C1136),D1135)","v":120},"120(300)-750",null,null,null,"750",300,315,872.40582358260872,872.40582358260872,872.40582358260872,872.40582358260872,872.40582358260872,872.40582358260872]
[null,null,0,{"$f":"IF(C1137<>0,LOOKUP(,-CODE(C$3:C1137),C$3:C1137),D1136)","v":120},"120(300)-800",null,null,null,"800",300,315,897.11886706086955,897.11886706086955,897.11886706086955,897.11886706086955,897.11886706086955,897.11886706086955]
[null,null,0,{"$f":"IF(C1138<>0,LOOKUP(,-CODE(C$3:C1138),C$3:C1138),D1137)","v":120},"120(300)-850",null,null,null,"850",300,315,921.8319105391306,921.8319105391306,921.8319105391306,921.8319105391306,921.8319105391306,921.8319105391306]
[null,null,0,{"$f":"IF(C1139<>0,LOOKUP(,-CODE(C$3:C1139),C$3:C1139),D1138)","v":120},"120(300)-900",null,null,null,"900",300,315,946.54495401739132,946.54495401739132,946.54495401739132,946.54495401739132,946.54495401739132,946.54495401739132]
[null,null,0,{"$f":"IF(C1140<>0,LOOKUP(,-CODE(C$3:C1140),C$3:C1140),D1139)","v":120},"120(360)-500",null,null,null,"500",360,315,785.16965106086957,785.16965106086957,785.16965106086957,785.16965106086957,785.16965106086957,785.16965106086957]
[null,null,0,{"$f":"IF(C1141<>0,LOOKUP(,-CODE(C$3:C1141),C$3:C1141),D1140)","v":120},"120(360)-550",null,null,null,"550",360,315,810.4533467130434,810.4533467130434,810.4533467130434,810.4533467130434,810.4533467130434,810.4533467130434]
[null,null,0,{"$f":"IF(C1142<>0,LOOKUP(,-CODE(C$3:C1142),C$3:C1142),D1141)","v":120},"120(360)-600",null,null,null,"600",360,315,835.73704236521746,835.73704236521746,835.73704236521746,835.73704236521746,835.73704236521746,835.73704236521746]
[null,null,0,{"$f":"IF(C1143<>0,LOOKUP(,-CODE(C$3:C1143),C$3:C1143),D1142)","v":120},"120(360)-650",null,null,null,"650",360,315,861.0207380173913,861.0207380173913,861.0207380173913,861.0207380173913,861.0207380173913,861.0207380173913]
[null,null,0,{"$f":"IF(C1144<>0,LOOKUP(,-CODE(C$3:C1144),C$3:C1144),D1143)","v":120},"120(360)-700",null,null,null,"700",360,315,886.30443366956524,886.30443366956524,886.30443366956524,886.30443366956524,886.30443366956524,886.30443366956524]
[null,null,0,{"$f":"IF(C1145<>0,LOOKUP(,-CODE(C$3:C1145),C$3:C1145),D1144)","v":120},"120(360)-750",null,null,null,"750",360,315,911.58812932173907,911.58812932173907,911.58812932173907,911.58812932173907,911.58812932173907,911.58812932173907]
[null,null,0,{"$f":"IF(C1146<>0,LOOKUP(,-CODE(C$3:C1146),C$3:C1146),D1145)","v":120},"120(360)-800",null,null,null,"800",360,315,936.87182497391314,936.87182497391314,936.87182497391314,936.87182497391314,936.87182497391314,936.87182497391314]
[null,null,0,{"$f":"IF(C1147<>0,LOOKUP(,-CODE(C$3:C1147),C$3:C1147),D1146)","v":120},"120(360)-850",null,null,null,"850",360,315,962.15552062608708,962.15552062608708,962.15552062608708,962.15552062608708,962.15552062608708,962.15552062608708]
[null,null,0,{"$f":"IF(C1148<>0,LOOKUP(,-CODE(C$3:C1148),C$3:C1148),D1147)","v":120},"120(360)-900",null,null,null,"900",360,315,987.43921627826091,987.43921627826091,987.43921627826091,987.43921627826091,987.43921627826091,987.43921627826091]
[null,null,0,{"$f":"IF(C1149<>0,LOOKUP(,-CODE(C$3:C1149),C$3:C1149),D1148)","v":120},"120(400)-500",null,null,null,"500",400,315,809.38901430724627,809.38901430724627,809.38901430724627,809.38901430724627,809.38901430724627,809.38901430724627]
[null,null,0,{"$f":"IF(C1150<>0,LOOKUP(,-CODE(C$3:C1150),C$3:C1150),D1149)","v":120},"120(400)-550",null,null,null,"550",400,315,835.05314474202885,835.05314474202885,835.05314474202885,835.05314474202885,835.05314474202885,835.05314474202885]
[null,null,0,{"$f":"IF(C1151<>0,LOOKUP(,-CODE(C$3:C1151),C$3:C1151),D1150)","v":120},"120(400)-600",null,null,null,"600",400,315,860.71727517681165,860.71727517681165,860.71727517681165,860.71727517681165,860.71727517681165,860.71727517681165]
[null,null,0,{"$f":"IF(C1152<>0,LOOKUP(,-CODE(C$3:C1152),C$3:C1152),D1151)","v":120},"120(400)-650",null,null,null,"650",400,315,886.38140561159423,886.38140561159423,886.38140561159423,886.38140561159423,886.38140561159423,886.38140561159423]
[null,null,0,{"$f":"IF(C1153<>0,LOOKUP(,-CODE(C$3:C1153),C$3:C1153),D1152)","v":120},"120(400)-700",null,null,null,"700",400,315,912.04553604637681,912.04553604637681,912.04553604637681,912.04553604637681,912.04553604637681,912.04553604637681]
[null,null,0,{"$f":"IF(C1154<>0,LOOKUP(,-CODE(C$3:C1154),C$3:C1154),D1153)","v":120},"120(400)-750",null,null,null,"750",400,315,937.70966648115939,937.70966648115939,937.70966648115939,937.70966648115939,937.70966648115939,937.70966648115939]
[null,null,0,{"$f":"IF(C1155<>0,LOOKUP(,-CODE(C$3:C1155),C$3:C1155),D1154)","v":120},"120(400)-800",null,null,null,"800",400,315,963.37379691594219,963.37379691594219,963.37379691594219,963.37379691594219,963.37379691594219,963.37379691594219]
[null,null,0,{"$f":"IF(C1156<>0,LOOKUP(,-CODE(C$3:C1156),C$3:C1156),D1155)","v":120},"120(400)-850",null,null,null,"850",400,315,989.03792735072466,989.03792735072466,989.03792735072466,989.03792735072466,989.03792735072466,989.03792735072466]
[null,null,0,{"$f":"IF(C1157<>0,LOOKUP(,-CODE(C$3:C1157),C$3:C1157),D1156)","v":120},"120(400)-900",null,null,null,"900",400,315,1014.7020577855072,1014.7020577855072,1014.7020577855072,1014.7020577855072,1014.7020577855072,1014.7020577855072]
[null,null,0,{"$f":"IF(C1158<>0,LOOKUP(,-CODE(C$3:C1158),C$3:C1158),D1157)","v":120},"120(460)-500",null,null,null,"500",460,315,845.71805917681161,845.71805917681161,845.71805917681161,845.71805917681161,845.71805917681161,845.71805917681161]
[null,null,0,{"$f":"IF(C1159<>0,LOOKUP(,-CODE(C$3:C1159),C$3:C1159),D1158)","v":120},"120(460)-550",null,null,null,"550",460,315,871.9528417855073,871.9528417855073,871.9528417855073,871.9528417855073,871.9528417855073,871.9528417855073]
[null,null,0,{"$f":"IF(C1160<>0,LOOKUP(,-CODE(C$3:C1160),C$3:C1160),D1159)","v":120},"120(460)-600",null,null,null,"600",460,315,898.18762439420289,898.18762439420289,898.18762439420289,898.18762439420289,898.18762439420289,898.18762439420289]
[null,null,0,{"$f":"IF(C1161<>0,LOOKUP(,-CODE(C$3:C1161),C$3:C1161),D1160)","v":120},"120(460)-650",null,null,null,"650",460,315,924.42240700289858,924.42240700289858,924.42240700289858,924.42240700289858,924.42240700289858,924.42240700289858]
[null,null,0,{"$f":"IF(C1162<>0,LOOKUP(,-CODE(C$3:C1162),C$3:C1162),D1161)","v":120},"120(460)-700",null,null,null,"700",460,315,950.65718961159416,950.65718961159416,950.65718961159416,950.65718961159416,950.65718961159416,950.65718961159416]
[null,null,0,{"$f":"IF(C1163<>0,LOOKUP(,-CODE(C$3:C1163),C$3:C1163),D1162)","v":120},"120(460)-750",null,null,null,"750",460,315,976.89197222028974,976.89197222028974,976.89197222028974,976.89197222028974,976.89197222028974,976.89197222028974]
[null,null,0,{"$f":"IF(C1164<>0,LOOKUP(,-CODE(C$3:C1164),C$3:C1164),D1163)","v":120},"120(460)-800",null,null,null,"800",460,315,1003.1267548289854,1003.1267548289854,1003.1267548289854,1003.1267548289854,1003.1267548289854,1003.1267548289854]
[null,null,0,{"$f":"IF(C1165<>0,LOOKUP(,-CODE(C$3:C1165),C$3:C1165),D1164)","v":120},"120(460)-850",null,null,null,"850",460,315,1029.3615374376809,1029.3615374376809,1029.3615374376809,1029.3615374376809,1029.3615374376809,1029.3615374376809]
[null,null,0,{"$f":"IF(C1166<>0,LOOKUP(,-CODE(C$3:C1166),C$3:C1166),D1165)","v":120},"120(460)-900",null,null,null,"900",460,315,1055.5963200463768,1055.5963200463768,1055.5963200463768,1055.5963200463768,1055.5963200463768,1055.5963200463768]
[null,null,0,{"$f":"IF(C1167<>0,LOOKUP(,-CODE(C$3:C1167),C$3:C1167),D1166)","v":120},"120(480)-500",null,null,null,"500",480,315,857.82774080000002,857.82774080000002,857.82774080000002,857.82774080000002,857.82774080000002,857.82774080000002]
[null,null,0,{"$f":"IF(C1168<>0,LOOKUP(,-CODE(C$3:C1168),C$3:C1168),D1167)","v":120},"120(480)-550",null,null,null,"550",480,315,884.25274079999997,884.25274079999997,884.25274079999997,884.25274079999997,884.25274079999997,884.25274079999997]
[null,null,0,{"$f":"IF(C1169<>0,LOOKUP(,-CODE(C$3:C1169),C$3:C1169),D1168)","v":120},"120(480)-600",null,null,null,"600",480,315,910.67774080000004,910.67774080000004,910.67774080000004,910.67774080000004,910.67774080000004,910.67774080000004]
[null,null,0,{"$f":"IF(C1170<>0,LOOKUP(,-CODE(C$3:C1170),C$3:C1170),D1169)","v":120},"120(480)-650",null,null,null,"650",480,315,937.10274079999999,937.10274079999999,937.10274079999999,937.10274079999999,937.10274079999999,937.10274079999999]
[null,null,0,{"$f":"IF(C1171<>0,LOOKUP(,-CODE(C$3:C1171),C$3:C1171),D1170)","v":120},"120(480)-700",null,null,null,"700",480,315,963.52774079999995,963.52774079999995,963.52774079999995,963.52774079999995,963.52774079999995,963.52774079999995]
[null,null,0,{"$f":"IF(C1172<>0,LOOKUP(,-CODE(C$3:C1172),C$3:C1172),D1171)","v":120},"120(480)-750",null,null,null,"750",480,315,989.9527407999999,989.9527407999999,989.9527407999999,989.9527407999999,989.9527407999999,989.9527407999999]
[null,null,0,{"$f":"IF(C1173<>0,LOOKUP(,-CODE(C$3:C1173),C$3:C1173),D1172)","v":120},"120(480)-800",null,null,null,"800",480,315,1016.3777408000001,1016.3777408000001,1016.3777408000001,1016.3777408000001,1016.3777408000001,1016.3777408000001]
[null,null,0,{"$f":"IF(C1174<>0,LOOKUP(,-CODE(C$3:C1174),C$3:C1174),D1173)","v":120},"120(480)-850",null,null,null,"850",480,315,1042.8027408,1042.8027408,1042.8027408,1042.8027408,1042.8027408,1042.8027408]
[null,null,0,{"$f":"IF(C1175<>0,LOOKUP(,-CODE(C$3:C1175),C$3:C1175),D1174)","v":120},"120(480)-900",null,null,null,"900",480,315,1069.2277408,1069.2277408,1069.2277408,1069.2277408,1069.2277408,1069.2277408]
[null,"122",121,{"$f":"IF(C1176<>0,LOOKUP(,-CODE(C$3:C1176),C$3:C1176),D1175)","v":121},"121(600)-500","Шкаф настенныйугловой-трапеция, полка ЛДСП",null,null,"500",600,"500",3550.4659651376815,3747.1005715376814,3771.4037251376812,3968.3145037376812,4415.4372955376821,4594.3968811376817]
[null,null,0,{"$f":"IF(C1177<>0,LOOKUP(,-CODE(C$3:C1177),C$3:C1177),D1176)","v":121},"121(600)-600",null,null,null,"600",600,"600",4796.9932702623191,5103.0393502623192,5140.8652702623194,5447.3411902623193,6143.2521502623194,6421.7884702623196]
[null,null,0,{"$f":"IF(C1178<>0,LOOKUP(,-CODE(C$3:C1178),C$3:C1178),D1177)","v":121},"121(720)-500",null,null,null,"500",720,"500",4001.2862684420293,4237.4454188420295,4266.6336284420295,4503.1244630420297,5040.1211828420292,5255.0525444420291]
[null,null,0,{"$f":"IF(C1179<>0,LOOKUP(,-CODE(C$3:C1179),C$3:C1179),D1178)","v":121},"121(720)-600",null,null,null,"600",720,"600",5449.4442309579717,5817.0071109579712,5862.4362309579719,6230.5153509579704,7066.3079109579703,7400.831430957971]
[null,null,0,{"$f":"IF(C1180<>0,LOOKUP(,-CODE(C$3:C1180),C$3:C1180),D1179)","v":121},"121(800)-500",null,null,null,"500",800,"650",4524.0296244782621,4786.5384708782622,4818.9833844782625,5081.8609230782622,5678.7735948782611,5917.6861404782612]
[null,null,0,{"$f":"IF(C1181<>0,LOOKUP(,-CODE(C$3:C1181),C$3:C1181),D1180)","v":121},"121(800)-600",null,null,null,"600",800,"600",6185.0865975217393,6593.6606775217397,6644.1585975217395,7053.3065175217398,7982.3534775217395,8354.2017975217386]
[null,null,0,{"$f":"IF(C1182<>0,LOOKUP(,-CODE(C$3:C1182),C$3:C1182),D1181)","v":121},"121(920)-500",null,null,null,"500",920,"500",5127.079427782608,5429.1128181826089,5466.4427877826092,5768.9003823826088,6455.6869821826094,6730.5713037826081]
[null,null,0,{"$f":"IF(C1183<>0,LOOKUP(,-CODE(C$3:C1183),C$3:C1183),D1182)","v":121},"121(920)-600",null,null,null,"600",920,"600",6989.7670582173923,7459.8579382173921,7517.9590582173914,7988.7101782173922,9057.6387382173907,9485.4742582173913]
[null,null,0,{"$f":"IF(C1184<>0,LOOKUP(,-CODE(C$3:C1184),C$3:C1184),D1183)","v":121},"121(960)-500",null,null,null,"500",960,"500",5277.3528622173908,5592.5611006173913,5631.5194222173905,5947.1703688173911,6663.9149446173915,6950.7898582173912]
[null,null,0,{"$f":"IF(C1185<>0,LOOKUP(,-CODE(C$3:C1185),C$3:C1185),D1184)","v":121},"121(960)-600",null,null,null,"600",960,"600",7207.2507117826081,7697.8471917826082,7758.4827117826089,8249.7682317826075,9365.3239917826086,9811.8219117826084]
[null,"123",122,{"$f":"IF(C1186<>0,LOOKUP(,-CODE(C$3:C1186),C$3:C1186),D1185)","v":122},"122(600)-655","Шкаф настенныйугловой-радиусный вогнутый, полка ЛДСП",null,null,"655",600,"655",14464.942693645648,14464.942693645648,14464.942693645648,14464.942693645648,14464.942693645648,14464.942693645648]
[null,null,0,{"$f":"IF(C1187<>0,LOOKUP(,-CODE(C$3:C1187),C$3:C1187),D1186)","v":122},"122(720)-655",null,null,null,"655",720,"655",14568.672523906516,14568.672523906516,14568.672523906516,14568.672523906516,14568.672523906516,14568.672523906516]
[null,null,0,{"$f":"IF(C1188<>0,LOOKUP(,-CODE(C$3:C1188),C$3:C1188),D1187)","v":122},"122(800)-655",null,null,null,"655",800,"655",14999.219051198539,14999.219051198539,14999.219051198539,14999.219051198539,14999.219051198539,14999.219051198539]
[null,null,0,{"$f":"IF(C1189<>0,LOOKUP(,-CODE(C$3:C1189),C$3:C1189),D1188)","v":122},"122(920)-655",null,null,null,"655",920,"655",15255.178381459409,15255.178381459409,15255.178381459409,15255.178381459409,15255.178381459409,15255.178381459409]
[null,null,0,{"$f":"IF(C1190<>0,LOOKUP(,-CODE(C$3:C1190),C$3:C1190),D1189)","v":122},"122(960)-655",null,null,null,"655",960,"655",15289.754991546364,15289.754991546364,15289.754991546364,15289.754991546364,15289.754991546364,15289.754991546364]
[null,"124",123,{"$f":"IF(C1191<>0,LOOKUP(,-CODE(C$3:C1191),C$3:C1191),D1190)","v":123},"123(600)-500","Шкаф настенныйугловой-трапеция со стеклом, полка ЛДСП",null,null,"500",600,"500",3496.0274791376814,3692.9382577376814,3693.490602137681,3890.4013807376814,4266.8240893376815,4445.7836749376811]
[null,null,0,{"$f":"IF(C1192<>0,LOOKUP(,-CODE(C$3:C1192),C$3:C1192),D1191)","v":123},"123(600)-600",null,null,null,"600",600,"600",4750.8490702623203,5057.3249902623193,5058.1846702623197,5364.6605902623196,5950.5325102623192,6229.0688302623203]
[null,null,0,{"$f":"IF(C1193<>0,LOOKUP(,-CODE(C$3:C1193),C$3:C1193),D1192)","v":123},"123(720)-500",null,null,null,"500",720,"500",3940.0992224420293,4176.5900570420299,4177.2534254420298,4413.74426004203,4865.82982464203,5080.7611862420299]
[null,null,0,{"$f":"IF(C1194<>0,LOOKUP(,-CODE(C$3:C1194),C$3:C1194),D1193)","v":123},"123(720)-600",null,null,null,"600",720,"600",5402.3172309579713,5770.3963509579717,5771.4288309579715,6139.5079509579709,6843.1430709579708,7177.6665909579715]
[null,null,0,{"$f":"IF(C1195<>0,LOOKUP(,-CODE(C$3:C1195),C$3:C1195),D1194)","v":123},"123(800)-500",null,null,null,"500",800,"500",4458.3435384782606,4721.2210770782613,4721.9584614782616,4984.8360000782613,5487.3634686782616,5726.2760142782618]
[null,null,0,{"$f":"IF(C1196<>0,LOOKUP(,-CODE(C$3:C1196),C$3:C1196),D1195)","v":123},"123(800)-600",null,null,null,"600",800,"600",6137.3043975217397,6546.4523175217391,6547.5999975217392,6956.7479175217386,7738.891837521739,8110.74015752174]
[null,null,0,{"$f":"IF(C1197<>0,LOOKUP(,-CODE(C$3:C1197),C$3:C1197),D1196)","v":123},"123(920)-500",null,null,null,"500",920,"500",5054.6447817826083,5357.1023763826079,5357.9507847826089,5660.4083793826085,6238.5987039826086,6513.4830255826082]
[null,null,0,{"$f":"IF(C1198<>0,LOOKUP(,-CODE(C$3:C1198),C$3:C1198),D1197)","v":123},"123(920)-600",null,null,null,"600",920,"600",6941.0020582173911,7411.753178217391,7413.0736582173913,7883.8247782173912,8783.7318982173892,9211.5674182173898]
[null,null,0,{"$f":"IF(C1199<>0,LOOKUP(,-CODE(C$3:C1199),C$3:C1199),D1198)","v":123},"123(960)-500",null,null,null,"500",960,"500",5202.6686962173908,5518.3196428173915,5519.205059217391,5834.8560058173907,6438.2672824173906,6725.1421960173911]
[null,null,0,{"$f":"IF(C1200<>0,LOOKUP(,-CODE(C$3:C1200),C$3:C1200),D1199)","v":123},"123(960)-600",null,null,null,"600",960,"600",7158.158111782609,7649.4436317826085,7650.821711782608,8142.1072317826083,9081.2687517826071,9527.7666717826087]
[null,null,125,{"$f":"IF(C1201<>0,LOOKUP(,-CODE(C$3:C1201),C$3:C1201),#REF!)","v":125},"125(600)-600","Шкаф настенныйугловой-прямой(складной фасад), полка ЛДСП",null,null,"600",600,"600",6268.569366747095,6707.7454915470953,6762.0256867470953,7201.8186319470951,8200.4508595470943,8600.1504787470949]
[null,null,0,{"$f":"IF(C1202<>0,LOOKUP(,-CODE(C$3:C1202),C$3:C1202),D1201)","v":125},"125(720)-600",null,null,null,"600",720,"600",7160.8062474427461,7688.2589802427465,7753.4497674427475,8281.6433046427464,9481.0056282427468,9961.046879442747]
[null,null,0,{"$f":"IF(C1203<>0,LOOKUP(,-CODE(C$3:C1203),C$3:C1203),D1202)","v":125},"125(800)-600",null,null,null,"600",800,"600",8070.2269456912927,8656.5307504912926,8728.9952656912919,9316.1225308912908,10649.304918491292,11182.907257691293]
[null,null,0,{"$f":"IF(C1204<>0,LOOKUP(,-CODE(C$3:C1204),C$3:C1204),D1203)","v":125},"125(920)-600",null,null,null,"600",920,"600",9244.6933263869432,9919.2737391869432,10002.648846386943,10678.176703586943,12212.089187186944,12826.033158386945]
[null,null,0,{"$f":"IF(C1205<>0,LOOKUP(,-CODE(C$3:C1205),C$3:C1205),D1204)","v":125},"125(960)-600",null,null,null,"600",960,"600",9542.1056199521609,10246.11156875216,10333.123539952161,11038.118261152162,12638.940776752161,13279.66529195216]
[null,"126",126,{"$f":"IF(C1206<>0,LOOKUP(,-CODE(C$3:C1206),C$3:C1206),D1205)","v":126},"126(600)-600","Шкаф настенный-угловой однодверный (левый), полка ЛДСП",null,null,"600",600,370,3931.1884676347827,4163.0183732347823,4191.6715076347828,4423.8270170347823,4950.9795692347825,5161.9708316347824]
[null,null,0,{"$f":"IF(C1207<>0,LOOKUP(,-CODE(C$3:C1207),C$3:C1207),D1206)","v":126},"126(600)-650",null,null,null,"650",600,370,4309.8856519826095,4579.9713175826091,4613.352691982609,4883.8176913826092,5497.9591135826095,5743.7674159826092]
[null,null,0,{"$f":"IF(C1208<>0,LOOKUP(,-CODE(C$3:C1208),C$3:C1208),D1207)","v":126},"126(600)-700",null,null,null,"700",600,370,4708.5828363304345,5016.924261930435,5055.0338763304344,5363.8083657304351,6064.9386579304355,6345.5640003304352]
[null,null,0,{"$f":"IF(C1209<>0,LOOKUP(,-CODE(C$3:C1209),C$3:C1209),D1208)","v":126},"126(600)-750",null,null,null,"750",600,370,5087.2800206782613,5433.8772062782609,5476.7150606782607,5823.799040078261,6611.9182022782616,6927.3605846782611]
[null,null,0,{"$f":"IF(C1210<>0,LOOKUP(,-CODE(C$3:C1210),C$3:C1210),D1209)","v":126},"126(600)-800",null,null,null,"800",600,370,5485.9772050260872,5870.8301506260868,5918.3962450260869,6303.789714426086,7178.8977466260867,7529.1571690260862]
[null,null,0,{"$f":"IF(C1211<>0,LOOKUP(,-CODE(C$3:C1211),C$3:C1211),D1210)","v":126},"126(600)-850",null,null,null,"850",600,370,5864.674389373914,6287.7830949739136,6340.0774293739141,6763.7803887739137,7725.8772909739137,8110.953753373914]
[null,null,0,{"$f":"IF(C1212<>0,LOOKUP(,-CODE(C$3:C1212),C$3:C1212),D1211)","v":126},"126(600)-900",null,null,null,"900",600,370,6263.371573721739,6724.7360393217386,6781.7586137217404,7243.7710631217396,8292.8568353217397,8712.7503377217399]
[null,null,0,{"$f":"IF(C1213<>0,LOOKUP(,-CODE(C$3:C1213),C$3:C1213),D1212)","v":126},"126(720)-600",null,null,null,"600",720,370,4463.319758069566,4741.7486396695649,4776.1611980695652,5054.9811314695653,5688.0939956695656,5941.4955620695655]
[null,null,0,{"$f":"IF(C1214<>0,LOOKUP(,-CODE(C$3:C1214),C$3:C1214),D1213)","v":126},"126(720)-650",null,null,null,"650",720,370,4912.0622467652183,5236.4364883652179,5276.5276867652183,5601.3575101652177,6338.9444443652183,6634.1614507652184]
[null,null,0,{"$f":"IF(C1215<>0,LOOKUP(,-CODE(C$3:C1215),C$3:C1215),D1214)","v":126},"126(720)-700",null,null,null,"700",720,370,5380.8047354608698,5751.1243370608699,5796.8941754608704,6167.7338888608701,7009.79489306087,7346.8273394608705]
[null,null,0,{"$f":"IF(C1216<>0,LOOKUP(,-CODE(C$3:C1216),C$3:C1216),D1215)","v":126},"126(720)-750",null,null,null,"750",720,370,5829.5472241565221,6245.812185756522,6297.2606641565217,6714.1102675565216,7660.6453417565226,8039.4932281565216]
[null,null,0,{"$f":"IF(C1217<>0,LOOKUP(,-CODE(C$3:C1217),C$3:C1217),D1216)","v":126},"126(720)-800",null,null,null,"800",720,370,6298.2897128521727,6760.5000344521741,6817.6271528521738,7280.4866462521732,8331.4957904521725,8752.1591168521736]
[null,null,0,{"$f":"IF(C1218<>0,LOOKUP(,-CODE(C$3:C1218),C$3:C1218),D1217)","v":126},"126(720)-850",null,null,null,"850",720,370,6747.0322015478259,7255.1878831478261,7317.993641547826,7826.8630249478265,8982.3462391478261,9444.8250055478275]
[null,null,0,{"$f":"IF(C1219<>0,LOOKUP(,-CODE(C$3:C1219),C$3:C1219),D1218)","v":126},"126(720)-900",null,null,null,"900",720,370,7215.7746902434774,7769.8757318434782,7838.3601302434781,8393.239403643478,9653.1966878434778,10157.490894243479]
[null,null,0,{"$f":"IF(C1220<>0,LOOKUP(,-CODE(C$3:C1220),C$3:C1220),D1219)","v":126},"126(800)-600",null,null,null,"600",800,370,4990.8918134260875,5300.3866790260872,5338.6388534260877,5648.5684028260875,6352.3214750260886,6633.9965774260872]
[null,null,0,{"$f":"IF(C1221<>0,LOOKUP(,-CODE(C$3:C1221),C$3:C1221),D1220)","v":126},"126(800)-650",null,null,null,"650",800,370,5498.06566502029,5858.6322906202895,5903.1967050202902,6264.2697444202904,7084.1536866202896,7412.3098290202906]
[null,null,0,{"$f":"IF(C1222<>0,LOOKUP(,-CODE(C$3:C1222),C$3:C1222),D1221)","v":126},"126(800)-700",null,null,null,"700",800,370,6025.2395166144934,6436.8779022144936,6487.7545566144927,6899.9710860144933,7835.9858982144924,8210.623080614494]
[null,null,0,{"$f":"IF(C1223<>0,LOOKUP(,-CODE(C$3:C1223),C$3:C1223),D1222)","v":126},"126(800)-750",null,null,null,"750",800,370,6532.4133682086967,6995.1235138086959,7052.3124082086961,7515.6724276086961,8567.818109808697,8988.9363322086974]
[null,null,0,{"$f":"IF(C1224<>0,LOOKUP(,-CODE(C$3:C1224),C$3:C1224),D1223)","v":126},"126(800)-800",null,null,null,"800",800,370,7059.5872198028992,7573.369125402899,7636.8702598028985,8151.373769202899,9319.6503214028999,9787.249583802899]
[null,null,0,{"$f":"IF(C1225<>0,LOOKUP(,-CODE(C$3:C1225),C$3:C1225),D1224)","v":126},"126(800)-850",null,null,null,"850",800,370,7566.7610713971007,8131.6147369971022,8201.428111397101,8767.0751107971009,10051.482532997103,10565.562835397102]
[null,null,0,{"$f":"IF(C1226<>0,LOOKUP(,-CODE(C$3:C1226),C$3:C1226),D1225)","v":126},"126(800)-900",null,null,null,"900",800,370,8093.934922991305,8709.8603485913045,8785.9859629913044,9402.7764523913047,10803.314744591305,11363.876086991306]
[null,null,0,{"$f":"IF(C1227<>0,LOOKUP(,-CODE(C$3:C1227),C$3:C1227),D1226)","v":126},"126(920)-600",null,null,null,"600",920,370,5675.2526038608703,6031.3464454608702,6075.3580438608697,6431.95201726087,7241.6654014608703,7565.7508078608698]
[null,null,0,{"$f":"IF(C1228<>0,LOOKUP(,-CODE(C$3:C1228),C$3:C1228),D1227)","v":126},"126(920)-650",null,null,null,"650",920,370,6252.4717598028983,6667.3269614028995,6718.6011998028989,7134.0390632028993,8077.3685174028997,8454.9333638028984]
[null,null,0,{"$f":"IF(C1229<>0,LOOKUP(,-CODE(C$3:C1229),C$3:C1229),D1228)","v":126},"126(920)-700",null,null,null,"700",920,370,6849.6909157449281,7323.307477344928,7381.8443557449282,7856.1261091449269,8933.0716333449272,9364.1159197449269]
[null,null,0,{"$f":"IF(C1230<>0,LOOKUP(,-CODE(C$3:C1230),C$3:C1230),D1229)","v":126},"126(920)-750",null,null,null,"750",920,370,7426.9100716869561,7959.2879932869564,8025.0875116869574,8558.2131550869562,9768.7747492869566,10253.298475686955]
[null,null,0,{"$f":"IF(C1231<>0,LOOKUP(,-CODE(C$3:C1231),C$3:C1231),D1230)","v":126},"126(920)-800",null,null,null,"800",920,370,8024.129227628986,8615.2685092289848,8688.3306676289849,9280.3002010289856,10624.477865228986,11162.481031628984]
[null,null,0,{"$f":"IF(C1232<>0,LOOKUP(,-CODE(C$3:C1232),C$3:C1232),D1231)","v":126},"126(920)-850",null,null,null,"850",920,370,8601.348383571014,9251.2490251710151,9331.573823571016,9982.387246971015,11460.180981171014,12051.663587571014]
[null,null,0,{"$f":"IF(C1233<>0,LOOKUP(,-CODE(C$3:C1233),C$3:C1233),D1232)","v":126},"126(920)-900",null,null,null,"900",920,370,9198.567539513042,9907.2295411130435,9994.8169795130416,10704.474292913043,12315.884097113041,12960.846143513041]
[null,null,0,{"$f":"IF(C1234<>0,LOOKUP(,-CODE(C$3:C1234),C$3:C1234),D1233)","v":126},"126(960)-600",null,null,null,"600",960,370,5852.6297006724635,6224.2565342724629,6270.1879406724638,6642.336722072464,7487.3702102724637,7825.5923846724636]
[null,null,0,{"$f":"IF(C1235<>0,LOOKUP(,-CODE(C$3:C1235),C$3:C1235),D1234)","v":126},"126(960)-650",null,null,null,"650",960,370,6453.1972913971003,6886.1486849971006,6939.6595313971011,7373.219002797101,8357.6969609971002,8751.7313753971011]
[null,null,0,{"$f":"IF(C1236<>0,LOOKUP(,-CODE(C$3:C1236),C$3:C1236),D1235)","v":126},"126(960)-700",null,null,null,"700",960,370,7073.764882121739,7568.0408357217384,7629.1311221217384,8124.1012835217389,9248.0237117217384,9697.8703661217387]
[null,null,0,{"$f":"IF(C1237<>0,LOOKUP(,-CODE(C$3:C1237),C$3:C1237),D1236)","v":126},"126(960)-750",null,null,null,"750",960,370,7674.3324728463767,8229.9329864463762,8298.6027128463757,8854.9835642463768,10118.350462446375,10624.009356846378]
[null,null,0,{"$f":"IF(C1238<>0,LOOKUP(,-CODE(C$3:C1238),C$3:C1238),D1237)","v":126},"126(960)-800",null,null,null,"800",960,370,8294.9000635710145,8911.8251371710139,8988.0743035710148,9605.8658449710147,11008.677213171013,11570.148347571016]
[null,null,0,{"$f":"IF(C1239<>0,LOOKUP(,-CODE(C$3:C1239),C$3:C1239),D1238)","v":126},"126(960)-850",null,null,null,"850",960,370,8895.4676542956531,9573.7172878956517,9657.5458942956539,10336.748125695653,11879.003963895653,12496.287338295653]
[null,null,0,{"$f":"IF(C1240<>0,LOOKUP(,-CODE(C$3:C1240),C$3:C1240),D1239)","v":126},"126(960)-900",null,null,null,"900",960,370,9516.0352450202899,10255.609438620289,10347.017485020289,11087.63040642029,12769.33071462029,13442.426329020291]
[null,"126",127,{"$f":"IF(C1241<>0,LOOKUP(,-CODE(C$3:C1241),C$3:C1241),D1240)","v":127},"127(600)-600","Шкаф настенный-угловой однодверный (правый), полка ЛДСП",null,null,"600",600,370,3931.1884676347827,4163.0183732347823,4191.6715076347828,4423.8270170347823,4950.9795692347825,5161.9708316347824]
[null,null,0,{"$f":"IF(C1242<>0,LOOKUP(,-CODE(C$3:C1242),C$3:C1242),D1241)","v":127},"127(600)-650",null,null,null,"650",600,370,4309.8856519826095,4579.9713175826091,4613.352691982609,4883.8176913826092,5497.9591135826095,5743.7674159826092]
[null,null,0,{"$f":"IF(C1243<>0,LOOKUP(,-CODE(C$3:C1243),C$3:C1243),D1242)","v":127},"127(600)-700",null,null,null,"700",600,370,4708.5828363304345,5016.924261930435,5055.0338763304344,5363.8083657304351,6064.9386579304355,6345.5640003304352]
[null,null,0,{"$f":"IF(C1244<>0,LOOKUP(,-CODE(C$3:C1244),C$3:C1244),D1243)","v":127},"127(600)-750",null,null,null,"750",600,370,5087.2800206782613,5433.8772062782609,5476.7150606782607,5823.799040078261,6611.9182022782616,6927.3605846782611]
[null,null,0,{"$f":"IF(C1245<>0,LOOKUP(,-CODE(C$3:C1245),C$3:C1245),D1244)","v":127},"127(600)-800",null,null,null,"800",600,370,5485.9772050260872,5870.8301506260868,5918.3962450260869,6303.789714426086,7178.8977466260867,7529.1571690260862]
[null,null,0,{"$f":"IF(C1246<>0,LOOKUP(,-CODE(C$3:C1246),C$3:C1246),D1245)","v":127},"127(600)-850",null,null,null,"850",600,370,5864.674389373914,6287.7830949739136,6340.0774293739141,6763.7803887739137,7725.8772909739137,8110.953753373914]
[null,null,0,{"$f":"IF(C1247<>0,LOOKUP(,-CODE(C$3:C1247),C$3:C1247),D1246)","v":127},"127(600)-900",null,null,null,"900",600,370,6263.371573721739,6724.7360393217386,6781.7586137217404,7243.7710631217396,8292.8568353217397,8712.7503377217399]
[null,null,0,{"$f":"IF(C1248<>0,LOOKUP(,-CODE(C$3:C1248),C$3:C1248),D1247)","v":127},"127(720)-600",null,null,null,"600",720,370,4463.319758069566,4741.7486396695649,4776.1611980695652,5054.9811314695653,5688.0939956695656,5941.4955620695655]
[null,null,0,{"$f":"IF(C1249<>0,LOOKUP(,-CODE(C$3:C1249),C$3:C1249),D1248)","v":127},"127(720)-650",null,null,null,"650",720,370,4912.0622467652183,5236.4364883652179,5276.5276867652183,5601.3575101652177,6338.9444443652183,6634.1614507652184]
[null,null,0,{"$f":"IF(C1250<>0,LOOKUP(,-CODE(C$3:C1250),C$3:C1250),D1249)","v":127},"127(720)-700",null,null,null,"700",720,370,5380.8047354608698,5751.1243370608699,5796.8941754608704,6167.7338888608701,7009.79489306087,7346.8273394608705]
[null,null,0,{"$f":"IF(C1251<>0,LOOKUP(,-CODE(C$3:C1251),C$3:C1251),D1250)","v":127},"127(720)-750",null,null,null,"750",720,370,5829.5472241565221,6245.812185756522,6297.2606641565217,6714.1102675565216,7660.6453417565226,8039.4932281565216]
[null,null,0,{"$f":"IF(C1252<>0,LOOKUP(,-CODE(C$3:C1252),C$3:C1252),D1251)","v":127},"127(720)-800",null,null,null,"800",720,370,6298.2897128521727,6760.5000344521741,6817.6271528521738,7280.4866462521732,8331.4957904521725,8752.1591168521736]
[null,null,0,{"$f":"IF(C1253<>0,LOOKUP(,-CODE(C$3:C1253),C$3:C1253),D1252)","v":127},"127(720)-850",null,null,null,"850",720,370,6747.0322015478259,7255.1878831478261,7317.993641547826,7826.8630249478265,8982.3462391478261,9444.8250055478275]
[null,null,0,{"$f":"IF(C1254<>0,LOOKUP(,-CODE(C$3:C1254),C$3:C1254),D1253)","v":127},"127(720)-900",null,null,null,"900",720,370,7215.7746902434774,7769.8757318434782,7838.3601302434781,8393.239403643478,9653.1966878434778,10157.490894243479]
[null,null,0,{"$f":"IF(C1255<>0,LOOKUP(,-CODE(C$3:C1255),C$3:C1255),D1254)","v":127},"127(800)-600",null,null,null,"600",800,370,4990.8918134260875,5300.3866790260872,5338.6388534260877,5648.5684028260875,6352.3214750260886,6633.9965774260872]
[null,null,0,{"$f":"IF(C1256<>0,LOOKUP(,-CODE(C$3:C1256),C$3:C1256),D1255)","v":127},"127(800)-650",null,null,null,"650",800,370,5498.06566502029,5858.6322906202895,5903.1967050202902,6264.2697444202904,7084.1536866202896,7412.3098290202906]
[null,null,0,{"$f":"IF(C1257<>0,LOOKUP(,-CODE(C$3:C1257),C$3:C1257),D1256)","v":127},"127(800)-700",null,null,null,"700",800,370,6025.2395166144934,6436.8779022144936,6487.7545566144927,6899.9710860144933,7835.9858982144924,8210.623080614494]
[null,null,0,{"$f":"IF(C1258<>0,LOOKUP(,-CODE(C$3:C1258),C$3:C1258),D1257)","v":127},"127(800)-750",null,null,null,"750",800,370,6532.4133682086967,6995.1235138086959,7052.3124082086961,7515.6724276086961,8567.818109808697,8988.9363322086974]
[null,null,0,{"$f":"IF(C1259<>0,LOOKUP(,-CODE(C$3:C1259),C$3:C1259),D1258)","v":127},"127(800)-800",null,null,null,"800",800,370,7059.5872198028992,7573.369125402899,7636.8702598028985,8151.373769202899,9319.6503214028999,9787.249583802899]
[null,null,0,{"$f":"IF(C1260<>0,LOOKUP(,-CODE(C$3:C1260),C$3:C1260),D1259)","v":127},"127(800)-850",null,null,null,"850",800,370,7566.7610713971007,8131.6147369971022,8201.428111397101,8767.0751107971009,10051.482532997103,10565.562835397102]
[null,null,0,{"$f":"IF(C1261<>0,LOOKUP(,-CODE(C$3:C1261),C$3:C1261),D1260)","v":127},"127(800)-900",null,null,null,"900",800,370,8093.934922991305,8709.8603485913045,8785.9859629913044,9402.7764523913047,10803.314744591305,11363.876086991306]
[null,null,0,{"$f":"IF(C1262<>0,LOOKUP(,-CODE(C$3:C1262),C$3:C1262),D1261)","v":127},"127(920)-600",null,null,null,"600",920,370,5675.2526038608703,6031.3464454608702,6075.3580438608697,6431.95201726087,7241.6654014608703,7565.7508078608698]
[null,null,0,{"$f":"IF(C1263<>0,LOOKUP(,-CODE(C$3:C1263),C$3:C1263),D1262)","v":127},"127(920)-650",null,null,null,"650",920,370,6252.4717598028983,6667.3269614028995,6718.6011998028989,7134.0390632028993,8077.3685174028997,8454.9333638028984]
[null,null,0,{"$f":"IF(C1264<>0,LOOKUP(,-CODE(C$3:C1264),C$3:C1264),D1263)","v":127},"127(920)-700",null,null,null,"700",920,370,6849.6909157449281,7323.307477344928,7381.8443557449282,7856.1261091449269,8933.0716333449272,9364.1159197449269]
[null,null,0,{"$f":"IF(C1265<>0,LOOKUP(,-CODE(C$3:C1265),C$3:C1265),D1264)","v":127},"127(920)-750",null,null,null,"750",920,370,7426.9100716869561,7959.2879932869564,8025.0875116869574,8558.2131550869562,9768.7747492869566,10253.298475686955]
[null,null,0,{"$f":"IF(C1266<>0,LOOKUP(,-CODE(C$3:C1266),C$3:C1266),D1265)","v":127},"127(920)-800",null,null,null,"800",920,370,8024.129227628986,8615.2685092289848,8688.3306676289849,9280.3002010289856,10624.477865228986,11162.481031628984]
[null,null,0,{"$f":"IF(C1267<>0,LOOKUP(,-CODE(C$3:C1267),C$3:C1267),D1266)","v":127},"127(920)-850",null,null,null,"850",920,370,8601.348383571014,9251.2490251710151,9331.573823571016,9982.387246971015,11460.180981171014,12051.663587571014]
[null,null,0,{"$f":"IF(C1268<>0,LOOKUP(,-CODE(C$3:C1268),C$3:C1268),D1267)","v":127},"127(920)-900",null,null,null,"900",920,370,9198.567539513042,9907.2295411130435,9994.8169795130416,10704.474292913043,12315.884097113041,12960.846143513041]
[null,null,0,{"$f":"IF(C1269<>0,LOOKUP(,-CODE(C$3:C1269),C$3:C1269),D1268)","v":127},"127(960)-600",null,null,null,"600",960,370,5852.6297006724635,6224.2565342724629,6270.1879406724638,6642.336722072464,7487.3702102724637,7825.5923846724636]
[null,null,0,{"$f":"IF(C1270<>0,LOOKUP(,-CODE(C$3:C1270),C$3:C1270),D1269)","v":127},"127(960)-650",null,null,null,"650",960,370,6453.1972913971003,6886.1486849971006,6939.6595313971011,7373.219002797101,8357.6969609971002,8751.7313753971011]
[null,null,0,{"$f":"IF(C1271<>0,LOOKUP(,-CODE(C$3:C1271),C$3:C1271),D1270)","v":127},"127(960)-700",null,null,null,"700",960,370,7073.764882121739,7568.0408357217384,7629.1311221217384,8124.1012835217389,9248.0237117217384,9697.8703661217387]
[null,null,0,{"$f":"IF(C1272<>0,LOOKUP(,-CODE(C$3:C1272),C$3:C1272),D1271)","v":127},"127(960)-750",null,null,null,"750",960,370,7674.3324728463767,8229.9329864463762,8298.6027128463757,8854.9835642463768,10118.350462446375,10624.009356846378]
[null,null,0,{"$f":"IF(C1273<>0,LOOKUP(,-CODE(C$3:C1273),C$3:C1273),D1272)","v":127},"127(960)-800",null,null,null,"800",960,370,8294.9000635710145,8911.8251371710139,8988.0743035710148,9605.8658449710147,11008.677213171013,11570.148347571016]
[null,null,0,{"$f":"IF(C1274<>0,LOOKUP(,-CODE(C$3:C1274),C$3:C1274),D1273)","v":127},"127(960)-850",null,null,null,"850",960,370,8895.4676542956531,9573.7172878956517,9657.5458942956539,10336.748125695653,11879.003963895653,12496.287338295653]
[null,null,0,{"$f":"IF(C1275<>0,LOOKUP(,-CODE(C$3:C1275),C$3:C1275),D1274)","v":127},"127(960)-900",null,null,null,"900",960,370,9516.0352450202899,10255.609438620289,10347.017485020289,11087.63040642029,12769.33071462029,13442.426329020291]
[null,"129",128,{"$f":"IF(C1276<>0,LOOKUP(,-CODE(C$3:C1276),C$3:C1276),D1275)","v":128},"128(300)-500","Шкаф настенный однодверный, открывание вверх, газ-лифт",null,null,"500",300,315,3094.3412288579711,3283.516923257971,3306.898188857971,3496.339579457971,3926.5017272579707,4098.672864857971]
[null,null,0,{"$f":"IF(C1277<>0,LOOKUP(,-CODE(C$3:C1277),C$3:C1277),D1276)","v":128},"128(300)-550",null,null,null,"550",300,315,3293.2506590028984,3501.4581134028986,3527.1916190028987,3735.6914996028981,4209.1295174028983,4398.6216950028984]
[null,null,0,{"$f":"IF(C1278<>0,LOOKUP(,-CODE(C$3:C1278),C$3:C1278),D1277)","v":128},"128(300)-600",null,null,null,"600",300,315,3492.1600891478261,3719.3993035478261,3747.4850491478264,3975.0434197478262,4491.7573075478258,4698.5705251478257]
[null,null,0,{"$f":"IF(C1279<>0,LOOKUP(,-CODE(C$3:C1279),C$3:C1279),D1278)","v":128},"128(300)-650",null,null,null,"650",300,315,3691.0695192927533,3937.3404936927536,3967.7784792927532,4214.3953398927533,4774.3850976927533,4998.519355292754]
[null,null,0,{"$f":"IF(C1280<>0,LOOKUP(,-CODE(C$3:C1280),C$3:C1280),D1279)","v":128},"128(300)-700",null,null,null,"700",300,315,3889.9789494376814,4155.2816838376812,4188.0719094376818,4453.7472600376814,5057.0128878376818,5298.4681854376813]
[null,null,0,{"$f":"IF(C1281<>0,LOOKUP(,-CODE(C$3:C1281),C$3:C1281),D1280)","v":128},"128(300)-750",null,null,null,"750",300,315,4088.8883795826086,4373.2228739826087,4408.3653395826086,4693.0991801826085,5339.6406779826084,5598.4170155826087]
[null,null,0,{"$f":"IF(C1282<>0,LOOKUP(,-CODE(C$3:C1282),C$3:C1282),D1281)","v":128},"128(300)-800",null,null,null,"800",300,315,4287.7978097275363,4591.1640641275371,4628.6587697275363,4932.4511003275366,5622.2684681275368,5898.365845727536]
[null,null,0,{"$f":"IF(C1283<>0,LOOKUP(,-CODE(C$3:C1283),C$3:C1283),D1282)","v":128},"128(300)-850",null,null,null,"850",300,315,4486.7072398724631,4809.1052542724638,4848.9521998724631,5171.8030204724637,5904.8962582724635,6198.3146758724633]
[null,null,0,{"$f":"IF(C1284<>0,LOOKUP(,-CODE(C$3:C1284),C$3:C1284),D1283)","v":128},"128(300)-900",null,null,null,"900",300,315,4685.6166700173917,5027.0464444173913,5069.2456300173917,5411.1549406173917,6187.5240484173919,6498.2635060173916]
[null,null,0,{"$f":"IF(C1285<>0,LOOKUP(,-CODE(C$3:C1285),C$3:C1285),D1284)","v":128},"128(360)-500",null,null,null,"500",360,315,3473.1231537275362,3700.5161601275358,3728.6209137275364,3956.3332923275366,4473.3968841275364,4680.3500697275367]
[null,null,0,{"$f":"IF(C1286<>0,LOOKUP(,-CODE(C$3:C1286),C$3:C1286),D1285)","v":128},"128(360)-550",null,null,null,"550",360,315,3707.0552360463771,3957.3248024463765,3988.256996046377,4238.8780646463765,4807.9601264463772,5035.7335520463766]
[null,null,0,{"$f":"IF(C1287<>0,LOOKUP(,-CODE(C$3:C1287),C$3:C1287),D1286)","v":128},"128(360)-600",null,null,null,"600",360,315,3940.9873183652171,4214.1334447652171,4247.8930783652177,4521.4228369652174,5142.523368765218,5391.1170343652175]
[null,null,0,{"$f":"IF(C1288<>0,LOOKUP(,-CODE(C$3:C1288),C$3:C1288),D1287)","v":128},"128(360)-650",null,null,null,"650",360,315,4174.919400684058,4470.9420870840577,4507.5291606840574,4803.9676092840573,5477.0866110840579,5746.5005166840574]
[null,null,0,{"$f":"IF(C1289<>0,LOOKUP(,-CODE(C$3:C1289),C$3:C1289),D1288)","v":128},"128(360)-700",null,null,null,"700",360,315,4408.851483002898,4727.7507294028983,4767.165243002898,5086.5123816028981,5811.6498534028988,6101.8839990028991]
[null,null,0,{"$f":"IF(C1290<>0,LOOKUP(,-CODE(C$3:C1290),C$3:C1290),D1289)","v":128},"128(360)-750",null,null,null,"750",360,315,4642.7835653217389,4984.5593717217389,5026.8013253217396,5369.0571539217399,6146.2130957217387,6457.2674813217391]
[null,null,0,{"$f":"IF(C1291<>0,LOOKUP(,-CODE(C$3:C1291),C$3:C1291),D1290)","v":128},"128(360)-800",null,null,null,"800",360,315,4876.7156476405798,5241.3680140405795,5286.4374076405793,5651.6019262405789,6480.7763380405795,6812.650963640579]
[null,null,0,{"$f":"IF(C1292<>0,LOOKUP(,-CODE(C$3:C1292),C$3:C1292),D1291)","v":128},"128(360)-850",null,null,null,"850",360,315,5110.6477299594208,5498.1766563594201,5546.0734899594208,5934.1466985594207,6815.3395803594203,7168.0344459594207]
[null,null,0,{"$f":"IF(C1293<>0,LOOKUP(,-CODE(C$3:C1293),C$3:C1293),D1292)","v":128},"128(360)-900",null,null,null,"900",360,315,5344.5798122782608,5754.9852986782607,5805.7095722782606,6216.6914708782606,7149.9028226782602,7523.4179282782607]
[null,null,0,{"$f":"IF(C1294<>0,LOOKUP(,-CODE(C$3:C1294),C$3:C1294),D1293)","v":128},"128(400)-500",null,null,null,"500",400,315,3725.6444369739129,3978.515651373913,4009.769396973913,4262.9957675739133,4837.9936553739135,5068.1348729739129]
[null,null,0,{"$f":"IF(C1295<>0,LOOKUP(,-CODE(C$3:C1295),C$3:C1295),D1294)","v":128},"128(400)-550",null,null,null,"550",400,315,3982.9249540753617,4261.235928475362,4295.6339140753626,4574.3357746753618,5207.1805324753623,5460.4747900753619]
[null,null,0,{"$f":"IF(C1296<>0,LOOKUP(,-CODE(C$3:C1296),C$3:C1296),D1295)","v":128},"128(400)-600",null,null,null,"600",400,315,4240.2054711768114,4543.956205576811,4581.4984311768112,4885.6757817768112,5576.367409576811,5852.8147071768108]
[null,null,0,{"$f":"IF(C1297<>0,LOOKUP(,-CODE(C$3:C1297),C$3:C1297),D1296)","v":128},"128(400)-650",null,null,null,"650",400,315,4497.4859882782612,4826.6764826782601,4867.3629482782617,5197.0157888782614,5945.5542866782607,6245.1546242782615]
[null,null,0,{"$f":"IF(C1298<>0,LOOKUP(,-CODE(C$3:C1298),C$3:C1298),D1297)","v":128},"128(400)-700",null,null,null,"700",400,315,4754.76650537971,5109.39675977971,5153.2274653797094,5508.3557959797099,6314.7411637797104,6637.4945413797095]
[null,null,0,{"$f":"IF(C1299<>0,LOOKUP(,-CODE(C$3:C1299),C$3:C1299),D1298)","v":128},"128(400)-750",null,null,null,"750",400,315,5012.0470224811597,5392.1170368811599,5439.091982481159,5819.6958030811602,6683.9280408811592,7029.8344584811603]
[null,null,0,{"$f":"IF(C1300<>0,LOOKUP(,-CODE(C$3:C1300),C$3:C1300),D1299)","v":128},"128(400)-800",null,null,null,"800",400,315,5269.3275395826086,5674.837313982609,5724.9564995826086,6131.0358101826087,7053.1149179826089,7422.1743755826083]
[null,null,0,{"$f":"IF(C1301<>0,LOOKUP(,-CODE(C$3:C1301),C$3:C1301),D1300)","v":128},"128(400)-850",null,null,null,"850",400,315,5526.6080566840574,5957.557591084058,6010.8210166840572,6442.375817284058,7422.3017950840576,7814.5142926840581]
[null,null,0,{"$f":"IF(C1302<>0,LOOKUP(,-CODE(C$3:C1302),C$3:C1302),D1301)","v":128},"128(400)-900",null,null,null,"900",400,315,5783.888573785508,6240.2778681855079,6296.6855337855077,6753.7158243855074,7791.4886721855082,8206.8542097855079]
[null,null,0,{"$f":"IF(C1303<>0,LOOKUP(,-CODE(C$3:C1303),C$3:C1303),D1302)","v":128},"128(460)-500",null,null,null,"500",460,315,4104.4263618434779,4395.5148882434787,4431.4921218434783,4722.989480443478,5384.8888122434782,5649.8120778434786]
[null,null,0,{"$f":"IF(C1304<>0,LOOKUP(,-CODE(C$3:C1304),C$3:C1304),D1303)","v":128},"128(460)-550",null,null,null,"550",460,315,4396.7295311188409,4717.1026175188399,4756.6992911188408,5077.5223397188402,5806.0111415188403,6097.5866471188419]
[null,null,0,{"$f":"IF(C1305<>0,LOOKUP(,-CODE(C$3:C1305),C$3:C1305),D1304)","v":128},"128(460)-600",null,null,null,"600",460,315,4689.0327003942029,5038.6903467942029,5081.9064603942024,5432.0551989942023,6227.1334707942024,6545.3612163942025]
[null,null,0,{"$f":"IF(C1306<>0,LOOKUP(,-CODE(C$3:C1306),C$3:C1306),D1305)","v":128},"128(460)-650",null,null,null,"650",460,315,4981.3358696695659,5360.2780760695659,5407.1136296695659,5786.5880582695654,6648.2558000695653,6993.1357856695658]
[null,null,0,{"$f":"IF(C1307<>0,LOOKUP(,-CODE(C$3:C1307),C$3:C1307),D1306)","v":128},"128(460)-700",null,null,null,"700",460,315,5273.639038944928,5681.865805344928,5732.3207989449274,6141.1209175449276,7069.3781293449274,7440.9103549449283]
[null,null,0,{"$f":"IF(C1308<>0,LOOKUP(,-CODE(C$3:C1308),C$3:C1308),D1307)","v":128},"128(460)-750",null,null,null,"750",460,315,5565.94220822029,6003.4535346202902,6057.5279682202899,6495.6537768202897,7490.5004586202904,7888.6849242202907]
[null,null,0,{"$f":"IF(C1309<>0,LOOKUP(,-CODE(C$3:C1309),C$3:C1309),D1308)","v":128},"128(460)-800",null,null,null,"800",460,315,5858.245377495653,6325.0412638956532,6382.7351374956525,6850.1866360956537,7911.6227878956524,8336.4594934956531]
[null,null,0,{"$f":"IF(C1310<>0,LOOKUP(,-CODE(C$3:C1310),C$3:C1310),D1309)","v":128},"128(460)-850",null,null,null,"850",460,315,6150.548546771015,6646.6289931710144,6707.942306771015,7204.7194953710141,8332.7451171710145,8784.2340627710146]
[null,null,0,{"$f":"IF(C1311<>0,LOOKUP(,-CODE(C$3:C1311),C$3:C1311),D1310)","v":128},"128(460)-900",null,null,null,"900",460,315,6442.8517160463762,6968.2167224463765,7033.1494760463765,7559.2523546463763,8753.8674464463766,9232.0086320463779]
[null,null,0,{"$f":"IF(C1312<>0,LOOKUP(,-CODE(C$3:C1312),C$3:C1312),D1311)","v":128},"128(480)-500",null,null,null,"500",480,315,4230.6870034666663,4534.5146338666664,4572.0663634666671,4876.3207180666668,5567.1871978666668,5843.7044794666672]
[null,null,0,{"$f":"IF(C1313<>0,LOOKUP(,-CODE(C$3:C1313),C$3:C1313),D1312)","v":128},"128(480)-550",null,null,null,"550",480,315,4534.6643901333337,4869.0581805333331,4910.3877501333336,5245.2511947333333,6005.6213445333333,6309.9572661333341]
[null,null,0,{"$f":"IF(C1314<>0,LOOKUP(,-CODE(C$3:C1314),C$3:C1314),D1313)","v":128},"128(480)-600",null,null,null,"600",480,315,4838.6417768000001,5203.6017271999999,5248.7091368000001,5614.1816713999997,6444.0554911999998,6776.2100528000001]
[null,null,0,{"$f":"IF(C1315<>0,LOOKUP(,-CODE(C$3:C1315),C$3:C1315),D1314)","v":128},"128(480)-650",null,null,null,"650",480,315,5142.6191634666666,5538.1452738666667,5587.0305234666666,5983.1121480666661,6882.4896378666654,7242.4628394666661]
[null,null,null,{"$f":"IF(C1316<>0,LOOKUP(,-CODE(C$3:C1316),C$3:C1316),D1315)","v":128},"128(480)-700",null,null,null,"700",480,315,5446.596550133333,5872.6888205333335,5925.3519101333331,6352.0426247333335,7320.9237845333337,7708.715626133333]
[null,null,null,{"$f":"IF(C1317<>0,LOOKUP(,-CODE(C$3:C1317),C$3:C1317),D1316)","v":128},"128(480)-750",null,null,null,"750",480,315,5750.5739367999995,6207.2323672000002,6263.6732967999997,6720.9731013999999,7759.3579312000002,8174.9684127999999]
[null,null,null,{"$f":"IF(C1318<>0,LOOKUP(,-CODE(C$3:C1318),C$3:C1318),D1317)","v":128},"128(480)-800",null,null,null,"800",480,315,6054.5513234666669,6541.775913866667,6601.9946834666662,7089.9035780666663,8197.7920778666667,8641.2211994666668]
[null,null,null,{"$f":"IF(C1319<>0,LOOKUP(,-CODE(C$3:C1319),C$3:C1319),D1318)","v":128},"128(480)-850",null,null,null,"850",480,315,6358.5287101333333,6876.3194605333338,6940.3160701333336,7458.8340547333337,8636.2262245333332,9107.4739861333346]
[null,null,null,{"$f":"IF(C1320<>0,LOOKUP(,-CODE(C$3:C1320),C$3:C1320),D1319)","v":128},"128(480)-900",null,null,null,"900",480,315,6662.5060967999998,7210.8630071999996,7278.6374568000001,7827.7645314000001,9074.6603711999996,9573.7267728000006]
[null,null,0,{"$f":"IF(C1321<>0,LOOKUP(,-CODE(C$3:C1321),C$3:C1321),D1320)","v":128},"128(300)-600-560",null,null,null,600,300,"560",3668.1130144811586,3880.1268208811589,3906.3307744811591,4118.6423530811589,4600.7355448811586,4793.691930481159]
[null,null,0,{"$f":"IF(C1322<>0,LOOKUP(,-CODE(C$3:C1322),C$3:C1322),D1321)","v":128},"128(360)-600-560",null,null,null,600,360,"560",4109.958643698551,4364.8035220985512,4396.3012036985501,4651.5040102985504,5230.9897660985507,5462.9272396985507]
[null,null,0,{"$f":"IF(C1323<>0,LOOKUP(,-CODE(C$3:C1323),C$3:C1323),D1322)","v":128},"128(400)-600-560",null,null,null,600,400,"560",4404.522396510145,4687.9213229101451,4722.9481565101451,5006.745115110145,5651.1592469101442,5909.0841125101442]
[null,null,0,{"$f":"IF(C1324<>0,LOOKUP(,-CODE(C$3:C1324),C$3:C1324),D1323)","v":128},"128(460)-600-560",null,null,null,600,460,"560",4846.3680257275364,5172.5980241275365,5212.9185857275361,5539.6067723275364,6281.4134681275364,6578.3194217275368]
[null,null,null,{"$f":"IF(C1325<>0,LOOKUP(,-CODE(C$3:C1325),C$3:C1325),D1324)","v":128},"128(480)-600-560",null,null,null,600,480,"560",4993.6499021333329,5334.156924533333,5376.2420621333331,5717.2273247333333,6491.4982085333331,6801.3978581333331]
[null,null,0,{"$f":"IF(C1326<>0,LOOKUP(,-CODE(C$3:C1326),C$3:C1326),D1325)","v":128},"128(600)-600-560",null,null,null,600,600,"560",5877.3411605681167,6303.5103269681167,6356.182920568117,6782.950639168117,7752.0066509681164,8139.8684765681173]
[null,"130",129,{"$f":"IF(C1327<>0,LOOKUP(,-CODE(C$3:C1327),C$3:C1327),D1326)","v":129},"129(300)-500","Шкаф настенный однодверный, открывание вверх,Aventos BLUM HK",null,null,"500",300,315,5465.5507288579702,5654.726423257971,5678.1076888579701,5867.5490794579709,6297.7112272579707,6469.882364857971]
[null,null,0,{"$f":"IF(C1328<>0,LOOKUP(,-CODE(C$3:C1328),C$3:C1328),D1327)","v":129},"129(300)-550",null,null,null,"550",300,315,5664.4601590028979,5872.6676134028985,5898.4011190028978,6106.9009996028981,6580.3390174028982,6769.8311950028983]
[null,null,0,{"$f":"IF(C1329<>0,LOOKUP(,-CODE(C$3:C1329),C$3:C1329),D1328)","v":129},"129(300)-600",null,null,null,"600",300,315,5863.3695891478255,6090.608803547826,6118.6945491478255,6346.2529197478252,6862.9668075478257,7069.7800251478257]
[null,null,0,{"$f":"IF(C1330<>0,LOOKUP(,-CODE(C$3:C1330),C$3:C1330),D1329)","v":129},"129(300)-650",null,null,null,"650",300,315,6062.2790192927532,6308.5499936927536,6338.9879792927532,6585.6048398927533,7145.5945976927533,7369.728855292753]
[null,null,0,{"$f":"IF(C1331<>0,LOOKUP(,-CODE(C$3:C1331),C$3:C1331),D1330)","v":129},"129(300)-700",null,null,null,"700",300,315,6261.1884494376809,6526.4911838376811,6559.2814094376808,6824.9567600376813,7428.2223878376808,7669.6776854376812]
[null,null,0,{"$f":"IF(C1332<>0,LOOKUP(,-CODE(C$3:C1332),C$3:C1332),D1331)","v":129},"129(300)-750",null,null,null,"750",300,315,6460.0978795826086,6744.4323739826086,6779.5748395826085,7064.3086801826084,7710.8501779826083,7969.6265155826077]
[null,null,0,{"$f":"IF(C1333<>0,LOOKUP(,-CODE(C$3:C1333),C$3:C1333),D1332)","v":129},"129(300)-800",null,null,null,"800",300,315,6659.0073097275363,6962.3735641275362,6999.8682697275362,7303.6606003275365,7993.4779681275359,8269.575345727535]
[null,null,0,{"$f":"IF(C1334<>0,LOOKUP(,-CODE(C$3:C1334),C$3:C1334),D1333)","v":129},"129(300)-850",null,null,null,"850",300,315,6857.916739872463,7180.3147542724637,7220.161699872463,7543.0125204724627,8276.1057582724625,8569.5241758724624]
[null,null,0,{"$f":"IF(C1335<>0,LOOKUP(,-CODE(C$3:C1335),C$3:C1335),D1334)","v":129},"129(300)-900",null,null,null,"900",300,315,7056.8261700173916,7398.2559444173912,7440.4551300173916,7782.3644406173917,8558.7335484173909,8869.4730060173915]
[null,null,0,{"$f":"IF(C1336<>0,LOOKUP(,-CODE(C$3:C1336),C$3:C1336),D1335)","v":129},"129(360)-500",null,null,null,"500",360,315,5844.3326537275361,6071.7256601275358,6099.8304137275354,6327.5427923275365,6844.6063841275363,7051.5595697275367]
[null,null,0,{"$f":"IF(C1337<>0,LOOKUP(,-CODE(C$3:C1337),C$3:C1337),D1336)","v":129},"129(360)-550",null,null,null,"550",360,315,6078.2647360463761,6328.5343024463764,6359.4664960463761,6610.0875646463764,7179.1696264463772,7406.9430520463766]
[null,null,0,{"$f":"IF(C1338<>0,LOOKUP(,-CODE(C$3:C1338),C$3:C1338),D1337)","v":129},"129(360)-600",null,null,null,"600",360,315,6312.196818365217,6585.342944765217,6619.1025783652167,6892.6323369652173,7513.7328687652171,7762.3265343652165]
[null,null,0,{"$f":"IF(C1339<>0,LOOKUP(,-CODE(C$3:C1339),C$3:C1339),D1338)","v":129},"129(360)-650",null,null,null,"650",360,315,6546.128900684058,6842.1515870840576,6878.7386606840573,7175.1771092840572,7848.296111084057,8117.7100166840573]
[null,null,0,{"$f":"IF(C1340<>0,LOOKUP(,-CODE(C$3:C1340),C$3:C1340),D1339)","v":129},"129(360)-700",null,null,null,"700",360,315,6780.060983002898,7098.9602294028973,7138.374743002898,7457.7218816028981,8182.8593534028987,8473.0934990028982]
[null,null,0,{"$f":"IF(C1341<>0,LOOKUP(,-CODE(C$3:C1341),C$3:C1341),D1340)","v":129},"129(360)-750",null,null,null,"750",360,315,7013.9930653217389,7355.7688717217388,7398.0108253217386,7740.2666539217389,8517.4225957217386,8828.476981321739]
[null,null,0,{"$f":"IF(C1342<>0,LOOKUP(,-CODE(C$3:C1342),C$3:C1342),D1341)","v":129},"129(360)-800",null,null,null,"800",360,315,7247.9251476405789,7612.5775140405785,7657.6469076405792,8022.8114262405788,8851.9858380405785,9183.8604636405798]
[null,null,0,{"$f":"IF(C1343<>0,LOOKUP(,-CODE(C$3:C1343),C$3:C1343),D1342)","v":129},"129(360)-850",null,null,null,"850",360,315,7481.8572299594198,7869.3861563594201,7917.2829899594199,8305.3561985594206,9186.5490803594203,9539.2439459594207]
[null,null,0,{"$f":"IF(C1344<>0,LOOKUP(,-CODE(C$3:C1344),C$3:C1344),D1343)","v":129},"129(360)-900",null,null,null,"900",360,315,7715.7893122782607,8126.1947986782598,8176.9190722782605,8587.9009708782614,9521.1123226782602,9894.6274282782615]
[null,null,0,{"$f":"IF(C1345<>0,LOOKUP(,-CODE(C$3:C1345),C$3:C1345),D1344)","v":129},"129(400)-500",null,null,null,"500",400,315,6096.8539369739128,6349.7251513739129,6380.9788969739129,6634.2052675739133,7209.2031553739125,7439.3443729739129]
[null,null,0,{"$f":"IF(C1346<>0,LOOKUP(,-CODE(C$3:C1346),C$3:C1346),D1345)","v":129},"129(400)-550",null,null,null,"550",400,315,6354.1344540753616,6632.445428475362,6666.8434140753625,6945.5452746753617,7578.3900324753622,7831.6842900753618]
[null,null,0,{"$f":"IF(C1347<>0,LOOKUP(,-CODE(C$3:C1347),C$3:C1347),D1346)","v":129},"129(400)-600",null,null,null,"600",400,315,6611.4149711768114,6915.1657055768119,6952.7079311768121,7256.8852817768111,7947.5769095768119,8224.0242071768116]
[null,null,0,{"$f":"IF(C1348<>0,LOOKUP(,-CODE(C$3:C1348),C$3:C1348),D1347)","v":129},"129(400)-650",null,null,null,"650",400,315,6868.6954882782611,7197.8859826782609,7238.5724482782607,7568.2252888782605,8316.7637866782607,8616.3641242782614]
[null,null,0,{"$f":"IF(C1349<>0,LOOKUP(,-CODE(C$3:C1349),C$3:C1349),D1348)","v":129},"129(400)-700",null,null,null,"700",400,315,7125.976005379709,7480.6062597797099,7524.4369653797094,7879.5652959797098,8685.9506637797094,9008.7040413797095]
[null,null,0,{"$f":"IF(C1350<>0,LOOKUP(,-CODE(C$3:C1350),C$3:C1350),D1349)","v":129},"129(400)-750",null,null,null,"750",400,315,7383.2565224811597,7763.3265368811599,7810.3014824811598,8190.9053030811592,9055.13754088116,9401.0439584811593]
[null,null,0,{"$f":"IF(C1351<>0,LOOKUP(,-CODE(C$3:C1351),C$3:C1351),D1350)","v":129},"129(400)-800",null,null,null,"800",400,315,7640.5370395826085,8046.0468139826089,8096.1659995826085,8502.2453101826086,9424.3244179826088,9793.3838755826091]
[null,null,0,{"$f":"IF(C1352<>0,LOOKUP(,-CODE(C$3:C1352),C$3:C1352),D1351)","v":129},"129(400)-850",null,null,null,"850",400,315,7897.8175566840564,8328.767091084057,8382.0305166840571,8813.585317284058,9793.5112950840576,10185.723792684057]
[null,null,0,{"$f":"IF(C1353<>0,LOOKUP(,-CODE(C$3:C1353),C$3:C1353),D1352)","v":129},"129(400)-900",null,null,null,"900",400,315,8155.0980737855079,8611.4873681855079,8667.8950337855076,9124.9253243855073,10162.698172185508,10578.063709785507]
[null,null,0,{"$f":"IF(C1354<>0,LOOKUP(,-CODE(C$3:C1354),C$3:C1354),D1353)","v":129},"129(460)-500",null,null,null,"500",460,315,6475.6358618434779,6766.7243882434777,6802.7016218434783,7094.1989804434779,7756.0983122434773,8021.0215778434776]
[null,null,0,{"$f":"IF(C1355<>0,LOOKUP(,-CODE(C$3:C1355),C$3:C1355),D1354)","v":129},"129(460)-550",null,null,null,"550",460,315,6767.9390311188399,7088.3121175188408,7127.9087911188408,7448.731839718841,8177.2206415188411,8468.796147118841]
[null,null,0,{"$f":"IF(C1356<>0,LOOKUP(,-CODE(C$3:C1356),C$3:C1356),D1355)","v":129},"129(460)-600",null,null,null,"600",460,315,7060.2422003942029,7409.8998467942019,7453.1159603942024,7803.2646989942023,8598.3429707942014,8916.5707163942025]
[null,null,0,{"$f":"IF(C1357<>0,LOOKUP(,-CODE(C$3:C1357),C$3:C1357),D1356)","v":129},"129(460)-650",null,null,null,"650",460,315,7352.5453696695658,7731.487576069565,7778.3231296695649,8157.7975582695653,9019.4653000695653,9364.3452856695658]
[null,null,0,{"$f":"IF(C1358<>0,LOOKUP(,-CODE(C$3:C1358),C$3:C1358),D1357)","v":129},"129(460)-700",null,null,null,"700",460,315,7644.8485389449279,8053.075305344928,8103.5302989449274,8512.3304175449266,9440.5876293449273,9812.1198549449291]
[null,null,0,{"$f":"IF(C1359<>0,LOOKUP(,-CODE(C$3:C1359),C$3:C1359),D1358)","v":129},"129(460)-750",null,null,null,"750",460,315,7937.1517082202899,8374.6630346202892,8428.7374682202899,8866.8632768202897,9861.7099586202894,10259.894424220291]
[null,null,0,{"$f":"IF(C1360<>0,LOOKUP(,-CODE(C$3:C1360),C$3:C1360),D1359)","v":129},"129(460)-800",null,null,null,"800",460,315,8229.4548774956529,8696.2507638956522,8753.9446374956515,9221.3961360956528,10282.832287895651,10707.668993495652]
[null,null,0,{"$f":"IF(C1361<>0,LOOKUP(,-CODE(C$3:C1361),C$3:C1361),D1360)","v":129},"129(460)-850",null,null,null,"850",460,315,8654.5080467710159,9150.5884931710152,9211.9018067710167,9708.678995371014,10836.704617171015,11288.193562771015]
[null,null,0,{"$f":"IF(C1362<>0,LOOKUP(,-CODE(C$3:C1362),C$3:C1362),D1361)","v":129},"129(460)-900",null,null,null,"900",460,315,8946.811216046377,9472.1762224463782,9537.1089760463765,10063.211854646377,11257.826946446377,11735.968132046379]
[null,null,0,{"$f":"IF(C1363<>0,LOOKUP(,-CODE(C$3:C1363),C$3:C1363),D1362)","v":129},"129(480)-500",null,null,null,"500",480,315,6601.8965034666662,6905.7241338666663,6943.2758634666661,7247.5302180666667,7938.3966978666667,8214.9139794666662]
[null,null,0,{"$f":"IF(C1364<>0,LOOKUP(,-CODE(C$3:C1364),C$3:C1364),D1363)","v":129},"129(480)-550",null,null,null,"550",480,315,6905.8738901333327,7240.2676805333331,7281.5972501333326,7616.4606947333332,8376.8308445333332,8681.166766133334]
[null,null,0,{"$f":"IF(C1365<>0,LOOKUP(,-CODE(C$3:C1365),C$3:C1365),D1364)","v":129},"129(480)-600",null,null,null,"600",480,315,7209.8512768000001,7574.8112271999998,7619.9186367999991,7985.3911713999996,8815.2649911999997,9147.4195528]
[null,null,0,{"$f":"IF(C1366<>0,LOOKUP(,-CODE(C$3:C1366),C$3:C1366),D1365)","v":129},"129(480)-650",null,null,null,"650",480,315,7513.8286634666665,7909.3547738666657,7958.2400234666657,8354.321648066667,9253.6991378666644,9613.672339466666]
[null,null,0,{"$f":"IF(C1367<>0,LOOKUP(,-CODE(C$3:C1367),C$3:C1367),D1366)","v":129},"129(480)-700",null,null,null,"700",480,315,7817.806050133333,8243.8983205333334,8296.561410133334,8723.2521247333334,9692.1332845333345,10079.925126133334]
[null,null,0,{"$f":"IF(C1368<>0,LOOKUP(,-CODE(C$3:C1368),C$3:C1368),D1367)","v":129},"129(480)-750",null,null,null,"750",480,315,8121.7834368000003,8578.4418672000011,8634.8827968000005,9092.1826013999998,10130.567431200001,10546.1779128]
[null,null,0,{"$f":"IF(C1369<>0,LOOKUP(,-CODE(C$3:C1369),C$3:C1369),D1368)","v":129},"129(480)-800",null,null,null,"800",480,315,8425.7608234666659,8912.9854138666669,8973.2041834666652,9461.1130780666663,10569.001577866666,11012.430699466666]
[null,null,0,{"$f":"IF(C1370<>0,LOOKUP(,-CODE(C$3:C1370),C$3:C1370),D1369)","v":129},"129(480)-850",null,null,null,"850",480,315,8862.4882101333333,9380.2789605333346,9444.2755701333335,9962.7935547333327,11140.185724533334,11611.433486133334]
[null,null,0,{"$f":"IF(C1371<>0,LOOKUP(,-CODE(C$3:C1371),C$3:C1371),D1370)","v":129},"129(480)-900",null,null,null,"900",480,315,9166.4655968000006,9714.8225071999987,9782.5969568,10331.724031400001,11578.6198712,12077.686272800001]
[null,"131",130,{"$f":"IF(C1372<>0,LOOKUP(,-CODE(C$3:C1372),C$3:C1372),D1371)","v":130},"130(360)-500","Шкаф настенный однодверный, открывание вверх, Aventos BLUM HS",null,null,"500",360,315,8960.6366537275371,9188.0296601275368,9216.1344137275373,9443.8467923275366,9960.9103841275373,10167.863569727537]
[null,null,0,{"$f":"IF(C1373<>0,LOOKUP(,-CODE(C$3:C1373),C$3:C1373),D1372)","v":130},"130(360)-550",null,null,null,"550",360,315,9194.568736046378,9444.8383024463765,9475.770496046378,9726.3915646463774,10295.473626446377,10523.247052046378]
[null,null,0,{"$f":"IF(C1374<>0,LOOKUP(,-CODE(C$3:C1374),C$3:C1374),D1373)","v":130},"130(360)-600",null,null,null,"600",360,315,9428.5008183652171,9701.646944765218,9735.4065783652186,10008.936336965218,10630.036868765219,10878.630534365217]
[null,null,0,{"$f":"IF(C1375<>0,LOOKUP(,-CODE(C$3:C1375),C$3:C1375),D1374)","v":130},"130(360)-650",null,null,null,"650",360,315,9662.432900684058,9958.4555870840577,9995.0426606840574,10291.481109284057,10964.600111084059,11234.014016684057]
[null,null,0,{"$f":"IF(C1376<>0,LOOKUP(,-CODE(C$3:C1376),C$3:C1376),D1375)","v":130},"130(360)-700",null,null,null,"700",360,315,9912.114983002899,10231.014229402899,10270.428743002898,10589.775881602898,11314.913353402899,11605.147499002898]
[null,null,0,{"$f":"IF(C1377<>0,LOOKUP(,-CODE(C$3:C1377),C$3:C1377),D1376)","v":130},"130(360)-750",null,null,null,"750",360,315,10146.047065321738,10487.822871721739,10530.064825321739,10872.320653921739,11649.476595721739,11960.530981321739]
[null,null,0,{"$f":"IF(C1378<>0,LOOKUP(,-CODE(C$3:C1378),C$3:C1378),D1377)","v":130},"130(360)-800",null,null,null,"800",360,315,10379.979147640579,10744.631514040579,10789.700907640579,11154.86542624058,11984.039838040579,12315.91446364058]
[null,null,0,{"$f":"IF(C1379<>0,LOOKUP(,-CODE(C$3:C1379),C$3:C1379),D1378)","v":130},"130(360)-850",null,null,null,"850",360,315,10613.91122995942,11001.44015635942,11049.33698995942,11437.410198559421,12318.60308035942,12671.297945959421]
[null,null,0,{"$f":"IF(C1380<>0,LOOKUP(,-CODE(C$3:C1380),C$3:C1380),D1379)","v":130},"130(360)-900",null,null,null,"900",360,315,10847.843312278261,11258.248798678262,11308.973072278262,11719.954970878262,12653.166322678262,13026.681428278262]
[null,null,0,{"$f":"IF(C1381<>0,LOOKUP(,-CODE(C$3:C1381),C$3:C1381),D1380)","v":130},"130(400)-500",null,null,null,"500",400,315,9213.1579369739138,9466.0291513739139,9497.282896973913,9750.5092675739143,10325.507155373914,10555.648372973914]
[null,null,0,{"$f":"IF(C1382<>0,LOOKUP(,-CODE(C$3:C1382),C$3:C1382),D1381)","v":130},"130(400)-550",null,null,null,"550",400,315,9486.1884540753636,9764.4994284753629,9798.8974140753635,10077.599274675362,10710.444032475363,10963.738290075362]
[null,null,0,{"$f":"IF(C1383<>0,LOOKUP(,-CODE(C$3:C1383),C$3:C1383),D1382)","v":130},"130(400)-600",null,null,null,"600",400,315,9743.4689711768115,10047.219705576812,10084.761931176812,10388.939281776813,11079.630909576812,11356.078207176812]
[null,null,0,{"$f":"IF(C1384<>0,LOOKUP(,-CODE(C$3:C1384),C$3:C1384),D1383)","v":130},"130(400)-650",null,null,null,"650",400,315,10000.749488278261,10329.939982678261,10370.626448278261,10700.279288878261,11448.817786678261,11748.418124278262]
[null,null,0,{"$f":"IF(C1385<>0,LOOKUP(,-CODE(C$3:C1385),C$3:C1385),D1384)","v":130},"130(400)-700",null,null,null,"700",400,315,10258.030005379711,10612.66025977971,10656.490965379709,11011.61929597971,11818.00466377971,12140.75804137971]
[null,null,0,{"$f":"IF(C1386<>0,LOOKUP(,-CODE(C$3:C1386),C$3:C1386),D1385)","v":130},"130(400)-750",null,null,null,"750",400,315,10515.310522481161,10895.380536881161,10942.35548248116,11322.959303081159,12187.19154088116,12533.097958481161]
[null,null,0,{"$f":"IF(C1387<>0,LOOKUP(,-CODE(C$3:C1387),C$3:C1387),D1386)","v":130},"130(400)-800",null,null,null,"800",400,315,10772.591039582609,11178.10081398261,11228.219999582609,11634.29931018261,12556.378417982611,12925.437875582609]
[null,null,0,{"$f":"IF(C1388<>0,LOOKUP(,-CODE(C$3:C1388),C$3:C1388),D1387)","v":130},"130(400)-850",null,null,null,"850",400,315,11029.871556684058,11460.821091084057,11514.084516684057,11945.639317284058,12925.565295084058,13317.777792684057]
[null,null,0,{"$f":"IF(C1389<>0,LOOKUP(,-CODE(C$3:C1389),C$3:C1389),D1388)","v":130},"130(400)-900",null,null,null,"900",400,315,11287.152073785508,11743.541368185508,11799.949033785508,12256.979324385507,13294.752172185508,13710.117709785507]
[null,null,0,{"$f":"IF(C1390<>0,LOOKUP(,-CODE(C$3:C1390),C$3:C1390),D1389)","v":130},"130(460)-500",null,null,null,"500",460,315,9607.6898618434789,9898.7783882434778,9934.7556218434784,10226.252980443478,10888.152312243477,11153.07557784348]
[null,null,0,{"$f":"IF(C1391<>0,LOOKUP(,-CODE(C$3:C1391),C$3:C1391),D1390)","v":130},"130(460)-550",null,null,null,"550",460,315,9899.99303111884,10220.366117518841,10259.962791118842,10580.785839718841,11309.274641518841,11600.850147118843]
[null,null,0,{"$f":"IF(C1392<>0,LOOKUP(,-CODE(C$3:C1392),C$3:C1392),D1391)","v":130},"130(460)-600",null,null,null,"600",460,315,10192.296200394203,10541.953846794202,10585.169960394203,10935.318698994202,11730.396970794201,12048.624716394203]
[null,null,0,{"$f":"IF(C1393<>0,LOOKUP(,-CODE(C$3:C1393),C$3:C1393),D1392)","v":130},"130(460)-650",null,null,null,"650",460,315,10484.599369669566,10863.541576069565,10910.377129669565,11289.851558269565,12151.519300069565,12496.399285669566]
[null,null,0,{"$f":"IF(C1394<>0,LOOKUP(,-CODE(C$3:C1394),C$3:C1394),D1393)","v":130},"130(460)-700",null,null,null,"700",460,315,10776.902538944927,11185.129305344928,11235.584298944927,11644.384417544927,12572.641629344927,12944.173854944929]
[null,null,0,{"$f":"IF(C1395<>0,LOOKUP(,-CODE(C$3:C1395),C$3:C1395),D1394)","v":130},"130(460)-750",null,null,null,"750",460,315,11069.20570822029,11506.717034620291,11560.79146822029,11998.91727682029,12993.763958620289,13391.948424220291]
[null,null,0,{"$f":"IF(C1396<>0,LOOKUP(,-CODE(C$3:C1396),C$3:C1396),D1395)","v":130},"130(460)-800",null,null,null,"800",460,315,11361.508877495653,11828.304763895652,11885.998637495653,12353.450136095653,13414.886287895653,13839.722993495652]
[null,null,0,{"$f":"IF(C1397<>0,LOOKUP(,-CODE(C$3:C1397),C$3:C1397),D1396)","v":130},"130(460)-850",null,null,null,"850",460,315,11653.812046771016,12149.892493171015,12211.205806771017,12707.982995371014,13836.008617171015,14287.497562771016]
[null,null,0,{"$f":"IF(C1398<>0,LOOKUP(,-CODE(C$3:C1398),C$3:C1398),D1397)","v":130},"130(460)-900",null,null,null,"900",460,315,11946.115216046377,12471.480222446378,12536.412976046377,13062.515854646377,14257.130946446377,14735.272132046379]
[null,null,0,{"$f":"IF(C1399<>0,LOOKUP(,-CODE(C$3:C1399),C$3:C1399),D1398)","v":130},"130(480)-500",null,null,null,"500",480,315,9733.9505034666672,10037.778133866666,10075.329863466668,10379.584218066668,11070.450697866667,11346.967979466666]
[null,null,0,{"$f":"IF(C1400<>0,LOOKUP(,-CODE(C$3:C1400),C$3:C1400),D1399)","v":130},"130(480)-550",null,null,null,"550",480,315,10037.927890133335,10372.321680533334,10413.651250133335,10748.514694733334,11508.884844533333,11813.220766133334]
[null,null,0,{"$f":"IF(C1401<>0,LOOKUP(,-CODE(C$3:C1401),C$3:C1401),D1400)","v":130},"130(480)-600",null,null,null,"600",480,315,10341.9052768,10706.8652272,10751.972636799999,11117.445171399999,11947.3189912,12279.4735528]
[null,null,0,{"$f":"IF(C1402<>0,LOOKUP(,-CODE(C$3:C1402),C$3:C1402),D1401)","v":130},"130(480)-650",null,null,null,"650",480,315,10645.882663466666,11041.408773866666,11090.294023466666,11486.375648066667,12385.753137866664,12745.726339466666]
[null,null,0,{"$f":"IF(C1403<>0,LOOKUP(,-CODE(C$3:C1403),C$3:C1403),D1402)","v":130},"130(480)-700",null,null,null,"700",480,315,10949.860050133335,11375.952320533335,11428.615410133334,11855.306124733335,12824.187284533335,13211.979126133334]
[null,null,0,{"$f":"IF(C1404<>0,LOOKUP(,-CODE(C$3:C1404),C$3:C1404),D1403)","v":130},"130(480)-750",null,null,null,"750",480,315,11253.8374368,11710.495867200001,11766.936796800001,12224.2366014,13262.621431200001,13678.231912800002]
[null,null,0,{"$f":"IF(C1405<>0,LOOKUP(,-CODE(C$3:C1405),C$3:C1405),D1404)","v":130},"130(480)-800",null,null,null,"800",480,315,11557.814823466666,12045.039413866667,12105.258183466667,12593.167078066666,13701.055577866668,14144.484699466666]
[null,null,0,{"$f":"IF(C1406<>0,LOOKUP(,-CODE(C$3:C1406),C$3:C1406),D1405)","v":130},"130(480)-850",null,null,null,"850",480,315,11861.792210133333,12379.582960533335,12443.579570133334,12962.097554733333,14139.489724533334,14610.737486133334]
[null,null,0,{"$f":"IF(C1407<>0,LOOKUP(,-CODE(C$3:C1407),C$3:C1407),D1406)","v":130},"130(480)-900",null,null,null,"900",480,315,12165.769596800001,12714.126507199999,12781.9009568,13331.028031400001,14577.923871200001,15076.990272800002]
[null,null,0,{"$f":"IF(C1408<>0,LOOKUP(,-CODE(C$3:C1408),C$3:C1408),D1407)","v":130},"130(600)-500",null,null,null,"500",600,315,10475.764353205797,10856.026607605798,10903.025313205799,11283.821643805797,12148.491011605798,12494.572389205798]
[null,null,0,{"$f":"IF(C1409<>0,LOOKUP(,-CODE(C$3:C1409),C$3:C1409),D1408)","v":130},"130(600)-550",null,null,null,"550",600,315,10849.787044220289,11268.30505862029,11320.032004220291,11739.137824820289,12690.796062620289,13071.694480220289]
[null,null,0,{"$f":"IF(C1410<>0,LOOKUP(,-CODE(C$3:C1410),C$3:C1410),D1409)","v":130},"130(600)-600",null,null,null,"600",600,315,11223.809735234783,11680.583509634784,11737.038695234784,12194.454005834783,13233.101113634782,13648.816571234784]
[null,null,0,{"$f":"IF(C1411<>0,LOOKUP(,-CODE(C$3:C1411),C$3:C1411),D1410)","v":130},"130(600)-650",null,null,null,"650",600,315,11597.832426249275,12092.861960649276,12154.045386249276,12649.770186849277,13775.406164649277,14225.938662249277]
[null,null,0,{"$f":"IF(C1412<>0,LOOKUP(,-CODE(C$3:C1412),C$3:C1412),D1411)","v":130},"130(600)-700",null,null,null,"700",600,315,12307.105117263769,12840.39041166377,12906.302077263768,13440.336367863769,14652.96121566377,15138.31075326377]
[null,null,0,{"$f":"IF(C1413<>0,LOOKUP(,-CODE(C$3:C1413),C$3:C1413),D1412)","v":130},"130(600)-750",null,null,null,"750",600,315,12681.127808278263,13252.668862678262,13323.308768278261,13895.652548878261,15195.26626667826,15715.432844278261]
[null,null,0,{"$f":"IF(C1414<>0,LOOKUP(,-CODE(C$3:C1414),C$3:C1414),D1413)","v":130},"130(600)-800",null,null,null,"800",600,315,13055.150499292755,13664.947313692754,13740.315459292753,14350.968729892753,15737.571317692755,16292.554935292756]
[null,null,0,{"$f":"IF(C1415<>0,LOOKUP(,-CODE(C$3:C1415),C$3:C1415),D1414)","v":130},"130(600)-850",null,null,null,"850",600,315,13429.173190307247,14077.225764707247,14157.322150307247,14806.284910907249,16279.876368707248,16869.677026307247]
[null,null,0,{"$f":"IF(C1416<>0,LOOKUP(,-CODE(C$3:C1416),C$3:C1416),D1415)","v":130},"130(600)-900",null,null,null,"900",600,315,13803.195881321741,14489.504215721739,14574.328841321741,15261.601091921741,16822.181419721739,17446.799117321742]
[null,null,0,{"$f":"IF(C1417<>0,LOOKUP(,-CODE(C$3:C1417),C$3:C1417),D1416)","v":130},"130(720)-500",null,null,null,"500",720,315,11568.578202944929,12025.275081344929,12081.720762944929,12539.059069544928,13577.531325344929,13993.176798944929]
[null,null,0,{"$f":"IF(C1418<>0,LOOKUP(,-CODE(C$3:C1418),C$3:C1418),D1417)","v":130},"130(720)-550",null,null,null,"550",720,315,12012.646198307248,12515.288436707247,12577.412758307248,13080.760954907248,14223.707280707247,14681.168194307247]
[null,null,0,{"$f":"IF(C1419<>0,LOOKUP(,-CODE(C$3:C1419),C$3:C1419),D1418)","v":130},"130(720)-600",null,null,null,"600",720,315,12456.714193669566,13005.301792069567,13073.104753669566,13622.462840269567,14869.883236069567,15369.159589669569]
[null,null,0,{"$f":"IF(C1420<>0,LOOKUP(,-CODE(C$3:C1420),C$3:C1420),D1419)","v":130},"130(720)-650",null,null,null,"650",720,315,12900.782189031885,13495.315147431886,13568.796749031884,14164.164725631887,15516.059191431887,16057.150985031887]
[null,null,0,{"$f":"IF(C1421<>0,LOOKUP(,-CODE(C$3:C1421),C$3:C1421),D1420)","v":130},"130(720)-700",null,null,null,"700",720,315,13344.850184394203,13985.328502794204,14064.488744394203,14705.866610994204,16162.235146794203,16745.142380394205]
[null,null,0,{"$f":"IF(C1422<>0,LOOKUP(,-CODE(C$3:C1422),C$3:C1422),D1421)","v":130},"130(720)-750",null,null,null,"750",720,315,13788.918179756525,14475.341858156524,14560.180739756524,15247.568496356525,16808.411102156526,17433.133775756523]
[null,null,0,{"$f":"IF(C1423<>0,LOOKUP(,-CODE(C$3:C1423),C$3:C1423),D1422)","v":130},"130(720)-800",null,null,null,"800",720,315,14232.986175118842,14965.355213518842,15055.872735118843,15789.270381718841,17454.587057518842,18121.125171118842]
[null,null,0,{"$f":"IF(C1424<>0,LOOKUP(,-CODE(C$3:C1424),C$3:C1424),D1423)","v":130},"130(720)-850",null,null,null,"850",720,315,14677.054170481162,15455.36856888116,15551.564730481161,16330.972267081162,18100.763012881162,18809.116566481163]
[null,null,0,{"$f":"IF(C1425<>0,LOOKUP(,-CODE(C$3:C1425),C$3:C1425),D1424)","v":130},"130(720)-900",null,null,null,"900",720,315,15121.122165843481,15945.38192424348,16047.256725843479,16872.67415244348,18746.938968243481,19497.107961843478]
[null,"132",131,{"$f":"IF(C1426<>0,LOOKUP(,-CODE(C$3:C1426),C$3:C1426),D1425)","v":131},"131(300)-500","Шкафнастенныйоднодверный со стеклом, открывание вверх, газ-лифт",null,null,"500",300,315,3046.5026228579709,3235.9440134579709,3236.4754058579711,3425.916796457971,3788.0607170579706,3960.2318546579709]
[null,null,0,{"$f":"IF(C1427<>0,LOOKUP(,-CODE(C$3:C1427),C$3:C1427),D1426)","v":131},"131(300)-550",null,null,null,"550",300,315,3243.2721530028984,3451.7720336028983,3452.3568860028986,3660.856766602898,4059.4336772028987,4248.9258548028984]
[null,null,0,{"$f":"IF(C1428<>0,LOOKUP(,-CODE(C$3:C1428),C$3:C1428),D1427)","v":131},"131(300)-600",null,null,null,"600",300,315,3440.041683147826,3667.6000537478262,3668.2383661478257,3895.7967367478259,4330.8066373478259,4537.6198549478258]
[null,null,0,{"$f":"IF(C1429<>0,LOOKUP(,-CODE(C$3:C1429),C$3:C1429),D1428)","v":131},"131(300)-650",null,null,null,"650",300,315,3636.811213292754,3883.4280738927532,3884.1198462927537,4130.7367068927533,4602.1795974927527,4826.3138550927533]
[null,null,0,{"$f":"IF(C1430<>0,LOOKUP(,-CODE(C$3:C1430),C$3:C1430),D1429)","v":131},"131(300)-700",null,null,null,"700",300,315,3833.580743437682,4099.2560940376816,4100.0013264376812,4365.6766770376817,4873.5525576376813,5115.0078552376817]
[null,null,0,{"$f":"IF(C1431<>0,LOOKUP(,-CODE(C$3:C1431),C$3:C1431),D1430)","v":131},"131(300)-750",null,null,null,"750",300,315,4030.3502735826082,4315.0841141826086,4315.8828065826083,4600.6166471826082,5144.925517782608,5403.7018553826083]
[null,null,0,{"$f":"IF(C1432<>0,LOOKUP(,-CODE(C$3:C1432),C$3:C1432),D1431)","v":131},"131(300)-800",null,null,null,"800",300,315,4227.1198037275371,4530.9121343275365,4531.7642867275372,4835.5566173275365,5416.2984779275375,5692.3958555275367]
[null,null,0,{"$f":"IF(C1433<>0,LOOKUP(,-CODE(C$3:C1433),C$3:C1433),D1432)","v":131},"131(300)-850",null,null,null,"850",300,315,4423.8893338724629,4746.7401544724635,4747.6457668724634,5070.4965874724639,5687.6714380724643,5981.0898556724633]
[null,null,0,{"$f":"IF(C1434<>0,LOOKUP(,-CODE(C$3:C1434),C$3:C1434),D1433)","v":131},"131(300)-900",null,null,null,"900",300,315,4620.6588640173904,4962.5681746173905,4963.5272470173904,5305.4365576173914,5959.0443982173911,6269.7838558173917]
[null,null,0,{"$f":"IF(C1435<>0,LOOKUP(,-CODE(C$3:C1435),C$3:C1435),D1434)","v":131},"131(360)-500",null,null,null,"500",360,315,3426.7486677275365,3654.4610463275367,3655.0997907275364,3882.8121693275366,4318.1164779275359,4525.0696635275362]
[null,null,0,{"$f":"IF(C1436<>0,LOOKUP(,-CODE(C$3:C1436),C$3:C1436),D1435)","v":131},"131(360)-550",null,null,null,"550",360,315,3659.5488500463766,3910.169918646377,3910.8729230463773,4161.4939916463763,4640.5914902463765,4868.3649158463759]
[null,null,0,{"$f":"IF(C1437<>0,LOOKUP(,-CODE(C$3:C1437),C$3:C1437),D1436)","v":131},"131(360)-600",null,null,null,"600",360,315,3892.3490323652177,4165.8787909652174,4166.6460553652178,4440.1758139652175,4963.066502565217,5211.6601681652173]
[null,null,0,{"$f":"IF(C1438<>0,LOOKUP(,-CODE(C$3:C1438),C$3:C1438),D1437)","v":131},"131(360)-650",null,null,null,"650",360,315,4125.1492146840574,4421.5876632840573,4422.4191876840578,4718.8576362840577,5285.5415148840575,5554.9554204840579]
[null,null,0,{"$f":"IF(C1439<>0,LOOKUP(,-CODE(C$3:C1439),C$3:C1439),D1438)","v":131},"131(360)-700",null,null,null,"700",360,315,4357.949397002898,4677.2965356028981,4678.1923200028978,4997.5394586028979,5608.016527202898,5898.2506728028984]
[null,null,0,{"$f":"IF(C1440<>0,LOOKUP(,-CODE(C$3:C1440),C$3:C1440),D1439)","v":131},"131(360)-750",null,null,null,"750",360,315,4590.7495793217395,4933.0054079217389,4933.9654523217387,5276.221280921739,5930.4915395217395,6241.5459251217399]
[null,null,0,{"$f":"IF(C1441<>0,LOOKUP(,-CODE(C$3:C1441),C$3:C1441),D1440)","v":131},"131(360)-800",null,null,null,"800",360,315,4823.5497616405801,5188.7142802405797,5189.7385846405796,5554.9031032405792,6252.9665518405791,6584.8411774405786]
[null,null,0,{"$f":"IF(C1442<>0,LOOKUP(,-CODE(C$3:C1442),C$3:C1442),D1441)","v":131},"131(360)-850",null,null,null,"850",360,315,5056.3499439594207,5444.4231525594214,5445.5117169594205,5833.5849255594212,6575.4415641594205,6928.1364297594209]
[null,null,0,{"$f":"IF(C1443<>0,LOOKUP(,-CODE(C$3:C1443),C$3:C1443),D1442)","v":131},"131(360)-900",null,null,null,"900",360,315,5289.1501262782613,5700.1320248782604,5701.2848492782605,6112.2667478782614,6897.9165764782601,7271.4316820782615]
[null,null,0,{"$f":"IF(C1444<>0,LOOKUP(,-CODE(C$3:C1444),C$3:C1444),D1443)","v":131},"131(400)-500",null,null,null,"500",400,315,3680.2460309739131,3933.4724015739134,3934.1827139739135,4187.4090845739129,4671.4869851739131,4901.6282027739135]
[null,null,0,{"$f":"IF(C1445<>0,LOOKUP(,-CODE(C$3:C1445),C$3:C1445),D1444)","v":131},"131(400)-550",null,null,null,"550",400,315,3937.0666480753621,4215.7685086753618,4216.5502810753615,4495.2521416753616,5028.0300322753619,5281.3242898753615]
[null,null,0,{"$f":"IF(C1446<>0,LOOKUP(,-CODE(C$3:C1446),C$3:C1446),D1445)","v":131},"131(400)-600",null,null,null,"600",400,315,4193.8872651768124,4498.0646157768115,4498.9178481768122,4803.0951987768112,5384.5730793768116,5661.0203769768113]
[null,null,0,{"$f":"IF(C1447<>0,LOOKUP(,-CODE(C$3:C1447),C$3:C1447),D1446)","v":131},"131(400)-650",null,null,null,"650",400,315,4450.7078822782614,4780.3607228782621,4781.2854152782611,5110.9382558782618,5741.1161264782613,6040.7164640782612]
[null,null,0,{"$f":"IF(C1448<>0,LOOKUP(,-CODE(C$3:C1448),C$3:C1448),D1447)","v":131},"131(400)-700",null,null,null,"700",400,315,4707.5284993797095,5062.65682997971,5063.65298237971,5418.7813129797096,6097.6591735797092,6420.4125511797092]
[null,null,0,{"$f":"IF(C1449<>0,LOOKUP(,-CODE(C$3:C1449),C$3:C1449),D1448)","v":131},"131(400)-750",null,null,null,"750",400,315,4964.3491164811594,5344.9529370811597,5346.0205494811598,5726.6243700811601,6454.2022206811598,6800.10863828116]
[null,null,0,{"$f":"IF(C1450<>0,LOOKUP(,-CODE(C$3:C1450),C$3:C1450),D1449)","v":131},"131(400)-800",null,null,null,"800",400,315,5221.1697335826084,5627.2490441826085,5628.3881165826078,6034.4674271826079,6810.7452677826086,7179.804725382608]
[null,null,0,{"$f":"IF(C1451<>0,LOOKUP(,-CODE(C$3:C1451),C$3:C1451),D1450)","v":131},"131(400)-850",null,null,null,"850",400,315,5477.9903506840574,5909.5451512840573,5910.7556836840577,6342.3104842840576,7167.2883148840574,7559.5008124840579]
[null,null,0,{"$f":"IF(C1452<>0,LOOKUP(,-CODE(C$3:C1452),C$3:C1452),D1451)","v":131},"131(400)-900",null,null,null,"900",400,315,5734.8109677855082,6191.8412583855079,6193.1232507855075,6650.1535413855081,7523.8313619855071,7939.1968995855077]
[null,null,0,{"$f":"IF(C1453<>0,LOOKUP(,-CODE(C$3:C1453),C$3:C1453),D1452)","v":131},"131(460)-500",null,null,null,"500",460,315,4060.4920758434782,4351.9894344434788,4352.8070988434783,4644.304457443478,5201.5427460434785,5466.4660116434789]
[null,null,0,{"$f":"IF(C1454<>0,LOOKUP(,-CODE(C$3:C1454),C$3:C1454),D1453)","v":131},"131(460)-550",null,null,null,"550",460,315,4353.3433451188403,4674.1663937188405,4675.0663181188402,4995.8893667188404,5609.1878453188401,5900.7633509188408]
[null,null,0,{"$f":"IF(C1455<>0,LOOKUP(,-CODE(C$3:C1455),C$3:C1455),D1454)","v":131},"131(460)-600",null,null,null,"600",460,315,4646.1946143942032,4996.3433529942022,4997.3255373942029,5347.4742759942028,6016.8329445942027,6335.0606901942028]
[null,null,0,{"$f":"IF(C1456<>0,LOOKUP(,-CODE(C$3:C1456),C$3:C1456),D1455)","v":131},"131(460)-650",null,null,null,"650",460,315,4939.0458836695652,5318.5203122695657,5319.5847566695656,5699.0591852695652,6424.4780438695661,6769.3580294695657]
[null,null,0,{"$f":"IF(C1457<>0,LOOKUP(,-CODE(C$3:C1457),C$3:C1457),D1456)","v":131},"131(460)-700",null,null,null,"700",460,315,5231.8971529449273,5640.6972715449274,5641.8439759449266,6050.6440945449276,6832.1231431449269,7203.6553687449268]
[null,null,0,{"$f":"IF(C1458<>0,LOOKUP(,-CODE(C$3:C1458),C$3:C1458),D1457)","v":131},"131(460)-750",null,null,null,"750",460,315,5524.7484222202902,5962.87423082029,5964.1031952202902,6402.2290038202909,7239.7682424202903,7637.9527080202906]
[null,null,0,{"$f":"IF(C1459<>0,LOOKUP(,-CODE(C$3:C1459),C$3:C1459),D1458)","v":131},"131(460)-800",null,null,null,"800",460,315,5817.5996914956522,6285.0511900956535,6286.3624144956539,6753.8139130956533,7647.4133416956538,8072.2500472956535]
[null,null,0,{"$f":"IF(C1460<>0,LOOKUP(,-CODE(C$3:C1460),C$3:C1460),D1459)","v":131},"131(460)-850",null,null,null,"850",460,315,6110.4509607710152,6607.2281493710143,6608.6216337710148,7105.3988223710148,8055.0584409710154,8506.5473865710137]
[null,null,0,{"$f":"IF(C1461<>0,LOOKUP(,-CODE(C$3:C1461),C$3:C1461),D1460)","v":131},"131(460)-900",null,null,null,"900",460,315,6403.3022300463772,6929.4051086463769,6930.8808530463766,7456.9837316463772,8462.7035402463771,8940.8447258463766]
[null,null,0,{"$f":"IF(C1462<>0,LOOKUP(,-CODE(C$3:C1462),C$3:C1462),D1461)","v":131},"131(480)-500",null,null,null,"500",480,315,4187.2407574666668,4491.4951120666665,4492.3485604666666,4796.6029150666673,5378.2279996666666,5654.745281266667]
[null,null,0,{"$f":"IF(C1463<>0,LOOKUP(,-CODE(C$3:C1463),C$3:C1463),D1462)","v":131},"131(480)-550",null,null,null,"550",480,315,4492.1022441333344,4826.965688733334,4827.9049971333343,5162.7684417333339,5802.9071163333338,6107.2430379333337]
[null,null,0,{"$f":"IF(C1464<>0,LOOKUP(,-CODE(C$3:C1464),C$3:C1464),D1463)","v":131},"131(480)-600",null,null,null,"600",480,315,4796.963730800001,5162.4362654000006,5163.4614338000001,5528.9339684000006,6227.5862330000009,6559.7407946000012]
[null,null,0,{"$f":"IF(C1465<>0,LOOKUP(,-CODE(C$3:C1465),C$3:C1465),D1464)","v":131},"131(480)-650",null,null,null,"650",480,315,5101.8252174666668,5497.9068420666672,5499.0178704666669,5895.0994950666673,6652.2653496666671,7012.2385512666669]
[null,null,0,{"$f":"IF(C1466<>0,LOOKUP(,-CODE(C$3:C1466),C$3:C1466),D1465)","v":131},"131(480)-700",null,null,null,"700",480,315,5406.6867041333344,5833.3774187333338,5834.5743071333336,6261.2650217333339,7076.9444663333334,7464.7363079333345]
[null,null,0,{"$f":"IF(C1467<>0,LOOKUP(,-CODE(C$3:C1467),C$3:C1467),D1466)","v":131},"131(480)-750",null,null,null,"750",480,315,5711.5481907999992,6168.8479953999995,6170.1307437999994,6627.4305483999988,7501.6235829999996,7917.2340645999993]
[null,null,0,{"$f":"IF(C1468<>0,LOOKUP(,-CODE(C$3:C1468),C$3:C1468),D1467)","v":131},"131(480)-800",null,null,null,"800",480,315,6016.4096774666659,6504.3185720666661,6505.6871804666662,6993.5960750666654,7926.3026996666658,8369.7318212666669]
[null,null,0,{"$f":"IF(C1469<>0,LOOKUP(,-CODE(C$3:C1469),C$3:C1469),D1468)","v":131},"131(480)-850",null,null,null,"850",480,315,6321.2711641333335,6839.7891487333336,6841.2436171333338,7359.761601733333,8350.981816333333,8822.2295779333326]
[null,null,0,{"$f":"IF(C1470<>0,LOOKUP(,-CODE(C$3:C1470),C$3:C1470),D1469)","v":131},"131(480)-900",null,null,null,"900",480,315,6626.1326507999993,7175.2597254000002,7176.8000537999988,7725.9271283999997,8775.660933000001,9274.7273346000002]
[null,"133",132,{"$f":"IF(C1471<>0,LOOKUP(,-CODE(C$3:C1471),C$3:C1471),D1470)","v":132},"132(300)-500","Шкаф настенный однодверный со стеклом, открывание вверх,Aventos BLUM HK",null,null,"500",300,315,5417.7121228579708,5607.1535134579708,5607.684905857971,5797.126296457971,6159.2702170579705,6331.4413546579708]
[null,null,0,{"$f":"IF(C1472<>0,LOOKUP(,-CODE(C$3:C1472),C$3:C1472),D1471)","v":132},"132(300)-550",null,null,null,"550",300,315,5614.4816530028984,5822.9815336028987,5823.5663860028981,6032.0662666028984,6430.6431772028991,6620.1353548028983]
[null,null,0,{"$f":"IF(C1473<>0,LOOKUP(,-CODE(C$3:C1473),C$3:C1473),D1472)","v":132},"132(300)-600",null,null,null,"600",300,315,5811.2511831478259,6038.8095537478257,6039.4478661478261,6267.0062367478258,6702.0161373478259,6908.8293549478258]
[null,null,0,{"$f":"IF(C1474<>0,LOOKUP(,-CODE(C$3:C1474),C$3:C1474),D1473)","v":132},"132(300)-650",null,null,null,"650",300,315,6008.0207132927535,6254.6375738927527,6255.3293462927541,6501.9462068927533,6973.3890974927526,7197.5233550927533]
[null,null,0,{"$f":"IF(C1475<>0,LOOKUP(,-CODE(C$3:C1475),C$3:C1475),D1474)","v":132},"132(300)-700",null,null,null,"700",300,315,6204.790243437682,6470.4655940376806,6471.2108264376811,6736.8861770376816,7244.7620576376812,7486.2173552376817]
[null,null,0,{"$f":"IF(C1476<>0,LOOKUP(,-CODE(C$3:C1476),C$3:C1476),D1475)","v":132},"132(300)-750",null,null,null,"750",300,315,6401.5597735826077,6686.2936141826085,6687.0923065826082,6971.826147182609,7516.1350177826089,7774.9113553826082]
[null,null,0,{"$f":"IF(C1477<>0,LOOKUP(,-CODE(C$3:C1477),C$3:C1477),D1476)","v":132},"132(300)-800",null,null,null,"800",300,315,6598.3293037275362,6902.1216343275364,6902.9737867275362,7206.7661173275355,7787.5079779275366,8063.6053555275357]
[null,null,0,{"$f":"IF(C1478<>0,LOOKUP(,-CODE(C$3:C1478),C$3:C1478),D1477)","v":132},"132(300)-850",null,null,null,"850",300,315,6795.0988338724637,7117.9496544724634,7118.8552668724633,7441.706087472463,8058.8809380724633,8352.2993556724632]
[null,null,0,{"$f":"IF(C1479<>0,LOOKUP(,-CODE(C$3:C1479),C$3:C1479),D1478)","v":132},"132(300)-900",null,null,null,"900",300,315,6991.8683640173913,7333.7776746173913,7334.7367470173904,7676.6460576173913,8330.2538982173919,8640.9933558173925]
[null,null,0,{"$f":"IF(C1480<>0,LOOKUP(,-CODE(C$3:C1480),C$3:C1480),D1479)","v":132},"132(360)-500",null,null,null,"500",360,315,5797.9581677275355,6025.6705463275366,6026.3092907275359,6254.0216693275361,6689.3259779275359,6896.2791635275362]
[null,null,0,{"$f":"IF(C1481<>0,LOOKUP(,-CODE(C$3:C1481),C$3:C1481),D1480)","v":132},"132(360)-550",null,null,null,"550",360,315,6030.7583500463761,6281.3794186463765,6282.0824230463768,6532.7034916463772,7011.8009902463764,7239.5744158463758]
[null,null,0,{"$f":"IF(C1482<>0,LOOKUP(,-CODE(C$3:C1482),C$3:C1482),D1481)","v":132},"132(360)-600",null,null,null,"600",360,315,6263.5585323652176,6537.0882909652173,6537.8555553652177,6811.3853139652174,7334.2760025652178,7582.8696681652173]
[null,null,0,{"$f":"IF(C1483<>0,LOOKUP(,-CODE(C$3:C1483),C$3:C1483),D1482)","v":132},"132(360)-650",null,null,null,"650",360,315,6496.3587146840573,6792.7971632840572,6793.6286876840577,7090.0671362840576,7656.7510148840574,7926.1649204840578]
[null,null,0,{"$f":"IF(C1484<>0,LOOKUP(,-CODE(C$3:C1484),C$3:C1484),D1483)","v":132},"132(360)-700",null,null,null,"700",360,315,6729.1588970028979,7048.506035602898,7049.4018200028977,7368.7489586028978,7979.226027202898,8269.4601728028993]
[null,null,0,{"$f":"IF(C1485<>0,LOOKUP(,-CODE(C$3:C1485),C$3:C1485),D1484)","v":132},"132(360)-750",null,null,null,"750",360,315,6961.9590793217394,7304.2149079217388,7305.1749523217395,7647.4307809217398,8301.7010395217385,8612.7554251217389]
[null,null,0,{"$f":"IF(C1486<>0,LOOKUP(,-CODE(C$3:C1486),C$3:C1486),D1485)","v":132},"132(360)-800",null,null,null,"800",360,315,7194.7592616405791,7559.9237802405796,7560.9480846405795,7926.1126032405782,8624.1760518405772,8956.0506774405785]
[null,null,0,{"$f":"IF(C1487<>0,LOOKUP(,-CODE(C$3:C1487),C$3:C1487),D1486)","v":132},"132(360)-850",null,null,null,"850",360,315,7427.5594439594206,7815.6326525594204,7816.7212169594204,8204.7944255594193,8946.6510641594195,9299.34592975942]
[null,null,0,{"$f":"IF(C1488<>0,LOOKUP(,-CODE(C$3:C1488),C$3:C1488),D1487)","v":132},"132(360)-900",null,null,null,"900",360,315,7660.3596262782621,8071.3415248782612,8072.4943492782613,8483.4762478782595,9269.1260764782601,9642.6411820782614]
[null,null,0,{"$f":"IF(C1489<>0,LOOKUP(,-CODE(C$3:C1489),C$3:C1489),D1488)","v":132},"132(400)-500",null,null,null,"500",400,315,6051.4555309739126,6304.6819015739129,6305.3922139739125,6558.6185845739128,7042.6964851739131,7272.8377027739125]
[null,null,0,{"$f":"IF(C1490<>0,LOOKUP(,-CODE(C$3:C1490),C$3:C1490),D1489)","v":132},"132(400)-550",null,null,null,"550",400,315,6308.2761480753616,6586.9780086753617,6587.7597810753614,6866.4616416753615,7399.2395322753619,7652.5337898753623]
[null,null,0,{"$f":"IF(C1491<>0,LOOKUP(,-CODE(C$3:C1491),C$3:C1491),D1490)","v":132},"132(400)-600",null,null,null,"600",400,315,6565.0967651768115,6869.2741157768114,6870.1273481768112,7174.3046987768121,7755.7825793768116,8032.2298769768113]
[null,null,0,{"$f":"IF(C1492<>0,LOOKUP(,-CODE(C$3:C1492),C$3:C1492),D1491)","v":132},"132(400)-650",null,null,null,"650",400,315,6821.9173822782614,7151.5702228782611,7152.494915278261,7482.1477558782608,8112.3256264782613,8411.9259640782602]
[null,null,0,{"$f":"IF(C1493<>0,LOOKUP(,-CODE(C$3:C1493),C$3:C1493),D1492)","v":132},"132(400)-700",null,null,null,"700",400,315,7078.7379993797094,7433.866329979709,7434.8624823797099,7789.9908129797086,8468.8686735797091,8791.622051179711]
[null,null,0,{"$f":"IF(C1494<>0,LOOKUP(,-CODE(C$3:C1494),C$3:C1494),D1493)","v":132},"132(400)-750",null,null,null,"750",400,315,7335.5586164811593,7716.1624370811596,7717.2300494811598,8097.8338700811591,8825.4117206811588,9171.3181382811599]
[null,null,0,{"$f":"IF(C1495<>0,LOOKUP(,-CODE(C$3:C1495),C$3:C1495),D1494)","v":132},"132(400)-800",null,null,null,"800",400,315,7592.3792335826092,7998.4585441826093,7999.5976165826087,8405.6769271826088,9181.9547677826104,9551.0142253826089]
[null,null,0,{"$f":"IF(C1496<>0,LOOKUP(,-CODE(C$3:C1496),C$3:C1496),D1495)","v":132},"132(400)-850",null,null,null,"850",400,315,7849.1998506840573,8280.7546512840563,8281.9651836840567,8713.5199842840575,9538.4978148840564,9930.7103124840578]
[null,null,0,{"$f":"IF(C1497<>0,LOOKUP(,-CODE(C$3:C1497),C$3:C1497),D1496)","v":132},"132(400)-900",null,null,null,"900",400,315,8106.020467785509,8563.0507583855087,8564.3327507855083,9021.363041385508,9895.0408619855079,10310.406399585509]
[null,null,0,{"$f":"IF(C1498<>0,LOOKUP(,-CODE(C$3:C1498),C$3:C1498),D1497)","v":132},"132(460)-500",null,null,null,"500",460,315,6431.7015758434782,6723.1989344434778,6724.0165988434783,7015.5139574434779,7572.7522460434784,7837.6755116434788]
[null,null,0,{"$f":"IF(C1499<>0,LOOKUP(,-CODE(C$3:C1499),C$3:C1499),D1498)","v":132},"132(460)-550",null,null,null,"550",460,315,6724.5528451188402,7045.3758937188413,7046.2758181188401,7367.0988667188403,7980.397345318841,8271.9728509188408]
[null,null,0,{"$f":"IF(C1500<>0,LOOKUP(,-CODE(C$3:C1500),C$3:C1500),D1499)","v":132},"132(460)-600",null,null,null,"600",460,315,7017.4041143942022,7367.552852994203,7368.5350373942028,7718.6837759942027,8388.0424445942044,8706.2701901942037]
[null,null,0,{"$f":"IF(C1501<>0,LOOKUP(,-CODE(C$3:C1501),C$3:C1501),D1500)","v":132},"132(460)-650",null,null,null,"650",460,315,7310.2553836695643,7689.7298122695647,7690.7942566695656,8070.2686852695651,8795.6875438695661,9140.5675294695648]
[null,null,0,{"$f":"IF(C1502<>0,LOOKUP(,-CODE(C$3:C1502),C$3:C1502),D1501)","v":132},"132(460)-700",null,null,null,"700",460,315,7603.1066529449272,8011.9067715449264,8013.0534759449265,8421.8535945449275,9203.3326431449277,9574.8648687449277]
[null,null,0,{"$f":"IF(C1503<>0,LOOKUP(,-CODE(C$3:C1503),C$3:C1503),D1502)","v":132},"132(460)-750",null,null,null,"750",460,315,7895.9579222202901,8334.0837308202899,8335.3126952202892,8773.4385038202909,9610.9777424202894,10009.162208020289]
[null,null,0,{"$f":"IF(C1504<>0,LOOKUP(,-CODE(C$3:C1504),C$3:C1504),D1503)","v":132},"132(460)-800",null,null,null,"800",460,315,8188.8091914956531,8656.2606900956525,8657.5719144956529,9125.0234130956524,10018.622841695655,10443.459547295653]
[null,null,0,{"$f":"IF(C1505<>0,LOOKUP(,-CODE(C$3:C1505),C$3:C1505),D1504)","v":132},"132(460)-850",null,null,null,"850",460,315,8614.4104607710142,9111.1876493710151,9112.5811337710147,9609.3583223710157,10559.017940971014,11010.506886571015]
[null,null,0,{"$f":"IF(C1506<>0,LOOKUP(,-CODE(C$3:C1506),C$3:C1506),D1505)","v":132},"132(460)-900",null,null,null,"900",460,315,8907.2617300463771,9433.3646086463759,9434.8403530463765,9960.9432316463772,10966.663040246376,11444.804225846377]
[null,null,0,{"$f":"IF(C1507<>0,LOOKUP(,-CODE(C$3:C1507),C$3:C1507),D1506)","v":132},"132(480)-500",null,null,null,"500",480,315,6558.4502574666667,6862.7046120666664,6863.5580604666666,7167.8124150666663,7749.4374996666666,8025.954781266666]
[null,null,0,{"$f":"IF(C1508<>0,LOOKUP(,-CODE(C$3:C1508),C$3:C1508),D1507)","v":132},"132(480)-550",null,null,null,"550",480,315,6863.3117441333334,7198.175188733333,7199.1144971333333,7533.977941733333,8174.1166163333337,8478.4525379333318]
[null,null,0,{"$f":"IF(C1509<>0,LOOKUP(,-CODE(C$3:C1509),C$3:C1509),D1508)","v":132},"132(480)-600",null,null,null,"600",480,315,7168.173230800001,7533.6457654000005,7534.6709338000001,7900.1434683999996,8598.7957330000008,8930.9502946000011]
[null,null,0,{"$f":"IF(C1510<>0,LOOKUP(,-CODE(C$3:C1510),C$3:C1510),D1509)","v":132},"132(480)-650",null,null,null,"650",480,315,7473.0347174666667,7869.1163420666662,7870.2273704666668,8266.3089950666654,9023.4748496666671,9383.4480512666651]
[null,null,0,{"$f":"IF(C1511<>0,LOOKUP(,-CODE(C$3:C1511),C$3:C1511),D1510)","v":132},"132(480)-700",null,null,null,"700",480,315,7777.8962041333343,8204.5869187333337,8205.7838071333335,8632.4745217333329,9448.1539663333333,9835.9458079333344]
[null,null,0,{"$f":"IF(C1512<>0,LOOKUP(,-CODE(C$3:C1512),C$3:C1512),D1511)","v":132},"132(480)-750",null,null,null,"750",480,315,8082.7576908000001,8540.0574954000003,8541.3402438000012,8998.6400484000005,9872.8330830000014,10288.4435646]
[null,null,0,{"$f":"IF(C1513<>0,LOOKUP(,-CODE(C$3:C1513),C$3:C1513),D1512)","v":132},"132(480)-800",null,null,null,"800",480,315,8387.6191774666659,8875.5280720666669,8876.896680466667,9364.8055750666663,10297.512199666666,10740.941321266668]
[null,null,0,{"$f":"IF(C1514<>0,LOOKUP(,-CODE(C$3:C1514),C$3:C1514),D1513)","v":132},"132(480)-850",null,null,null,"850",480,315,8825.2306641333325,9343.7486487333335,9345.2031171333347,9863.7211017333339,10854.941316333332,11326.189077933333]
[null,null,0,{"$f":"IF(C1515<>0,LOOKUP(,-CODE(C$3:C1515),C$3:C1515),D1514)","v":132},"132(480)-900",null,null,null,"900",480,315,9130.0921507999992,9679.2192254000001,9680.7595538000005,10229.8866284,11279.620433,11778.686834600001]
[null,"134",133,{"$f":"IF(C1516<>0,LOOKUP(,-CODE(C$3:C1516),C$3:C1516),D1515)","v":133},"133(360)-500","Шкаф настенный однодверный со стеклом, открывание вверх,Aventos BLUM HS",null,null,"500",360,315,8914.2621677275365,9141.9745463275358,9142.6132907275369,9370.3256693275362,9805.6299779275359,10012.583163527537]
[null,null,0,{"$f":"IF(C1517<>0,LOOKUP(,-CODE(C$3:C1517),C$3:C1517),D1516)","v":133},"133(360)-550",null,null,null,"550",360,315,9147.0623500463771,9397.6834186463766,9398.3864230463787,9649.0074916463782,10128.104990246376,10355.878415846377]
[null,null,0,{"$f":"IF(C1518<>0,LOOKUP(,-CODE(C$3:C1518),C$3:C1518),D1517)","v":133},"133(360)-600",null,null,null,"600",360,315,9379.8625323652177,9653.3922909652174,9654.1595553652187,9927.6893139652184,10450.580002565217,10699.173668165218]
[null,null,0,{"$f":"IF(C1519<>0,LOOKUP(,-CODE(C$3:C1519),C$3:C1519),D1518)","v":133},"133(360)-650",null,null,null,"650",360,315,9612.6627146840583,9909.1011632840582,9909.9326876840587,10206.371136284059,10773.055014884058,11042.46892048406]
[null,null,0,{"$f":"IF(C1520<>0,LOOKUP(,-CODE(C$3:C1520),C$3:C1520),D1519)","v":133},"133(360)-700",null,null,null,"700",360,315,9861.2128970028989,10180.560035602899,10181.455820002899,10500.802958602899,11111.280027202898,11401.514172802899]
[null,null,0,{"$f":"IF(C1521<>0,LOOKUP(,-CODE(C$3:C1521),C$3:C1521),D1520)","v":133},"133(360)-750",null,null,null,"750",360,315,10094.013079321739,10436.268907921738,10437.228952321739,10779.484780921739,11433.75503952174,11744.809425121741]
[null,null,0,{"$f":"IF(C1522<>0,LOOKUP(,-CODE(C$3:C1522),C$3:C1522),D1521)","v":133},"133(360)-800",null,null,null,"800",360,315,10326.81326164058,10691.977780240579,10693.002084640579,11058.166603240579,11756.230051840579,12088.104677440579]
[null,null,0,{"$f":"IF(C1523<>0,LOOKUP(,-CODE(C$3:C1523),C$3:C1523),D1522)","v":133},"133(360)-850",null,null,null,"850",360,315,10559.613443959421,10947.686652559421,10948.775216959421,11336.848425559421,12078.705064159421,12431.39992975942]
[null,null,0,{"$f":"IF(C1524<>0,LOOKUP(,-CODE(C$3:C1524),C$3:C1524),D1523)","v":133},"133(360)-900",null,null,null,"900",360,315,10792.413626278261,11203.39552487826,11204.548349278261,11615.53024787826,12401.18007647826,12774.695182078261]
[null,null,0,{"$f":"IF(C1525<>0,LOOKUP(,-CODE(C$3:C1525),C$3:C1525),D1524)","v":133},"133(400)-500",null,null,null,"500",400,315,9167.7595309739118,9420.985901573913,9421.6962139739135,9674.9225845739129,10159.000485173912,10389.141702773913]
[null,null,0,{"$f":"IF(C1526<>0,LOOKUP(,-CODE(C$3:C1526),C$3:C1526),D1525)","v":133},"133(400)-550",null,null,null,"550",400,315,9440.3301480753635,9719.0320086753618,9719.8137810753633,9998.5156416753616,10531.293532275362,10784.587789875362]
[null,null,0,{"$f":"IF(C1527<>0,LOOKUP(,-CODE(C$3:C1527),C$3:C1527),D1526)","v":133},"133(400)-600",null,null,null,"600",400,315,9697.1507651768115,10001.328115776812,10002.181348176811,10306.358698776812,10887.836579376812,11164.283876976811]
[null,null,0,{"$f":"IF(C1528<>0,LOOKUP(,-CODE(C$3:C1528),C$3:C1528),D1527)","v":133},"133(400)-650",null,null,null,"650",400,315,9953.9713822782614,10283.624222878263,10284.548915278261,10614.201755878263,11244.379626478261,11543.979964078262]
[null,null,0,{"$f":"IF(C1529<>0,LOOKUP(,-CODE(C$3:C1529),C$3:C1529),D1528)","v":133},"133(400)-700",null,null,null,"700",400,315,10210.791999379711,10565.92032997971,10566.916482379711,10922.04481297971,11600.922673579709,11923.676051179711]
[null,null,0,{"$f":"IF(C1530<>0,LOOKUP(,-CODE(C$3:C1530),C$3:C1530),D1529)","v":133},"133(400)-750",null,null,null,"750",400,315,10467.612616481159,10848.216437081159,10849.284049481161,11229.88787008116,11957.465720681161,12303.37213828116]
[null,null,0,{"$f":"IF(C1531<>0,LOOKUP(,-CODE(C$3:C1531),C$3:C1531),D1530)","v":133},"133(400)-800",null,null,null,"800",400,315,10724.433233582609,11130.512544182609,11131.651616582609,11537.730927182609,12314.00876778261,12683.068225382609]
[null,null,0,{"$f":"IF(C1532<>0,LOOKUP(,-CODE(C$3:C1532),C$3:C1532),D1531)","v":133},"133(400)-850",null,null,null,"850",400,315,10981.253850684057,11412.808651284056,11414.019183684057,11845.573984284058,12670.551814884057,13062.764312484058]
[null,null,0,{"$f":"IF(C1533<>0,LOOKUP(,-CODE(C$3:C1533),C$3:C1533),D1532)","v":133},"133(400)-900",null,null,null,"900",400,315,11238.074467785509,11695.104758385509,11696.386750785508,12153.417041385508,13027.094861985508,13442.460399585509]
[null,null,0,{"$f":"IF(C1534<>0,LOOKUP(,-CODE(C$3:C1534),C$3:C1534),D1533)","v":133},"133(460)-500",null,null,null,"500",460,315,9563.7555758434792,9855.2529344434788,9856.0705988434784,10147.567957443478,10704.806246043479,10969.72951164348]
[null,null,0,{"$f":"IF(C1535<>0,LOOKUP(,-CODE(C$3:C1535),C$3:C1535),D1534)","v":133},"133(460)-550",null,null,null,"550",460,315,9856.6068451188421,10177.429893718841,10178.329818118842,10499.152866718841,11112.451345318841,11404.026850918841]
[null,null,0,{"$f":"IF(C1536<>0,LOOKUP(,-CODE(C$3:C1536),C$3:C1536),D1535)","v":133},"133(460)-600",null,null,null,"600",460,315,10149.458114394203,10499.606852994204,10500.589037394204,10850.737775994203,11520.096444594205,11838.324190194204]
[null,null,0,{"$f":"IF(C1537<>0,LOOKUP(,-CODE(C$3:C1537),C$3:C1537),D1536)","v":133},"133(460)-650",null,null,null,"650",460,315,10442.309383669566,10821.783812269565,10822.848256669566,11202.322685269566,11927.741543869566,12272.621529469565]
[null,null,0,{"$f":"IF(C1538<>0,LOOKUP(,-CODE(C$3:C1538),C$3:C1538),D1537)","v":133},"133(460)-700",null,null,null,"700",460,315,10735.160652944929,11143.960771544927,11145.107475944928,11553.907594544928,12335.386643144928,12706.918868744928]
[null,null,0,{"$f":"IF(C1539<>0,LOOKUP(,-CODE(C$3:C1539),C$3:C1539),D1538)","v":133},"133(460)-750",null,null,null,"750",460,315,11028.01192222029,11466.13773082029,11467.366695220289,11905.492503820291,12743.031742420289,13141.216208020289]
[null,null,0,{"$f":"IF(C1540<>0,LOOKUP(,-CODE(C$3:C1540),C$3:C1540),D1539)","v":133},"133(460)-800",null,null,null,"800",460,315,11320.863191495653,11788.314690095653,11789.625914495653,12257.077413095652,13150.676841695655,13575.513547295654]
[null,null,0,{"$f":"IF(C1541<>0,LOOKUP(,-CODE(C$3:C1541),C$3:C1541),D1540)","v":133},"133(460)-850",null,null,null,"850",460,315,11613.714460771014,12110.491649371015,12111.885133771015,12608.662322371016,13558.321940971015,14009.810886571015]
[null,null,0,{"$f":"IF(C1542<>0,LOOKUP(,-CODE(C$3:C1542),C$3:C1542),D1541)","v":133},"133(460)-900",null,null,null,"900",460,315,11906.565730046377,12432.668608646376,12434.144353046377,12960.247231646377,13965.967040246376,14444.108225846378]
[null,null,0,{"$f":"IF(C1543<>0,LOOKUP(,-CODE(C$3:C1543),C$3:C1543),D1542)","v":133},"133(480)-500",null,null,null,"500",480,315,9690.5042574666677,9994.7586120666674,9995.6120604666667,10299.866415066666,10881.491499666667,11158.008781266668]
[null,null,0,{"$f":"IF(C1544<>0,LOOKUP(,-CODE(C$3:C1544),C$3:C1544),D1543)","v":133},"133(480)-550",null,null,null,"550",480,315,9995.3657441333344,10330.229188733334,10331.168497133334,10666.031941733334,11306.170616333333,11610.506537933334]
[null,null,0,{"$f":"IF(C1545<>0,LOOKUP(,-CODE(C$3:C1545),C$3:C1545),D1544)","v":133},"133(480)-600",null,null,null,"600",480,315,10300.227230800001,10665.699765400001,10666.7249338,11032.1974684,11730.849733000001,12063.004294600001]
[null,null,0,{"$f":"IF(C1546<>0,LOOKUP(,-CODE(C$3:C1546),C$3:C1546),D1545)","v":133},"133(480)-650",null,null,null,"650",480,315,10605.088717466666,11001.170342066665,11002.281370466666,11398.362995066667,12155.528849666667,12515.502051266665]
[null,null,0,{"$f":"IF(C1547<>0,LOOKUP(,-CODE(C$3:C1547),C$3:C1547),D1546)","v":133},"133(480)-700",null,null,null,"700",480,315,10909.950204133334,11336.640918733334,11337.837807133334,11764.528521733333,12580.207966333333,12967.999807933335]
[null,null,0,{"$f":"IF(C1548<>0,LOOKUP(,-CODE(C$3:C1548),C$3:C1548),D1547)","v":133},"133(480)-750",null,null,null,"750",480,315,11214.811690800001,11672.1114954,11673.394243800001,12130.694048400001,13004.887083000001,13420.4975646]
[null,null,0,{"$f":"IF(C1549<>0,LOOKUP(,-CODE(C$3:C1549),C$3:C1549),D1548)","v":133},"133(480)-800",null,null,null,"800",480,315,11519.673177466668,12007.582072066667,12008.950680466667,12496.859575066666,13429.566199666666,13872.995321266668]
[null,null,0,{"$f":"IF(C1550<>0,LOOKUP(,-CODE(C$3:C1550),C$3:C1550),D1549)","v":133},"133(480)-850",null,null,null,"850",480,315,11824.534664133333,12343.052648733334,12344.507117133335,12863.025101733334,13854.245316333332,14325.493077933334]
[null,null,0,{"$f":"IF(C1551<>0,LOOKUP(,-CODE(C$3:C1551),C$3:C1551),D1550)","v":133},"133(480)-900",null,null,null,"900",480,315,12129.396150799999,12678.5232254,12680.063553800001,13229.1906284,14278.924433,14777.990834600001]
[null,null,0,{"$f":"IF(C1552<>0,LOOKUP(,-CODE(C$3:C1552),C$3:C1552),D1551)","v":133},"133(600)-500",null,null,null,"500",600,315,10435.246347205797,10816.042677805799,10817.110830205798,11197.907160805798,11925.853021405797,12271.934399005799]
[null,null,0,{"$f":"IF(C1553<>0,LOOKUP(,-CODE(C$3:C1553),C$3:C1553),D1552)","v":133},"133(600)-550",null,null,null,"550",600,315,10812.169138220292,11231.27495882029,11232.450571220292,11651.55639182029,12452.736242420291,12833.634660020291]
[null,null,0,{"$f":"IF(C1554<>0,LOOKUP(,-CODE(C$3:C1554),C$3:C1554),D1553)","v":133},"133(600)-600",null,null,null,"600",600,315,11189.091929234783,11646.507239834784,11647.790312234783,12105.205622834783,12979.619463434781,13395.334921034784]
[null,null,0,{"$f":"IF(C1555<>0,LOOKUP(,-CODE(C$3:C1555),C$3:C1555),D1554)","v":133},"133(600)-650",null,null,null,"650",600,315,11566.014720249275,12061.739520849274,12063.130053249275,12558.854853849276,13506.502684449275,13957.035182049276]
[null,null,0,{"$f":"IF(C1556<>0,LOOKUP(,-CODE(C$3:C1556),C$3:C1556),D1555)","v":133},"133(600)-700",null,null,null,"700",600,315,12278.187511263768,12812.221801863769,12813.719794263769,13347.754084863769,14368.635905463769,14853.98544306377]
[null,null,0,{"$f":"IF(C1557<>0,LOOKUP(,-CODE(C$3:C1557),C$3:C1557),D1556)","v":133},"133(600)-750",null,null,null,"750",600,315,12655.110302278263,13227.454082878263,13229.059535278262,13801.403315878262,14895.519126478262,15415.685704078262]
[null,null,0,{"$f":"IF(C1558<>0,LOOKUP(,-CODE(C$3:C1558),C$3:C1558),D1557)","v":133},"133(600)-800",null,null,null,"800",600,315,13032.033093292755,13642.686363892755,13644.399276292756,14255.052546892755,15422.402347492756,15977.385965092755]
[null,null,0,{"$f":"IF(C1559<>0,LOOKUP(,-CODE(C$3:C1559),C$3:C1559),D1558)","v":133},"133(600)-850",null,null,null,"850",600,315,13408.955884307248,14057.918644907248,14059.739017307249,14708.701777907248,15949.285568507246,16539.086226107247]
[null,null,0,{"$f":"IF(C1560<>0,LOOKUP(,-CODE(C$3:C1560),C$3:C1560),D1559)","v":133},"133(600)-900",null,null,null,"900",600,315,13785.878675321739,14473.15092592174,14475.078758321741,15162.35100892174,16476.16878952174,17100.786487121743]
[null,null,0,{"$f":"IF(C1561<>0,LOOKUP(,-CODE(C$3:C1561),C$3:C1561),D1560)","v":133},"133(720)-500",null,null,null,"500",720,315,11530.988436944928,11988.326743544929,11989.60959994493,12446.947906544929,13321.214543144928,13736.860016744929]
[null,null,0,{"$f":"IF(C1562<>0,LOOKUP(,-CODE(C$3:C1562),C$3:C1562),D1561)","v":133},"133(720)-550",null,null,null,"550",720,315,11979.972532307249,12483.320728907249,12484.732645307249,12988.080841907249,13950.301868507249,14407.762782107249]
[null,null,0,{"$f":"IF(C1563<>0,LOOKUP(,-CODE(C$3:C1563),C$3:C1563),D1562)","v":133},"133(720)-600",null,null,null,"600",720,315,12428.956627669568,12978.314714269567,12979.855690669567,13529.213777269566,14579.389193869567,15078.665547469567]
[null,null,0,{"$f":"IF(C1564<>0,LOOKUP(,-CODE(C$3:C1564),C$3:C1564),D1563)","v":133},"133(720)-650",null,null,null,"650",720,315,12877.940723031885,13473.308699631885,13474.978736031886,14070.346712631885,15208.476519231886,15749.568312831885]
[null,null,0,{"$f":"IF(C1565<>0,LOOKUP(,-CODE(C$3:C1565),C$3:C1565),D1564)","v":133},"133(720)-700",null,null,null,"700",720,315,13326.924818394204,13968.302684994203,13970.101781394203,14611.479647994205,15837.563844594202,16420.471078194205]
[null,null,0,{"$f":"IF(C1566<>0,LOOKUP(,-CODE(C$3:C1566),C$3:C1566),D1565)","v":133},"133(720)-750",null,null,null,"750",720,315,13775.908913756524,14463.296670356523,14465.224826756523,15152.612583356524,16466.651169956524,17091.373843556525]
[null,null,0,{"$f":"IF(C1567<>0,LOOKUP(,-CODE(C$3:C1567),C$3:C1567),D1566)","v":133},"133(720)-800",null,null,null,"800",720,315,14224.893009118843,14958.290655718842,14960.347872118842,15693.745518718841,17095.738495318845,17762.276608918844]
[null,null,0,{"$f":"IF(C1568<>0,LOOKUP(,-CODE(C$3:C1568),C$3:C1568),D1567)","v":133},"133(720)-850",null,null,null,"850",720,315,14673.87710448116,15453.28464108116,15455.47091748116,16234.878454081161,17724.825820681159,18433.179374281157]
[null,null,0,{"$f":"IF(C1569<>0,LOOKUP(,-CODE(C$3:C1569),C$3:C1569),D1568)","v":133},"133(720)-900",null,null,null,"900",720,315,15122.861199843479,15948.27862644348,15950.593962843479,16776.01138944348,18353.91314604348,19104.08213964348]
[null,"135",134,{"$f":"IF(C1570<>0,LOOKUP(,-CODE(C$3:C1570),C$3:C1570),D1569)","v":134},"134(600)-500","Шкафнастенныйоднодверный, открывание вверх, газ-лифт и открытой полкой",null,null,"500",600,315,3399.6026182724636,3588.7783126724639,3612.1595782724635,3801.6009688724635,4231.7631166724632,4403.9342542724635]
[null,null,0,{"$f":"IF(C1571<>0,LOOKUP(,-CODE(C$3:C1571),C$3:C1571),D1570)","v":134},"134(600)-550",null,null,null,"550",600,315,3613.7298026202898,3821.9372570202895,3847.6707626202897,4056.17064322029,4529.6086610202901,4719.1008386202893]
[null,null,0,{"$f":"IF(C1572<>0,LOOKUP(,-CODE(C$3:C1572),C$3:C1572),D1571)","v":134},"134(600)-600",null,null,null,"600",600,315,3827.856986968116,4055.0962013681155,4083.1819469681159,4310.7403175681156,4827.4542053681162,5034.2674229681161]
[null,null,0,{"$f":"IF(C1573<>0,LOOKUP(,-CODE(C$3:C1573),C$3:C1573),D1572)","v":134},"134(600)-650",null,null,null,"650",600,315,4041.9841713159421,4288.2551457159416,4318.6931313159421,4565.3099919159422,5125.2997497159422,5349.4340073159419]
[null,null,0,{"$f":"IF(C1574<>0,LOOKUP(,-CODE(C$3:C1574),C$3:C1574),D1573)","v":134},"134(600)-700",null,null,null,"700",600,315,4256.1113556637683,4521.4140900637676,4554.2043156637683,4819.8796662637678,5423.1452940637682,5664.6005916637678]
[null,null,0,{"$f":"IF(C1575<>0,LOOKUP(,-CODE(C$3:C1575),C$3:C1575),D1574)","v":134},"134(600)-750",null,null,null,"750",600,315,4470.2385400115945,4754.5730344115946,4789.7155000115945,5074.4493406115944,5720.9908384115943,5979.7671760115945]
[null,null,0,{"$f":"IF(C1576<>0,LOOKUP(,-CODE(C$3:C1576),C$3:C1576),D1575)","v":134},"134(600)-800",null,null,null,"800",600,315,4684.3657243594207,4987.7319787594206,5025.2266843594207,5329.0190149594209,6018.8363827594203,6294.9337603594204]
[null,null,0,{"$f":"IF(C1577<>0,LOOKUP(,-CODE(C$3:C1577),C$3:C1577),D1576)","v":134},"134(600)-850",null,null,null,"850",600,315,4898.492908707246,5220.8909231072466,5260.737868707246,5583.5886893072466,6316.6819271072463,6610.1003447072462]
[null,null,0,{"$f":"IF(C1578<>0,LOOKUP(,-CODE(C$3:C1578),C$3:C1578),D1577)","v":134},"134(600)-900",null,null,null,"900",600,315,5112.6200930550731,5454.0498674550727,5496.2490530550731,5838.1583636550731,6614.5274714550733,6925.266929055073]
[null,null,0,{"$f":"IF(C1579<>0,LOOKUP(,-CODE(C$3:C1579),C$3:C1579),D1578)","v":134},"134(720)-500",null,null,null,"500",720,315,3814.7135880115943,4042.1065944115944,4070.2113480115941,4297.9237266115942,4814.987318411595,5021.9405040115944]
[null,null,0,{"$f":"IF(C1580<>0,LOOKUP(,-CODE(C$3:C1580),C$3:C1580),D1579)","v":134},"134(720)-550",null,null,null,"550",720,315,4064.4340767072463,4314.7036431072465,4345.6358367072462,4596.2569053072466,5165.3389671072464,5393.1123927072467]
[null,null,0,{"$f":"IF(C1581<>0,LOOKUP(,-CODE(C$3:C1581),C$3:C1581),D1580)","v":134},"134(720)-600",null,null,null,"600",720,315,4314.1545654028987,4587.3006918028987,4621.0603254028983,4894.5900840028989,5515.6906158028987,5764.2842814028982]
[null,null,0,{"$f":"IF(C1582<>0,LOOKUP(,-CODE(C$3:C1582),C$3:C1582),D1581)","v":134},"134(720)-650",null,null,null,"650",720,315,4563.8750540985511,4859.8977404985508,4896.4848140985505,5192.9232626985504,5866.042264498551,6135.4561700985505]
[null,null,0,{"$f":"IF(C1583<>0,LOOKUP(,-CODE(C$3:C1583),C$3:C1583),D1582)","v":134},"134(720)-700",null,null,null,"700",720,315,4813.5955427942026,5132.4947891942029,5171.9093027942026,5491.2564413942027,6216.3939131942034,6506.6280587942038]
[null,null,0,{"$f":"IF(C1584<>0,LOOKUP(,-CODE(C$3:C1584),C$3:C1584),D1583)","v":134},"134(720)-750",null,null,null,"750",720,315,5063.316031489855,5405.091837889855,5447.3337914898548,5789.5896200898551,6566.7455618898548,6877.7999474898552]
[null,null,0,{"$f":"IF(C1585<>0,LOOKUP(,-CODE(C$3:C1585),C$3:C1585),D1584)","v":134},"134(720)-800",null,null,null,"800",720,315,5313.0365201855075,5677.6888865855071,5722.7582801855069,6087.9227987855065,6917.0972105855071,7248.9718361855066]
[null,null,0,{"$f":"IF(C1586<>0,LOOKUP(,-CODE(C$3:C1586),C$3:C1586),D1585)","v":134},"134(720)-850",null,null,null,"850",720,315,5562.7570088811599,5950.2859352811593,5998.18276888116,6386.2559774811598,7267.4488592811595,7620.1437248811599]
[null,null,0,{"$f":"IF(C1587<>0,LOOKUP(,-CODE(C$3:C1587),C$3:C1587),D1586)","v":134},"134(720)-900",null,null,null,"900",720,315,5812.4774975768114,6222.8829839768114,6273.6072575768121,6684.5891561768112,7617.8005079768118,7991.3156135768113]
[null,null,0,{"$f":"IF(C1588<>0,LOOKUP(,-CODE(C$3:C1588),C$3:C1588),D1587)","v":134},"134(800)-500",null,null,null,"500",800,315,4091.4542345043483,4344.3254489043484,4375.5791945043484,4628.8055651043487,5203.803452904348,5433.9446705043483]
[null,null,0,{"$f":"IF(C1589<>0,LOOKUP(,-CODE(C$3:C1589),C$3:C1589),D1588)","v":134},"134(800)-550",null,null,null,"550",800,315,4364.9035927652176,4643.214567165217,4677.6125527652175,4956.3144133652177,5589.1591711652172,5842.4534287652168]
[null,null,0,{"$f":"IF(C1590<>0,LOOKUP(,-CODE(C$3:C1590),C$3:C1590),D1589)","v":134},"134(800)-600",null,null,null,"600",800,315,4638.3529510260869,4942.1036854260865,4979.6459110260867,5283.8232616260866,5974.5148894260865,6250.9621870260862]
[null,null,0,{"$f":"IF(C1591<>0,LOOKUP(,-CODE(C$3:C1591),C$3:C1591),D1590)","v":134},"134(800)-650",null,null,null,"650",800,315,4911.8023092869571,5240.992803686956,5281.6792692869567,5611.3321098869565,6359.8706076869566,6659.4709452869574]
[null,null,0,{"$f":"IF(C1592<>0,LOOKUP(,-CODE(C$3:C1592),C$3:C1592),D1591)","v":134},"134(800)-700",null,null,null,"700",800,315,5185.2516675478255,5539.8819219478264,5583.7126275478258,5938.8409581478254,6745.2263259478259,7067.979703547825]
[null,null,0,{"$f":"IF(C1593<>0,LOOKUP(,-CODE(C$3:C1593),C$3:C1593),D1592)","v":134},"134(800)-750",null,null,null,"750",800,315,5458.7010258086957,5838.7710402086959,5885.7459858086959,6266.3498064086962,7130.5820442086961,7476.4884618086962]
[null,null,0,{"$f":"IF(C1594<>0,LOOKUP(,-CODE(C$3:C1594),C$3:C1594),D1593)","v":134},"134(800)-800",null,null,null,"800",800,315,5732.150384069565,6137.6601584695654,6187.7793440695659,6593.858654669566,7515.9377624695662,7884.9972200695647]
[null,null,0,{"$f":"IF(C1595<>0,LOOKUP(,-CODE(C$3:C1595),C$3:C1595),D1594)","v":134},"134(800)-850",null,null,null,"850",800,315,6005.5997423304343,6436.5492767304349,6489.8127023304332,6921.3675029304341,7901.2934807304337,8293.505978330435]
[null,null,0,{"$f":"IF(C1596<>0,LOOKUP(,-CODE(C$3:C1596),C$3:C1596),D1595)","v":134},"134(800)-900",null,null,null,"900",800,315,6279.0491005913054,6735.4383949913054,6791.8460605913051,7248.8763511913048,8286.6491989913047,8702.0147365913053]
[null,null,0,{"$f":"IF(C1597<>0,LOOKUP(,-CODE(C$3:C1597),C$3:C1597),D1596)","v":134},"134(920)-500",null,null,null,"500",920,315,4506.5652042434785,4797.6537306434784,4833.630964243478,5125.1283228434786,5787.0276546434779,6051.9509202434783]
[null,null,0,{"$f":"IF(C1598<>0,LOOKUP(,-CODE(C$3:C1598),C$3:C1598),D1597)","v":134},"134(920)-550",null,null,null,"550",920,315,4815.6078668521741,5135.980953252174,5175.577626852174,5496.4006754521743,6224.8894772521744,6516.4649828521751]
[null,null,0,{"$f":"IF(C1599<>0,LOOKUP(,-CODE(C$3:C1599),C$3:C1599),D1598)","v":134},"134(920)-600",null,null,null,"600",920,315,5124.6505294608696,5474.3081758608696,5517.5242894608691,5867.673028060869,6662.751299860869,6980.9790454608692]
[null,null,0,{"$f":"IF(C1600<>0,LOOKUP(,-CODE(C$3:C1600),C$3:C1600),D1599)","v":134},"134(920)-650",null,null,null,"650",920,315,5433.6931920695661,5812.6353984695661,5859.470952069566,6238.9453806695656,7100.6131224695655,7445.493108069566]
[null,null,0,{"$f":"IF(C1601<>0,LOOKUP(,-CODE(C$3:C1601),C$3:C1601),D1600)","v":134},"134(920)-700",null,null,null,"700",920,315,5742.7358546782616,6150.9626210782617,6201.4176146782611,6610.2177332782612,7538.474945078261,7910.0071706782619]
[null,null,0,{"$f":"IF(C1602<>0,LOOKUP(,-CODE(C$3:C1602),C$3:C1602),D1601)","v":134},"134(920)-750",null,null,null,"750",920,315,6051.7785172869571,6489.2898436869564,6543.3642772869571,6981.4900858869569,7976.3367676869566,8374.5212332869578]
[null,null,0,{"$f":"IF(C1603<>0,LOOKUP(,-CODE(C$3:C1603),C$3:C1603),D1602)","v":134},"134(920)-800",null,null,null,"800",920,315,6360.8211798956527,6827.6170662956538,6885.3109398956531,7352.7624384956544,8414.198590295653,8839.0352958956537]
[null,null,0,{"$f":"IF(C1604<>0,LOOKUP(,-CODE(C$3:C1604),C$3:C1604),D1603)","v":134},"134(920)-850",null,null,null,"850",920,315,6669.8638425043491,7165.9442889043485,7227.2576025043491,7724.0347911043482,8852.0604129043495,9303.5493585043478]
[null,null,0,{"$f":"IF(C1605<>0,LOOKUP(,-CODE(C$3:C1605),C$3:C1605),D1604)","v":134},"134(920)-900",null,null,null,"900",920,315,6978.9065051130437,7504.2715115130432,7569.2042651130432,8095.3071437130438,9289.9222355130441,9768.0634211130437]
[null,null,0,{"$f":"IF(C1606<>0,LOOKUP(,-CODE(C$3:C1606),C$3:C1606),D1605)","v":134},"134(960)-500",null,null,null,"500",960,315,4644.9355274898553,4948.7631578898554,4986.3148874898552,5290.5692420898558,5981.4357218898558,6257.9530034898553]
[null,null,0,{"$f":"IF(C1607<>0,LOOKUP(,-CODE(C$3:C1607),C$3:C1607),D1606)","v":134},"134(960)-550",null,null,null,"550",960,315,4965.8426248811593,5300.2364152811597,5341.5659848811592,5676.4294294811598,6436.7995792811589,6741.1355008811597]
[null,null,0,{"$f":"IF(C1608<>0,LOOKUP(,-CODE(C$3:C1608),C$3:C1608),D1607)","v":134},"134(960)-600",null,null,null,"600",960,315,5286.7497222724633,5651.709672672464,5696.8170822724633,6062.2896168724637,6892.1634366724638,7224.3179982724641]
[null,null,0,{"$f":"IF(C1609<>0,LOOKUP(,-CODE(C$3:C1609),C$3:C1609),D1608)","v":134},"134(960)-650",null,null,null,"650",960,315,5607.6568196637691,6003.1829300637683,6052.0681796637682,6448.1498042637686,7347.5272940637678,7707.5004956637677]
[null,null,0,{"$f":"IF(C1610<>0,LOOKUP(,-CODE(C$3:C1610),C$3:C1610),D1609)","v":134},"134(960)-700",null,null,null,"700",960,315,5928.563917055073,6354.6561874550735,6407.3192770550722,6834.0099916550735,7802.8911514550728,8190.6829930550721]
[null,null,0,{"$f":"IF(C1611<>0,LOOKUP(,-CODE(C$3:C1611),C$3:C1611),D1610)","v":134},"134(960)-750",null,null,null,"750",960,315,6249.471014446377,6706.1294448463777,6762.5703744463772,7219.8701790463765,8258.2550088463777,8673.8654904463765]
[null,null,0,{"$f":"IF(C1612<>0,LOOKUP(,-CODE(C$3:C1612),C$3:C1612),D1611)","v":134},"134(960)-800",null,null,null,"800",960,315,6570.378111837681,7057.602702237682,7117.8214718376803,7605.7303664376814,8713.6188662376808,9157.0479878376809]
[null,null,0,{"$f":"IF(C1613<>0,LOOKUP(,-CODE(C$3:C1613),C$3:C1613),D1612)","v":134},"134(960)-850",null,null,null,"850",960,315,6891.2852092289859,7409.0759596289863,7473.0725692289861,7991.5905538289862,9168.9827236289857,9640.2304852289872]
[null,null,0,{"$f":"IF(C1614<>0,LOOKUP(,-CODE(C$3:C1614),C$3:C1614),D1613)","v":134},"134(960)-900",null,null,null,"900",960,315,7212.1923066202899,7760.5492170202897,7828.3236666202902,8377.4507412202911,9624.3465810202906,10123.412982620292]
[null,"136",135,{"$f":"IF(C1615<>0,LOOKUP(,-CODE(C$3:C1615),C$3:C1615),D1614)","v":135},"135(600)-500","Шкафнастенныйоднодверный со стеклом, открывание вверх, газ-лифт и открытой полкой",null,null,"500",600,315,3351.7640122724633,3541.2054028724638,3541.7367952724635,3731.1781858724635,4093.3221064724635,4265.4932440724633]
[null,null,0,{"$f":"IF(C1616<>0,LOOKUP(,-CODE(C$3:C1616),C$3:C1616),D1615)","v":135},"135(600)-550",null,null,null,"550",600,315,3563.7512966202898,3772.2511772202897,3772.8360296202895,3981.3359102202899,4379.9128208202901,4569.4049984202902]
[null,null,0,{"$f":"IF(C1617<>0,LOOKUP(,-CODE(C$3:C1617),C$3:C1617),D1616)","v":135},"135(600)-600",null,null,null,"600",600,315,3775.7385809681159,4003.2969515681161,4003.9352639681156,4231.4936345681162,4666.5035351681163,4873.3167527681162]
[null,null,0,{"$f":"IF(C1618<>0,LOOKUP(,-CODE(C$3:C1618),C$3:C1618),D1617)","v":135},"135(600)-650",null,null,null,"650",600,315,3987.725865315942,4234.3427259159416,4235.0344983159421,4481.6513589159413,4953.0942495159416,5177.2285071159413]
[null,null,0,{"$f":"IF(C1619<>0,LOOKUP(,-CODE(C$3:C1619),C$3:C1619),D1618)","v":135},"135(600)-700",null,null,null,"700",600,315,4199.7131496637685,4465.388500263768,4466.1337326637686,4731.8090832637681,5239.6849638637677,5481.1402614637682]
[null,null,0,{"$f":"IF(C1620<>0,LOOKUP(,-CODE(C$3:C1620),C$3:C1620),D1619)","v":135},"135(600)-750",null,null,null,"750",600,315,4411.7004340115936,4696.4342746115944,4697.2329670115942,4981.966807611595,5526.2756782115948,5785.0520158115942]
[null,null,0,{"$f":"IF(C1621<>0,LOOKUP(,-CODE(C$3:C1621),C$3:C1621),D1620)","v":135},"135(600)-800",null,null,null,"800",600,315,4623.6877183594206,4927.4800489594218,4928.3322013594207,5232.1245319594209,5812.866392559421,6088.9637701594211]
[null,null,0,{"$f":"IF(C1622<>0,LOOKUP(,-CODE(C$3:C1622),C$3:C1622),D1621)","v":135},"135(600)-850",null,null,null,"850",600,315,4835.6750027072467,5158.5258233072473,5159.4314357072471,5482.2822563072468,6099.4571069072472,6392.8755245072462]
[null,null,0,{"$f":"IF(C1623<>0,LOOKUP(,-CODE(C$3:C1623),C$3:C1623),D1622)","v":135},"135(600)-900",null,null,null,"900",600,315,5047.6622870550727,5389.5715976550728,5390.5306700550727,5732.4399806550737,6386.0478212550734,6696.787278855074]
[null,null,0,{"$f":"IF(C1624<>0,LOOKUP(,-CODE(C$3:C1624),C$3:C1624),D1623)","v":135},"135(720)-500",null,null,null,"500",720,315,3768.3391020115946,3996.0514806115948,3996.6902250115945,4224.4026036115947,4659.7069122115945,4866.6600978115939]
[null,null,0,{"$f":"IF(C1625<>0,LOOKUP(,-CODE(C$3:C1625),C$3:C1625),D1624)","v":135},"135(720)-550",null,null,null,"550",720,315,4016.9276907072467,4267.5487593072457,4268.251763707246,4518.8728323072464,4997.9703309072456,5225.743756507246]
[null,null,0,{"$f":"IF(C1626<>0,LOOKUP(,-CODE(C$3:C1626),C$3:C1626),D1625)","v":135},"135(720)-600",null,null,null,"600",720,315,4265.5162794028993,4539.046038002899,4539.8133024028984,4813.3430610028981,5336.2337496028986,5584.827415202898]
[null,null,0,{"$f":"IF(C1627<>0,LOOKUP(,-CODE(C$3:C1627),C$3:C1627),D1626)","v":135},"135(720)-650",null,null,null,"650",720,315,4514.1048680985505,4810.5433166985504,4811.3748410985509,5107.8132896985508,5674.4971682985506,5943.911073898551]
[null,null,0,{"$f":"IF(C1628<>0,LOOKUP(,-CODE(C$3:C1628),C$3:C1628),D1627)","v":135},"135(720)-700",null,null,null,"700",720,315,4762.6934567942026,5082.0405953942027,5082.9363797942024,5402.2835183942025,6012.7605869942026,6302.994732594203]
[null,null,0,{"$f":"IF(C1629<>0,LOOKUP(,-CODE(C$3:C1629),C$3:C1629),D1628)","v":135},"135(720)-750",null,null,null,"750",720,315,5011.2820454898556,5353.537874089855,5354.4979184898557,5696.753747089856,6351.0240056898556,6662.078391289856]
[null,null,0,{"$f":"IF(C1630<>0,LOOKUP(,-CODE(C$3:C1630),C$3:C1630),D1629)","v":135},"135(720)-800",null,null,null,"800",720,315,5259.8706341855077,5625.0351527855082,5626.0594571855081,5991.2239757855068,6689.2874243855076,7021.1620499855071]
[null,null,0,{"$f":"IF(C1631<>0,LOOKUP(,-CODE(C$3:C1631),C$3:C1631),D1630)","v":135},"135(720)-850",null,null,null,"850",720,315,5508.4592228811598,5896.5324314811596,5897.6209958811596,6285.6942044811594,7027.5508430811597,7380.2457086811601]
[null,null,0,{"$f":"IF(C1632<>0,LOOKUP(,-CODE(C$3:C1632),C$3:C1632),D1631)","v":135},"135(720)-900",null,null,null,"900",720,315,5757.0478115768119,6168.029710176811,6169.1825345768111,6580.1644331768121,7365.8142617768108,7739.3293673768121]
[null,null,0,{"$f":"IF(C1633<>0,LOOKUP(,-CODE(C$3:C1633),C$3:C1633),D1632)","v":135},"135(800)-500",null,null,null,"500",800,315,4046.055828504348,4299.2821991043484,4299.9925115043488,4553.2188821043483,5037.2967827043476,5267.4380003043489]
[null,null,0,{"$f":"IF(C1634<>0,LOOKUP(,-CODE(C$3:C1634),C$3:C1634),D1633)","v":135},"135(800)-550",null,null,null,"550",800,315,4319.0452867652175,4597.7471473652167,4598.5289197652173,4877.2307803652175,5410.0086709652169,5663.3029285652174]
[null,null,0,{"$f":"IF(C1635<>0,LOOKUP(,-CODE(C$3:C1635),C$3:C1635),D1634)","v":135},"135(800)-600",null,null,null,"600",800,315,4592.034745026087,4896.2120956260869,4897.0653280260867,5201.2426786260876,5782.7205592260871,6059.1678568260868]
[null,null,0,{"$f":"IF(C1636<>0,LOOKUP(,-CODE(C$3:C1636),C$3:C1636),D1635)","v":135},"135(800)-650",null,null,null,"650",800,315,4865.0242032869573,5194.6770438869571,5195.601736286957,5525.2545768869568,6155.4324474869572,6455.032785086958]
[null,null,0,{"$f":"IF(C1637<>0,LOOKUP(,-CODE(C$3:C1637),C$3:C1637),D1636)","v":135},"135(800)-700",null,null,null,"700",800,315,5138.0136615478259,5493.1419921478255,5494.1381445478264,5849.2664751478251,6528.1443357478256,6850.8977133478256]
[null,null,0,{"$f":"IF(C1638<>0,LOOKUP(,-CODE(C$3:C1638),C$3:C1638),D1637)","v":135},"135(800)-750",null,null,null,"750",800,315,5411.0031198086963,5791.6069404086966,5792.6745528086967,6173.2783734086961,6900.8562240086967,7246.7626416086969]
[null,null,0,{"$f":"IF(C1639<>0,LOOKUP(,-CODE(C$3:C1639),C$3:C1639),D1638)","v":135},"135(800)-800",null,null,null,"800",800,315,5683.9925780695658,6090.0718886695659,6091.2109610695661,6497.2902716695662,7273.568112269566,7642.6275698695663]
[null,null,0,{"$f":"IF(C1640<>0,LOOKUP(,-CODE(C$3:C1640),C$3:C1640),D1639)","v":135},"135(800)-850",null,null,null,"850",800,315,5956.9820363304352,6388.5368369304342,6389.7473693304346,6821.3021699304354,7646.2800005304343,8038.4924981304357]
[null,null,0,{"$f":"IF(C1641<>0,LOOKUP(,-CODE(C$3:C1641),C$3:C1641),D1640)","v":135},"135(800)-900",null,null,null,"900",800,315,6229.9714945913056,6687.0017851913053,6688.2837775913049,7145.3140681913064,8018.9918887913045,8434.3574263913051]
[null,null,0,{"$f":"IF(C1642<>0,LOOKUP(,-CODE(C$3:C1642),C$3:C1642),D1641)","v":135},"135(920)-500",null,null,null,"500",920,315,4462.6309182434779,4754.1282768434785,4754.945941243479,5046.4432998434786,5603.6815884434791,5868.6048540434786]
[null,null,0,{"$f":"IF(C1643<>0,LOOKUP(,-CODE(C$3:C1643),C$3:C1643),D1642)","v":135},"135(920)-550",null,null,null,"550",920,315,4772.2216808521734,5093.0447294521746,5093.9446538521734,5414.7677024521736,6028.0661810521742,6319.641686652174]
[null,null,0,{"$f":"IF(C1644<>0,LOOKUP(,-CODE(C$3:C1644),C$3:C1644),D1643)","v":135},"135(920)-600",null,null,null,"600",920,315,5081.8124434608699,5431.9611820608689,5432.9433664608696,5783.0921050608695,6452.4507736608693,6770.6785192608695]
[null,null,0,{"$f":"IF(C1645<>0,LOOKUP(,-CODE(C$3:C1645),C$3:C1645),D1644)","v":135},"135(920)-650",null,null,null,"650",920,315,5391.4032060695663,5770.8776346695668,5771.9420790695658,6151.4165076695663,6876.8353662695663,7221.7153518695668]
[null,null,0,{"$f":"IF(C1646<>0,LOOKUP(,-CODE(C$3:C1646),C$3:C1646),D1645)","v":135},"135(920)-700",null,null,null,"700",920,315,5700.9939686782609,6109.794087278261,6110.9407916782611,6519.7409102782613,7301.2199588782614,7672.7521844782614]
[null,null,0,{"$f":"IF(C1647<>0,LOOKUP(,-CODE(C$3:C1647),C$3:C1647),D1646)","v":135},"135(920)-750",null,null,null,"750",920,315,6010.5847312869564,6448.7105398869571,6449.9395042869573,6888.0653128869571,7725.6045514869575,8123.7890170869568]
[null,null,0,{"$f":"IF(C1648<>0,LOOKUP(,-CODE(C$3:C1648),C$3:C1648),D1647)","v":135},"135(920)-800",null,null,null,"800",920,315,6320.1754938956528,6787.6269924956541,6788.9382168956545,7256.3897154956539,8149.9891440956544,8574.8258496956532]
[null,null,0,{"$f":"IF(C1649<>0,LOOKUP(,-CODE(C$3:C1649),C$3:C1649),D1648)","v":135},"135(920)-850",null,null,null,"850",920,315,6629.7662565043493,7126.5434451043484,7127.9369295043489,7624.7141181043489,8574.3737367043486,9025.8626823043487]
[null,null,0,{"$f":"IF(C1650<>0,LOOKUP(,-CODE(C$3:C1650),C$3:C1650),D1649)","v":135},"135(920)-900",null,null,null,"900",920,315,6939.3570191130439,7465.4598977130436,7466.9356421130433,7993.0385207130439,8998.7583293130429,9476.8995149130442]
[null,null,0,{"$f":"IF(C1651<>0,LOOKUP(,-CODE(C$3:C1651),C$3:C1651),D1650)","v":135},"135(960)-500",null,null,null,"500",960,315,4601.4892814898558,4905.7436360898555,4906.5970844898557,5210.8514390898554,5792.4765236898556,6068.9938052898551]
[null,null,0,{"$f":"IF(C1652<>0,LOOKUP(,-CODE(C$3:C1652),C$3:C1652),D1651)","v":135},"135(960)-550",null,null,null,"550",960,315,4923.28047888116,5258.1439234811605,5259.0832318811599,5593.9466764811605,6234.0853510811603,6538.4212726811611]
[null,null,0,{"$f":"IF(C1653<>0,LOOKUP(,-CODE(C$3:C1653),C$3:C1653),D1652)","v":135},"135(960)-600",null,null,null,"600",960,315,5245.0716762724642,5610.5442108724646,5611.5693792724642,5977.0419138724646,6675.694178472464,7007.8487400724644]
[null,null,0,{"$f":"IF(C1654<>0,LOOKUP(,-CODE(C$3:C1654),C$3:C1654),D1653)","v":135},"135(960)-650",null,null,null,"650",960,315,5566.8628736637684,5962.9444982637679,5964.0555266637684,6360.1371512637688,7117.3030058637696,7477.2762074637676]
[null,null,0,{"$f":"IF(C1655<>0,LOOKUP(,-CODE(C$3:C1655),C$3:C1655),D1654)","v":135},"135(960)-700",null,null,null,"700",960,315,5888.6540710550735,6315.3447856550738,6316.5416740550736,6743.232388655073,7558.9118332550734,7946.7036748550745]
[null,null,0,{"$f":"IF(C1656<>0,LOOKUP(,-CODE(C$3:C1656),C$3:C1656),D1655)","v":135},"135(960)-750",null,null,null,"750",960,315,6210.4452684463768,6667.745073046377,6669.0278214463769,7126.3276260463763,8000.5206606463771,8416.1311422463768]
[null,null,0,{"$f":"IF(C1657<>0,LOOKUP(,-CODE(C$3:C1657),C$3:C1657),D1656)","v":135},"135(960)-800",null,null,null,"800",960,315,6532.236465837681,7020.1453604376811,7021.5139688376812,7509.4228634376805,8442.1294880376827,8885.558609637681]
[null,null,0,{"$f":"IF(C1658<>0,LOOKUP(,-CODE(C$3:C1658),C$3:C1658),D1657)","v":135},"135(960)-850",null,null,null,"850",960,315,6854.0276632289861,7372.5456478289871,7374.0001162289864,7892.5181008289856,8883.7383154289855,9354.986077028987]
[null,null,0,{"$f":"IF(C1659<>0,LOOKUP(,-CODE(C$3:C1659),C$3:C1659),D1658)","v":135},"135(960)-900",null,null,null,"900",960,315,7175.8188606202893,7724.9459352202903,7726.4862636202897,8275.6133382202897,9325.3471428202902,9824.4135444202911]
[null,"137",136,{"$f":"IF(C1660<>0,LOOKUP(,-CODE(C$3:C1660),C$3:C1660),D1659)","v":136},"136(600)-500","Шкафнастенныйдвухдверный, открывание вверх, газ-лифт",null,null,"500",600,315,5707.0133742724629,6085.3647630724636,6132.1272942724627,6511.0100754724626,7371.3343710724621,7715.6766462724627]
[null,null,0,{"$f":"IF(C1661<>0,LOOKUP(,-CODE(C$3:C1661),C$3:C1661),D1660)","v":136},"136(600)-550",null,null,null,"550",600,315,6091.6779586202892,6508.0928674202896,6559.55987862029,6976.5596398202888,7923.435675420289,8302.4200306202893]
[null,null,0,{"$f":"IF(C1662<>0,LOOKUP(,-CODE(C$3:C1662),C$3:C1662),D1661)","v":136},"136(600)-600",null,null,null,"600",600,315,6476.3425429681156,6930.8209717681148,6986.9924629681154,7442.109204168115,8475.536979768116,8889.1634149681158]
[null,null,0,{"$f":"IF(C1663<>0,LOOKUP(,-CODE(C$3:C1663),C$3:C1663),D1662)","v":136},"136(600)-650",null,null,null,"650",600,315,6861.0071273159419,7353.5490761159417,7414.4250473159418,7907.658768515942,9027.638284115943,9475.9067993159424]
[null,null,0,{"$f":"IF(C1664<>0,LOOKUP(,-CODE(C$3:C1664),C$3:C1664),D1663)","v":136},"136(600)-700",null,null,null,"700",600,315,7245.6717116637683,7776.2771804637678,7841.8576316637682,8373.2083328637673,9579.7395884637681,10062.650183663769]
[null,null,0,{"$f":"IF(C1665<>0,LOOKUP(,-CODE(C$3:C1665),C$3:C1665),D1664)","v":136},"136(600)-750",null,null,null,"750",600,315,7630.3362960115956,8199.0052848115938,8269.2902160115937,8838.7578972115934,10131.840892811595,10649.393568011594]
[null,null,0,{"$f":"IF(C1666<>0,LOOKUP(,-CODE(C$3:C1666),C$3:C1666),D1665)","v":136},"136(600)-800",null,null,null,"800",600,315,8015.000880359421,8621.7333891594208,8696.7228003594209,9304.3074615594214,10683.94219715942,11236.13695235942]
[null,null,0,{"$f":"IF(C1667<>0,LOOKUP(,-CODE(C$3:C1667),C$3:C1667),D1666)","v":136},"136(600)-850",null,null,null,"850",600,315,8399.6654647072464,9044.4614935072459,9124.1553847072464,9769.8570259072458,11236.043501507245,11822.880336707245]
[null,null,0,{"$f":"IF(C1668<>0,LOOKUP(,-CODE(C$3:C1668),C$3:C1668),D1667)","v":136},"136(600)-900",null,null,null,"900",600,315,8784.3300490550737,9467.1895978550729,9551.5879690550737,10235.406590255074,11788.144805855074,12409.623721055073]
[null,null,0,{"$f":"IF(C1669<>0,LOOKUP(,-CODE(C$3:C1669),C$3:C1669),D1668)","v":136},"136(720)-500",null,null,null,"500",720,315,6464.5772240115939,6919.3632368115941,6975.5727440115934,7430.9975012115938,8465.1246848115952,8879.031056011594]
[null,null,0,{"$f":"IF(C1670<>0,LOOKUP(,-CODE(C$3:C1670),C$3:C1670),D1669)","v":136},"136(720)-550",null,null,null,"550",720,315,6919.2871127072467,7419.8262455072454,7481.6906327072466,7982.9327699072455,9121.0968935072469,9576.6437447072458]
[null,null,0,{"$f":"IF(C1671<>0,LOOKUP(,-CODE(C$3:C1671),C$3:C1671),D1670)","v":136},"136(720)-600",null,null,null,"600",720,315,7373.9970014028986,7920.2892542028985,7987.8085214028988,8534.8680386028991,9777.0691022028986,10274.256433402898]
[null,null,0,{"$f":"IF(C1672<>0,LOOKUP(,-CODE(C$3:C1672),C$3:C1672),D1671)","v":136},"136(720)-650",null,null,null,"650",720,315,7828.7068900985505,8420.7522628985498,8493.9264100985511,9086.8033072985509,10433.04131089855,10971.869122098549]
[null,null,0,{"$f":"IF(C1673<>0,LOOKUP(,-CODE(C$3:C1673),C$3:C1673),D1672)","v":136},"136(720)-700",null,null,null,"700",720,315,8283.4167787942024,8921.2152715942029,9000.0442987942024,9638.7385759942026,11089.013519594204,11669.481810794205]
[null,null,0,{"$f":"IF(C1674<>0,LOOKUP(,-CODE(C$3:C1674),C$3:C1674),D1673)","v":136},"136(720)-750",null,null,null,"750",720,315,8738.1266674898543,9421.6782802898542,9506.1621874898556,10190.673844689856,11744.985728289854,12367.094499489855]
[null,null,0,{"$f":"IF(C1675<>0,LOOKUP(,-CODE(C$3:C1675),C$3:C1675),D1674)","v":136},"136(720)-800",null,null,null,"800",720,315,9192.8365561855062,9922.1412889855055,10012.280076185507,10742.609113385506,12400.957936985507,13064.707188185506]
[null,null,0,{"$f":"IF(C1676<>0,LOOKUP(,-CODE(C$3:C1676),C$3:C1676),D1675)","v":136},"136(720)-850",null,null,null,"850",720,315,9647.5464448811599,10422.604297681159,10518.39796488116,11294.54438208116,13056.930145681159,13762.31987688116]
[null,null,0,{"$f":"IF(C1677<>0,LOOKUP(,-CODE(C$3:C1677),C$3:C1677),D1676)","v":136},"136(720)-900",null,null,null,"900",720,315,10102.25633357681,10923.067306376812,11024.515853576811,11846.479650776811,13712.902354376811,14459.932565576812]
[null,null,0,{"$f":"IF(C1678<>0,LOOKUP(,-CODE(C$3:C1678),C$3:C1678),D1677)","v":136},"136(800)-500",null,null,null,"500",800,315,6969.6197905043482,7475.3622193043484,7537.8697105043484,8044.3224517043491,9194.3182273043476,9654.6006625043483]
[null,null,0,{"$f":"IF(C1679<>0,LOOKUP(,-CODE(C$3:C1679),C$3:C1679),D1678)","v":136},"136(800)-550",null,null,null,"550",800,315,7471.0265487652177,8027.6484975652165,8096.4444687652176,8653.8481899652179,9919.537705565217,10426.126220765216]
[null,null,0,{"$f":"IF(C1680<>0,LOOKUP(,-CODE(C$3:C1680),C$3:C1680),D1679)","v":136},"136(800)-600",null,null,null,"600",800,315,7972.4333070260873,8579.9347758260865,8655.0192270260868,9263.3739282260867,10644.757183826086,11197.651779026086]
[null,null,0,{"$f":"IF(C1681<>0,LOOKUP(,-CODE(C$3:C1681),C$3:C1681),D1680)","v":136},"136(800)-650",null,null,null,"650",800,315,8473.8400652869568,9132.2210540869564,9213.5939852869578,9872.8996664869574,11369.976662086956,11969.177337286957]
[null,null,0,{"$f":"IF(C1682<>0,LOOKUP(,-CODE(C$3:C1682),C$3:C1682),D1681)","v":136},"136(800)-700",null,null,null,"700",800,315,8975.2468235478245,9684.5073323478264,9772.1687435478252,10482.425404747824,12095.196140347825,12740.702895547824]
[null,null,0,{"$f":"IF(C1683<>0,LOOKUP(,-CODE(C$3:C1683),C$3:C1683),D1682)","v":136},"136(800)-750",null,null,null,"750",800,315,9476.6535818086959,10236.793610608696,10330.743501808696,11091.951143008697,12820.415618608697,13512.228453808697]
[null,null,0,{"$f":"IF(C1684<>0,LOOKUP(,-CODE(C$3:C1684),C$3:C1684),D1683)","v":136},"136(800)-800",null,null,null,"800",800,315,9978.0603400695654,10789.079888869566,10889.318260069565,11701.476881269566,13545.635096869566,14283.754012069565]
[null,null,0,{"$f":"IF(C1685<>0,LOOKUP(,-CODE(C$3:C1685),C$3:C1685),D1684)","v":136},"136(800)-850",null,null,null,"850",800,315,10479.467098330433,11341.366167130434,11447.893018330433,12311.002619530434,14270.854575130434,15055.279570330435]
[null,null,0,{"$f":"IF(C1686<>0,LOOKUP(,-CODE(C$3:C1686),C$3:C1686),D1685)","v":136},"136(800)-900",null,null,null,"900",800,315,10980.873856591306,11893.652445391306,12006.467776591306,12920.528357791305,14996.074053391307,15826.805128591306]
[null,null,0,{"$f":"IF(C1687<>0,LOOKUP(,-CODE(C$3:C1687),C$3:C1687),D1686)","v":136},"136(920)-500",null,null,null,"500",920,315,7727.1836402434783,8309.360693043478,8381.3151602434773,8964.3098774434784,10288.108541043477,10817.955072243478]
[null,null,0,{"$f":"IF(C1688<>0,LOOKUP(,-CODE(C$3:C1688),C$3:C1688),D1687)","v":136},"136(920)-550",null,null,null,"550",920,315,8298.6357028521743,8939.3818756521741,9018.5752228521742,9660.2213200521746,11117.198923652175,11700.349934852176]
[null,null,0,{"$f":"IF(C1689<>0,LOOKUP(,-CODE(C$3:C1689),C$3:C1689),D1688)","v":136},"136(920)-600",null,null,null,"600",920,315,8870.0877654608703,9569.4030582608684,9655.8352854608693,10356.132762660869,11946.289306260869,12582.744797460869]
[null,null,0,{"$f":"IF(C1690<>0,LOOKUP(,-CODE(C$3:C1690),C$3:C1690),D1689)","v":136},"136(920)-650",null,null,null,"650",920,315,9441.5398280695663,10199.424240869566,10293.095348069566,11052.044205269565,12775.379688869565,13465.139660069566]
[null,null,0,{"$f":"IF(C1691<>0,LOOKUP(,-CODE(C$3:C1691),C$3:C1691),D1690)","v":136},"136(920)-700",null,null,null,"700",920,315,10012.991890678262,10829.445423478262,10930.355410678261,11747.955647878262,13604.470071478261,14347.534522678263]
[null,null,0,{"$f":"IF(C1692<>0,LOOKUP(,-CODE(C$3:C1692),C$3:C1692),D1691)","v":136},"136(920)-750",null,null,null,"750",920,315,10584.443953286956,11459.466606086957,11567.615473286956,12443.867090486956,14433.560454086957,15229.929385286958]
[null,null,0,{"$f":"IF(C1693<>0,LOOKUP(,-CODE(C$3:C1693),C$3:C1693),D1692)","v":136},"136(920)-800",null,null,null,"800",920,315,11155.896015895652,12089.487788695653,12204.875535895651,13139.778533095654,15262.650836695651,16112.324247895653]
[null,null,0,{"$f":"IF(C1694<>0,LOOKUP(,-CODE(C$3:C1694),C$3:C1694),D1693)","v":136},"136(920)-850",null,null,null,"850",920,315,11727.34807850435,12719.508971304349,12842.13559850435,13835.689975704348,16091.741219304349,16994.719110504349]
[null,null,0,{"$f":"IF(C1695<>0,LOOKUP(,-CODE(C$3:C1695),C$3:C1695),D1694)","v":136},"136(920)-900",null,null,null,"900",920,315,12298.800141113043,13349.530153913043,13479.395661113043,14531.601418313043,16920.831601913043,17877.113973113042]
[null,null,0,{"$f":"IF(C1696<>0,LOOKUP(,-CODE(C$3:C1696),C$3:C1696),D1695)","v":136},"136(960)-500",null,null,null,"500",960,315,7979.704923489855,8587.3601842898552,8662.4636434898548,9270.9723526898561,10652.705312289856,11205.739875489855]
[null,null,0,{"$f":"IF(C1697<>0,LOOKUP(,-CODE(C$3:C1697),C$3:C1697),D1696)","v":136},"136(960)-550",null,null,null,"550",960,315,8574.5054208811598,9243.2930016811588,9325.9521408811597,9995.679030081159,11516.419329681159,12125.091172881161]
[null,null,0,{"$f":"IF(C1698<>0,LOOKUP(,-CODE(C$3:C1698),C$3:C1698),D1697)","v":136},"136(960)-600",null,null,null,"600",960,315,9169.3059182724628,9899.2258190724642,9989.4406382724628,10720.385707472464,12380.133347072464,13044.442470272465]
[null,null,0,{"$f":"IF(C1699<>0,LOOKUP(,-CODE(C$3:C1699),C$3:C1699),D1698)","v":136},"136(960)-650",null,null,null,"650",960,315,9764.1064156637676,10555.158636463768,10652.929135663768,11445.092384863767,13243.847364463765,13963.793767663767]
[null,null,0,{"$f":"IF(C1700<>0,LOOKUP(,-CODE(C$3:C1700),C$3:C1700),D1699)","v":136},"136(960)-700",null,null,null,"700",960,315,10358.906913055072,11211.091453855073,11316.417633055073,12169.799062255073,14107.561381855074,14883.145065055072]
[null,null,0,{"$f":"IF(C1701<>0,LOOKUP(,-CODE(C$3:C1701),C$3:C1701),D1700)","v":136},"136(960)-750",null,null,null,"750",960,315,10953.707410446377,11867.024271246379,11979.906130446378,12894.505739646378,14971.275399246379,15802.496362446378]
[null,null,0,{"$f":"IF(C1702<>0,LOOKUP(,-CODE(C$3:C1702),C$3:C1702),D1701)","v":136},"136(960)-800",null,null,null,"800",960,315,11548.50790783768,12522.95708863768,12643.394627837679,13619.212417037679,15834.98941663768,16721.84765983768]
[null,null,0,{"$f":"IF(C1703<>0,LOOKUP(,-CODE(C$3:C1703),C$3:C1703),D1702)","v":136},"136(960)-850",null,null,null,"850",960,315,12143.308405228985,13178.889906028986,13306.883125228986,14343.919094428986,16698.703434028987,17641.198957228989]
[null,null,0,{"$f":"IF(C1704<>0,LOOKUP(,-CODE(C$3:C1704),C$3:C1704),D1703)","v":136},"136(960)-900",null,null,null,"900",960,315,12738.10890262029,13834.82272342029,13970.371622620291,15068.625771820291,17562.41745142029,18560.550254620292]
[null,"138",137,{"$f":"IF(C1705<>0,LOOKUP(,-CODE(C$3:C1705),C$3:C1705),D1704)","v":137},"137(600)-500","Шкаф настенный двухдверный, открывание вверх,Aventos BLUM HF, полка ЛДСП",null,null,"500",600,315,9822.9693640057958,10201.320752805797,10248.083284005796,10626.966065205797,11487.290360805797,11831.632636005797]
[null,null,0,{"$f":"IF(C1706<>0,LOOKUP(,-CODE(C$3:C1706),C$3:C1706),D1705)","v":137},"137(600)-550",null,null,null,"550",600,315,10207.073948353622,10623.488857153621,10674.955868353623,11091.955629553622,12038.831665153622,12417.816020353621]
[null,null,0,{"$f":"IF(C1707<>0,LOOKUP(,-CODE(C$3:C1707),C$3:C1707),D1706)","v":137},"137(600)-600",null,null,null,"600",600,315,10591.17853270145,11045.656961501449,11101.828452701449,11556.945193901449,12590.372969501448,13003.999404701448]
[null,null,0,{"$f":"IF(C1708<>0,LOOKUP(,-CODE(C$3:C1708),C$3:C1708),D1707)","v":137},"137(600)-650",null,null,null,"650",600,315,10975.283117049275,11467.825065849276,11528.701037049275,12021.934758249276,13141.914273849276,13590.182789049275]
[null,null,0,{"$f":"IF(C1709<>0,LOOKUP(,-CODE(C$3:C1709),C$3:C1709),D1708)","v":137},"137(600)-700",null,null,null,"700",600,315,11359.387701397101,11889.9931701971,11955.573621397101,12486.9243225971,13693.455578197101,14176.366173397102]
[null,null,0,{"$f":"IF(C1710<>0,LOOKUP(,-CODE(C$3:C1710),C$3:C1710),D1709)","v":137},"137(600)-750",null,null,null,"750",600,315,11743.492285744927,12312.161274544927,12382.446205744927,12951.913886944927,14244.996882544927,14762.549557744926]
[null,null,0,{"$f":"IF(C1711<>0,LOOKUP(,-CODE(C$3:C1711),C$3:C1711),D1710)","v":137},"137(600)-800",null,null,null,"800",600,315,12127.596870092753,12734.329378892755,12809.318790092753,13416.903451292754,14796.538186892754,15348.732942092753]
[null,null,0,{"$f":"IF(C1712<>0,LOOKUP(,-CODE(C$3:C1712),C$3:C1712),D1711)","v":137},"137(600)-850",null,null,null,"850",600,315,12511.701454440579,13156.497483240579,13236.191374440579,13881.89301564058,15348.07949124058,15934.91632644058]
[null,null,0,{"$f":"IF(C1713<>0,LOOKUP(,-CODE(C$3:C1713),C$3:C1713),D1712)","v":137},"137(600)-900",null,null,null,"900",600,315,12895.806038788407,13578.665587588406,13663.063958788407,14346.882579988407,15899.620795588406,16521.099710788407]
[null,null,0,{"$f":"IF(C1714<>0,LOOKUP(,-CODE(C$3:C1714),C$3:C1714),D1713)","v":137},"137(720)-500",null,null,null,"500",720,315,10900.033213744928,11354.819226544927,11411.028733744926,11866.453490944928,12900.580674544928,13314.487045744929]
[null,null,0,{"$f":"IF(C1715<>0,LOOKUP(,-CODE(C$3:C1715),C$3:C1715),D1714)","v":137},"137(720)-550",null,null,null,"550",720,315,11354.18310244058,11854.722235240579,11916.58662244058,12417.828759640579,13555.992883240579,14011.539734440579]
[null,null,0,{"$f":"IF(C1716<>0,LOOKUP(,-CODE(C$3:C1716),C$3:C1716),D1715)","v":137},"137(720)-600",null,null,null,"600",720,315,11808.332991136231,12354.625243936232,12422.144511136232,12969.204028336233,14211.405091936233,14708.592423136231]
[null,null,0,{"$f":"IF(C1717<>0,LOOKUP(,-CODE(C$3:C1717),C$3:C1717),D1716)","v":137},"137(720)-650",null,null,null,"650",720,315,12262.482879831885,12854.528252631884,12927.702399831884,13520.579297031883,14866.817300631883,15405.645111831884]
[null,null,0,{"$f":"IF(C1718<>0,LOOKUP(,-CODE(C$3:C1718),C$3:C1718),D1717)","v":137},"137(720)-700",null,null,null,"700",720,315,12716.632768527536,13354.431261327536,13433.260288527536,14071.954565727534,15522.229509327535,16102.697800527538]
[null,null,0,{"$f":"IF(C1719<>0,LOOKUP(,-CODE(C$3:C1719),C$3:C1719),D1718)","v":137},"137(720)-750",null,null,null,"750",720,315,13170.782657223188,13854.334270023188,13938.818177223187,14623.329834423188,16177.641718023187,16799.750489223188]
[null,null,0,{"$f":"IF(C1720<>0,LOOKUP(,-CODE(C$3:C1720),C$3:C1720),D1719)","v":137},"137(720)-800",null,null,null,"800",720,315,13849.93254591884,14579.23727871884,14669.376065918841,15399.705103118838,17058.05392671884,17721.803177918839]
[null,null,0,{"$f":"IF(C1721<>0,LOOKUP(,-CODE(C$3:C1721),C$3:C1721),D1720)","v":137},"137(720)-850",null,null,null,"850",720,315,14304.082434614493,15079.140287414491,15174.933954614493,15951.080371814493,17713.466135414492,18418.855866614493]
[null,null,0,{"$f":"IF(C1722<>0,LOOKUP(,-CODE(C$3:C1722),C$3:C1722),D1721)","v":137},"137(720)-900",null,null,null,"900",720,315,14758.232323310145,15579.043296110143,15680.491843310145,16502.455640510147,18368.878344110144,19115.908555310147]
[null,null,0,{"$f":"IF(C1723<>0,LOOKUP(,-CODE(C$3:C1723),C$3:C1723),D1722)","v":137},"137(800)-500",null,null,null,"500",800,315,11793.647435037681,12299.389863837681,12361.897355037681,12868.350096237682,14018.345871837682,14478.628307037681]
[null,null,0,{"$f":"IF(C1724<>0,LOOKUP(,-CODE(C$3:C1724),C$3:C1724),D1723)","v":137},"137(800)-550",null,null,null,"550",800,315,12306.298686631882,12862.920635431883,12931.716606631884,13489.120327831883,14754.809843431884,15261.398358631883]
[null,null,0,{"$f":"IF(C1725<>0,LOOKUP(,-CODE(C$3:C1725),C$3:C1725),D1724)","v":137},"137(800)-600",null,null,null,"600",800,315,13043.949938226087,13651.451407026085,13726.535858226085,14334.890559426087,15716.273815026085,16269.168410226084]
[null,null,0,{"$f":"IF(C1726<>0,LOOKUP(,-CODE(C$3:C1726),C$3:C1726),D1725)","v":137},"137(800)-650",null,null,null,"650",800,315,13556.601189820291,14214.982178620288,14296.355109820292,14955.660791020291,16452.737786620288,17051.938461820289]
[null,null,0,{"$f":"IF(C1727<>0,LOOKUP(,-CODE(C$3:C1727),C$3:C1727),D1726)","v":137},"137(800)-700",null,null,null,"700",800,315,14069.252441414492,14778.512950214492,14866.174361414491,15576.431022614492,17189.201758214491,17834.708513414491]
[null,null,0,{"$f":"IF(C1728<>0,LOOKUP(,-CODE(C$3:C1728),C$3:C1728),D1727)","v":137},"137(800)-750",null,null,null,"750",800,315,14581.903693008695,15342.043721808695,15435.993613008695,16197.201254208696,17925.665729808694,18617.478565008696]
[null,null,0,{"$f":"IF(C1729<>0,LOOKUP(,-CODE(C$3:C1729),C$3:C1729),D1728)","v":137},"137(800)-800",null,null,null,"800",800,315,15094.554944602898,15905.574493402899,16005.8128646029,16817.9714858029,18662.129701402901,19400.248616602898]
[null,null,0,{"$f":"IF(C1730<>0,LOOKUP(,-CODE(C$3:C1730),C$3:C1730),D1729)","v":137},"137(800)-850",null,null,null,"850",800,315,15607.206196197101,16469.105264997102,16575.632116197099,17438.741717397101,19398.5936729971,20183.018668197103]
[null,null,0,{"$f":"IF(C1731<>0,LOOKUP(,-CODE(C$3:C1731),C$3:C1731),D1730)","v":137},"137(800)-900",null,null,null,"900",800,315,16119.857447791306,17032.636036591306,17145.451367791306,18059.511948991305,20135.057644591307,20965.788719791304]
[null,null,0,{"$f":"IF(C1732<>0,LOOKUP(,-CODE(C$3:C1732),C$3:C1732),D1731)","v":137},"137(920)-500",null,null,null,"500",920,315,12776.211284776811,13358.388337576813,13430.34280477681,14013.337521976811,15337.136185576812,15866.982716776813]
[null,null,0,{"$f":"IF(C1733<>0,LOOKUP(,-CODE(C$3:C1733),C$3:C1733),D1732)","v":137},"137(920)-550",null,null,null,"550",920,315,13358.907840718839,13999.654013518841,14078.847360718841,14720.493457918841,16177.471061518841,16760.622072718841]
[null,null,0,{"$f":"IF(C1734<>0,LOOKUP(,-CODE(C$3:C1734),C$3:C1734),D1733)","v":137},"137(920)-600",null,null,null,"600",920,315,13941.604396660869,14640.919689460869,14727.351916660868,15427.649393860869,17017.805937460867,17654.26142866087]
[null,null,0,{"$f":"IF(C1735<>0,LOOKUP(,-CODE(C$3:C1735),C$3:C1735),D1734)","v":137},"137(920)-650",null,null,null,"650",920,315,14524.300952602898,15282.1853654029,15375.8564726029,16134.805329802899,17858.140813402897,18547.900784602898]
[null,null,0,{"$f":"IF(C1736<>0,LOOKUP(,-CODE(C$3:C1736),C$3:C1736),D1735)","v":137},"137(920)-700",null,null,null,"700",920,315,15106.997508544928,15923.451041344928,16024.361028544927,16841.961265744925,18698.475689344927,19441.54014054493]
[null,null,0,{"$f":"IF(C1737<>0,LOOKUP(,-CODE(C$3:C1737),C$3:C1737),D1736)","v":137},"137(920)-750",null,null,null,"750",920,315,15689.694064486957,16564.716717286956,16672.865584486957,17549.117201686957,19538.810565286956,20335.179496486959]
[null,null,0,{"$f":"IF(C1738<>0,LOOKUP(,-CODE(C$3:C1738),C$3:C1738),D1737)","v":137},"137(920)-800",null,null,null,"800",920,315,16587.390620428989,17520.982393228987,17636.370140428986,18571.273137628988,20694.145441228986,21543.818852428987]
[null,null,0,{"$f":"IF(C1739<>0,LOOKUP(,-CODE(C$3:C1739),C$3:C1739),D1738)","v":137},"137(920)-850",null,null,null,"850",920,315,17170.087176371017,18162.248069171015,18284.874696371015,19278.429073571016,21534.480317171015,22437.458208371016]
[null,null,0,{"$f":"IF(C1740<>0,LOOKUP(,-CODE(C$3:C1740),C$3:C1740),D1739)","v":137},"137(920)-900",null,null,null,"900",920,315,17752.783732313044,18803.513745113043,18933.379252313047,19985.585009513044,22374.815193113045,23331.097564313044]
[null,null,0,{"$f":"IF(C1741<>0,LOOKUP(,-CODE(C$3:C1741),C$3:C1741),D1740)","v":137},"137(960)-500",null,null,null,"500",960,315,12803.732568023188,13411.387828823188,13486.49128802319,14094.999997223189,15476.732956823189,16029.76752002319]
[null,null,0,{"$f":"IF(C1742<>0,LOOKUP(,-CODE(C$3:C1742),C$3:C1742),D1741)","v":137},"137(960)-550",null,null,null,"550",960,315,13949.777558747826,14618.565139547827,14701.224278747826,15370.951167947827,16891.691467547826,17500.363310747827]
[null,null,0,{"$f":"IF(C1743<>0,LOOKUP(,-CODE(C$3:C1743),C$3:C1743),D1742)","v":137},"137(960)-600",null,null,null,"600",960,315,14555.822549472463,15285.742450272464,15375.957269472463,16106.902338672462,17766.649978272464,18430.959101472465]
[null,null,0,{"$f":"IF(C1744<>0,LOOKUP(,-CODE(C$3:C1744),C$3:C1744),D1743)","v":137},"137(960)-650",null,null,null,"650",960,315,15161.867540197101,15952.919760997102,16050.690260197101,16842.8535093971,18641.608488997099,19361.554892197099]
[null,null,0,{"$f":"IF(C1745<>0,LOOKUP(,-CODE(C$3:C1745),C$3:C1745),D1744)","v":137},"137(960)-700",null,null,null,"700",960,315,15767.912530921738,16620.097071721739,16725.42325092174,17578.804680121739,19516.566999721741,20292.15068292174]
[null,null,0,{"$f":"IF(C1746<>0,LOOKUP(,-CODE(C$3:C1746),C$3:C1746),D1745)","v":137},"137(960)-750",null,null,null,"750",960,315,16373.957521646376,17287.274382446376,17400.156241646378,18314.755850846377,20391.525510446379,21222.746473646377]
[null,null,0,{"$f":"IF(C1747<>0,LOOKUP(,-CODE(C$3:C1747),C$3:C1747),D1746)","v":137},"137(960)-800",null,null,null,"800",960,315,16980.002512371015,17954.451693171017,18074.889232371013,19050.707021571012,21266.484021171014,22153.342264371015]
[null,null,0,{"$f":"IF(C1748<>0,LOOKUP(,-CODE(C$3:C1748),C$3:C1748),D1747)","v":137},"137(960)-850",null,null,null,"850",960,315,17586.047503095651,18621.629003895654,18749.622223095655,19786.658192295654,22141.442531895656,23083.938055095656]
[null,null,0,{"$f":"IF(C1749<>0,LOOKUP(,-CODE(C$3:C1749),C$3:C1749),D1748)","v":137},"137(960)-900",null,null,null,"900",960,315,18192.092493820288,19288.806314620291,19424.35521382029,20522.609363020289,23016.401042620291,24014.53384582029]
[null,"139",138,{"$f":"IF(C1750<>0,LOOKUP(,-CODE(C$3:C1750),C$3:C1750),D1749)","v":138},"138(600)-500","Шкафнастенныйдвухдверный со стеклом, открывание вверх, газ-лифт",null,null,"500",600,315,5611.3361622724633,5990.2189434724642,5991.2817282724636,6370.1645094724636,7094.4523506724636,7438.7946258724642]
[null,null,0,{"$f":"IF(C1751<>0,LOOKUP(,-CODE(C$3:C1751),C$3:C1751),D1750)","v":138},"138(600)-550",null,null,null,"550",600,315,5991.7209466202903,6408.7207078202891,6409.8904126202897,6826.8901738202894,7624.0439950202899,8003.0283502202892]
[null,null,0,{"$f":"IF(C1752<>0,LOOKUP(,-CODE(C$3:C1752),C$3:C1752),D1751)","v":138},"138(600)-600",null,null,null,"600",600,315,6372.1057309681164,6827.2224721681159,6828.4990969681148,7283.6158381681162,8153.6356393681162,8567.2620745681161]
[null,null,0,{"$f":"IF(C1753<>0,LOOKUP(,-CODE(C$3:C1753),C$3:C1753),D1752)","v":138},"138(600)-650",null,null,null,"650",600,315,6752.4905153159425,7245.7242365159418,7247.1077813159427,7740.341502515942,8683.2272837159398,9131.4957989159411]
[null,null,0,{"$f":"IF(C1754<>0,LOOKUP(,-CODE(C$3:C1754),C$3:C1754),D1753)","v":138},"138(600)-700",null,null,null,"700",600,315,7132.8752996637686,7664.2260008637677,7665.7164656637688,8197.0671668637679,9212.8189280637689,9695.729523263768]
[null,null,0,{"$f":"IF(C1755<>0,LOOKUP(,-CODE(C$3:C1755),C$3:C1755),D1754)","v":138},"138(600)-750",null,null,null,"750",600,315,7513.2600840115938,8082.7277652115936,8084.325150011593,8653.7928312115946,9742.4105724115943,10259.963247611593]
[null,null,0,{"$f":"IF(C1756<>0,LOOKUP(,-CODE(C$3:C1756),C$3:C1756),D1755)","v":138},"138(600)-800",null,null,null,"800",600,315,7893.6448683594199,8501.2295295594213,8502.9338343594209,9110.5184955594195,10272.002216759422,10824.19697195942]
[null,null,0,{"$f":"IF(C1757<>0,LOOKUP(,-CODE(C$3:C1757),C$3:C1757),D1756)","v":138},"138(600)-850",null,null,null,"850",600,315,8274.029652707246,8919.7312939072453,8921.5425187072451,9567.2441599072463,10801.593861107247,11388.430696307245]
[null,null,0,{"$f":"IF(C1758<>0,LOOKUP(,-CODE(C$3:C1758),C$3:C1758),D1757)","v":138},"138(600)-900",null,null,null,"900",600,315,8654.4144370550712,9338.2330582550712,9340.1512030550712,10023.969824255073,11331.185505455072,11952.664420655074]
[null,null,0,{"$f":"IF(C1759<>0,LOOKUP(,-CODE(C$3:C1759),C$3:C1759),D1758)","v":138},"138(720)-500",null,null,null,"500",720,315,6371.8282520115945,6827.2530092115949,6828.5304980115943,7283.9552552115947,8154.5638724115943,8568.4702436115931]
[null,null,0,{"$f":"IF(C1760<>0,LOOKUP(,-CODE(C$3:C1760),C$3:C1760),D1759)","v":138},"138(720)-550",null,null,null,"550",720,315,6824.2743407072467,7325.5164779072466,7326.9224867072471,7828.164623907247,8786.3596211072454,9241.9064723072461]
[null,null,0,{"$f":"IF(C1761<>0,LOOKUP(,-CODE(C$3:C1761),C$3:C1761),D1760)","v":138},"138(720)-600",null,null,null,"600",720,315,7276.7204294028998,7823.7799466028991,7825.3144754028981,8372.3739926028993,9418.1553698028983,9915.342701002899]
[null,null,0,{"$f":"IF(C1762<>0,LOOKUP(,-CODE(C$3:C1762),C$3:C1762),D1761)","v":138},"138(720)-650",null,null,null,"650",720,315,7729.166518098551,8322.0434152985508,8323.70646409855,8916.5833612985498,10049.951118498549,10588.77892969855]
[null,null,0,{"$f":"IF(C1763<>0,LOOKUP(,-CODE(C$3:C1763),C$3:C1763),D1762)","v":138},"138(720)-700",null,null,null,"700",720,315,8181.6126067942023,8820.3068839942025,8822.0984527942019,9460.7927299942021,10681.746867194202,11262.215158394203]
[null,null,0,{"$f":"IF(C1764<>0,LOOKUP(,-CODE(C$3:C1764),C$3:C1764),D1763)","v":138},"138(720)-750",null,null,null,"750",720,315,8634.0586954898554,9318.5703526898542,9320.4904414898556,10005.002098689856,11313.542615889855,11935.651387089856]
[null,null,0,{"$f":"IF(C1765<>0,LOOKUP(,-CODE(C$3:C1765),C$3:C1765),D1764)","v":138},"138(720)-800",null,null,null,"800",720,315,9086.5047841855067,9816.8338213855077,9818.8824301855075,10549.211467385507,11945.338364585506,12609.087615785505]
[null,null,0,{"$f":"IF(C1766<>0,LOOKUP(,-CODE(C$3:C1766),C$3:C1766),D1765)","v":138},"138(720)-850",null,null,null,"850",720,315,9538.9508728811597,10315.097290081161,10317.274418881159,11093.420836081161,12577.134113281159,13282.52384448116]
[null,null,0,{"$f":"IF(C1767<>0,LOOKUP(,-CODE(C$3:C1767),C$3:C1767),D1766)","v":138},"138(720)-900",null,null,null,"900",720,315,9991.3969615768128,10813.360758776811,10815.666407576811,11637.630204776813,13208.929861976811,13955.960073176813]
[null,null,0,{"$f":"IF(C1768<>0,LOOKUP(,-CODE(C$3:C1768),C$3:C1768),D1767)","v":138},"138(800)-500",null,null,null,"500",800,315,6878.8229785043477,7385.2757197043484,7386.6963445043493,7893.1490857043482,8861.3048869043487,9321.5873221043494]
[null,null,0,{"$f":"IF(C1769<>0,LOOKUP(,-CODE(C$3:C1769),C$3:C1769),D1768)","v":138},"138(800)-550",null,null,null,"550",800,315,7379.3099367652176,7936.713657965217,7938.2772027652172,8495.6809239652175,9561.2367051652163,10067.825220365216]
[null,null,0,{"$f":"IF(C1770<>0,LOOKUP(,-CODE(C$3:C1770),C$3:C1770),D1769)","v":138},"138(800)-600",null,null,null,"600",800,315,7879.7968950260874,8488.1515962260873,8489.8580610260869,9098.2127622260869,10261.168523426088,10814.063118626087]
[null,null,0,{"$f":"IF(C1771<>0,LOOKUP(,-CODE(C$3:C1771),C$3:C1771),D1770)","v":138},"138(800)-650",null,null,null,"650",800,315,8380.2838532869573,9039.5895344869587,9041.4389192869567,9700.744600486958,10961.100341686957,11560.301016886959]
[null,null,0,{"$f":"IF(C1772<>0,LOOKUP(,-CODE(C$3:C1772),C$3:C1772),D1771)","v":138},"138(800)-700",null,null,null,"700",800,315,8880.7708115478254,9591.0274727478245,9593.0197775478264,10303.276438747826,11661.032159947825,12306.538915147825]
[null,null,0,{"$f":"IF(C1773<>0,LOOKUP(,-CODE(C$3:C1773),C$3:C1773),D1772)","v":138},"138(800)-750",null,null,null,"750",800,315,9381.2577698086952,10142.465411008698,10144.600635808698,10905.808277008697,12360.963978208698,13052.776813408696]
[null,null,0,{"$f":"IF(C1774<>0,LOOKUP(,-CODE(C$3:C1774),C$3:C1774),D1773)","v":138},"138(800)-800",null,null,null,"800",800,315,9881.7447280695633,10693.903349269563,10696.181494069564,11508.340115269564,13060.895796469566,13799.014711669564]
[null,null,0,{"$f":"IF(C1775<>0,LOOKUP(,-CODE(C$3:C1775),C$3:C1775),D1774)","v":138},"138(800)-850",null,null,null,"850",800,315,10382.231686330433,11245.341287530435,11247.762352330434,12110.871953530434,13760.827614730435,14545.252609930434]
[null,null,0,{"$f":"IF(C1776<>0,LOOKUP(,-CODE(C$3:C1776),C$3:C1776),D1775)","v":138},"138(800)-900",null,null,null,"900",800,315,10882.718644591307,11796.779225791306,11799.343210591305,12713.403791791307,14460.759432991304,15291.490508191306]
[null,null,0,{"$f":"IF(C1777<>0,LOOKUP(,-CODE(C$3:C1777),C$3:C1777),D1776)","v":138},"138(920)-500",null,null,null,"500",920,315,7639.3150682434771,8222.3097854434782,8223.9451142434791,8806.9398314434784,9921.4164086434794,10451.262939843478]
[null,null,0,{"$f":"IF(C1778<>0,LOOKUP(,-CODE(C$3:C1778),C$3:C1778),D1777)","v":138},"138(920)-550",null,null,null,"550",920,315,8211.8633308521748,8853.5094280521735,8855.3092768521747,9496.9553740521733,10723.552331252173,11306.703342452176]
[null,null,0,{"$f":"IF(C1779<>0,LOOKUP(,-CODE(C$3:C1779),C$3:C1779),D1778)","v":138},"138(920)-600",null,null,null,"600",920,315,8784.411593460869,9484.7090706608687,9486.6734394608702,10186.97091666087,11525.68825386087,12162.14374506087]
[null,null,0,{"$f":"IF(C1780<>0,LOOKUP(,-CODE(C$3:C1780),C$3:C1780),D1779)","v":138},"138(920)-650",null,null,null,"650",920,315,9356.9598560695649,10115.908713269566,10118.037602069566,10876.986459269565,12327.824176469567,13017.584147669566]
[null,null,0,{"$f":"IF(C1781<>0,LOOKUP(,-CODE(C$3:C1781),C$3:C1781),D1780)","v":138},"138(920)-700",null,null,null,"700",920,315,9929.5081186782609,10747.108355878261,10749.401764678259,11567.002001878262,13129.96009907826,13873.02455027826]
[null,null,0,{"$f":"IF(C1782<>0,LOOKUP(,-CODE(C$3:C1782),C$3:C1782),D1781)","v":138},"138(920)-750",null,null,null,"750",920,315,10502.056381286957,11378.307998486958,11380.765927286957,12257.017544486958,13932.096021686957,14728.464952886958]
[null,null,0,{"$f":"IF(C1783<>0,LOOKUP(,-CODE(C$3:C1783),C$3:C1783),D1782)","v":138},"138(920)-800",null,null,null,"800",920,315,11074.604643895653,12009.507641095654,12012.130089895654,12947.033087095653,14734.231944295654,15583.905355495655]
[null,null,0,{"$f":"IF(C1784<>0,LOOKUP(,-CODE(C$3:C1784),C$3:C1784),D1783)","v":138},"138(920)-850",null,null,null,"850",920,315,11647.152906504349,12640.707283704347,12643.49425250435,13637.048629704348,15536.367866904349,16439.345758104348]
[null,null,0,{"$f":"IF(C1785<>0,LOOKUP(,-CODE(C$3:C1785),C$3:C1785),D1784)","v":138},"138(920)-900",null,null,null,"900",920,315,12219.701169113043,13271.906926313042,13274.858415113042,14327.064172313043,16338.503789513043,17294.786160713044]
[null,null,0,{"$f":"IF(C1786<>0,LOOKUP(,-CODE(C$3:C1786),C$3:C1786),D1785)","v":138},"138(960)-500",null,null,null,"500",960,315,7892.812431489855,8501.3211406898554,8503.0280374898557,9111.536746689857,10274.786915889856,10827.821479089856]
[null,null,0,{"$f":"IF(C1787<>0,LOOKUP(,-CODE(C$3:C1787),C$3:C1787),D1786)","v":138},"138(960)-550",null,null,null,"550",960,315,8489.3811288811612,9159.1080180811605,9160.9866348811611,9830.7135240811604,11110.99087328116,11719.662716481162]
[null,null,0,{"$f":"IF(C1788<>0,LOOKUP(,-CODE(C$3:C1788),C$3:C1788),D1787)","v":138},"138(960)-600",null,null,null,"600",960,315,9085.9498262724646,9816.8948954724656,9818.9452322724646,10549.890301472464,11947.194830672464,12611.503953872465]
[null,null,0,{"$f":"IF(C1789<>0,LOOKUP(,-CODE(C$3:C1789),C$3:C1789),D1788)","v":138},"138(960)-650",null,null,null,"650",960,315,9682.5185236637681,10474.681772863767,10476.903829663768,11269.067078863769,12783.398788063771,13503.345191263767]
[null,null,0,{"$f":"IF(C1790<>0,LOOKUP(,-CODE(C$3:C1790),C$3:C1790),D1789)","v":138},"138(960)-700",null,null,null,"700",960,315,10279.087221055073,11132.468650255074,11134.862427055074,11988.243856255074,13619.602745455073,14395.186428655075]
[null,null,0,{"$f":"IF(C1791<>0,LOOKUP(,-CODE(C$3:C1791),C$3:C1791),D1790)","v":138},"138(960)-750",null,null,null,"750",960,315,10875.655918446377,11790.255527646375,11792.821024446377,12707.420633646376,14455.806702846377,15287.027666046375]
[null,null,0,{"$f":"IF(C1792<>0,LOOKUP(,-CODE(C$3:C1792),C$3:C1792),D1791)","v":138},"138(960)-800",null,null,null,"800",960,315,11472.224615837678,12448.042405037681,12450.779621837681,13426.597411037679,15292.010660237678,16178.868903437678]
[null,null,0,{"$f":"IF(C1793<>0,LOOKUP(,-CODE(C$3:C1793),C$3:C1793),D1792)","v":138},"138(960)-850",null,null,null,"850",960,315,12068.793313228985,13105.829282428986,13108.738219228986,14145.774188428984,16128.214617628984,17070.710140828985]
[null,null,0,{"$f":"IF(C1794<>0,LOOKUP(,-CODE(C$3:C1794),C$3:C1794),D1793)","v":138},"138(960)-900",null,null,null,"900",960,315,12665.362010620289,13763.616159820291,13766.696816620288,14864.95096582029,16964.418575020292,17962.551378220291]
[null,"140",139,{"$f":"IF(C1795<>0,LOOKUP(,-CODE(C$3:C1795),C$3:C1795),D1794)","v":139},"139(600)-500","Шкаф настенный двухдверный со стеклом, открывание вверх,Aventos BLUM HF, полка ЛДСП",null,null,"500",600,315,9763.6079020057969,10142.490683205797,10143.553468005797,10522.436249205797,11246.724090405796,11591.066365605797]
[null,null,0,{"$f":"IF(C1796<>0,LOOKUP(,-CODE(C$3:C1796),C$3:C1796),D1795)","v":139},"139(600)-550",null,null,null,"550",600,315,10107.116936353623,10524.116697553623,10525.286402353624,10942.286163553623,11739.439984753622,12118.424339953623]
[null,null,0,{"$f":"IF(C1797<>0,LOOKUP(,-CODE(C$3:C1797),C$3:C1797),D1796)","v":139},"139(600)-600",null,null,null,"600",600,315,10486.941720701449,10942.05846190145,10943.335086701449,11398.451827901448,12268.471629101448,12682.098064301448]
[null,null,0,{"$f":"IF(C1798<>0,LOOKUP(,-CODE(C$3:C1798),C$3:C1798),D1797)","v":139},"139(600)-650",null,null,null,"650",600,315,10866.766505049276,11360.000226249274,11361.383771049275,11854.617492249276,12797.503273449274,13245.771788649276]
[null,null,0,{"$f":"IF(C1799<>0,LOOKUP(,-CODE(C$3:C1799),C$3:C1799),D1798)","v":139},"139(600)-700",null,null,null,"700",600,315,11246.591289397102,11777.941990597101,11779.4324553971,12310.783156597101,13326.534917797102,13809.445512997101]
[null,null,0,{"$f":"IF(C1800<>0,LOOKUP(,-CODE(C$3:C1800),C$3:C1800),D1799)","v":139},"139(600)-750",null,null,null,"750",600,315,11626.416073744926,12195.883754944927,12197.481139744927,12766.948820944928,13855.566562144928,14373.119237344927]
[null,null,0,{"$f":"IF(C1801<>0,LOOKUP(,-CODE(C$3:C1801),C$3:C1801),D1800)","v":139},"139(600)-800",null,null,null,"800",600,315,12006.240858092755,12613.825519292754,12615.529824092755,13223.114485292754,14384.598206492756,14936.792961692754]
[null,null,0,{"$f":"IF(C1802<>0,LOOKUP(,-CODE(C$3:C1802),C$3:C1802),D1801)","v":139},"139(600)-850",null,null,null,"850",600,315,12386.065642440579,13031.76728364058,13033.57850844058,13679.280149640579,14913.62985084058,15500.466686040578]
[null,null,0,{"$f":"IF(C1803<>0,LOOKUP(,-CODE(C$3:C1803),C$3:C1803),D1802)","v":139},"139(600)-900",null,null,null,"900",600,315,12765.890426788405,13449.709047988405,13451.627192788404,14135.445813988405,15442.661495188404,16064.140410388405]
[null,null,0,{"$f":"IF(C1804<>0,LOOKUP(,-CODE(C$3:C1804),C$3:C1804),D1803)","v":139},"139(720)-500",null,null,null,"500",720,315,10807.284241744926,11262.708998944929,11263.986487744927,11719.411244944928,12590.019862144927,13003.926233344928]
[null,null,0,{"$f":"IF(C1805<>0,LOOKUP(,-CODE(C$3:C1805),C$3:C1805),D1804)","v":139},"139(720)-550",null,null,null,"550",720,315,11259.17033044058,11760.412467640579,11761.81847644058,12263.060613640579,13221.255610840579,13676.802462040579]
[null,null,0,{"$f":"IF(C1806<>0,LOOKUP(,-CODE(C$3:C1806),C$3:C1806),D1805)","v":139},"139(720)-600",null,null,null,"600",720,315,11711.056419136234,12258.115936336233,12259.650465136232,12806.709982336231,13852.491359536232,14349.678690736231]
[null,null,0,{"$f":"IF(C1807<>0,LOOKUP(,-CODE(C$3:C1807),C$3:C1807),D1806)","v":139},"139(720)-650",null,null,null,"650",720,315,12162.942507831884,12755.819405031883,12757.482453831884,13350.359351031884,14483.727108231882,15022.554919431883]
[null,null,0,{"$f":"IF(C1808<>0,LOOKUP(,-CODE(C$3:C1808),C$3:C1808),D1807)","v":139},"139(720)-700",null,null,null,"700",720,315,12614.828596527535,13253.522873727536,13255.314442527535,13894.008719727535,15114.962856927536,15695.431148127536]
[null,null,0,{"$f":"IF(C1809<>0,LOOKUP(,-CODE(C$3:C1809),C$3:C1809),D1808)","v":139},"139(720)-750",null,null,null,"750",720,315,13066.714685223189,13751.226342423188,13753.146431223189,14437.65808842319,15746.198605623189,16368.30737682319]
[null,null,0,{"$f":"IF(C1810<>0,LOOKUP(,-CODE(C$3:C1810),C$3:C1810),D1809)","v":139},"139(720)-800",null,null,null,"800",720,315,13743.600773918841,14473.929811118842,14475.978419918842,15206.307457118839,16602.434354318841,17266.183605518836]
[null,null,0,{"$f":"IF(C1811<>0,LOOKUP(,-CODE(C$3:C1811),C$3:C1811),D1810)","v":139},"139(720)-850",null,null,null,"850",720,315,14195.486862614493,14971.633279814492,14973.810408614492,15749.956825814492,17233.67010301449,17939.059834214491]
[null,null,0,{"$f":"IF(C1812<>0,LOOKUP(,-CODE(C$3:C1812),C$3:C1812),D1811)","v":139},"139(720)-900",null,null,null,"900",720,315,14647.372951310144,15469.336748510144,15471.642397310145,16293.606194510145,17864.90585171014,18611.936062910143]
[null,null,0,{"$f":"IF(C1813<>0,LOOKUP(,-CODE(C$3:C1813),C$3:C1813),D1812)","v":139},"139(800)-500",null,null,null,"500",800,315,11702.850623037681,12209.303364237681,12210.723989037682,12717.176730237681,13685.33253143768,14145.614966637682]
[null,null,0,{"$f":"IF(C1814<>0,LOOKUP(,-CODE(C$3:C1814),C$3:C1814),D1813)","v":139},"139(800)-550",null,null,null,"550",800,315,12214.582074631884,12771.985795831883,12773.549340631884,13330.953061831884,14396.508843031883,14903.097358231884]
[null,null,0,{"$f":"IF(C1815<>0,LOOKUP(,-CODE(C$3:C1815),C$3:C1815),D1814)","v":139},"139(800)-600",null,null,null,"600",800,315,12951.313526226088,13559.668227426086,13561.374692226087,14169.729393426087,15332.685154626088,15885.579749826087]
[null,null,0,{"$f":"IF(C1816<>0,LOOKUP(,-CODE(C$3:C1816),C$3:C1816),D1815)","v":139},"139(800)-650",null,null,null,"650",800,315,13463.044977820289,14122.350659020291,14124.200043820289,14783.50572502029,16043.861466220289,16643.062141420291]
[null,null,0,{"$f":"IF(C1817<>0,LOOKUP(,-CODE(C$3:C1817),C$3:C1817),D1816)","v":139},"139(800)-700",null,null,null,"700",800,315,13974.776429414493,14685.03309061449,14687.025395414492,15397.282056614491,16755.037777814494,17400.544533014494]
[null,null,0,{"$f":"IF(C1818<>0,LOOKUP(,-CODE(C$3:C1818),C$3:C1818),D1817)","v":139},"139(800)-750",null,null,null,"750",800,315,14486.507881008696,15247.715522208697,15249.850747008697,16011.058388208696,17466.214089408695,18158.026924608697]
[null,null,0,{"$f":"IF(C1819<>0,LOOKUP(,-CODE(C$3:C1819),C$3:C1819),D1818)","v":139},"139(800)-800",null,null,null,"800",800,315,14998.239332602898,15810.397953802898,15812.676098602897,16624.834719802897,18177.3904010029,18915.509316202897]
[null,null,0,{"$f":"IF(C1820<>0,LOOKUP(,-CODE(C$3:C1820),C$3:C1820),D1819)","v":139},"139(800)-850",null,null,null,"850",800,315,15509.970784197099,16373.080385397101,16375.5014501971,17238.6110513971,18888.566712597101,19672.9917077971]
[null,null,0,{"$f":"IF(C1821<>0,LOOKUP(,-CODE(C$3:C1821),C$3:C1821),D1820)","v":139},"139(800)-900",null,null,null,"900",800,315,16021.702235791308,16935.762816991308,16938.326801791307,17852.38738299131,19599.743024191306,20430.474099391307]
[null,null,0,{"$f":"IF(C1822<>0,LOOKUP(,-CODE(C$3:C1822),C$3:C1822),D1821)","v":139},"139(920)-500",null,null,null,"500",920,315,12688.34271277681,13271.337429976811,13272.972758776812,13855.967475976811,14970.44405317681,15500.290584376811]
[null,null,0,{"$f":"IF(C1823<>0,LOOKUP(,-CODE(C$3:C1823),C$3:C1823),D1822)","v":139},"139(920)-550",null,null,null,"550",920,315,13272.13546871884,13913.781565918842,13915.581414718839,14557.22751191884,15783.824469118841,16366.975480318841]
[null,null,0,{"$f":"IF(C1824<>0,LOOKUP(,-CODE(C$3:C1824),C$3:C1824),D1823)","v":139},"139(920)-600",null,null,null,"600",920,315,13855.928224660869,14556.225701860869,14558.19007066087,15258.487547860868,16597.20488506087,17233.660376260872]
[null,null,0,{"$f":"IF(C1825<>0,LOOKUP(,-CODE(C$3:C1825),C$3:C1825),D1824)","v":139},"139(920)-650",null,null,null,"650",920,315,14439.720980602899,15198.6698378029,15200.798726602898,15959.747583802899,17410.585301002899,18100.3452722029]
[null,null,0,{"$f":"IF(C1826<>0,LOOKUP(,-CODE(C$3:C1826),C$3:C1826),D1825)","v":139},"139(920)-700",null,null,null,"700",920,315,15023.513736544928,15841.113973744928,15843.407382544927,16661.007619744931,18223.965716944931,18967.030168144931]
[null,null,0,{"$f":"IF(C1827<>0,LOOKUP(,-CODE(C$3:C1827),C$3:C1827),D1826)","v":139},"139(920)-750",null,null,null,"750",920,315,15607.306492486956,16483.558109686954,16486.016038486956,17362.267655686956,19037.346132886956,19833.715064086955]
[null,null,0,{"$f":"IF(C1828<>0,LOOKUP(,-CODE(C$3:C1828),C$3:C1828),D1827)","v":139},"139(920)-800",null,null,null,"800",920,315,16506.099248428985,17441.002245628988,17443.624694428989,18378.527691628988,20165.726548828989,21015.39996002899]
[null,null,0,{"$f":"IF(C1829<>0,LOOKUP(,-CODE(C$3:C1829),C$3:C1829),D1828)","v":139},"139(920)-850",null,null,null,"850",920,315,17089.892004371017,18083.446381571011,18086.233350371014,19079.787727571013,20979.106964771017,21882.084855971014]
[null,null,0,{"$f":"IF(C1830<>0,LOOKUP(,-CODE(C$3:C1830),C$3:C1830),D1829)","v":139},"139(920)-900",null,null,null,"900",920,315,17673.684760313045,18725.890517513046,18728.842006313043,19781.047763513045,21792.487380713046,22748.769751913042]
[null,null,0,{"$f":"IF(C1831<>0,LOOKUP(,-CODE(C$3:C1831),C$3:C1831),D1830)","v":139},"139(960)-500",null,null,null,"500",960,315,12716.840076023189,13325.348785223188,13327.055682023189,13935.56439122319,15098.814560423189,15651.849123623189]
[null,null,0,{"$f":"IF(C1832<>0,LOOKUP(,-CODE(C$3:C1832),C$3:C1832),D1831)","v":139},"139(960)-550",null,null,null,"550",960,315,13864.653266747826,14534.380155947825,14536.258772747826,15205.985661947825,16486.263011147825,17094.934854347826]
[null,null,0,{"$f":"IF(C1833<>0,LOOKUP(,-CODE(C$3:C1833),C$3:C1833),D1832)","v":139},"139(960)-600",null,null,null,"600",960,315,14472.466457472465,15203.411526672466,15205.461863472465,15936.406932672464,17333.711461872463,17998.020585072463]
[null,null,0,{"$f":"IF(C1834<>0,LOOKUP(,-CODE(C$3:C1834),C$3:C1834),D1833)","v":139},"139(960)-650",null,null,null,"650",960,315,15080.279648197104,15872.442897397103,15874.664954197104,16666.828203397101,18181.159912597101,18901.1063157971]
[null,null,0,{"$f":"IF(C1835<>0,LOOKUP(,-CODE(C$3:C1835),C$3:C1835),D1834)","v":139},"139(960)-700",null,null,null,"700",960,315,15688.092838921741,16541.474268121739,16543.868044921739,17397.249474121742,19028.608363321742,19804.192046521741]
[null,null,0,{"$f":"IF(C1836<>0,LOOKUP(,-CODE(C$3:C1836),C$3:C1836),D1835)","v":139},"139(960)-750",null,null,null,"750",960,315,16295.906029646378,17210.505638846378,17213.07113564638,18127.670744846379,19876.05681404638,20707.277777246378]
[null,null,0,{"$f":"IF(C1837<>0,LOOKUP(,-CODE(C$3:C1837),C$3:C1837),D1836)","v":139},"139(960)-800",null,null,null,"800",960,315,16903.719220371015,17879.537009571013,17882.274226371013,18858.092015571016,20723.505264771014,21610.363507971015]
[null,null,0,{"$f":"IF(C1838<>0,LOOKUP(,-CODE(C$3:C1838),C$3:C1838),D1837)","v":139},"139(960)-850",null,null,null,"850",960,315,17511.532411095654,18548.568380295652,18551.477317095654,19588.513286295653,21570.953715495652,22513.449238695652]
[null,null,0,{"$f":"IF(C1839<>0,LOOKUP(,-CODE(C$3:C1839),C$3:C1839),D1838)","v":139},"139(960)-900",null,null,null,"900",960,315,18119.345601820292,19217.599751020294,19220.680407820291,20318.934557020293,22418.402166220294,23416.534969420292]
[null,"141",140,{"$f":"IF(C1840<>0,LOOKUP(,-CODE(C$3:C1840),C$3:C1840),D1839)","v":140},"140(600)-500","Шкафнастенныйдвухдверный со стеклом вверху, открывание вверх, газ-лифт",null,null,"500",600,315,5659.1747682724636,6037.7918532724634,6061.7045112724636,6440.5872924724636,7232.8933608724628,7577.2356360724634]
[null,null,0,{"$f":"IF(C1841<>0,LOOKUP(,-CODE(C$3:C1841),C$3:C1841),D1840)","v":140},"140(600)-550",null,null,null,"550",600,315,6041.6994526202898,6458.4067876202898,6484.7251456202903,6901.72490682029,7773.7398352202899,8152.7241904202901]
[null,null,0,{"$f":"IF(C1842<>0,LOOKUP(,-CODE(C$3:C1842),C$3:C1842),D1841)","v":140},"140(600)-600",null,null,null,"600",600,315,6424.224136968116,6879.0217219681163,6907.745779968116,7362.8625211681156,8314.5863095681161,8728.212744768116]
[null,null,0,{"$f":"IF(C1843<>0,LOOKUP(,-CODE(C$3:C1843),C$3:C1843),D1842)","v":140},"140(600)-650",null,null,null,"650",600,315,6806.7488213159431,7299.6366563159427,7330.7664143159418,7824.000135515942,8855.4327839159414,9303.7012991159427]
[null,null,0,{"$f":"IF(C1844<>0,LOOKUP(,-CODE(C$3:C1844),C$3:C1844),D1843)","v":140},"140(600)-700",null,null,null,"700",600,315,7189.2735056637684,7720.2515906637682,7753.7870486637694,8285.1377498637685,9396.2792582637685,9879.1898534637676]
[null,null,0,{"$f":"IF(C1845<>0,LOOKUP(,-CODE(C$3:C1845),C$3:C1845),D1844)","v":140},"140(600)-750",null,null,null,"750",600,315,7571.7981900115938,8140.8665250115946,8176.8076830115942,8746.2753642115949,9937.1257326115956,10454.678407811596]
[null,null,0,{"$f":"IF(C1846<>0,LOOKUP(,-CODE(C$3:C1846),C$3:C1846),D1845)","v":140},"140(600)-800",null,null,null,"800",600,315,7954.3228743594209,8561.4814593594219,8599.8283173594209,9207.4129785594214,10477.972206959419,11030.166962159423]
[null,null,0,{"$f":"IF(C1847<>0,LOOKUP(,-CODE(C$3:C1847),C$3:C1847),D1846)","v":140},"140(600)-850",null,null,null,"850",600,315,8336.8475587072444,8982.0963937072465,9022.8489517072449,9668.550592907246,11018.818681307246,11605.655516507246]
[null,null,0,{"$f":"IF(C1848<>0,LOOKUP(,-CODE(C$3:C1848),C$3:C1848),D1847)","v":140},"140(600)-900",null,null,null,"900",600,315,8719.3722430550733,9402.711328055073,9445.8695860550724,10129.688207255074,11559.665155655073,12181.144070855073]
[null,null,0,{"$f":"IF(C1849<>0,LOOKUP(,-CODE(C$3:C1849),C$3:C1849),D1848)","v":140},"140(720)-500",null,null,null,"500",720,315,6418.2027380115951,6873.308123011594,6902.0516210115939,7357.4763782115942,8309.8442786115957,8723.7506498115945]
[null,null,0,{"$f":"IF(C1850<>0,LOOKUP(,-CODE(C$3:C1850),C$3:C1850),D1849)","v":140},"140(720)-550",null,null,null,"550",720,315,6871.7807267072458,7372.6713617072455,7404.3065597072464,7905.5486969072463,8953.7282573072462,9409.2751085072468]
[null,null,0,{"$f":"IF(C1851<>0,LOOKUP(,-CODE(C$3:C1851),C$3:C1851),D1850)","v":140},"140(720)-600",null,null,null,"600",720,315,7325.3587154028992,7872.0346004028988,7906.5614984028989,8453.621015602901,9597.6122360029003,10094.799567202899]
[null,null,0,{"$f":"IF(C1852<>0,LOOKUP(,-CODE(C$3:C1852),C$3:C1852),D1851)","v":140},"140(720)-650",null,null,null,"650",720,315,7778.9367040985517,8371.3978390985503,8408.8164370985523,9001.6933342985521,10241.496214698551,10780.32402589855]
[null,null,0,{"$f":"IF(C1853<>0,LOOKUP(,-CODE(C$3:C1853),C$3:C1853),D1852)","v":140},"140(720)-700",null,null,null,"700",720,315,8232.5146927942023,8870.7610777942027,8911.071375794203,9549.7656529942033,10885.380193394205,11465.848484594204]
[null,null,0,{"$f":"IF(C1854<>0,LOOKUP(,-CODE(C$3:C1854),C$3:C1854),D1853)","v":140},"140(720)-750",null,null,null,"750",720,315,8686.0926814898539,9370.1243164898551,9413.3263144898556,10097.837971689854,11529.264172089854,12151.372943289854]
[null,null,0,{"$f":"IF(C1855<>0,LOOKUP(,-CODE(C$3:C1855),C$3:C1855),D1854)","v":140},"140(720)-800",null,null,null,"800",720,315,9139.6706701855055,9869.4875551855057,9915.5812531855063,10645.910290385506,12173.148150785504,12836.897401985507]
[null,null,0,{"$f":"IF(C1856<>0,LOOKUP(,-CODE(C$3:C1856),C$3:C1856),D1855)","v":140},"140(720)-850",null,null,null,"850",720,315,9593.2486588811589,10368.850793881158,10417.836191881159,11193.98260908116,12817.03212948116,13522.421860681161]
[null,null,0,{"$f":"IF(C1857<>0,LOOKUP(,-CODE(C$3:C1857),C$3:C1857),D1856)","v":140},"140(720)-900",null,null,null,"900",720,315,10046.826647576811,10868.21403257681,10920.091130576811,11742.05492777681,13460.916108176811,14207.94631937681]
[null,null,0,{"$f":"IF(C1858<>0,LOOKUP(,-CODE(C$3:C1858),C$3:C1858),D1857)","v":140},"140(800)-500",null,null,null,"500",800,315,6924.221384504347,7430.3189695043484,7462.283027504348,7968.7357687043486,9027.8115571043472,9488.0939923043479]
[null,null,0,{"$f":"IF(C1859<>0,LOOKUP(,-CODE(C$3:C1859),C$3:C1859),D1858)","v":140},"140(800)-550",null,null,null,"550",800,315,7425.1682427652177,7982.1810777652172,8017.3608357652174,8574.7645569652177,9740.3872053652176,10246.975720565217]
[null,null,0,{"$f":"IF(C1860<>0,LOOKUP(,-CODE(C$3:C1860),C$3:C1860),D1859)","v":140},"140(800)-600",null,null,null,"600",800,315,7926.1151010260874,8534.0431860260869,8572.438644026086,9180.7933452260877,10452.962853626086,11005.857448826086]
[null,null,0,{"$f":"IF(C1861<>0,LOOKUP(,-CODE(C$3:C1861),C$3:C1861),D1860)","v":140},"140(800)-650",null,null,null,"650",800,315,8427.0619592869571,9085.9052942869566,9127.5164522869563,9786.8221334869577,11165.538501886957,11764.739177086956]
[null,null,0,{"$f":"IF(C1862<>0,LOOKUP(,-CODE(C$3:C1862),C$3:C1862),D1861)","v":140},"140(800)-700",null,null,null,"700",800,315,8928.0088175478268,9637.7674025478264,9682.5942605478267,10392.850921747826,11878.114150147827,12523.620905347825]
[null,null,0,{"$f":"IF(C1863<>0,LOOKUP(,-CODE(C$3:C1863),C$3:C1863),D1862)","v":140},"140(800)-750",null,null,null,"750",800,315,9428.9556758086947,10189.629510808696,10237.672068808695,10998.879710008696,12590.689798408695,13282.502633608696]
[null,null,0,{"$f":"IF(C1864<>0,LOOKUP(,-CODE(C$3:C1864),C$3:C1864),D1863)","v":140},"140(800)-800",null,null,null,"800",800,315,9929.9025340695644,10741.491619069566,10792.749877069566,11604.908498269564,13303.265446669566,14041.384361869565]
[null,null,0,{"$f":"IF(C1865<>0,LOOKUP(,-CODE(C$3:C1865),C$3:C1865),D1864)","v":140},"140(800)-850",null,null,null,"850",800,315,10430.849392330434,11293.353727330434,11347.827685330434,12210.937286530434,14015.841094930433,14800.266090130433]
[null,null,0,{"$f":"IF(C1866<>0,LOOKUP(,-CODE(C$3:C1866),C$3:C1866),D1865)","v":140},"140(800)-900",null,null,null,"900",800,315,10931.796250591306,11845.215835591305,11902.905493591305,12816.966074791306,14728.416743191307,15559.147818391306]
[null,null,0,{"$f":"IF(C1867<>0,LOOKUP(,-CODE(C$3:C1867),C$3:C1867),D1866)","v":140},"140(920)-500",null,null,null,"500",920,315,7683.2493542434786,8265.835239243479,8302.6301372434773,8885.6248544434784,10104.762474843477,10634.609006043476]
[null,null,0,{"$f":"IF(C1868<>0,LOOKUP(,-CODE(C$3:C1868),C$3:C1868),D1867)","v":140},"140(920)-550",null,null,null,"550",920,315,8255.2495168521746,8896.4456518521747,8936.9422498521726,9578.5883470521749,10920.375627452175,11503.526638652174]
[null,null,0,{"$f":"IF(C1869<>0,LOOKUP(,-CODE(C$3:C1869),C$3:C1869),D1868)","v":140},"140(920)-600",null,null,null,"600",920,315,8827.2496794608705,9527.0560644608704,9571.2543624608697,10271.551839660871,11735.98878006087,12372.444271260871]
[null,null,0,{"$f":"IF(C1870<>0,LOOKUP(,-CODE(C$3:C1870),C$3:C1870),D1869)","v":140},"140(920)-650",null,null,null,"650",920,315,9399.2498420695665,10157.666477069566,10205.566475069565,10964.515332269564,12551.601932669568,13241.361903869565]
[null,null,0,{"$f":"IF(C1871<>0,LOOKUP(,-CODE(C$3:C1871),C$3:C1871),D1870)","v":140},"140(920)-700",null,null,null,"700",920,315,9971.2500046782607,10788.276889678264,10839.878587678262,11657.478824878262,13367.215085278263,14110.279536478263]
[null,null,0,{"$f":"IF(C1872<>0,LOOKUP(,-CODE(C$3:C1872),C$3:C1872),D1871)","v":140},"140(920)-750",null,null,null,"750",920,315,10543.250167286957,11418.887302286956,11474.190700286954,12350.442317486955,14182.828237886954,14979.197169086954]
[null,null,0,{"$f":"IF(C1873<>0,LOOKUP(,-CODE(C$3:C1873),C$3:C1873),D1872)","v":140},"140(920)-800",null,null,null,"800",920,315,11115.250329895653,12049.497714895653,12108.502812895655,13043.405810095654,14998.441390495653,15848.114801695654]
[null,null,0,{"$f":"IF(C1874<>0,LOOKUP(,-CODE(C$3:C1874),C$3:C1874),D1873)","v":140},"140(920)-850",null,null,null,"850",920,315,11687.250492504349,12680.108127504347,12742.814925504348,13736.369302704348,15814.054543104348,16717.032434304347]
[null,null,0,{"$f":"IF(C1875<>0,LOOKUP(,-CODE(C$3:C1875),C$3:C1875),D1874)","v":140},"140(920)-900",null,null,null,"900",920,315,12259.250655113043,13310.718540113043,13377.127038113043,14429.332795313043,16629.66769571304,17585.950066913043]
[null,null,0,{"$f":"IF(C1876<>0,LOOKUP(,-CODE(C$3:C1876),C$3:C1876),D1875)","v":140},"140(960)-500",null,null,null,"500",960,315,7936.2586774898555,8544.3406624898562,8582.7458404898553,9191.2545496898547,10463.746114089856,11016.780677289855]
[null,null,0,{"$f":"IF(C1877<>0,LOOKUP(,-CODE(C$3:C1877),C$3:C1877),D1876)","v":140},"140(960)-550",null,null,null,"550",960,315,8531.9432748811596,9201.2005098811587,9243.4693878811595,9913.1962770811588,11313.705101481159,11922.37694468116]
[null,null,0,{"$f":"IF(C1878<>0,LOOKUP(,-CODE(C$3:C1878),C$3:C1878),D1877)","v":140},"140(960)-600",null,null,null,"600",960,315,9127.6278722724637,9858.0603572724631,9904.1929352724637,10635.138004472463,12163.664088872463,12827.973212072466]
[null,null,0,{"$f":"IF(C1879<>0,LOOKUP(,-CODE(C$3:C1879),C$3:C1879),D1878)","v":140},"140(960)-650",null,null,null,"650",960,315,9723.312469663766,10514.920204663767,10564.916482663766,11357.079731863767,13013.623076263768,13733.569479463767]
[null,null,0,{"$f":"IF(C1880<>0,LOOKUP(,-CODE(C$3:C1880),C$3:C1880),D1879)","v":140},"140(960)-700",null,null,null,"700",960,315,10318.997067055072,11171.780052055072,11225.640030055074,12079.021459255075,13863.582063655074,14639.165746855075]
[null,null,0,{"$f":"IF(C1881<>0,LOOKUP(,-CODE(C$3:C1881),C$3:C1881),D1880)","v":140},"140(960)-750",null,null,null,"750",960,315,10914.681664446376,11828.639899446376,11886.363577446378,12800.963186646377,14713.541051046377,15544.762014246377]
[null,null,0,{"$f":"IF(C1882<>0,LOOKUP(,-CODE(C$3:C1882),C$3:C1882),D1881)","v":140},"140(960)-800",null,null,null,"800",960,315,11510.366261837682,12485.499746837681,12547.087124837681,13522.904914037681,15563.500038437682,16450.35828163768]
[null,null,0,{"$f":"IF(C1883<>0,LOOKUP(,-CODE(C$3:C1883),C$3:C1883),D1882)","v":140},"140(960)-850",null,null,null,"850",960,315,12106.050859228984,13142.359594228985,13207.810672228987,14244.846641428985,16413.459025828986,17355.954549028989]
[null,null,0,{"$f":"IF(C1884<>0,LOOKUP(,-CODE(C$3:C1884),C$3:C1884),D1883)","v":140},"140(960)-900",null,null,null,"900",960,315,12701.73545662029,13799.219441620291,13868.534219620291,14966.788368820289,17263.418013220289,18261.550816420291]
[null,"142",141,{"$f":"IF(C1885<>0,LOOKUP(,-CODE(C$3:C1885),C$3:C1885),D1884)","v":141},"141(600)-500","Шкаф настенный двухдверный со стеклом внизу, открывание вверх, Aventos BLUM HF, полка ЛДСП",null,null,"500",600,315,9775.1307580057983,10153.747843005798,10177.660501005797,10556.543282205797,11348.849350605797,11693.191625805797]
[null,null,0,{"$f":"IF(C1886<>0,LOOKUP(,-CODE(C$3:C1886),C$3:C1886),D1885)","v":141},"141(600)-550",null,null,null,"550",600,315,10157.095442353622,10573.802777353623,10600.121135353624,11017.120896553623,11889.135824953622,12268.120180153624]
[null,null,0,{"$f":"IF(C1887<>0,LOOKUP(,-CODE(C$3:C1887),C$3:C1887),D1886)","v":141},"141(600)-600",null,null,null,"600",600,315,10539.06012670145,10993.85771170145,11022.58176970145,11477.698510901449,12429.422299301448,12843.048734501448]
[null,null,0,{"$f":"IF(C1888<>0,LOOKUP(,-CODE(C$3:C1888),C$3:C1888),D1887)","v":141},"141(600)-650",null,null,null,"650",600,315,10921.024811049276,11413.912646049275,11445.042404049274,11938.276125249275,12969.708773649274,13417.977288849275]
[null,null,0,{"$f":"IF(C1889<>0,LOOKUP(,-CODE(C$3:C1889),C$3:C1889),D1888)","v":141},"141(600)-700",null,null,null,"700",600,315,11302.989495397102,11833.9675803971,11867.503038397103,12398.8537395971,13509.995247997102,13992.905843197101]
[null,null,0,{"$f":"IF(C1890<>0,LOOKUP(,-CODE(C$3:C1890),C$3:C1890),D1889)","v":141},"141(600)-750",null,null,null,"750",600,315,11684.954179744927,12254.022514744927,12289.963672744929,12859.431353944929,14050.281722344927,14567.834397544928]
[null,null,0,{"$f":"IF(C1891<>0,LOOKUP(,-CODE(C$3:C1891),C$3:C1891),D1890)","v":141},"141(600)-800",null,null,null,"800",600,315,12066.918864092753,12674.077449092754,12712.424307092753,13320.008968292754,14590.568196692753,15142.762951892755]
[null,null,0,{"$f":"IF(C1892<>0,LOOKUP(,-CODE(C$3:C1892),C$3:C1892),D1891)","v":141},"141(600)-850",null,null,null,"850",600,315,12448.883548440579,13094.132383440579,13134.884941440578,13780.586582640579,15130.854671040579,15717.691506240579]
[null,null,0,{"$f":"IF(C1893<>0,LOOKUP(,-CODE(C$3:C1893),C$3:C1893),D1892)","v":141},"141(600)-900",null,null,null,"900",600,315,12830.848232788407,13514.187317788406,13557.345575788406,14241.164196988406,15671.141145388405,16292.620060588406]
[null,null,0,{"$f":"IF(C1894<>0,LOOKUP(,-CODE(C$3:C1894),C$3:C1894),D1893)","v":141},"141(720)-500",null,null,null,"500",720,315,10853.658727744929,11308.764112744928,11337.507610744928,11792.932367944928,12745.300268344929,13159.206639544929]
[null,null,0,{"$f":"IF(C1895<>0,LOOKUP(,-CODE(C$3:C1895),C$3:C1895),D1894)","v":141},"141(720)-550",null,null,null,"550",720,315,11306.676716440579,11807.567351440579,11839.202549440581,12340.44468664058,13388.62424704058,13844.17109824058]
[null,null,0,{"$f":"IF(C1896<>0,LOOKUP(,-CODE(C$3:C1896),C$3:C1896),D1895)","v":141},"141(720)-600",null,null,null,"600",720,315,11759.694705136233,12306.370590136232,12340.897488136232,12887.957005336233,14031.948225736232,14529.135556936231]
[null,null,0,{"$f":"IF(C1897<>0,LOOKUP(,-CODE(C$3:C1897),C$3:C1897),D1896)","v":141},"141(720)-650",null,null,null,"650",720,315,12212.712693831885,12805.173828831883,12842.592426831885,13435.469324031885,14675.272204431885,15214.100015631882]
[null,null,0,{"$f":"IF(C1898<>0,LOOKUP(,-CODE(C$3:C1898),C$3:C1898),D1897)","v":141},"141(720)-700",null,null,null,"700",720,315,12665.730682527535,13303.977067527536,13344.287365527536,13982.981642727536,15318.596183127536,15899.064474327537]
[null,null,0,{"$f":"IF(C1899<>0,LOOKUP(,-CODE(C$3:C1899),C$3:C1899),D1898)","v":141},"141(720)-750",null,null,null,"750",720,315,13118.748671223188,13802.780306223189,13845.982304223189,14530.493961423188,15961.920161823189,16584.02893302319]
[null,null,0,{"$f":"IF(C1900<>0,LOOKUP(,-CODE(C$3:C1900),C$3:C1900),D1899)","v":141},"141(720)-800",null,null,null,"800",720,315,13796.76665991884,14526.58354491884,14572.677242918839,15303.006280118838,16830.24414051884,17493.993391718843]
[null,null,0,{"$f":"IF(C1901<>0,LOOKUP(,-CODE(C$3:C1901),C$3:C1901),D1900)","v":141},"141(720)-850",null,null,null,"850",720,315,14249.784648614492,15025.386783614493,15074.372181614493,15850.518598814493,17473.568119214495,18178.957850414492]
[null,null,0,{"$f":"IF(C1902<>0,LOOKUP(,-CODE(C$3:C1902),C$3:C1902),D1901)","v":141},"141(720)-900",null,null,null,"900",720,315,14702.802637310144,15524.190022310142,15576.067120310143,16398.030917510143,18116.892097910146,18863.922309110145]
[null,null,0,{"$f":"IF(C1903<>0,LOOKUP(,-CODE(C$3:C1903),C$3:C1903),D1902)","v":141},"141(800)-500",null,null,null,"500",800,315,11748.249029037681,12254.34661403768,12286.310672037682,12792.763413237681,13851.83920163768,14312.121636837681]
[null,null,0,{"$f":"IF(C1904<>0,LOOKUP(,-CODE(C$3:C1904),C$3:C1904),D1903)","v":141},"141(800)-550",null,null,null,"550",800,315,12260.440380631886,12817.453215631884,12852.632973631884,13410.036694831884,14575.659343231884,15082.247858431883]
[null,null,0,{"$f":"IF(C1905<>0,LOOKUP(,-CODE(C$3:C1905),C$3:C1905),D1904)","v":141},"141(800)-600",null,null,null,"600",800,315,12997.631732226087,13605.559817226087,13643.955275226086,14252.309976426088,15524.479484826086,16077.374080026086]
[null,null,0,{"$f":"IF(C1906<>0,LOOKUP(,-CODE(C$3:C1906),C$3:C1906),D1905)","v":141},"141(800)-650",null,null,null,"650",800,315,13509.823083820289,14168.66641882029,14210.27757682029,14869.58325802029,16248.29962642029,16847.50030162029]
[null,null,0,{"$f":"IF(C1907<>0,LOOKUP(,-CODE(C$3:C1907),C$3:C1907),D1906)","v":141},"141(800)-700",null,null,null,"700",800,315,14022.014435414492,14731.773020414492,14776.599878414494,15486.856539614491,16972.119768014494,17617.626523214491]
[null,null,0,{"$f":"IF(C1908<>0,LOOKUP(,-CODE(C$3:C1908),C$3:C1908),D1907)","v":141},"141(800)-750",null,null,null,"750",800,315,14534.205787008694,15294.879622008695,15342.922180008696,16104.129821208697,17695.939909608696,18387.752744808695]
[null,null,0,{"$f":"IF(C1909<>0,LOOKUP(,-CODE(C$3:C1909),C$3:C1909),D1908)","v":141},"141(800)-800",null,null,null,"800",800,315,15046.397138602899,15857.986223602898,15909.2444816029,16721.403102802899,18419.760051202902,19157.878966402899]
[null,null,0,{"$f":"IF(C1910<>0,LOOKUP(,-CODE(C$3:C1910),C$3:C1910),D1909)","v":141},"141(800)-850",null,null,null,"850",800,315,15558.5884901971,16421.092825197098,16475.5667831971,17338.676384397098,19143.580192797097,19928.0051879971]
[null,null,0,{"$f":"IF(C1911<>0,LOOKUP(,-CODE(C$3:C1911),C$3:C1911),D1910)","v":141},"141(800)-900",null,null,null,"900",800,315,16070.779841791305,16984.199426791303,17041.889084791303,17955.949665991306,19867.400334391306,20698.131409591304]
[null,null,0,{"$f":"IF(C1912<>0,LOOKUP(,-CODE(C$3:C1912),C$3:C1912),D1911)","v":141},"141(920)-500",null,null,null,"500",920,315,12732.276998776812,13314.862883776812,13351.65778177681,13934.652498976811,15153.79011937681,15683.636650576809]
[null,null,0,{"$f":"IF(C1913<>0,LOOKUP(,-CODE(C$3:C1913),C$3:C1913),D1912)","v":141},"141(920)-550",null,null,null,"550",920,315,13315.521654718841,13956.717789718839,13997.214387718841,14638.86048491884,15980.647765318839,16563.798776518845]
[null,null,0,{"$f":"IF(C1914<>0,LOOKUP(,-CODE(C$3:C1914),C$3:C1914),D1913)","v":141},"141(920)-600",null,null,null,"600",920,315,13898.766310660869,14598.572695660871,14642.77099366087,15343.06847086087,16807.50541126087,17443.960902460869]
[null,null,0,{"$f":"IF(C1915<>0,LOOKUP(,-CODE(C$3:C1915),C$3:C1915),D1914)","v":141},"141(920)-650",null,null,null,"650",920,315,14482.010966602898,15240.4276016029,15288.327599602899,16047.276456802898,17634.3630572029,18324.123028402901]
[null,null,0,{"$f":"IF(C1916<>0,LOOKUP(,-CODE(C$3:C1916),C$3:C1916),D1915)","v":141},"141(920)-700",null,null,null,"700",920,315,15065.255622544928,15882.282507544927,15933.884205544926,16751.484442744924,18461.220703144925,19204.285154344925]
[null,null,0,{"$f":"IF(C1917<>0,LOOKUP(,-CODE(C$3:C1917),C$3:C1917),D1916)","v":141},"141(920)-750",null,null,null,"750",920,315,15648.500278486956,16524.137413486958,16579.440811486955,17455.692428686958,19288.078349086954,20084.447280286957]
[null,null,0,{"$f":"IF(C1918<>0,LOOKUP(,-CODE(C$3:C1918),C$3:C1918),D1917)","v":141},"141(920)-800",null,null,null,"800",920,315,16546.744934428985,17480.992319428988,17539.997417428989,18474.900414628988,20429.935995028987,21279.609406228989]
[null,null,0,{"$f":"IF(C1919<>0,LOOKUP(,-CODE(C$3:C1919),C$3:C1919),D1918)","v":141},"141(920)-850",null,null,null,"850",920,315,17129.989590371017,18122.847225371017,18185.554023371016,19179.108400571018,21256.793640971016,22159.771532171017]
[null,null,0,{"$f":"IF(C1920<>0,LOOKUP(,-CODE(C$3:C1920),C$3:C1920),D1919)","v":141},"141(920)-900",null,null,null,"900",920,315,17713.234246313041,18764.702131313043,18831.110629313043,19883.316386513041,22083.651286913042,23039.933658113041]
[null,null,0,{"$f":"IF(C1921<>0,LOOKUP(,-CODE(C$3:C1921),C$3:C1921),D1920)","v":141},"141(960)-500",null,null,null,"500",960,315,12760.286322023188,13368.368307023189,13406.773485023186,14015.282194223188,15287.773758623189,15840.808321823188]
[null,null,0,{"$f":"IF(C1922<>0,LOOKUP(,-CODE(C$3:C1922),C$3:C1922),D1921)","v":141},"141(960)-550",null,null,null,"550",960,315,13907.215412747826,14576.472647747825,14618.741525747826,15288.468414947827,16688.977239347827,17297.649082547825]
[null,null,0,{"$f":"IF(C1923<>0,LOOKUP(,-CODE(C$3:C1923),C$3:C1923),D1922)","v":141},"141(960)-600",null,null,null,"600",960,315,14514.144503472462,15244.576988472463,15290.709566472464,16021.654635672463,17550.180720072462,18214.489843272462]
[null,null,0,{"$f":"IF(C1924<>0,LOOKUP(,-CODE(C$3:C1924),C$3:C1924),D1923)","v":141},"141(960)-650",null,null,null,"650",960,315,15121.073594197102,15912.681329197101,15962.677607197102,16754.840856397102,18411.384200797103,19131.330603997103]
[null,null,0,{"$f":"IF(C1925<>0,LOOKUP(,-CODE(C$3:C1925),C$3:C1925),D1924)","v":141},"141(960)-700",null,null,null,"700",960,315,15728.002684921739,16580.785669921741,16634.645647921741,17488.027077121744,19272.587681521742,20048.171364721744]
[null,null,0,{"$f":"IF(C1926<>0,LOOKUP(,-CODE(C$3:C1926),C$3:C1926),D1925)","v":141},"141(960)-750",null,null,null,"750",960,315,16334.931775646379,17248.890010646377,17306.613688646379,18221.213297846378,20133.791162246376,20965.012125446377]
[null,null,0,{"$f":"IF(C1927<>0,LOOKUP(,-CODE(C$3:C1927),C$3:C1927),D1926)","v":141},"141(960)-800",null,null,null,"800",960,315,16941.860866371015,17916.994351371013,17978.581729371013,18954.399518571012,20994.994642971014,21881.852886171011]
[null,null,0,{"$f":"IF(C1928<>0,LOOKUP(,-CODE(C$3:C1928),C$3:C1928),D1927)","v":141},"141(960)-850",null,null,null,"850",960,315,17548.789957095651,18585.098692095653,18650.549770095655,19687.585739295653,21856.198123695653,22798.693646895656]
[null,null,0,{"$f":"IF(C1929<>0,LOOKUP(,-CODE(C$3:C1929),C$3:C1929),D1928)","v":141},"141(960)-900",null,null,null,"900",960,315,18155.71904782029,19253.203032820289,19322.517810820289,20420.771960020291,22717.401604420291,23715.534407620289]
[null,"143",142,{"$f":"IF(C1930<>0,LOOKUP(,-CODE(C$3:C1930),C$3:C1930),D1929)","v":142},"142(600)-500","Шкаф настенный однодверный с посудосушителем (эмаль)",null,null,"500",600,315,4968.5008532057973,5348.7631076057969,5395.7618132057978,5776.558143805797,6641.2275116057972,6987.3088892057976]
[null,null,0,{"$f":"IF(C1931<>0,LOOKUP(,-CODE(C$3:C1931),C$3:C1931),D1930)","v":142},"142(600)-600",null,null,null,"600",600,315,5734.5462352347822,6191.3200096347819,6247.7751952347826,6705.190505834782,7743.8376136347815,8159.5530712347818]
[null,null,0,{"$f":"IF(C1932<>0,LOOKUP(,-CODE(C$3:C1932),C$3:C1932),D1931)","v":142},"142(720)-500",null,null,null,"500",720,315,5726.0647029449274,6182.7615813449283,6239.2072629449285,6696.5455695449282,7735.0178253449285,8150.6632989449281]
[null,null,0,{"$f":"IF(C1933<>0,LOOKUP(,-CODE(C$3:C1933),C$3:C1933),D1932)","v":142},"142(720)-600",null,null,null,"600",720,315,6632.2006936695652,7180.7882920695647,7248.591253669565,7797.9493402695653,9045.369736069566,9544.6460896695662]
[null,null,0,{"$f":"IF(C1934<>0,LOOKUP(,-CODE(C$3:C1934),C$3:C1934),D1933)","v":142},"142(800)-500",null,null,null,"500",800,315,6231.1072694376817,6738.7605638376808,6801.5042294376808,7309.8705200376808,8464.2113678376809,8926.2329054376805]
[null,null,0,{"$f":"IF(C1935<>0,LOOKUP(,-CODE(C$3:C1935),C$3:C1935),D1934)","v":142},"142(800)-600",null,null,null,"600",800,315,7230.636999292753,7840.4338136927527,7915.8019592927531,8526.4552298927538,9913.0578176927538,10468.041435292755]
[null,null,0,{"$f":"IF(C1936<>0,LOOKUP(,-CODE(C$3:C1936),C$3:C1936),D1935)","v":142},"142(920)-500",null,null,null,"500",920,315,7290.9722739768113,7875.0601923768118,7947.2508339768119,8532.1591005768114,9860.3028363768135,10391.888469976811]
[null,null,0,{"$f":"IF(C1937<>0,LOOKUP(,-CODE(C$3:C1937),C$3:C1937),D1936)","v":142},"142(920)-600",null,null,null,"600",920,315,8454.2015991942026,9155.8122375942021,9242.5281591942021,9945.1242057942018,11540.500081594202,12179.044595194202]
[null,null,0,{"$f":"IF(C1938<>0,LOOKUP(,-CODE(C$3:C1938),C$3:C1938),D1937)","v":142},"142(960)-500",null,null,null,"500",960,315,7543.4935572231898,8153.0596836231889,8228.3993172231894,8838.8215758231891,10224.899607623189,10779.673273223189]
[null,null,0,{"$f":"IF(C1939<>0,LOOKUP(,-CODE(C$3:C1939),C$3:C1939),D1938)","v":142},"142(960)-600",null,null,null,"600",960,315,8753.4197520057969,9485.6349984057961,9576.1335120057956,10309.377150605796,11974.344122405797,12640.742268005797]
[null,"144",143,{"$f":"IF(C1940<>0,LOOKUP(,-CODE(C$3:C1940),C$3:C1940),D1939)","v":143},"143(600)-450","Шкаф настенный однодверный с посудосушителем(хром)",null,null,"450",600,315,5700.9396448057978,6042.9461392057983,6085.2166048057979,6427.7034454057975,7205.3839432057976,7516.6482808057972]
[null,null,null,{"$f":"IF(C1941<>0,LOOKUP(,-CODE(C$3:C1941),C$3:C1941),D1940)","v":143},"143(600)-500",null,null,null,"500",600,315,6133.3056185739133,6513.5678729739138,6560.5665785739138,6941.3629091739131,7806.0322769739132,8152.1136545739137]
[null,null,null,{"$f":"IF(C1942<>0,LOOKUP(,-CODE(C$3:C1942),C$3:C1942),D1941)","v":143},"143(600)-600",null,null,null,"600",600,315,6996.8111661101448,7453.5849405101453,7510.0401261101451,7967.4554367101446,9006.1025445101441,9421.8180021101452]
[null,null,null,{"$f":"IF(C1943<>0,LOOKUP(,-CODE(C$3:C1943),C$3:C1943),D1942)","v":143},"143(720)-450",null,null,null,"450",720,315,6388.4581901971014,6799.2097085971018,6849.9767501971019,7261.3051667971013,8195.3033525971005,8569.1333861971016]
[null,null,null,{"$f":"IF(C1944<>0,LOOKUP(,-CODE(C$3:C1944),C$3:C1944),D1943)","v":143},"143(720)-500",null,null,null,"500",720,315,6890.8694683130434,7347.5663467130444,7404.0120283130445,7861.3503349130442,8899.8225907130436,9315.468064313045]
[null,null,null,{"$f":"IF(C1945<>0,LOOKUP(,-CODE(C$3:C1945),C$3:C1945),D1944)","v":143},"143(720)-600",null,null,null,"600",720,315,7894.4656245449278,8443.0532229449273,8510.8561845449276,9060.2142711449287,10307.634666944929,10806.911020544929]
[null,null,null,{"$f":"IF(C1946<>0,LOOKUP(,-CODE(C$3:C1946),C$3:C1946),D1945)","v":143},"143(800)-450",null,null,null,"450",800,315,6846.8038871246381,7303.3854215246374,7359.816847124639,7817.0396477246377,8855.2496255246388,9270.7901231246378]
[null,null,null,{"$f":"IF(C1947<>0,LOOKUP(,-CODE(C$3:C1947),C$3:C1947),D1946)","v":143},"143(800)-500",null,null,null,"500",800,315,7395.9120348057977,7903.5653292057968,7966.3089948057968,8474.6752854057959,9629.0161332057978,10091.037670805797]
[null,null,null,{"$f":"IF(C1948<>0,LOOKUP(,-CODE(C$3:C1948),C$3:C1948),D1947)","v":143},"143(800)-600",null,null,null,"600",800,315,8492.9019301681165,9102.6987445681152,9178.0668901681165,9788.7201607681163,11175.322748568116,11730.306366168117]
[null,null,null,{"$f":"IF(C1949<>0,LOOKUP(,-CODE(C$3:C1949),C$3:C1949),D1948)","v":143},"143(920)-450",null,null,null,"450",920,315,7715.1861825159422,8240.5127409159431,8305.4407425159425,8831.5051191159437,10026.032784915942,10504.138978515943]
[null,null,null,{"$f":"IF(C1950<>0,LOOKUP(,-CODE(C$3:C1950),C$3:C1950),D1949)","v":143},"143(920)-500",null,null,null,"500",920,315,8558.7505393449283,9142.8384577449287,9215.0290993449271,9799.9373659449266,11128.081101744929,11659.666735344927]
[null,null,null,{"$f":"IF(C1951<>0,LOOKUP(,-CODE(C$3:C1951),C$3:C1951),D1950)","v":143},"143(920)-600",null,null,null,"600",920,315,9841.4900300695663,10543.100668469566,10629.816590069566,11332.412636669565,12927.788512469566,13566.333026069566]
[null,null,null,{"$f":"IF(C1952<>0,LOOKUP(,-CODE(C$3:C1952),C$3:C1952),D1951)","v":143},"143(960)-450",null,null,null,"450",960,315,7944.359030979711,8492.600597379711,8560.360790979712,9109.372359579711,10356.00592137971,10854.967346979713]
[null,null,null,{"$f":"IF(C1953<>0,LOOKUP(,-CODE(C$3:C1953),C$3:C1953),D1952)","v":143},"143(960)-500",null,null,null,"500",960,315,8811.271822591305,9420.8379489913059,9496.1775825913046,10106.599841191304,11492.677872991304,12047.451538591304]
[null,null,null,{"$f":"IF(C1954<>0,LOOKUP(,-CODE(C$3:C1954),C$3:C1954),D1953)","v":143},"143(960)-600",null,null,null,"600",960,315,10140.708182881159,10872.92342928116,10963.421942881159,11696.665581481158,13361.632553281159,14028.030698881159]
[null,"145",144,{"$f":"IF(C1955<>0,LOOKUP(,-CODE(C$3:C1955),C$3:C1955),D1954)","v":144},"144(600)-500","Шкаф настенный двухдверный с посудосушителем(эмаль)",null,null,"500",600,315,5292.4520092057974,5670.4189180057974,5717.1339292057983,6095.6316904057967,6955.0817260057975,7299.0740812057975]
[null,null,0,{"$f":"IF(C1956<>0,LOOKUP(,-CODE(C$3:C1956),C$3:C1956),D1955)","v":144},"144(600)-600",null,null,null,"600",600,315,6058.4973912347832,6512.9758200347824,6569.147311234783,7024.2640524347826,8057.6918280347827,8471.3182632347816]
[null,null,0,{"$f":"IF(C1957<>0,LOOKUP(,-CODE(C$3:C1957),C$3:C1957),D1956)","v":144},"144(600)-700",null,null,null,"700",600,315,6830.542773263769,7361.5327220637682,7427.1606932637678,7958.8964144637685,9166.3019300637698,9649.5624452637676]
[null,null,0,{"$f":"IF(C1958<>0,LOOKUP(,-CODE(C$3:C1958),C$3:C1958),D1957)","v":144},"144(600)-800",null,null,null,"800",600,315,7590.588155292754,8198.0896240927541,8273.1740752927544,8881.5287764927525,10262.912032092754,10815.806627292754]
[null,null,0,{"$f":"IF(C1959<>0,LOOKUP(,-CODE(C$3:C1959),C$3:C1959),D1958)","v":144},"144(720)-500",null,null,null,"500",720,315,6045.8816189449281,6499.8217757449274,6555.9267389449287,7010.5044521449272,8042.7082637449275,8455.8448109449273]
[null,null,0,{"$f":"IF(C1960<>0,LOOKUP(,-CODE(C$3:C1960),C$3:C1960),D1959)","v":144},"144(720)-600",null,null,null,"600",720,315,6952.017609669565,7497.8484864695656,7565.3107296695653,8111.9082228695652,9353.060174469565,9849.8276016695636]
[null,null,0,{"$f":"IF(C1961<>0,LOOKUP(,-CODE(C$3:C1961),C$3:C1961),D1960)","v":144},"144(720)-700",null,null,null,"700",720,315,7864.1536003942019,8501.8751971942038,8580.6947203942018,9219.3119935942032,10669.412085194203,11249.810392394202]
[null,null,0,{"$f":"IF(C1962<>0,LOOKUP(,-CODE(C$3:C1962),C$3:C1962),D1961)","v":144},"144(720)-800",null,null,null,"800",720,315,8764.2895911188407,9493.9019079188402,9584.0787111188401,10314.71576431884,11973.76399591884,12637.793183118842]
[null,null,0,{"$f":"IF(C1963<>0,LOOKUP(,-CODE(C$3:C1963),C$3:C1963),D1962)","v":144},"144(800)-500",null,null,null,"500",800,315,6548.1680254376824,7052.7570142376808,7115.1219454376824,7620.4196266376821,8767.7926222376827,9227.0252974376817]
[null,null,0,{"$f":"IF(C1964<>0,LOOKUP(,-CODE(C$3:C1964),C$3:C1964),D1963)","v":144},"144(800)-600",null,null,null,"600",800,315,7547.6977552927538,8154.4302640927544,8229.4196752927528,8837.0043364927551,10216.639072092754,10768.833827292754]
[null,null,0,{"$f":"IF(C1965<>0,LOOKUP(,-CODE(C$3:C1965),C$3:C1965),D1964)","v":144},"144(800)-700",null,null,null,"700",800,315,8553.2274851478251,9262.1035139478263,9349.717405147825,10059.589046347826,11671.485521947825,12316.642357147826]
[null,null,0,{"$f":"IF(C1966<>0,LOOKUP(,-CODE(C$3:C1966),C$3:C1966),D1965)","v":144},"144(800)-800",null,null,null,"800",800,315,9546.7572150028973,10357.776763802898,10458.015135002899,11270.173756202899,13114.3319718029,13852.450887002899]
[null,null,0,{"$f":"IF(C1967<>0,LOOKUP(,-CODE(C$3:C1967),C$3:C1967),D1966)","v":144},"144(920)-500",null,null,null,"500",920,315,7756.1282899768121,8336.6905267768125,8408.4454099768118,8989.8230431768134,10309.949814776814,10838.326681976811]
[null,null,0,{"$f":"IF(C1968<>0,LOOKUP(,-CODE(C$3:C1968),C$3:C1968),D1967)","v":144},"144(920)-600",null,null,null,"600",920,315,8919.3576151942034,9617.4425719942028,9703.7227351942038,10402.788148394204,11990.147059994202,12625.482807194203]
[null,null,0,{"$f":"IF(C1969<>0,LOOKUP(,-CODE(C$3:C1969),C$3:C1969),D1968)","v":144},"144(920)-700",null,null,null,"700",920,315,10088.586940411595,10904.194617211595,11005.000060411596,11821.753253611594,13676.344305211594,14418.638932411595]
[null,null,0,{"$f":"IF(C1970<>0,LOOKUP(,-CODE(C$3:C1970),C$3:C1970),D1969)","v":144},"144(920)-800",null,null,null,"800",920,315,11245.816265628986,12178.946662428987,12294.277385628988,13228.718358828986,15350.541550428987,16199.795057628988]
[null,null,0,{"$f":"IF(C1971<>0,LOOKUP(,-CODE(C$3:C1971),C$3:C1971),D1970)","v":144},"144(960)-500",null,null,null,"500",960,315,8007.2714932231884,8613.1581460231882,8688.0430132231886,9294.780630423189,10672.491994023188,11223.916925223188]
[null,null,0,{"$f":"IF(C1972<>0,LOOKUP(,-CODE(C$3:C1972),C$3:C1972),D1971)","v":144},"144(960)-600",null,null,null,"600",960,315,9217.1976880057973,9945.7334608057972,10035.777208005798,10765.336205205796,12421.936508805797,13084.985920005798]
[null,null,0,{"$f":"IF(C1973<>0,LOOKUP(,-CODE(C$3:C1973),C$3:C1973),D1972)","v":144},"144(960)-700",null,null,null,"700",960,315,10433.123882788408,11284.308775588406,11389.511402788406,12241.891779988408,14177.381023588407,14952.054914788407]
[null,null,0,{"$f":"IF(C1974<>0,LOOKUP(,-CODE(C$3:C1974),C$3:C1974),D1973)","v":144},"144(960)-800",null,null,null,"800",960,315,11637.050077571013,12610.884090371015,12731.245597571015,13706.447354771015,15920.825538371017,16807.123909571015]
[null,"146",145,{"$f":"IF(C1975<>0,LOOKUP(,-CODE(C$3:C1975),C$3:C1975),D1974)","v":145},"145(600)-500","Шкаф настенный двухдверный с посудосушителем (хром)",null,null,"500",600,315,6457.2567745739134,6835.2236833739134,6881.9386945739134,7260.4364557739136,8119.8864913739144,8463.8788465739126]
[null,null,0,{"$f":"IF(C1976<>0,LOOKUP(,-CODE(C$3:C1976),C$3:C1976),D1975)","v":145},"145(600)-600",null,null,null,"600",600,315,7320.7623221101449,7775.2407509101449,7831.4122421101456,8286.5289833101451,9319.9567589101443,9733.5831941101442]
[null,null,0,{"$f":"IF(C1977<>0,LOOKUP(,-CODE(C$3:C1977),C$3:C1977),D1976)","v":145},"145(600)-700",null,null,null,"700",600,315,8324.0774696463777,8855.0674184463769,8920.6953896463765,9452.4311108463771,10659.836626446378,11143.097141646376]
[null,null,0,{"$f":"IF(C1978<>0,LOOKUP(,-CODE(C$3:C1978),C$3:C1978),D1977)","v":145},"145(600)-800",null,null,null,"800",600,315,9231.091017182609,9838.5924859826082,9913.6769371826085,10522.031638382608,11903.414893982608,12456.309489182608]
[null,null,0,{"$f":"IF(C1979<>0,LOOKUP(,-CODE(C$3:C1979),C$3:C1979),D1978)","v":145},"145(600)-900",null,null,null,"900",600,315,10254.904564718841,10938.917553518841,11023.458484718842,11708.432165918843,13263.793161518843,13886.321836718842]
[null,null,0,{"$f":"IF(C1980<>0,LOOKUP(,-CODE(C$3:C1980),C$3:C1980),D1979)","v":145},"145(720)-500",null,null,null,"500",720,315,7210.6863843130441,7664.6265411130444,7720.7315043130438,8175.3092175130441,9207.5130291130445,9620.6495763130442]
[null,null,0,{"$f":"IF(C1981<>0,LOOKUP(,-CODE(C$3:C1981),C$3:C1981),D1980)","v":145},"145(720)-600",null,null,null,"600",720,315,8214.2825405449275,8760.1134173449282,8827.5756605449278,9374.1731537449268,10615.325105344928,11112.092532544928]
[null,null,0,{"$f":"IF(C1982<>0,LOOKUP(,-CODE(C$3:C1982),C$3:C1982),D1981)","v":145},"145(720)-700",null,null,null,"700",720,315,9357.6882967768106,9995.4098935768125,10074.229416776812,10712.846689976812,12162.946781576811,12743.345088776812]
[null,null,0,{"$f":"IF(C1983<>0,LOOKUP(,-CODE(C$3:C1983),C$3:C1983),D1982)","v":145},"145(720)-800",null,null,null,"800",720,315,10404.792453008695,11134.404769808694,11224.581573008696,11955.218626208694,13614.266857808694,14278.296045008696]
[null,null,0,{"$f":"IF(C1984<>0,LOOKUP(,-CODE(C$3:C1984),C$3:C1984),D1983)","v":145},"145(720)-900",null,null,null,"900",720,315,11568.696609240578,12390.199646040579,12491.733729240579,13314.390562440578,15182.38693404058,15930.047001240579]
[null,null,0,{"$f":"IF(C1985<>0,LOOKUP(,-CODE(C$3:C1985),C$3:C1985),D1984)","v":145},"145(800)-500",null,null,null,"500",800,315,7712.9727908057976,8217.5617796057977,8279.9267108057975,8785.2243920057972,9932.5973876057978,10391.830062805797]
[null,null,0,{"$f":"IF(C1986<>0,LOOKUP(,-CODE(C$3:C1986),C$3:C1986),D1985)","v":145},"145(800)-600",null,null,null,"600",800,315,8809.9626861681154,9416.695194968117,9491.6846061681154,10099.269267368116,11478.904002968116,12031.098758168115]
[null,null,0,{"$f":"IF(C1987<>0,LOOKUP(,-CODE(C$3:C1987),C$3:C1987),D1986)","v":145},"145(800)-700",null,null,null,"700",800,315,10046.762181530436,10755.638210330435,10843.252101530436,11553.123742730435,13165.020218330434,13810.177053530435]
[null,null,0,{"$f":"IF(C1988<>0,LOOKUP(,-CODE(C$3:C1988),C$3:C1988),D1987)","v":145},"145(800)-800",null,null,null,"800",800,315,11187.260076892753,11998.279625692754,12098.517996892755,12910.676618092755,14754.834833692756,15492.953748892753]
[null,null,0,{"$f":"IF(C1989<>0,LOOKUP(,-CODE(C$3:C1989),C$3:C1989),D1988)","v":145},"145(800)-900",null,null,null,"900",800,315,12444.557972255074,13357.721041055072,13470.583892255076,14385.029493455073,16461.449449055075,17292.530444255073]
[null,null,0,{"$f":"IF(C1990<>0,LOOKUP(,-CODE(C$3:C1990),C$3:C1990),D1989)","v":145},"145(920)-500",null,null,null,"500",920,315,8920.9330553449272,9501.4952921449276,9573.2501753449287,10154.627808544928,11474.754580144929,12003.131447344927]
[null,null,0,{"$f":"IF(C1991<>0,LOOKUP(,-CODE(C$3:C1991),C$3:C1991),D1990)","v":145},"145(920)-600",null,null,null,"600",920,315,10181.622546069564,10879.707502869565,10965.987666069566,11665.053079269564,13252.411990869565,13887.747738069565]
[null,null,0,{"$f":"IF(C1992<>0,LOOKUP(,-CODE(C$3:C1992),C$3:C1992),D1991)","v":145},"145(920)-700",null,null,null,"700",920,315,11582.121636794203,12397.729313594204,12498.534756794204,13315.287949994203,15169.879001594203,15912.173628794204]
[null,null,0,{"$f":"IF(C1993<>0,LOOKUP(,-CODE(C$3:C1993),C$3:C1993),D1992)","v":145},"145(920)-800",null,null,null,"800",920,315,12886.31912751884,13819.449524318839,13934.78024751884,14869.221220718839,16991.044412318839,17840.297919518842]
[null,null,0,{"$f":"IF(C1994<>0,LOOKUP(,-CODE(C$3:C1994),C$3:C1994),D1993)","v":145},"145(920)-900",null,null,null,"900",920,315,14307.316618243478,15357.96973504348,15487.825738243479,16539.954491443481,18929.009823043478,19885.222210243479]
[null,null,0,{"$f":"IF(C1995<>0,LOOKUP(,-CODE(C$3:C1995),C$3:C1995),D1994)","v":145},"145(960)-500",null,null,null,"500",960,315,9172.0762585913053,9777.9629113913052,9852.8477785913055,10459.585395791304,11837.296759391305,12388.721690591305]
[null,null,0,{"$f":"IF(C1996<>0,LOOKUP(,-CODE(C$3:C1996),C$3:C1996),D1995)","v":145},"145(960)-600",null,null,null,"600",960,315,10479.46261888116,11207.99839168116,11298.042138881159,12027.601136081159,13684.201439681159,14347.250850881161]
[null,null,0,{"$f":"IF(C1997<>0,LOOKUP(,-CODE(C$3:C1997),C$3:C1997),D1996)","v":145},"145(960)-700",null,null,null,"700",960,315,11926.658579171015,12777.843471971013,12883.046099171013,13735.426476371016,15670.915719971013,16445.589611171014]
[null,null,0,{"$f":"IF(C1998<>0,LOOKUP(,-CODE(C$3:C1998),C$3:C1998),D1997)","v":145},"145(960)-800",null,null,null,"800",960,315,13277.552939460869,14251.386952260871,14371.74845946087,15346.950216660871,17561.328400260871,18447.626771460869]
[null,null,0,{"$f":"IF(C1999<>0,LOOKUP(,-CODE(C$3:C1999),C$3:C1999),D1998)","v":145},"145(960)-900",null,null,null,"900",960,315,14745.247299750725,15841.730432550725,15977.250819750727,17075.273956950725,19568.541080550724,20566.463931750728]
[null,"147",146,{"$f":"IF(C2000<>0,LOOKUP(,-CODE(C$3:C2000),C$3:C2000),D1999)","v":146},"146(720)-500","Шкаф настенный однодверный с посудосушителем (эмаль) с нишей вверху",null,null,"500",720,315,4804.5029629449282,5146.547905344928,5188.8231229449275,5531.3484655449283,6309.1163893449275,6620.4157189449279]
[null,null,0,{"$f":"IF(C2001<>0,LOOKUP(,-CODE(C$3:C2001),C$3:C2001),D2000)","v":146},"146(720)-600",null,null,null,"600",720,315,5524.9969536695653,5935.8638160695655,5986.645113669565,6398.0890362695654,7332.3495000695648,7706.2845096695646]
[null,null,0,{"$f":"IF(C2002<>0,LOOKUP(,-CODE(C$3:C2002),C$3:C2002),D2001)","v":146},"146(800)-500",null,null,null,"500",800,315,5195.3945694376807,5575.6568238376813,5622.6555294376813,6003.4518600376805,6868.1212278376806,7214.2026054376811]
[null,null,0,{"$f":"IF(C2003<>0,LOOKUP(,-CODE(C$3:C2003),C$3:C2003),D2002)","v":146},"146(800)-600",null,null,null,"600",800,315,5986.3142992927533,6443.0880736927529,6499.5432592927536,6956.9585698927531,7995.6056776927526,8411.3211352927538]
[null,null,0,{"$f":"IF(C2004<>0,LOOKUP(,-CODE(C$3:C2004),C$3:C2004),D2003)","v":146},"146(920)-500",null,null,null,"500",920,315,5952.9584191768117,6409.6552975768127,6466.1009791768129,6923.4392857768125,7961.9115415768129,8377.5570151768115]
[null,null,0,{"$f":"IF(C2005<>0,LOOKUP(,-CODE(C$3:C2005),C$3:C2005),D2004)","v":146},"146(920)-600",null,null,null,"600",920,315,6883.9687577275363,7432.5563561275358,7500.3593177275361,8049.7174043275363,9297.137800127537,9796.4141537275373]
[null,null,0,{"$f":"IF(C2006<>0,LOOKUP(,-CODE(C$3:C2006),C$3:C2006),D2005)","v":146},"146(960)-500",null,null,null,"500",960,315,5977.1777824231885,6433.8746608231886,6490.3203424231888,6947.6586490231884,7986.1309048231888,8401.7763784231884]
[null,null,0,{"$f":"IF(C2007<>0,LOOKUP(,-CODE(C$3:C2007),C$3:C2007),D2006)","v":146},"146(960)-600",null,null,null,"600",960,315,6908.948990539131,7457.5365889391305,7525.3395505391309,8074.6976371391311,9322.11803293913,9821.394386539132]
[null,"148",147,{"$f":"IF(C2008<>0,LOOKUP(,-CODE(C$3:C2008),C$3:C2008),D2007)","v":147},"147(720)-450","Шкаф настенный однодверный с посудосушителем (хром) с нишей вверху",null,null,"450",720,315,5575.7072219304355,5883.3412043304361,5921.3633819304359,6229.4294345304352,6928.9510883304356,7208.9325779304354]
[null,null,null,{"$f":"IF(C2009<>0,LOOKUP(,-CODE(C$3:C2009),C$3:C2009),D2008)","v":147},"147(720)-500",null,null,null,"500",720,315,5987.1269933797103,6329.1719357797101,6371.4471533797105,6713.9724959797113,7491.7404197797096,7803.03974937971]
[null,null,null,{"$f":"IF(C2010<>0,LOOKUP(,-CODE(C$3:C2010),C$3:C2010),D2009)","v":147},"147(720)-600",null,null,null,"600",720,315,6808.7401362782621,7219.6069986782613,7270.3882962782609,7681.8322188782622,8616.0926826782616,8990.0276922782614]
[null,null,null,{"$f":"IF(C2011<>0,LOOKUP(,-CODE(C$3:C2011),C$3:C2011),D2010)","v":147},"147(800)-450",null,null,null,"450",800,315,5931.3859588579717,6273.3924532579713,6315.6629188579718,6658.1497594579723,7435.8302572579723,7747.094594857972]
[null,null,null,{"$f":"IF(C2012<>0,LOOKUP(,-CODE(C$3:C2012),C$3:C2012),D2011)","v":147},"147(800)-500",null,null,null,"500",800,315,6378.0185998724646,6758.2808542724642,6805.2795598724642,7186.0758904724644,8050.7452582724636,8396.826635872465]
[null,null,null,{"$f":"IF(C2013<>0,LOOKUP(,-CODE(C$3:C2013),C$3:C2013),D2012)","v":147},"147(800)-600",null,null,null,"600",800,315,7270.0574819014491,7726.8312563014497,7783.2864419014495,8240.7017525014489,9279.3488603014484,9695.0643179014496]
[null,null,null,{"$f":"IF(C2014<>0,LOOKUP(,-CODE(C$3:C2014),C$3:C2014),D2013)","v":147},"147(920)-450",null,null,null,"450",920,315,6618.9045042492753,7029.6560226492757,7080.4230642492757,7491.7514808492751,8425.7496666492752,8799.5797002492764]
[null,null,null,{"$f":"IF(C2015<>0,LOOKUP(,-CODE(C$3:C2015),C$3:C2015),D2014)","v":147},"147(920)-500",null,null,null,"500",920,315,7135.5824496115947,7592.2793280115948,7648.7250096115949,8106.0633162115955,9144.5355720115949,9560.1810456115945]
[null,null,null,{"$f":"IF(C2016<>0,LOOKUP(,-CODE(C$3:C2016),C$3:C2016),D2015)","v":147},"147(920)-600",null,null,null,"600",920,315,8167.7119403362321,8716.2995387362316,8784.102500336232,9333.4605869362331,10580.880982736233,11080.157336336233]
[null,null,null,{"$f":"IF(C2017<>0,LOOKUP(,-CODE(C$3:C2017),C$3:C2017),D2016)","v":147},"147(960)-450",null,null,null,"450",960,315,6642.7434327130431,7053.4949511130435,7104.2619927130436,7515.590409313043,8449.588595113044,8823.4186287130433]
[null,null,null,{"$f":"IF(C2018<>0,LOOKUP(,-CODE(C$3:C2018),C$3:C2018),D2017)","v":147},"147(960)-500",null,null,null,"500",960,315,7159.8018128579715,7616.4986912579716,7672.9443728579718,8130.2826794579723,9168.7549352579717,9584.4004088579713]
[null,null,null,{"$f":"IF(C2019<>0,LOOKUP(,-CODE(C$3:C2019),C$3:C2019),D2018)","v":147},"147(960)-600",null,null,null,"600",960,315,8192.6921731478269,8741.2797715478264,8809.0827331478267,9358.4408197478278,10605.861215547828,11105.137569147828]
[null,"149",148,{"$f":"IF(C2020<>0,LOOKUP(,-CODE(C$3:C2020),C$3:C2020),D2019)","v":148},"148(720)-500","Шкаф настенный двухдверный с посудосушителем (эмаль) с нишей вверху",null,null,"500",720,315,5130.521238944928,5470.5015237449279,5512.5215589449281,5852.9793441449274,6626.0524917449275,6935.4727509449276]
[null,null,0,{"$f":"IF(C2021<>0,LOOKUP(,-CODE(C$3:C2021),C$3:C2021),D2020)","v":148},"148(720)-600",null,null,null,"600",720,315,5851.0152296695651,6259.8174344695653,6310.3435496695656,6719.7199148695654,7649.2856024695648,8021.3415416695652]
[null,null,0,{"$f":"IF(C2022<>0,LOOKUP(,-CODE(C$3:C2022),C$3:C2022),D2021)","v":148},"148(720)-700",null,null,null,"700",720,315,6577.5092203942031,7055.1333451942028,7114.1655403942023,7592.4604855942025,8678.5187131942039,9113.2103323942029]
[null,null,0,{"$f":"IF(C2023<>0,LOOKUP(,-CODE(C$3:C2023),C$3:C2023),D2022)","v":148},"148(720)-800",null,null,null,"800",720,315,7292.0032111188402,7838.4492559188402,7905.9875311188398,8453.2010563188414,9695.7518239188394,10193.079123118841]
[null,null,0,{"$f":"IF(C2024<>0,LOOKUP(,-CODE(C$3:C2024),C$3:C2024),D2023)","v":148},"148(800)-500",null,null,null,"500",800,315,5519.3457254376808,5897.3126342376818,5944.0276454376817,6322.525406637681,7181.9754422376818,7525.9677974376809]
[null,null,0,{"$f":"IF(C2025<>0,LOOKUP(,-CODE(C$3:C2025),C$3:C2025),D2024)","v":148},"148(800)-600",null,null,null,"600",800,315,6310.2654552927534,6764.7438840927534,6820.9153752927541,7276.0321164927536,8309.4598920927529,8723.0863272927527]
[null,null,0,{"$f":"IF(C2026<>0,LOOKUP(,-CODE(C$3:C2026),C$3:C2026),D2025)","v":148},"148(800)-700",null,null,null,"700",800,315,7107.1851851478259,7638.1751339478269,7703.8031051478265,8235.5388263478271,9442.9443419478266,9926.2048571478263]
[null,null,0,{"$f":"IF(C2027<>0,LOOKUP(,-CODE(C$3:C2027),C$3:C2027),D2026)","v":148},"148(800)-800",null,null,null,"800",800,315,7892.1049150028994,8499.6063838028986,8574.6908350028989,9183.0455362028988,10564.428791802899,11117.323387002898]
[null,null,0,{"$f":"IF(C2028<>0,LOOKUP(,-CODE(C$3:C2028),C$3:C2028),D2027)","v":148},"148(920)-500",null,null,null,"500",920,315,6272.7753351768124,6726.7154919768127,6782.8204551768122,7237.3981683768125,8269.6019799768128,8682.7385271768126]
[null,null,0,{"$f":"IF(C2029<>0,LOOKUP(,-CODE(C$3:C2029),C$3:C2029),D2028)","v":148},"148(920)-600",null,null,null,"600",920,315,7203.7856737275361,7749.6165505275367,7817.0787937275363,8363.6762869275371,9604.8282385275361,10101.595665727535]
[null,null,0,{"$f":"IF(C2030<>0,LOOKUP(,-CODE(C$3:C2030),C$3:C2030),D2029)","v":148},"148(920)-700",null,null,null,"700",920,315,8140.7960122782606,8778.5176090782606,8857.3371322782605,9495.95440547826,10946.054497078261,11526.45280427826]
[null,null,0,{"$f":"IF(C2031<>0,LOOKUP(,-CODE(C$3:C2031),C$3:C2031),D2030)","v":148},"148(920)-800",null,null,null,"800",920,315,9065.8063508289852,9795.4186676289846,9885.5954708289864,10616.232524028985,12275.280755628984,12939.309942828986]
[null,null,0,{"$f":"IF(C2032<>0,LOOKUP(,-CODE(C$3:C2032),C$3:C2032),D2031)","v":148},"148(960)-500",null,null,null,"500",960,315,6296.9946984231883,6750.9348552231886,6807.039818423189,7261.6175316231884,8293.8213432231896,8706.9578904231894]
[null,null,0,{"$f":"IF(C2033<>0,LOOKUP(,-CODE(C$3:C2033),C$3:C2033),D2032)","v":148},"148(960)-600",null,null,null,"600",960,315,7228.7659065391308,7774.5967833391314,7842.0590265391311,8388.6565197391301,9629.8084713391308,10126.575898539129]
[null,null,0,{"$f":"IF(C2034<>0,LOOKUP(,-CODE(C$3:C2034),C$3:C2034),D2033)","v":148},"148(960)-700",null,null,null,"700",960,315,8166.5371146550715,8804.2587114550734,8883.0782346550714,9521.6955078550727,10971.795599455072,11552.193906655071]
[null,null,0,{"$f":"IF(C2035<>0,LOOKUP(,-CODE(C$3:C2035),C$3:C2035),D2034)","v":148},"148(960)-800",null,null,null,"800",960,315,9092.308322771014,9821.9206395710135,9912.0974427710134,10642.734495971014,12301.782727571013,12965.811914771015]
[null,"150",149,{"$f":"IF(C2036<>0,LOOKUP(,-CODE(C$3:C2036),C$3:C2036),D2035)","v":149},"149(720)-500","Шкаф настенный двухдверный с посудосушителем (хром) с нишей вверху",null,null,"500",720,315,6313.14526937971,6653.12555417971,6695.1455893797101,7035.6033745797104,7808.6765221797104,8118.0967813797106]
[null,null,0,{"$f":"IF(C2037<>0,LOOKUP(,-CODE(C$3:C2037),C$3:C2037),D2036)","v":149},"149(720)-600",null,null,null,"600",720,315,7134.7584122782609,7543.5606170782612,7594.0867322782615,8003.4630974782613,8933.0287850782606,9305.084724278262]
[null,null,0,{"$f":"IF(C2038<>0,LOOKUP(,-CODE(C$3:C2038),C$3:C2038),D2037)","v":149},"149(720)-700",null,null,null,"700",720,315,8096.1811551768114,8573.805279976812,8632.8374751768115,9111.1324203768108,10197.190647976811,10631.882267176812]
[null,null,0,{"$f":"IF(C2039<>0,LOOKUP(,-CODE(C$3:C2039),C$3:C2039),D2038)","v":149},"149(720)-800",null,null,null,"800",720,315,8961.3022980753613,9507.7483428753621,9575.2866180753608,10122.500143275362,11365.050910875361,11862.378210075361]
[null,null,0,{"$f":"IF(C2040<>0,LOOKUP(,-CODE(C$3:C2040),C$3:C2040),D2039)","v":149},"149(720)-900",null,null,null,"900",720,315,10559.225200973913,11243.238189773914,11327.779120973913,12012.752802173913,13568.113797773913,14190.642472973912]
[null,null,0,{"$f":"IF(C2041<>0,LOOKUP(,-CODE(C$3:C2041),C$3:C2041),D2040)","v":149},"149(800)-500",null,null,null,"500",800,315,6701.9697558724638,7079.9366646724648,7126.6516758724647,7505.149437072464,8364.5994726724639,8708.5918278724639]
[null,null,0,{"$f":"IF(C2042<>0,LOOKUP(,-CODE(C$3:C2042),C$3:C2042),D2041)","v":149},"149(800)-600",null,null,null,"600",800,315,7594.0086379014492,8048.4870667014493,8104.65855790145,8559.7752991014495,9593.2030747014487,10006.829509901449]
[null,null,0,{"$f":"IF(C2043<>0,LOOKUP(,-CODE(C$3:C2043),C$3:C2043),D2042)","v":149},"149(800)-700",null,null,null,"700",800,315,8625.8571199304351,9156.8470687304361,9222.4750399304357,9754.2107611304364,10961.616276730436,11444.876791930436]
[null,null,0,{"$f":"IF(C2044<>0,LOOKUP(,-CODE(C$3:C2044),C$3:C2044),D2043)","v":149},"149(800)-800",null,null,null,"800",800,315,10655.599521959419,11385.21183875942,11475.38864195942,12206.02569515942,13865.073926759418,14529.10311395942]
[null,null,0,{"$f":"IF(C2045<>0,LOOKUP(,-CODE(C$3:C2045),C$3:C2045),D2044)","v":149},"149(800)-900",null,null,null,"900",800,315,11845.754403988405,12667.257440788406,12768.791523988406,13591.448357188405,15459.444728788407,16207.104795988405]
[null,null,0,{"$f":"IF(C2046<>0,LOOKUP(,-CODE(C$3:C2046),C$3:C2046),D2045)","v":149},"149(920)-500",null,null,null,"500",920,315,7455.3993656115945,7909.3395224115939,7965.4444856115952,8420.0221988115936,9452.226010411594,9865.3625576115937]
[null,null,0,{"$f":"IF(C2047<>0,LOOKUP(,-CODE(C$3:C2047),C$3:C2047),D2046)","v":149},"149(920)-600",null,null,null,"600",920,315,8487.5288563362319,9033.3597331362325,9100.8219763362322,9647.4194695362312,10888.571421136232,11385.338848336232]
[null,null,0,{"$f":"IF(C2048<>0,LOOKUP(,-CODE(C$3:C2048),C$3:C2048),D2047)","v":149},"149(920)-700",null,null,null,"700",920,315,9659.4679470608698,10297.18954386087,10376.00906706087,11014.626340260869,12464.72643186087,13045.12473906087]
[null,null,0,{"$f":"IF(C2049<>0,LOOKUP(,-CODE(C$3:C2049),C$3:C2049),D2048)","v":149},"149(920)-800",null,null,null,"800",920,315,10735.105437785507,11464.717754585505,11554.894557785507,12285.531610985505,13944.579842585506,14608.609029785508]
[null,null,0,{"$f":"IF(C2050<>0,LOOKUP(,-CODE(C$3:C2050),C$3:C2050),D2049)","v":149},"149(920)-900",null,null,null,"900",920,315,11927.542928510145,12749.045965310146,12850.580048510146,13673.236881710145,15541.233253310143,16288.893320510146]
[null,null,0,{"$f":"IF(C2051<>0,LOOKUP(,-CODE(C$3:C2051),C$3:C2051),D2050)","v":149},"149(960)-500",null,null,null,"500",960,315,7479.6187288579713,7933.5588856579707,7989.663848857972,8444.2415620579704,9476.4453736579708,9889.5819208579705]
[null,null,0,{"$f":"IF(C2052<>0,LOOKUP(,-CODE(C$3:C2052),C$3:C2052),D2051)","v":149},"149(960)-600",null,null,null,"600",960,315,10149.668129147827,10878.203901947827,10968.247649147826,11697.806646347826,13354.406949947826,14017.456361147828]
[null,null,0,{"$f":"IF(C2053<>0,LOOKUP(,-CODE(C$3:C2053),C$3:C2053),D2052)","v":149},"149(960)-700",null,null,null,"700",960,315,11597.984089437683,12449.168982237681,12554.371609437681,13406.751986637682,15342.241230237682,16116.915121437682]
[null,null,0,{"$f":"IF(C2054<>0,LOOKUP(,-CODE(C$3:C2054),C$3:C2054),D2053)","v":149},"149(960)-800",null,null,null,"800",960,315,12949.998449727536,13923.832462527538,14044.193969727537,15019.395726927538,17233.773910527536,18120.072281727535]
[null,null,0,{"$f":"IF(C2055<>0,LOOKUP(,-CODE(C$3:C2055),C$3:C2055),D2054)","v":149},"149(960)-900",null,null,null,"900",960,315,14418.812810017393,15515.295942817393,15650.816330017395,16748.839467217393,19242.106590817391,20240.029442017396]
[null,"151",150,{"$f":"IF(C2056<>0,LOOKUP(,-CODE(C$3:C2056),C$3:C2056),D2055)","v":150},"150(360)-450","Шкафнастенныйоднодверный с посудосушителем  (хром), открывание вверх, газ-лифт",null,null,"450",360,315,4593.6525540231887,4798.1690004231887,4823.4463140231892,5028.2500026231883,5493.295124423189,5679.4280700231884]
[null,null,null,{"$f":"IF(C2057<>0,LOOKUP(,-CODE(C$3:C2057),C$3:C2057),D2056)","v":150},"150(360)-500",null,null,null,"500",360,315,4885.9279190956522,5113.3209254956528,5141.4256790956524,5369.1380576956526,5886.2016494956533,6093.1548350956527]
[null,null,0,{"$f":"IF(C2058<>0,LOOKUP(,-CODE(C$3:C2058),C$3:C2058),D2057)","v":150},"150(360)-600",null,null,null,"600",360,315,5469.2522492405806,5742.3983756405805,5776.1580092405802,6049.6877678405808,6670.7882996405806,6919.38196524058]
[null,null,0,{"$f":"IF(C2059<>0,LOOKUP(,-CODE(C$3:C2059),C$3:C2059),D2058)","v":150},"150(360)-700",null,null,null,"700",360,315,6192.3861793855076,6511.285425785507,6550.6999393855076,6870.0470779855077,7595.1845497855084,7885.4186953855078]
[null,null,0,{"$f":"IF(C2060<>0,LOOKUP(,-CODE(C$3:C2060),C$3:C2060),D2059)","v":150},"150(360)-800",null,null,null,"800",360,315,6819.2185095304349,7183.8708759304345,7228.9402695304343,7594.1047881304348,8423.2791999304354,8755.1538255304349]
[null,null,0,{"$f":"IF(C2061<>0,LOOKUP(,-CODE(C$3:C2061),C$3:C2061),D2060)","v":150},"150(360)-900",null,null,null,"900",360,315,7562.8508396753623,7973.2563260753623,8023.9805996753621,8434.962498275363,9368.1738500753618,9741.6889556753631]
[null,null,null,{"$f":"IF(C2062<>0,LOOKUP(,-CODE(C$3:C2062),C$3:C2062),D2061)","v":150},"150(400)-450",null,null,null,"450",400,315,4822.8254024869566,5050.2568568869574,5078.3663624869569,5306.1172430869574,5823.2682608869563,6030.2564384869565]
[null,null,0,{"$f":"IF(C2063<>0,LOOKUP(,-CODE(C$3:C2063),C$3:C2063),D2062)","v":150},"150(400)-500",null,null,null,"500",400,315,5138.4492023420298,5391.3204167420299,5422.574162342029,5675.8005329420303,6250.7984207420295,6480.9396383420299]
[null,null,0,{"$f":"IF(C2064<>0,LOOKUP(,-CODE(C$3:C2064),C$3:C2064),D2063)","v":150},"150(400)-600",null,null,null,"600",400,315,5768.4704020521749,6072.2211364521736,6109.7633620521738,6413.9407126521746,7104.6323404521736,7381.0796380521733]
[null,null,0,{"$f":"IF(C2065<>0,LOOKUP(,-CODE(C$3:C2065),C$3:C2065),D2064)","v":150},"150(400)-700",null,null,null,"700",400,315,6538.3012017623187,6892.9314561623196,6936.762161762319,7291.8904923623195,8098.2758601623191,8421.0292377623191]
[null,null,0,{"$f":"IF(C2066<>0,LOOKUP(,-CODE(C$3:C2066),C$3:C2066),D2065)","v":150},"150(400)-800",null,null,null,"800",400,315,7211.8304014724636,7617.340175872464,7667.4593614724636,8073.5386720724637,8995.6177798724639,9364.6772374724642]
[null,null,0,{"$f":"IF(C2067<>0,LOOKUP(,-CODE(C$3:C2067),C$3:C2067),D2066)","v":150},"150(400)-900",null,null,null,"900",400,315,8002.1596011826095,8458.5488955826095,8514.9565611826092,8971.9868517826089,10009.75969958261,10425.125237182609]
[null,null,null,{"$f":"IF(C2068<>0,LOOKUP(,-CODE(C$3:C2068),C$3:C2068),D2067)","v":150},"150(460)-450",null,null,null,"450",460,315,5166.5846751826084,5428.3886415826091,5460.7464351826093,5722.9181037826093,6318.2279655826087,6556.4989911826087]
[null,null,0,{"$f":"IF(C2069<>0,LOOKUP(,-CODE(C$3:C2069),C$3:C2069),D2068)","v":150},"150(460)-500",null,null,null,"500",460,315,5517.2311272115949,5808.3196536115947,5844.2968872115944,6135.794245811594,6797.6935776115943,7062.6168432115946]
[null,null,0,{"$f":"IF(C2070<>0,LOOKUP(,-CODE(C$3:C2070),C$3:C2070),D2069)","v":150},"150(460)-600",null,null,null,"600",460,315,6217.2976312695655,6566.9552776695655,6610.171391269565,6960.3201298695658,7755.3984016695649,8073.626147269566]
[null,null,0,{"$f":"IF(C2071<>0,LOOKUP(,-CODE(C$3:C2071),C$3:C2071),D2070)","v":150},"150(460)-700",null,null,null,"700",460,315,7057.1737353275366,7465.4005017275376,7515.8554953275361,7924.6556139275363,8852.912825727537,9224.4450513275369]
[null,null,0,{"$f":"IF(C2072<>0,LOOKUP(,-CODE(C$3:C2072),C$3:C2072),D2071)","v":150},"150(460)-800",null,null,null,"800",460,315,7800.748239385508,8267.5441257855091,8325.2379993855066,8792.6894979855097,9854.1256497855065,10278.962355385509]
[null,null,0,{"$f":"IF(C2073<>0,LOOKUP(,-CODE(C$3:C2073),C$3:C2073),D2072)","v":150},"150(460)-900",null,null,null,"900",460,315,8661.1227434434786,9186.487749843478,9251.4205034434781,9777.5233820434787,10972.138473843479,11450.279659443479]
[null,null,null,{"$f":"IF(C2074<>0,LOOKUP(,-CODE(C$3:C2074),C$3:C2074),D2073)","v":150},"150(480)-450",null,null,null,"450",480,315,5281.1710994144933,5554.432569814493,5588.2064594144931,5861.8517240144938,6483.2145338144928,6731.9131754144928]
[null,null,0,{"$f":"IF(C2075<>0,LOOKUP(,-CODE(C$3:C2075),C$3:C2075),D2074)","v":150},"150(480)-500",null,null,null,"500",480,315,5643.4917688347832,5947.3193992347824,5984.8711288347831,6289.1254834347837,6979.9919632347828,7256.5092448347832]
[null,null,0,{"$f":"IF(C2076<>0,LOOKUP(,-CODE(C$3:C2076),C$3:C2076),D2075)","v":150},"150(480)-600",null,null,null,"600",480,315,6366.9067076753627,6731.8666580753634,6776.9740676753627,7142.4466022753622,7972.3204220753632,8304.4749836753635]
[null,null,0,{"$f":"IF(C2077<>0,LOOKUP(,-CODE(C$3:C2077),C$3:C2077),D2076)","v":150},"150(480)-700",null,null,null,"700",480,315,7230.1312465159426,7656.223516915943,7708.8866065159418,8135.5773211159431,9104.4584809159423,9492.2503225159417]
[null,null,0,{"$f":"IF(C2078<>0,LOOKUP(,-CODE(C$3:C2078),C$3:C2078),D2077)","v":150},"150(480)-800",null,null,null,"800",480,315,7997.0541853565219,8484.278775756522,8544.4975453565203,9032.4064399565214,10140.294939756521,10583.724061356523]
[null,null,0,{"$f":"IF(C2079<>0,LOOKUP(,-CODE(C$3:C2079),C$3:C2079),D2078)","v":150},"150(480)-900",null,null,null,"900",480,315,8880.7771241971022,9429.1340345971021,9496.9084841971016,10046.035558797103,11292.931398597102,11791.997800197103]
[null,"152",151,{"$f":"IF(C2080<>0,LOOKUP(,-CODE(C$3:C2080),C$3:C2080),D2079)","v":151},"151(360)-450","Шкафнастенныйоднодверный с посудосушителем (хром), открывание вверх,  Aventos HK",null,null,"450",360,315,6964.8620540231896,7169.3785004231886,7194.6558140231891,7399.4595026231891,7864.5046244231889,8050.6375700231893]
[null,null,null,{"$f":"IF(C2081<>0,LOOKUP(,-CODE(C$3:C2081),C$3:C2081),D2080)","v":151},"151(360)-500",null,null,null,"500",360,315,7257.1374190956521,7484.5304254956518,7512.6351790956523,7740.3475576956525,8257.4111494956524,8464.3643350956518]
[null,null,0,{"$f":"IF(C2082<>0,LOOKUP(,-CODE(C$3:C2082),C$3:C2082),D2081)","v":151},"151(360)-600",null,null,null,"600",360,315,7840.4617492405796,8113.6078756405805,8147.3675092405801,8420.8972678405808,9041.9977996405796,9290.5914652405809]
[null,null,0,{"$f":"IF(C2083<>0,LOOKUP(,-CODE(C$3:C2083),C$3:C2083),D2082)","v":151},"151(360)-700",null,null,null,"700",360,315,8563.5956793855075,8882.4949257855078,8921.9094393855066,9241.2565779855067,9966.3940497855074,10256.628195385507]
[null,null,0,{"$f":"IF(C2084<>0,LOOKUP(,-CODE(C$3:C2084),C$3:C2084),D2083)","v":151},"151(360)-800",null,null,null,"800",360,315,9190.4280095304348,9555.0803759304345,9600.1497695304352,9965.3142881304339,10794.488699930434,11126.363325530434]
[null,null,0,{"$f":"IF(C2085<>0,LOOKUP(,-CODE(C$3:C2085),C$3:C2085),D2084)","v":151},"151(360)-900",null,null,null,"900",360,315,9934.0603396753631,10344.465826075362,10395.190099675363,10806.171998275364,11739.383350075363,12112.898455675364]
[null,null,null,{"$f":"IF(C2086<>0,LOOKUP(,-CODE(C$3:C2086),C$3:C2086),D2085)","v":151},"151(400)-450",null,null,null,"450",400,315,7194.0349024869574,7421.4663568869573,7449.5758624869577,7677.3267430869573,8194.4777608869572,8401.4659384869574]
[null,null,0,{"$f":"IF(C2087<>0,LOOKUP(,-CODE(C$3:C2087),C$3:C2087),D2086)","v":151},"151(400)-500",null,null,null,"500",400,315,7509.6587023420288,7762.5299167420289,7793.7836623420299,8047.0100329420293,8622.0079207420295,8852.1491383420289]
[null,null,0,{"$f":"IF(C2088<>0,LOOKUP(,-CODE(C$3:C2088),C$3:C2088),D2087)","v":151},"151(400)-600",null,null,null,"600",400,315,8139.6799020521748,8443.4306364521744,8480.9728620521746,8785.1502126521736,9475.8418404521744,9752.2891380521742]
[null,null,0,{"$f":"IF(C2089<>0,LOOKUP(,-CODE(C$3:C2089),C$3:C2089),D2088)","v":151},"151(400)-700",null,null,null,"700",400,315,8909.5107017623195,9264.1409561623186,9307.971661762318,9663.0999923623185,10469.485360162318,10792.238737762318]
[null,null,0,{"$f":"IF(C2090<>0,LOOKUP(,-CODE(C$3:C2090),C$3:C2090),D2089)","v":151},"151(400)-800",null,null,null,"800",400,315,9583.0399014724626,9988.5496758724639,10038.668861472463,10444.748172072465,11366.827279872465,11735.886737472463]
[null,null,0,{"$f":"IF(C2091<>0,LOOKUP(,-CODE(C$3:C2091),C$3:C2091),D2090)","v":151},"151(400)-900",null,null,null,"900",400,315,10373.36910118261,10829.75839558261,10886.16606118261,11343.19635178261,12380.969199582611,12796.334737182609]
[null,null,null,{"$f":"IF(C2092<>0,LOOKUP(,-CODE(C$3:C2092),C$3:C2092),D2091)","v":151},"151(460)-450",null,null,null,"450",460,315,7537.7941751826093,7799.59814158261,7831.9559351826092,8094.1276037826092,8689.4374655826086,8927.7084911826096]
[null,null,0,{"$f":"IF(C2093<>0,LOOKUP(,-CODE(C$3:C2093),C$3:C2093),D2092)","v":151},"151(460)-500",null,null,null,"500",460,315,7888.4406272115939,8179.5291536115947,8215.5063872115934,8507.0037458115949,9168.9030776115942,9433.8263432115946]
[null,null,0,{"$f":"IF(C2094<>0,LOOKUP(,-CODE(C$3:C2094),C$3:C2094),D2093)","v":151},"151(460)-600",null,null,null,"600",460,315,8588.5071312695654,8938.1647776695663,8981.3808912695658,9331.5296298695648,10126.607901669566,10444.835647269567]
[null,null,0,{"$f":"IF(C2095<>0,LOOKUP(,-CODE(C$3:C2095),C$3:C2095),D2094)","v":151},"151(460)-700",null,null,null,"700",460,315,9956.8610219942038,10423.656908394205,10481.350781994202,10948.802280594206,12010.238432394202,12435.075137994205]
[null,null,0,{"$f":"IF(C2096<>0,LOOKUP(,-CODE(C$3:C2096),C$3:C2096),D2095)","v":151},"151(460)-800",null,null,null,"800",460,315,10171.957739385507,10638.753625785508,10696.447499385507,11163.898997985509,12225.335149785507,12650.171855385508]
[null,null,0,{"$f":"IF(C2097<>0,LOOKUP(,-CODE(C$3:C2097),C$3:C2097),D2096)","v":151},"151(460)-900",null,null,null,"900",460,315,11165.082243443478,11690.447249843479,11755.380003443479,12281.482882043478,13476.09797384348,13954.239159443479]
[null,null,null,{"$f":"IF(C2098<>0,LOOKUP(,-CODE(C$3:C2098),C$3:C2098),D2097)","v":151},"151(480)-450",null,null,null,"450",480,315,7652.3805994144932,7925.6420698144939,7959.415959414493,8233.0612240144947,8854.4240338144937,9103.1226754144936]
[null,null,0,{"$f":"IF(C2099<>0,LOOKUP(,-CODE(C$3:C2099),C$3:C2099),D2098)","v":151},"151(480)-500",null,null,null,"500",480,315,8014.7012688347822,8318.5288992347832,8356.0806288347831,8660.3349834347828,9351.2014632347837,9627.7187448347831]
[null,null,0,{"$f":"IF(C2100<>0,LOOKUP(,-CODE(C$3:C2100),C$3:C2100),D2099)","v":151},"151(480)-600",null,null,null,"600",480,315,8738.1162076753626,9103.0761580753624,9148.1835676753617,9513.6561022753631,10343.529922075362,10675.684483675363]
[null,null,0,{"$f":"IF(C2101<>0,LOOKUP(,-CODE(C$3:C2101),C$3:C2101),D2100)","v":151},"151(480)-700",null,null,null,"700",480,315,9601.3407465159416,10027.433016915942,10080.096106515943,10506.786821115942,11475.667980915943,11863.459822515943]
[null,null,0,{"$f":"IF(C2102<>0,LOOKUP(,-CODE(C$3:C2102),C$3:C2102),D2101)","v":151},"151(480)-800",null,null,null,"800",480,315,10368.263685356522,10855.488275756521,10915.707045356521,11403.615939956522,12511.504439756522,12954.933561356522]
[null,null,0,{"$f":"IF(C2103<>0,LOOKUP(,-CODE(C$3:C2103),C$3:C2103),D2102)","v":151},"151(480)-900",null,null,null,"900",480,315,11384.736624197103,11933.093534597101,12000.867984197102,12549.995058797103,13796.890898597103,14295.957300197104]
[null,"153",152,{"$f":"IF(C2104<>0,LOOKUP(,-CODE(C$3:C2104),C$3:C2104),D2103)","v":152},"152(360)-450","Шкафнастенныйоднодверный с посудосушителем (хром), открывание вверх,Aventos HS",null,null,"450",360,315,10081.166054023188,10285.682500423189,10310.959814023188,10515.763502623187,10980.808624423189,11166.941570023188]
[null,null,null,{"$f":"IF(C2105<>0,LOOKUP(,-CODE(C$3:C2105),C$3:C2105),D2104)","v":152},"152(360)-500",null,null,null,"500",360,315,10373.441419095652,10600.834425495652,10628.939179095652,10856.651557695652,11373.715149495652,11580.668335095652]
[null,null,0,{"$f":"IF(C2106<>0,LOOKUP(,-CODE(C$3:C2106),C$3:C2106),D2105)","v":152},"152(360)-600",null,null,null,"600",360,315,10956.76574924058,11229.911875640579,11263.671509240579,11537.201267840579,12158.30179964058,12406.895465240579]
[null,null,0,{"$f":"IF(C2107<>0,LOOKUP(,-CODE(C$3:C2107),C$3:C2107),D2106)","v":152},"152(360)-700",null,null,null,"700",360,315,11695.649679385506,12014.548925785506,12053.963439385507,12373.310577985507,13098.448049785507,13388.682195385507]
[null,null,0,{"$f":"IF(C2108<>0,LOOKUP(,-CODE(C$3:C2108),C$3:C2108),D2107)","v":152},"152(360)-800",null,null,null,"800",360,315,12322.482009530435,12687.134375930435,12732.203769530435,13097.368288130434,13926.542699930435,14258.417325530434]
[null,null,0,{"$f":"IF(C2109<>0,LOOKUP(,-CODE(C$3:C2109),C$3:C2109),D2108)","v":152},"152(360)-900",null,null,null,"900",360,315,13066.114339675361,13476.519826075362,13527.244099675361,13938.225998275362,14871.437350075361,15244.952455675362]
[null,null,null,{"$f":"IF(C2110<>0,LOOKUP(,-CODE(C$3:C2110),C$3:C2110),D2109)","v":152},"152(400)-450",null,null,null,"450",400,315,10310.338902486956,10537.770356886955,10565.879862486956,10793.630743086956,11310.781760886955,11517.769938486956]
[null,null,0,{"$f":"IF(C2111<>0,LOOKUP(,-CODE(C$3:C2111),C$3:C2111),D2110)","v":152},"152(400)-500",null,null,null,"500",400,315,10625.962702342027,10878.833916742027,10910.087662342028,11163.314032942028,11738.311920742028,11968.453138342027]
[null,null,0,{"$f":"IF(C2112<>0,LOOKUP(,-CODE(C$3:C2112),C$3:C2112),D2111)","v":152},"152(400)-600",null,null,null,"600",400,315,11271.733902052174,11575.484636452173,11613.026862052175,11917.204212652174,12607.895840452173,12884.343138052172]
[null,null,0,{"$f":"IF(C2113<>0,LOOKUP(,-CODE(C$3:C2113),C$3:C2113),D2112)","v":152},"152(400)-700",null,null,null,"700",400,315,12041.564701762316,12396.194956162317,12440.025661762316,12795.153992362317,13601.539360162318,13924.292737762316]
[null,null,0,{"$f":"IF(C2114<>0,LOOKUP(,-CODE(C$3:C2114),C$3:C2114),D2113)","v":152},"152(400)-800",null,null,null,"800",400,315,12715.093901472463,13120.603675872464,13170.722861472463,13576.802172072465,14498.881279872465,14867.940737472463]
[null,null,0,{"$f":"IF(C2115<>0,LOOKUP(,-CODE(C$3:C2115),C$3:C2115),D2114)","v":152},"152(400)-900",null,null,null,"900",400,315,13505.423101182609,13961.812395582609,14018.220061182608,14475.250351782608,15513.023199582611,15928.388737182609]
[null,null,null,{"$f":"IF(C2116<>0,LOOKUP(,-CODE(C$3:C2116),C$3:C2116),D2115)","v":152},"152(460)-450",null,null,null,"450",460,315,10669.848175182608,10931.652141582608,10964.009935182607,11226.181603782607,11821.491465582607,12059.762491182608]
[null,null,0,{"$f":"IF(C2117<>0,LOOKUP(,-CODE(C$3:C2117),C$3:C2117),D2116)","v":152},"152(460)-500",null,null,null,"500",460,315,11020.494627211594,11311.583153611595,11347.560387211593,11639.057745811593,12300.957077611594,12565.880343211593]
[null,null,0,{"$f":"IF(C2118<>0,LOOKUP(,-CODE(C$3:C2118),C$3:C2118),D2117)","v":152},"152(460)-600",null,null,null,"600",460,315,11720.561131269564,12070.218777669565,12113.434891269564,12463.583629869565,13258.661901669564,13576.889647269563]
[null,null,0,{"$f":"IF(C2119<>0,LOOKUP(,-CODE(C$3:C2119),C$3:C2119),D2118)","v":152},"152(460)-700",null,null,null,"700",460,315,12560.437235327536,12968.664001727535,13019.118995327535,13427.919113927535,14356.176325727534,14727.708551327536]
[null,null,0,{"$f":"IF(C2120<>0,LOOKUP(,-CODE(C$3:C2120),C$3:C2120),D2119)","v":152},"152(460)-800",null,null,null,"800",460,315,13304.011739385507,13770.807625785506,13828.501499385506,14295.952997985507,15357.389149785506,15782.225855385506]
[null,null,0,{"$f":"IF(C2121<>0,LOOKUP(,-CODE(C$3:C2121),C$3:C2121),D2120)","v":152},"152(460)-900",null,null,null,"900",460,315,14164.386243443478,14689.751249843479,14754.684003443479,15280.786882043478,16475.40197384348,16953.543159443478]
[null,null,null,{"$f":"IF(C2122<>0,LOOKUP(,-CODE(C$3:C2122),C$3:C2122),D2121)","v":152},"152(480)-450",null,null,null,"450",480,315,10784.434599414493,11057.696069814494,11091.469959414493,11365.115224014493,11986.478033814492,12235.176675414492]
[null,null,0,{"$f":"IF(C2123<>0,LOOKUP(,-CODE(C$3:C2123),C$3:C2123),D2122)","v":152},"152(480)-500",null,null,null,"500",480,315,11146.755268834781,11450.582899234782,11488.134628834781,11792.388983434781,12483.255463234782,12759.772744834781]
[null,null,0,{"$f":"IF(C2124<>0,LOOKUP(,-CODE(C$3:C2124),C$3:C2124),D2123)","v":152},"152(480)-600",null,null,null,"600",480,315,11870.170207675361,12235.130158075361,12280.237567675362,12645.710102275361,13475.583922075362,13807.738483675363]
[null,null,0,{"$f":"IF(C2125<>0,LOOKUP(,-CODE(C$3:C2125),C$3:C2125),D2124)","v":152},"152(480)-700",null,null,null,"700",480,315,12733.39474651594,13159.48701691594,13212.150106515941,13638.84082111594,14607.721980915941,14995.513822515941]
[null,null,0,{"$f":"IF(C2126<>0,LOOKUP(,-CODE(C$3:C2126),C$3:C2126),D2125)","v":152},"152(480)-800",null,null,null,"800",480,315,13500.31768535652,13987.542275756521,14047.761045356521,14535.66993995652,15643.558439756522,16086.98756135652]
[null,null,0,{"$f":"IF(C2127<>0,LOOKUP(,-CODE(C$3:C2127),C$3:C2127),D2126)","v":152},"152(480)-900",null,null,null,"900",480,315,14384.040624197103,14932.397534597101,15000.171984197103,15549.299058797103,16796.194898597103,17295.261300197104]
[null,"154",153,{"$f":"IF(C2128<>0,LOOKUP(,-CODE(C$3:C2128),C$3:C2128),D2127)","v":153},"153(360)-450","Шкаф настенный однодверный с посудосушителем (хром) со стеклом, открывание вверх, газ-лифт",null,null,"450",360,315,4548.4099680231884,4753.2136566231884,4753.7881410231885,4958.5918296231885,5350.1029482231888,5536.2358938231891]
[null,null,null,{"$f":"IF(C2129<>0,LOOKUP(,-CODE(C$3:C2129),C$3:C2129),D2128)","v":153},"153(360)-500",null,null,null,"500",360,315,4839.5534330956525,5067.2658116956527,5067.904556095652,5295.6169346956531,5730.9212432956529,5937.8744288956523]
[null,null,0,{"$f":"IF(C2130<>0,LOOKUP(,-CODE(C$3:C2130),C$3:C2130),D2129)","v":153},"153(360)-600",null,null,null,"600",360,315,5420.6139632405802,5694.1437218405799,5694.9109862405803,5968.4407448405809,6491.3314334405804,6739.9250990405808]
[null,null,0,{"$f":"IF(C2131<>0,LOOKUP(,-CODE(C$3:C2131),C$3:C2131),D2130)","v":153},"153(360)-700",null,null,null,"700",360,315,6141.4840933855075,6460.8312319855077,6461.7270163855073,6781.0741549855074,7391.5512235855076,7681.785369185508]
[null,null,0,{"$f":"IF(C2132<>0,LOOKUP(,-CODE(C$3:C2132),C$3:C2132),D2131)","v":153},"153(360)-800",null,null,null,"800",360,315,6766.0526235304351,7131.2171421304347,7132.2414465304346,7497.4059651304351,8195.4694137304341,8527.3440393304336]
[null,null,0,{"$f":"IF(C2133<>0,LOOKUP(,-CODE(C$3:C2133),C$3:C2133),D2132)","v":153},"153(360)-900",null,null,null,"900",360,315,7507.4211536753628,7918.4030522753628,7919.5558766753629,8330.5377752753611,9116.1876038753617,9489.7027094753612]
[null,null,null,{"$f":"IF(C2134<>0,LOOKUP(,-CODE(C$3:C2134),C$3:C2134),D2133)","v":153},"153(400)-450",null,null,null,"450",400,315,4777.8868964869571,5005.6377770869576,5006.2766294869571,5234.0275100869576,5669.4054206869578,5876.3935982869571]
[null,null,0,{"$f":"IF(C2135<>0,LOOKUP(,-CODE(C$3:C2135),C$3:C2135),D2134)","v":153},"153(400)-500",null,null,null,"500",400,315,5093.0507963420287,5346.2771669420299,5346.9874793420295,5600.2138499420298,6084.2917505420291,6314.4329681420295]
[null,null,0,{"$f":"IF(C2136<>0,LOOKUP(,-CODE(C$3:C2136),C$3:C2136),D2135)","v":153},"153(400)-600",null,null,null,"600",400,315,5722.152196052175,6026.329546652174,6027.1827790521747,6331.3601296521738,6912.8380102521742,7189.2853078521739]
[null,null,0,{"$f":"IF(C2137<>0,LOOKUP(,-CODE(C$3:C2137),C$3:C2137),D2136)","v":153},"153(400)-700",null,null,null,"700",400,315,6491.0631957623191,6846.1915263623187,6847.1876787623196,7202.3160093623183,7881.1938699623188,8203.9472475623188]
[null,null,0,{"$f":"IF(C2138<>0,LOOKUP(,-CODE(C$3:C2138),C$3:C2138),D2137)","v":153},"153(400)-800",null,null,null,"800",400,315,7163.6725954724643,7569.7519060724644,7570.8909784724638,7976.9702890724639,8753.2481296724636,9122.3075872724639]
[null,null,0,{"$f":"IF(C2139<>0,LOOKUP(,-CODE(C$3:C2139),C$3:C2139),D2138)","v":153},"153(400)-900",null,null,null,"900",400,315,7953.0819951826097,8410.1122857826103,8411.3942781826099,8868.4245687826096,9742.1023893826095,10157.46792698261]
[null,null,null,{"$f":"IF(C2140<>0,LOOKUP(,-CODE(C$3:C2140),C$3:C2140),D2139)","v":153},"153(460)-450",null,null,null,"450",460,315,5122.1022891826087,5384.2739577826087,5385.009362182609,5647.181030782609,6148.3591293826084,6386.6301549826094]
[null,null,0,{"$f":"IF(C2141<>0,LOOKUP(,-CODE(C$3:C2141),C$3:C2141),D2140)","v":153},"153(460)-500",null,null,null,"500",460,315,5473.2968412115943,5764.7941998115948,5765.6118642115953,6057.1092228115949,6614.3475114115945,6879.2707770115949]
[null,null,0,{"$f":"IF(C2142<>0,LOOKUP(,-CODE(C$3:C2142),C$3:C2142),D2141)","v":153},"153(460)-600",null,null,null,"600",460,315,6174.4595452695658,6524.6082838695656,6525.5904682695664,6875.7392068695654,7545.0978754695652,7863.3256210695663]
[null,null,0,{"$f":"IF(C2143<>0,LOOKUP(,-CODE(C$3:C2143),C$3:C2143),D2142)","v":153},"153(460)-700",null,null,null,"700",460,315,7015.4318493275368,7424.2319679275361,7425.3786723275362,7834.1787909275372,8615.6578395275374,8987.1900651275373]
[null,null,0,{"$f":"IF(C2144<>0,LOOKUP(,-CODE(C$3:C2144),C$3:C2144),D2143)","v":153},"153(460)-800",null,null,null,"800",460,315,7760.1025533855081,8227.5540519855076,8228.865276385508,8696.3167749855093,9589.9162035855079,10014.752909185509]
[null,null,0,{"$f":"IF(C2145<>0,LOOKUP(,-CODE(C$3:C2145),C$3:C2145),D2144)","v":153},"153(460)-900",null,null,null,"900",460,315,8621.5732574434787,9147.6761360434775,9149.1518804434781,9675.2547590434788,10680.974567643478,11159.115753243479]
[null,null,null,{"$f":"IF(C2146<>0,LOOKUP(,-CODE(C$3:C2146),C$3:C2146),D2145)","v":153},"153(480)-450",null,null,null,"450",480,315,5236.8407534144935,5510.4860180144933,5511.2536064144933,5784.8988710144931,6308.0103656144938,6556.7090072144929]
[null,null,0,{"$f":"IF(C2147<>0,LOOKUP(,-CODE(C$3:C2147),C$3:C2147),D2146)","v":153},"153(480)-500",null,null,null,"500",480,315,5600.0455228347828,5904.2998774347825,5905.1533258347827,6209.4076804347824,6791.0327650347826,7067.5500466347821]
[null,null,0,{"$f":"IF(C2148<>0,LOOKUP(,-CODE(C$3:C2148),C$3:C2148),D2147)","v":153},"153(480)-600",null,null,null,"600",480,315,6325.2286616753627,6690.7011962753631,6691.7263646753627,7057.1988992753631,7755.8511638753625,8088.0057254753629]
[null,null,0,{"$f":"IF(C2149<>0,LOOKUP(,-CODE(C$3:C2149),C$3:C2149),D2148)","v":153},"153(480)-700",null,null,null,"700",480,315,7190.2214005159431,7616.9121151159434,7618.1090035159432,8044.7997181159426,8860.4791627159429,9248.2710043159441]
[null,null,0,{"$f":"IF(C2150<>0,LOOKUP(,-CODE(C$3:C2150),C$3:C2150),D2149)","v":153},"153(480)-800",null,null,null,"800",480,315,7958.9125393565218,8446.821433956522,8448.1900423565221,8936.0989369565214,9868.8055615565227,10312.234683156523]
[null,null,0,{"$f":"IF(C2151<>0,LOOKUP(,-CODE(C$3:C2151),C$3:C2151),D2150)","v":153},"153(480)-900",null,null,null,"900",480,315,8844.4036781971026,9393.5307527971036,9395.0710811971039,9944.198155797103,10993.931960397103,11492.998361997103]
[null,"155",154,{"$f":"IF(C2152<>0,LOOKUP(,-CODE(C$3:C2152),C$3:C2152),D2151)","v":154},"154(360)-450","Шкафнастенныйоднодверный с посудосушителем (хром) со стеклом, открывание вверх, Aventos HK",null,null,"450",360,315,6919.6194680231883,7124.4231566231892,7124.9976410231893,7329.8013296231884,7721.3124482231879,7907.4453938231882]
[null,null,null,{"$f":"IF(C2153<>0,LOOKUP(,-CODE(C$3:C2153),C$3:C2153),D2152)","v":154},"154(360)-500",null,null,null,"500",360,315,7210.7629330956524,7438.4753116956526,7439.1140560956528,7666.8264346956521,8102.1307432956519,8309.083928895654]
[null,null,0,{"$f":"IF(C2154<>0,LOOKUP(,-CODE(C$3:C2154),C$3:C2154),D2153)","v":154},"154(360)-600",null,null,null,"600",360,315,7791.8234632405793,8065.353221840579,8066.1204862405793,8339.6502448405809,8862.5409334405813,9111.1345990405807]
[null,null,0,{"$f":"IF(C2155<>0,LOOKUP(,-CODE(C$3:C2155),C$3:C2155),D2154)","v":154},"154(360)-700",null,null,null,"700",360,315,8512.6935933855075,8832.0407319855076,8832.9365163855073,9152.2836549855074,9762.7607235855066,10052.994869185508]
[null,null,0,{"$f":"IF(C2156<>0,LOOKUP(,-CODE(C$3:C2156),C$3:C2156),D2155)","v":154},"154(360)-800",null,null,null,"800",360,315,9137.2621235304341,9502.4266421304346,9503.4509465304345,9868.6154651304332,10566.678913730435,10898.553539330433]
[null,null,0,{"$f":"IF(C2157<>0,LOOKUP(,-CODE(C$3:C2157),C$3:C2157),D2156)","v":154},"154(360)-900",null,null,null,"900",360,315,9878.6306536753636,10289.612552275363,10290.765376675363,10701.747275275362,11487.397103875363,11860.912209475364]
[null,null,null,{"$f":"IF(C2158<>0,LOOKUP(,-CODE(C$3:C2158),C$3:C2158),D2157)","v":154},"154(400)-450",null,null,null,"450",400,315,7149.0963964869561,7376.8472770869566,7377.4861294869561,7605.2370100869566,8040.6149206869568,8247.6030982869579]
[null,null,0,{"$f":"IF(C2159<>0,LOOKUP(,-CODE(C$3:C2159),C$3:C2159),D2158)","v":154},"154(400)-500",null,null,null,"500",400,315,7464.2602963420295,7717.4866669420298,7718.1969793420294,7971.4233499420297,8455.5012505420291,8685.6424681420285]
[null,null,0,{"$f":"IF(C2160<>0,LOOKUP(,-CODE(C$3:C2160),C$3:C2160),D2159)","v":154},"154(400)-600",null,null,null,"600",400,315,8093.3616960521749,8397.5390466521749,8398.3922790521756,8702.5696296521746,9284.0475102521741,9560.4948078521738]
[null,null,0,{"$f":"IF(C2161<>0,LOOKUP(,-CODE(C$3:C2161),C$3:C2161),D2160)","v":154},"154(400)-700",null,null,null,"700",400,315,8862.2726957623199,9217.4010263623186,9218.3971787623195,9573.5255093623182,10252.403369962318,10575.15674756232]
[null,null,0,{"$f":"IF(C2162<>0,LOOKUP(,-CODE(C$3:C2162),C$3:C2162),D2161)","v":154},"154(400)-800",null,null,null,"800",400,315,9534.8820954724633,9940.9614060724634,9942.1004784724628,10348.179789072465,11124.457629672464,11493.517087272465]
[null,null,0,{"$f":"IF(C2163<>0,LOOKUP(,-CODE(C$3:C2163),C$3:C2163),D2162)","v":154},"154(400)-900",null,null,null,"900",400,315,10324.29149518261,10781.321785782611,10782.603778182611,11239.63406878261,12113.311889382609,12528.677426982611]
[null,null,null,{"$f":"IF(C2164<>0,LOOKUP(,-CODE(C$3:C2164),C$3:C2164),D2163)","v":154},"154(460)-450",null,null,null,"450",460,315,7493.3117891826096,7755.4834577826095,7756.218862182609,8018.3905307826099,8519.5686293826093,8757.8396549826102]
[null,null,0,{"$f":"IF(C2165<>0,LOOKUP(,-CODE(C$3:C2165),C$3:C2165),D2164)","v":154},"154(460)-500",null,null,null,"500",460,315,7844.5063412115942,8136.0036998115947,8136.8213642115943,8428.318722811593,8985.5570114115944,9250.480277011593]
[null,null,0,{"$f":"IF(C2166<>0,LOOKUP(,-CODE(C$3:C2166),C$3:C2166),D2165)","v":154},"154(460)-600",null,null,null,"600",460,315,8545.6690452695657,8895.8177838695665,8896.7999682695663,9246.9487068695671,9916.3073754695652,10234.535121069566]
[null,null,0,{"$f":"IF(C2167<>0,LOOKUP(,-CODE(C$3:C2167),C$3:C2167),D2166)","v":154},"154(460)-700",null,null,null,"700",460,315,9386.6413493275377,9795.441467927536,9796.5881723275361,10205.388290927536,10986.867339527536,11358.399565127536]
[null,null,0,{"$f":"IF(C2168<>0,LOOKUP(,-CODE(C$3:C2168),C$3:C2168),D2167)","v":154},"154(460)-800",null,null,null,"800",460,315,10131.312053385507,10598.763551985508,10600.074776385509,11067.526274985508,11961.125703585509,12385.962409185508]
[null,null,0,{"$f":"IF(C2169<>0,LOOKUP(,-CODE(C$3:C2169),C$3:C2169),D2168)","v":154},"154(460)-900",null,null,null,"900",460,315,11125.53275744348,11651.635636043478,11653.111380443477,12179.21425904348,13184.934067643479,13663.075253243478]
[null,null,null,{"$f":"IF(C2170<>0,LOOKUP(,-CODE(C$3:C2170),C$3:C2170),D2169)","v":154},"154(480)-450",null,null,null,"450",480,315,7608.0502534144935,7881.6955180144932,7882.4631064144933,8156.1083710144931,8679.2198656144919,8927.9185072144919]
[null,null,0,{"$f":"IF(C2171<>0,LOOKUP(,-CODE(C$3:C2171),C$3:C2171),D2170)","v":154},"154(480)-500",null,null,null,"500",480,315,7971.2550228347827,8275.5093774347824,8276.3628258347835,8580.6171804347832,9162.2422650347835,9438.759546634783]
[null,null,0,{"$f":"IF(C2172<>0,LOOKUP(,-CODE(C$3:C2172),C$3:C2172),D2171)","v":154},"154(480)-600",null,null,null,"600",480,315,8696.4381616753635,9061.9106962753631,9062.9358646753626,9428.408399275364,10127.060663875363,10459.215225475364]
[null,null,0,{"$f":"IF(C2173<>0,LOOKUP(,-CODE(C$3:C2173),C$3:C2173),D2172)","v":154},"154(480)-700",null,null,null,"700",480,315,9561.430900515943,9988.1216151159424,9989.3185035159422,10416.009218115942,11231.688662715942,11619.480504315943]
[null,null,0,{"$f":"IF(C2174<>0,LOOKUP(,-CODE(C$3:C2174),C$3:C2174),D2173)","v":154},"154(480)-800",null,null,null,"800",480,315,10330.122039356522,10818.030933956523,10819.399542356523,11307.30843695652,12240.015061556522,12683.444183156522]
[null,null,0,{"$f":"IF(C2175<>0,LOOKUP(,-CODE(C$3:C2175),C$3:C2175),D2174)","v":154},"154(480)-900",null,null,null,"900",480,315,11348.363178197102,11897.490252797103,11899.030581197103,12448.157655797102,13497.891460397102,13996.957861997103]
[null,"156",155,{"$f":"IF(C2176<>0,LOOKUP(,-CODE(C$3:C2176),C$3:C2176),D2175)","v":155},"155(360)-450","Шкафнастенныйоднодверный с посудосушителем (хром) со стеклом, открывание вверх, Aventos HS",null,null,"450",360,315,10035.923468023189,10240.72715662319,10241.30164102319,10446.105329623189,10837.616448223189,11023.749393823189]
[null,null,null,{"$f":"IF(C2177<>0,LOOKUP(,-CODE(C$3:C2177),C$3:C2177),D2176)","v":155},"155(360)-500",null,null,null,"500",360,315,10327.066933095652,10554.779311695653,10555.418056095652,10783.130434695653,11218.434743295653,11425.387928895652]
[null,null,0,{"$f":"IF(C2178<>0,LOOKUP(,-CODE(C$3:C2178),C$3:C2178),D2177)","v":155},"155(360)-600",null,null,null,"600",360,315,10908.12746324058,11181.65722184058,11182.424486240579,11455.954244840581,11978.844933440581,12227.438599040581]
[null,null,0,{"$f":"IF(C2179<>0,LOOKUP(,-CODE(C$3:C2179),C$3:C2179),D2178)","v":155},"155(360)-700",null,null,null,"700",360,315,11644.747593385506,11964.094731985508,11964.990516385507,12284.337654985506,12894.814723585507,13185.048869185506]
[null,null,0,{"$f":"IF(C2180<>0,LOOKUP(,-CODE(C$3:C2180),C$3:C2180),D2179)","v":155},"155(360)-800",null,null,null,"800",360,315,12269.316123530432,12634.480642130433,12635.504946530433,13000.669465130431,13698.732913730431,14030.607539330433]
[null,null,0,{"$f":"IF(C2181<>0,LOOKUP(,-CODE(C$3:C2181),C$3:C2181),D2180)","v":155},"155(360)-900",null,null,null,"900",360,315,13010.684653675362,13421.666552275361,13422.819376675361,13833.801275275362,14619.451103875361,14992.96620947536]
[null,null,null,{"$f":"IF(C2182<>0,LOOKUP(,-CODE(C$3:C2182),C$3:C2182),D2181)","v":155},"155(400)-450",null,null,null,"450",400,315,10265.400396486957,10493.151277086956,10493.790129486957,10721.541010086956,11156.918920686956,11363.907098286956]
[null,null,0,{"$f":"IF(C2183<>0,LOOKUP(,-CODE(C$3:C2183),C$3:C2183),D2182)","v":155},"155(400)-500",null,null,null,"500",400,315,10580.564296342029,10833.790666942028,10834.500979342029,11087.727349942028,11571.805250542027,11801.946468142029]
[null,null,0,{"$f":"IF(C2184<>0,LOOKUP(,-CODE(C$3:C2184),C$3:C2184),D2183)","v":155},"155(400)-600",null,null,null,"600",400,315,11225.415696052172,11529.593046652173,11530.446279052172,11834.623629652173,12416.101510252172,12692.548807852172]
[null,null,0,{"$f":"IF(C2185<>0,LOOKUP(,-CODE(C$3:C2185),C$3:C2185),D2184)","v":155},"155(400)-700",null,null,null,"700",400,315,11994.326695762318,12349.455026362317,12350.451178762318,12705.579509362318,13384.457369962318,13707.210747562318]
[null,null,0,{"$f":"IF(C2186<>0,LOOKUP(,-CODE(C$3:C2186),C$3:C2186),D2185)","v":155},"155(400)-800",null,null,null,"800",400,315,12666.936095472462,13073.015406072462,13074.154478472461,13480.233789072461,14256.511629672461,14625.571087272461]
[null,null,0,{"$f":"IF(C2187<>0,LOOKUP(,-CODE(C$3:C2187),C$3:C2187),D2186)","v":155},"155(400)-900",null,null,null,"900",400,315,13456.345495182612,13913.375785782611,13914.657778182611,14371.688068782611,15245.36588938261,15660.731426982611]
[null,null,null,{"$f":"IF(C2188<>0,LOOKUP(,-CODE(C$3:C2188),C$3:C2188),D2187)","v":155},"155(460)-450",null,null,null,"450",460,315,10625.36578918261,10887.53745778261,10888.27286218261,11150.44453078261,11651.622629382609,11889.89365498261]
[null,null,0,{"$f":"IF(C2189<>0,LOOKUP(,-CODE(C$3:C2189),C$3:C2189),D2188)","v":155},"155(460)-500",null,null,null,"500",460,315,10976.560341211592,11268.057699811594,11268.875364211593,11560.372722811593,12117.611011411593,12382.534277011593]
[null,null,0,{"$f":"IF(C2190<>0,LOOKUP(,-CODE(C$3:C2190),C$3:C2190),D2189)","v":155},"155(460)-600",null,null,null,"600",460,315,11677.723045269566,12027.871783869565,12028.853968269566,12379.002706869565,13048.361375469565,13366.589121069566]
[null,null,0,{"$f":"IF(C2191<>0,LOOKUP(,-CODE(C$3:C2191),C$3:C2191),D2190)","v":155},"155(460)-700",null,null,null,"700",460,315,12518.695349327538,12927.495467927536,12928.642172327536,13337.442290927536,14118.921339527536,14490.453565127536]
[null,null,0,{"$f":"IF(C2192<>0,LOOKUP(,-CODE(C$3:C2192),C$3:C2192),D2191)","v":155},"155(460)-800",null,null,null,"800",460,315,13263.366053385507,13730.817551985507,13732.128776385507,14199.580274985507,15093.179703585509,15518.016409185508]
[null,null,0,{"$f":"IF(C2193<>0,LOOKUP(,-CODE(C$3:C2193),C$3:C2193),D2192)","v":155},"155(460)-900",null,null,null,"900",460,315,14124.83675744348,14650.939636043478,14652.415380443477,15178.51825904348,16184.238067643479,16662.379253243475]
[null,null,null,{"$f":"IF(C2194<>0,LOOKUP(,-CODE(C$3:C2194),C$3:C2194),D2193)","v":155},"155(480)-450",null,null,null,"450",480,315,10740.104253414493,11013.749518014492,11014.517106414492,11288.162371014492,11811.273865614492,12059.972507214492]
[null,null,0,{"$f":"IF(C2195<>0,LOOKUP(,-CODE(C$3:C2195),C$3:C2195),D2194)","v":155},"155(480)-500",null,null,null,"500",480,315,11103.309022834783,11407.563377434783,11408.416825834782,11712.671180434783,12294.296265034782,12570.813546634781]
[null,null,0,{"$f":"IF(C2196<>0,LOOKUP(,-CODE(C$3:C2196),C$3:C2196),D2195)","v":155},"155(480)-600",null,null,null,"600",480,315,11828.492161675364,12193.964696275363,12194.989864675363,12560.462399275364,13259.114663875363,13591.269225475364]
[null,null,0,{"$f":"IF(C2197<>0,LOOKUP(,-CODE(C$3:C2197),C$3:C2197),D2196)","v":155},"155(480)-700",null,null,null,"700",480,315,12693.484900515941,13120.175615115942,13121.37250351594,13548.063218115942,14363.74266271594,14751.534504315943]
[null,null,0,{"$f":"IF(C2198<>0,LOOKUP(,-CODE(C$3:C2198),C$3:C2198),D2197)","v":155},"155(480)-800",null,null,null,"800",480,315,13462.176039356522,13950.084933956523,13951.453542356523,14439.36243695652,15372.069061556522,15815.498183156522]
[null,null,0,{"$f":"IF(C2199<>0,LOOKUP(,-CODE(C$3:C2199),C$3:C2199),D2198)","v":155},"155(480)-900",null,null,null,"900",480,315,14347.667178197102,14896.794252797103,14898.334581197101,15447.461655797102,16497.195460397103,16996.261861997104]
[null,"157",156,{"$f":"IF(C2200<>0,LOOKUP(,-CODE(C$3:C2200),C$3:C2200),D2199)","v":156},"156(720)-450","Шкафнастенныйдвухдверный с посудосушителем (хром), открывание вверх, газ-лифт",null,null,"450",720,315,7370.2288179304351,7779.2617107304341,7829.8163379304351,8239.4237151304351,9169.5139587304348,9541.7798499304354]
[null,null,null,{"$f":"IF(C2201<>0,LOOKUP(,-CODE(C$3:C2201),C$3:C2201),D2200)","v":156},"156(720)-500",null,null,null,"500",720,315,7883.2819893797096,8338.0680021797089,8394.27750937971,8849.7022665797103,9883.82945017971,10297.735821379711]
[null,null,0,{"$f":"IF(C2202<>0,LOOKUP(,-CODE(C$3:C2202),C$3:C2202),D2201)","v":156},"156(720)-600",null,null,null,"600",720,315,8908.1619322782608,9454.4541850782607,9521.9734522782619,10069.032969478261,11311.234033078263,11808.421364278262]
[null,null,0,{"$f":"IF(C2203<>0,LOOKUP(,-CODE(C$3:C2203),C$3:C2203),D2202)","v":156},"156(720)-700",null,null,null,"700",720,315,10072.851475176813,10710.649967976813,10789.478995176813,11428.173272376811,12878.448215976812,13458.916507176815]
[null,null,0,{"$f":"IF(C2204<>0,LOOKUP(,-CODE(C$3:C2204),C$3:C2204),D2203)","v":156},"156(720)-800",null,null,null,"800",720,315,11141.239418075362,11870.544150875361,11960.682938075362,12691.011975275362,14349.360798875363,15013.110050075362]
[null,null,0,{"$f":"IF(C2205<>0,LOOKUP(,-CODE(C$3:C2205),C$3:C2205),D2204)","v":156},"156(720)-900",null,null,null,"900",720,315,12326.427360973914,13147.238333773912,13248.686880973914,14070.650678173914,15937.073381773913,16684.103592973916]
[null,null,null,{"$f":"IF(C2206<>0,LOOKUP(,-CODE(C$3:C2206),C$3:C2206),D2205)","v":156},"156(800)-450",null,null,null,"450",800,315,7828.5745148579717,8283.4374236579715,8339.6564348579723,8795.1581960579715,9829.4602316579712,10243.436586857972]
[null,null,0,{"$f":"IF(C2207<>0,LOOKUP(,-CODE(C$3:C2207),C$3:C2207),D2206)","v":156},"156(800)-500",null,null,null,"500",800,315,8388.3245558724648,8894.066984672465,8956.574475872465,9463.0272170724656,10613.022992672464,11073.305427872465]
[null,null,0,{"$f":"IF(C2208<>0,LOOKUP(,-CODE(C$3:C2208),C$3:C2208),D2207)","v":156},"156(800)-600",null,null,null,"600",800,315,9506.5982379014495,10114.099706701449,10189.184157901449,10797.538859101449,12178.922114701449,12731.816709901448]
[null,null,0,{"$f":"IF(C2209<>0,LOOKUP(,-CODE(C$3:C2209),C$3:C2209),D2208)","v":156},"156(800)-700",null,null,null,"700",800,315,10764.681519930435,11473.942028730435,11561.603439930434,12271.860101130434,13884.630836730435,14530.137591930434]
[null,null,0,{"$f":"IF(C2210<>0,LOOKUP(,-CODE(C$3:C2210),C$3:C2210),D2209)","v":156},"156(800)-800",null,null,null,"800",800,315,11926.463201959421,12737.48275075942,12837.721121959421,13649.879743159421,15494.037958759422,16232.15687395942]
[null,null,0,{"$f":"IF(C2211<>0,LOOKUP(,-CODE(C$3:C2211),C$3:C2211),D2210)","v":156},"156(800)-900",null,null,null,"900",800,315,13205.044883988408,14117.823472788408,14230.638803988408,15144.699385188407,17220.245080788409,18050.976155988406]
[null,null,null,{"$f":"IF(C2212<>0,LOOKUP(,-CODE(C$3:C2212),C$3:C2212),D2211)","v":156},"156(920)-450",null,null,null,"450",920,315,8516.0930602492754,9039.700993049275,9104.4165802492753,9628.7599174492752,10819.379641049276,11295.921692249274]
[null,null,0,{"$f":"IF(C2213<>0,LOOKUP(,-CODE(C$3:C2213),C$3:C2213),D2212)","v":156},"156(920)-500",null,null,null,"500",920,315,9145.8884056115949,9728.0654584115946,9800.0199256115939,10383.014642811595,11706.813306411594,12236.659837611594]
[null,null,0,{"$f":"IF(C2214<>0,LOOKUP(,-CODE(C$3:C2214),C$3:C2214),D2213)","v":156},"156(920)-600",null,null,null,"600",920,315,10404.252696336232,11103.567989136232,11190.000216336233,11890.297693536231,13480.454237136233,14116.909728336232]
[null,null,0,{"$f":"IF(C2215<>0,LOOKUP(,-CODE(C$3:C2215),C$3:C2215),D2214)","v":156},"156(920)-700",null,null,null,"700",920,315,11802.426587060872,12618.880119860871,12719.790107060871,13537.390344260872,15393.904767860869,16136.969219060873]
[null,null,0,{"$f":"IF(C2216<>0,LOOKUP(,-CODE(C$3:C2216),C$3:C2216),D2215)","v":156},"156(920)-800",null,null,null,"800",920,315,13104.29887778551,14037.890650585508,14153.278397785507,15088.18139498551,17211.053698585507,18060.727109785508]
[null,null,0,{"$f":"IF(C2217<>0,LOOKUP(,-CODE(C$3:C2217),C$3:C2217),D2216)","v":156},"156(920)-900",null,null,null,"900",920,315,14522.971168510145,15573.701181310145,15703.566688510145,16755.772445710143,19145.002629310147,20101.285000510146]
[null,null,null,{"$f":"IF(C2218<>0,LOOKUP(,-CODE(C$3:C2218),C$3:C2218),D2217)","v":156},"156(960)-450",null,null,null,"450",960,315,8745.2659087130432,9291.7888495130446,9359.336628713043,9906.6271579130444,11149.352777513044,11646.750060713042]
[null,null,0,{"$f":"IF(C2219<>0,LOOKUP(,-CODE(C$3:C2219),C$3:C2219),D2218)","v":156},"156(960)-500",null,null,null,"500",960,315,9398.4096888579716,10006.064949657972,10081.168408857971,10689.677118057973,12071.410077657973,12624.444640857972]
[null,null,0,{"$f":"IF(C2220<>0,LOOKUP(,-CODE(C$3:C2220),C$3:C2220),D2219)","v":156},"156(960)-600",null,null,null,"600",960,315,10703.470849147827,11433.390749947826,11523.605569147825,12254.550638347826,13914.298277947826,14578.607401147827]
[null,null,0,{"$f":"IF(C2221<>0,LOOKUP(,-CODE(C$3:C2221),C$3:C2221),D2220)","v":156},"156(960)-700",null,null,null,"700",960,315,12148.341609437681,13000.526150237682,13105.852329437683,13959.233758637682,15896.996078237684,16672.579761437682]
[null,null,0,{"$f":"IF(C2222<>0,LOOKUP(,-CODE(C$3:C2222),C$3:C2222),D2221)","v":156},"156(960)-800",null,null,null,"800",960,315,13496.910769727536,14471.359950527538,14591.797489727534,15567.615278927537,17783.392278527535,18670.250521727536]
[null,null,0,{"$f":"IF(C2223<>0,LOOKUP(,-CODE(C$3:C2223),C$3:C2223),D2222)","v":156},"156(960)-900",null,null,null,"900",960,315,14962.27993001739,16058.99375081739,16194.542650017393,17292.796799217391,19786.588478817393,20784.721282017392]
[null,"158",157,{"$f":"IF(C2224<>0,LOOKUP(,-CODE(C$3:C2224),C$3:C2224),D2223)","v":157},"157(600)-450","Шкафнастенныйдвухдверный с посудосушителем (хром), открывание вверх,Aventos HF",null,null,"450",600,315,10655.059100805796,10995.346969605796,11037.405020805796,11378.170822005797,12151.943377605796,12461.643572805797]
[null,null,null,{"$f":"IF(C2225<>0,LOOKUP(,-CODE(C$3:C2225),C$3:C2225),D2224)","v":157},"157(600)-500",null,null,null,"500",600,315,11085.702474573913,11464.053863373912,11510.816394573912,11889.699175773912,12750.023471373912,13094.365746573912]
[null,null,0,{"$f":"IF(C2226<>0,LOOKUP(,-CODE(C$3:C2226),C$3:C2226),D2225)","v":157},"157(600)-600",null,null,null,"600",600,315,11945.762822110144,12400.241250910145,12456.412742110144,12911.529483310143,13944.957258910144,14358.583694110144]
[null,null,0,{"$f":"IF(C2227<>0,LOOKUP(,-CODE(C$3:C2227),C$3:C2227),D2226)","v":157},"157(600)-700",null,null,null,"700",600,315,12945.632769646378,13476.238238446376,13541.818689646378,14073.169390846377,15279.700646446378,15762.611241646377]
[null,null,0,{"$f":"IF(C2228<>0,LOOKUP(,-CODE(C$3:C2228),C$3:C2228),D2227)","v":157},"157(600)-800",null,null,null,"800",600,315,13849.201117182609,14455.933625982609,14530.923037182609,15138.507698382609,16518.142433982608,17070.33718918261]
[null,null,0,{"$f":"IF(C2229<>0,LOOKUP(,-CODE(C$3:C2229),C$3:C2229),D2228)","v":157},"157(600)-900",null,null,null,"900",600,315,14869.569464718843,15552.429013518842,15636.827384718843,16320.646005918843,17873.384221518842,18494.863136718843]
[null,null,null,{"$f":"IF(C2230<>0,LOOKUP(,-CODE(C$3:C2230),C$3:C2230),D2229)","v":157},"157(720)-450",null,null,null,"450",720,315,11342.577646197102,11751.610538997102,11802.165166197101,12211.772543397101,13141.862786997102,13514.128678197101]
[null,null,0,{"$f":"IF(C2231<>0,LOOKUP(,-CODE(C$3:C2231),C$3:C2231),D2230)","v":157},"157(720)-500",null,null,null,"500",720,315,12162.766324313043,12617.552337113044,12673.761844313043,13129.186601513044,14163.313785113045,14577.220156313044]
[null,null,0,{"$f":"IF(C2232<>0,LOOKUP(,-CODE(C$3:C2232),C$3:C2232),D2231)","v":157},"157(720)-600",null,null,null,"600",720,315,13162.917280544927,13709.209533344929,13776.728800544928,14323.788317744929,15565.989381344929,16063.176712544928]
[null,null,0,{"$f":"IF(C2233<>0,LOOKUP(,-CODE(C$3:C2233),C$3:C2233),D2232)","v":157},"157(720)-700",null,null,null,"700",720,315,14302.877836776814,14940.676329576812,15019.505356776812,15658.199633976812,17108.474577576813,17688.942868776816]
[null,null,0,{"$f":"IF(C2234<>0,LOOKUP(,-CODE(C$3:C2234),C$3:C2234),D2233)","v":157},"157(720)-800",null,null,null,"800",720,315,15571.536793008694,16300.841525808693,16390.980313008695,17121.309350208692,18779.658173808697,19443.407425008692]
[null,null,0,{"$f":"IF(C2235<>0,LOOKUP(,-CODE(C$3:C2235),C$3:C2235),D2234)","v":157},"157(720)-900",null,null,null,"900",720,315,16731.995749240581,17552.806722040579,17654.255269240581,18476.219066440579,20342.64177004058,21089.671981240579]
[null,null,null,{"$f":"IF(C2236<>0,LOOKUP(,-CODE(C$3:C2236),C$3:C2236),D2235)","v":157},"157(800)-450",null,null,null,"450",800,315,12358.923343124639,12813.786251924639,12870.00526312464,13325.507024324639,14359.809059924639,14773.785415124639]
[null,null,0,{"$f":"IF(C2237<>0,LOOKUP(,-CODE(C$3:C2237),C$3:C2237),D2236)","v":157},"157(800)-500",null,null,null,"500",800,315,12906.308890805798,13412.051319605798,13474.5588108058,13981.011552005799,15131.007327605799,15591.289762805798]
[null,null,0,{"$f":"IF(C2238<>0,LOOKUP(,-CODE(C$3:C2238),C$3:C2238),D2237)","v":157},"157(800)-600",null,null,null,"600",800,315,14224.853586168118,14832.355054968117,14907.439506168117,15515.794207368117,16897.177462968117,17450.072058168116]
[null,null,0,{"$f":"IF(C2239<>0,LOOKUP(,-CODE(C$3:C2239),C$3:C2239),D2238)","v":157},"157(800)-700",null,null,null,"700",800,315,15458.207881530434,16167.468390330436,16255.129801530435,16965.386462730436,18578.157198330435,19223.663953530435]
[null,null,0,{"$f":"IF(C2240<>0,LOOKUP(,-CODE(C$3:C2240),C$3:C2240),D2239)","v":157},"157(800)-800",null,null,null,"800",800,315,16595.260576892753,17406.280125692756,17506.518496892757,18318.677118092754,20162.835333692754,20900.954248892755]
[null,null,0,{"$f":"IF(C2241<>0,LOOKUP(,-CODE(C$3:C2241),C$3:C2241),D2240)","v":157},"157(800)-900",null,null,null,"900",800,315,17849.113272255076,18761.891861055075,18874.707192255075,19788.767773455074,21864.313469055076,22695.044544255077]
[null,null,null,{"$f":"IF(C2242<>0,LOOKUP(,-CODE(C$3:C2242),C$3:C2242),D2241)","v":157},"157(920)-450",null,null,null,"450",920,315,13075.076138515942,13598.684071315944,13663.399658515942,14187.742995715942,15378.362719315941,15854.904770515943]
[null,null,0,{"$f":"IF(C2243<>0,LOOKUP(,-CODE(C$3:C2243),C$3:C2243),D2242)","v":157},"157(920)-500",null,null,null,"500",920,315,14038.944395344926,14621.121448144928,14693.075915344927,15276.070632544928,16599.869296144927,17129.715827344928]
[null,null,0,{"$f":"IF(C2244<>0,LOOKUP(,-CODE(C$3:C2244),C$3:C2244),D2243)","v":157},"157(920)-600",null,null,null,"600",920,315,15296.188686069567,15995.503978869565,16081.936206069566,16782.233683269566,18372.390226869567,19008.845718069566]
[null,null,0,{"$f":"IF(C2245<>0,LOOKUP(,-CODE(C$3:C2245),C$3:C2245),D2244)","v":157},"157(920)-700",null,null,null,"700",920,315,16693.242576794204,17509.696109594202,17610.606096794203,18428.206333994203,20284.720757594201,21027.785208794205]
[null,null,0,{"$f":"IF(C2246<>0,LOOKUP(,-CODE(C$3:C2246),C$3:C2246),D2245)","v":157},"157(920)-800",null,null,null,"800",920,315,18308.994867518843,19242.586640318841,19357.974387518843,20292.877384718842,22415.749688318843,23265.423099518841]
[null,null,0,{"$f":"IF(C2247<>0,LOOKUP(,-CODE(C$3:C2247),C$3:C2247),D2246)","v":157},"157(920)-900",null,null,null,"900",920,315,19726.547158243477,20777.277171043479,20907.142678243479,21959.348435443477,24348.578619043481,25304.86099024348]
[null,null,null,{"$f":"IF(C2248<>0,LOOKUP(,-CODE(C$3:C2248),C$3:C2248),D2247)","v":157},"157(960)-450",null,null,null,"450",960,315,13304.24898697971,13850.771927779711,13918.31970697971,14465.610236179711,15708.335855779711,16205.733138979711]
[null,null,0,{"$f":"IF(C2249<>0,LOOKUP(,-CODE(C$3:C2249),C$3:C2249),D2248)","v":157},"157(960)-500",null,null,null,"500",960,315,14066.465678591307,14674.120939391305,14749.224398591306,15357.733107791308,16739.466067391306,17292.500630591305]
[null,null,0,{"$f":"IF(C2250<>0,LOOKUP(,-CODE(C$3:C2250),C$3:C2250),D2249)","v":157},"157(960)-600",null,null,null,"600",960,315,15910.406838881161,16640.326739681161,16730.541558881159,17461.486628081162,19121.23426768116,19785.543390881161]
[null,null,0,{"$f":"IF(C2251<>0,LOOKUP(,-CODE(C$3:C2251),C$3:C2251),D2250)","v":157},"157(960)-700",null,null,null,"700",960,315,17354.157599171016,18206.342139971017,18311.668319171018,19165.049748371017,21102.812067971019,21878.395751171018]
[null,null,0,{"$f":"IF(C2252<>0,LOOKUP(,-CODE(C$3:C2252),C$3:C2252),D2251)","v":157},"157(960)-800",null,null,null,"800",960,315,18701.606759460868,19676.055940260871,19796.493479460871,20772.311268660869,22988.088268260872,23874.946511460868]
[null,null,0,{"$f":"IF(C2253<>0,LOOKUP(,-CODE(C$3:C2253),C$3:C2253),D2252)","v":157},"157(960)-900",null,null,null,"900",960,315,20165.855919750727,21262.569740550724,21398.118639750726,22496.372788950728,24990.164468550727,25988.297271750729]
[null,"159",158,{"$f":"IF(C2254<>0,LOOKUP(,-CODE(C$3:C2254),C$3:C2254),D2253)","v":158},"158(720)-450","Шкафнастенныйдвухдверный с посудосушителем  (хром) со стеклом вверху, открывание вверх,газ-лифт",null,null,"450",720,315,7324.9862319304348,7734.3063669304347,7760.1581649304353,8169.7655421304344,9026.3217825304364,9398.5876737304352]
[null,null,null,{"$f":"IF(C2255<>0,LOOKUP(,-CODE(C$3:C2255),C$3:C2255),D2254)","v":158},"158(720)-500",null,null,null,"500",720,315,7836.9075033797099,8292.0128883797115,8320.7563863797113,8776.1811435797099,9728.5490439797104,10142.455415179711]
[null,null,0,{"$f":"IF(C2256<>0,LOOKUP(,-CODE(C$3:C2256),C$3:C2256),D2255)","v":158},"158(720)-600",null,null,null,"600",720,315,8859.5236462782632,9406.1995312782619,9440.726429278262,9987.7859464782632,11131.777166878263,11628.964498078261]
[null,null,0,{"$f":"IF(C2257<>0,LOOKUP(,-CODE(C$3:C2257),C$3:C2257),D2256)","v":158},"158(720)-700",null,null,null,"700",720,315,10021.949389176812,10660.195774176813,10700.506072176813,11339.200349376813,12674.814889776813,13255.283180976814]
[null,null,0,{"$f":"IF(C2258<>0,LOOKUP(,-CODE(C$3:C2258),C$3:C2258),D2257)","v":158},"158(720)-800",null,null,null,"800",720,315,11088.073532075363,11817.890417075361,11863.984115075362,12594.313152275363,14121.551012675362,14785.300263875362]
[null,null,0,{"$f":"IF(C2259<>0,LOOKUP(,-CODE(C$3:C2259),C$3:C2259),D2258)","v":158},"158(720)-900",null,null,null,"900",720,315,12270.997674973913,13092.385059973911,13144.262157973912,13966.225955173912,15685.087135573913,16432.117346773914]
[null,null,null,{"$f":"IF(C2260<>0,LOOKUP(,-CODE(C$3:C2260),C$3:C2260),D2259)","v":158},"158(800)-450",null,null,null,"450",800,315,7783.6360088579713,8238.8183438579726,8267.5667018579716,8723.0684630579726,9675.5973914579736,10089.573746657972]
[null,null,0,{"$f":"IF(C2261<>0,LOOKUP(,-CODE(C$3:C2261),C$3:C2261),D2260)","v":158},"158(800)-500",null,null,null,"500",800,315,8342.9261498724627,8849.023734872464,8880.9877928724636,9387.4405340724643,10446.516322472464,10906.798757672463]
[null,null,0,{"$f":"IF(C2262<>0,LOOKUP(,-CODE(C$3:C2262),C$3:C2262),D2261)","v":158},"158(800)-600",null,null,null,"600",800,315,9460.2800319014495,10068.208116901449,10106.603574901448,10714.95827610145,11987.127784501448,12540.022379701448]
[null,null,0,{"$f":"IF(C2263<>0,LOOKUP(,-CODE(C$3:C2263),C$3:C2263),D2262)","v":158},"158(800)-700",null,null,null,"700",800,315,10717.443513930435,11427.202098930435,11472.028956930437,12182.285618130434,13667.548846530437,14313.055601730433]
[null,null,0,{"$f":"IF(C2264<>0,LOOKUP(,-CODE(C$3:C2264),C$3:C2264),D2263)","v":158},"158(800)-800",null,null,null,"800",800,315,11878.30539595942,12689.89448095942,12741.152738959421,13553.31136015942,15251.668308559421,15989.78722375942]
[null,null,0,{"$f":"IF(C2265<>0,LOOKUP(,-CODE(C$3:C2265),C$3:C2265),D2264)","v":158},"158(800)-900",null,null,null,"900",800,315,13155.967277988408,14069.386862988407,14127.076520988407,15041.137102188408,16952.587770588405,17783.318845788406]
[null,null,null,{"$f":"IF(C2266<>0,LOOKUP(,-CODE(C$3:C2266),C$3:C2266),D2265)","v":158},"158(920)-450",null,null,null,"450",920,315,8471.6106742492757,8995.5863092492764,9028.679507249275,9553.022844449275,10649.510804849277,11126.052856049275]
[null,null,0,{"$f":"IF(C2267<>0,LOOKUP(,-CODE(C$3:C2267),C$3:C2267),D2266)","v":158},"158(920)-500",null,null,null,"500",920,315,9101.9541196115933,9684.5400046115938,9721.3349026115939,10304.329619811593,11523.467240211594,12053.313771411593]
[null,null,0,{"$f":"IF(C2268<>0,LOOKUP(,-CODE(C$3:C2268),C$3:C2268),D2267)","v":158},"158(920)-600",null,null,null,"600",920,315,10361.414610336233,11061.220995336233,11105.419293336232,11805.716770536234,13270.153710936233,13906.609202136233]
[null,null,0,{"$f":"IF(C2269<>0,LOOKUP(,-CODE(C$3:C2269),C$3:C2269),D2268)","v":158},"158(920)-700",null,null,null,"700",920,315,11760.684701060871,12577.711586060872,12629.313284060871,13446.913521260871,15156.649781660872,15899.714232860872]
[null,null,0,{"$f":"IF(C2270<>0,LOOKUP(,-CODE(C$3:C2270),C$3:C2270),D2269)","v":158},"158(920)-800",null,null,null,"800",920,315,13063.653191785508,13997.900576785509,14056.90567478551,14991.808671985509,16946.844252385508,17796.51766358551]
[null,null,0,{"$f":"IF(C2271<>0,LOOKUP(,-CODE(C$3:C2271),C$3:C2271),D2270)","v":158},"158(920)-900",null,null,null,"900",920,315,14483.421682510145,15534.889567510145,15601.298065510146,16653.503822710143,18853.838723110144,19810.121094310143]
[null,null,null,{"$f":"IF(C2272<>0,LOOKUP(,-CODE(C$3:C2272),C$3:C2272),D2271)","v":158},"158(960)-450",null,null,null,"450",960,315,8700.9355627130444,9247.8422977130431,9282.3837757130423,9829.6743049130437,10974.148609313042,11471.545892513042]
[null,null,0,{"$f":"IF(C2273<>0,LOOKUP(,-CODE(C$3:C2273),C$3:C2273),D2272)","v":158},"158(960)-500",null,null,null,"500",960,315,9354.9634428579702,9963.0454278579709,10001.450605857972,10609.959315057971,11882.450879457971,12435.48544265797]
[null,null,0,{"$f":"IF(C2274<>0,LOOKUP(,-CODE(C$3:C2274),C$3:C2274),D2273)","v":158},"158(960)-600",null,null,null,"600",960,315,10661.792803147826,11392.225288147825,11438.357866147826,12169.302935347825,13697.829019747825,14362.138142947828]
[null,null,0,{"$f":"IF(C2275<>0,LOOKUP(,-CODE(C$3:C2275),C$3:C2275),D2274)","v":158},"158(960)-700",null,null,null,"700",960,315,12108.431763437682,12961.214748437682,13015.074726437684,13868.456155637683,15653.016760037684,16428.600443237683]
[null,null,0,{"$f":"IF(C2276<>0,LOOKUP(,-CODE(C$3:C2276),C$3:C2276),D2275)","v":158},"158(960)-800",null,null,null,"800",960,315,13458.769123727538,14433.902608727536,14495.489986727536,15471.307775927537,17511.902900327535,18398.761143527536]
[null,null,0,{"$f":"IF(C2277<>0,LOOKUP(,-CODE(C$3:C2277),C$3:C2277),D2276)","v":158},"158(960)-900",null,null,null,"900",960,315,14925.906484017392,16023.390469017393,16092.705247017393,17190.959396217389,19487.589040617393,20485.721843817395]
[null,"160",159,{"$f":"IF(C2278<>0,LOOKUP(,-CODE(C$3:C2278),C$3:C2278),D2277)","v":159},"159(600)-450","Шкафнастенныйдвухдверный с посудосушителем  (хром) со стеклом внизу, открывание вверх, Aventos HF",null,null,"450",600,315,10609.360394805797,10949.887229805798,10971.394187805796,11312.159989005797,12024.757197405797,12334.457392605796]
[null,null,null,{"$f":"IF(C2279<>0,LOOKUP(,-CODE(C$3:C2279),C$3:C2279),D2278)","v":159},"159(600)-500",null,null,null,"500",600,315,11037.863868573913,11416.480953573913,11440.393611573912,11819.276392773912,12611.582461173912,12955.924736373912]
[null,null,0,{"$f":"IF(C2280<>0,LOOKUP(,-CODE(C$3:C2280),C$3:C2280),D2279)","v":159},"159(600)-600",null,null,null,"600",600,315,11893.644416110146,12348.442001110147,12377.166059110146,12832.282800310146,13784.006588710145,14197.633023910144]
[null,null,0,{"$f":"IF(C2281<>0,LOOKUP(,-CODE(C$3:C2281),C$3:C2281),D2280)","v":159},"159(600)-700",null,null,null,"700",600,315,12889.234563646376,13420.212648646377,13453.748106646377,13985.098807846378,15096.240316246378,15579.150911446377]
[null,null,0,{"$f":"IF(C2282<>0,LOOKUP(,-CODE(C$3:C2282),C$3:C2282),D2281)","v":159},"159(600)-800",null,null,null,"800",600,315,13788.523111182611,14395.681696182612,14434.028554182611,15041.613215382611,16312.172443782611,16864.367198982611]
[null,null,0,{"$f":"IF(C2283<>0,LOOKUP(,-CODE(C$3:C2283),C$3:C2283),D2282)","v":159},"159(600)-900",null,null,null,"900",600,315,14804.611658718841,15487.95074371884,15531.109001718842,16214.927622918842,17644.904571318842,18266.38348651884]
[null,null,null,{"$f":"IF(C2284<>0,LOOKUP(,-CODE(C$3:C2284),C$3:C2284),D2283)","v":159},"159(720)-450",null,null,null,"450",720,315,11297.335060197101,11706.655195197101,11732.506993197103,12142.114370397101,12998.670610797102,13370.936501997101]
[null,null,0,{"$f":"IF(C2285<>0,LOOKUP(,-CODE(C$3:C2285),C$3:C2285),D2284)","v":159},"159(720)-500",null,null,null,"500",720,315,12116.391838313044,12571.497223313043,12600.240721313043,13055.665478513045,14008.033378913045,14421.939750113044]
[null,null,0,{"$f":"IF(C2286<>0,LOOKUP(,-CODE(C$3:C2286),C$3:C2286),D2285)","v":159},"159(720)-600",null,null,null,"600",720,315,13114.278994544929,13660.95487954493,13695.48177754493,14242.541294744929,15386.532515144929,15883.719846344929]
[null,null,0,{"$f":"IF(C2287<>0,LOOKUP(,-CODE(C$3:C2287),C$3:C2287),D2286)","v":159},"159(720)-700",null,null,null,"700",720,315,14251.975750776812,14890.222135776814,14930.532433776814,15569.226710976813,16904.841251376813,17485.309542576812]
[null,null,0,{"$f":"IF(C2288<>0,LOOKUP(,-CODE(C$3:C2288),C$3:C2288),D2287)","v":159},"159(720)-800",null,null,null,"800",720,315,15518.370907008695,16248.187792008694,16294.281490008694,17024.610527208697,18551.848387608694,19215.597638808697]
[null,null,0,{"$f":"IF(C2289<>0,LOOKUP(,-CODE(C$3:C2289),C$3:C2289),D2288)","v":159},"159(720)-900",null,null,null,"900",720,315,16676.566063240582,17497.95344824058,17549.830546240581,18371.794343440582,20090.655523840582,20837.685735040581]
[null,null,null,{"$f":"IF(C2290<>0,LOOKUP(,-CODE(C$3:C2290),C$3:C2290),D2289)","v":159},"159(800)-450",null,null,null,"450",800,315,11755.984837124637,12211.167172124638,12239.915530124639,12695.417291324638,13647.946219724639,14061.922574924638]
[null,null,0,{"$f":"IF(C2291<>0,LOOKUP(,-CODE(C$3:C2291),C$3:C2291),D2290)","v":159},"159(800)-500",null,null,null,"500",800,315,12860.910484805798,13367.008069805797,13398.972127805799,13905.424869005798,14964.500657405797,15424.783092605798]
[null,null,0,{"$f":"IF(C2292<>0,LOOKUP(,-CODE(C$3:C2292),C$3:C2292),D2291)","v":159},"159(800)-600",null,null,null,"600",800,315,14178.535380168116,14786.463465168115,14824.858923168116,15433.213624368116,16705.383132768115,17258.277727968118]
[null,null,0,{"$f":"IF(C2293<>0,LOOKUP(,-CODE(C$3:C2293),C$3:C2293),D2292)","v":159},"159(800)-700",null,null,null,"700",800,315,15410.969875530434,16120.728460530434,16165.555318530436,16875.811979730435,18361.075208130434,19006.581963330435]
[null,null,0,{"$f":"IF(C2294<>0,LOOKUP(,-CODE(C$3:C2294),C$3:C2294),D2293)","v":159},"159(800)-800",null,null,null,"800",800,315,16547.102770892754,17358.691855892754,17409.950113892755,18222.108735092756,19920.465683492755,20658.584598692752]
[null,null,0,{"$f":"IF(C2295<>0,LOOKUP(,-CODE(C$3:C2295),C$3:C2295),D2294)","v":159},"159(800)-900",null,null,null,"900",800,315,17800.035666255073,18713.455251255073,18771.144909255072,19685.205490455075,21596.656158855076,22427.387234055073]
[null,null,null,{"$f":"IF(C2296<>0,LOOKUP(,-CODE(C$3:C2296),C$3:C2296),D2295)","v":159},"159(920)-450",null,null,null,"450",920,315,12472.593752515942,12996.569387515941,13029.662585515944,13554.005922715944,14650.493883115942,15127.035934315943]
[null,null,0,{"$f":"IF(C2297<>0,LOOKUP(,-CODE(C$3:C2297),C$3:C2297),D2296)","v":159},"159(920)-500",null,null,null,"500",920,315,13995.010109344928,14577.595994344929,14614.390892344927,15197.385609544928,16416.523229944927,16946.369761144928]
[null,null,0,{"$f":"IF(C2298<>0,LOOKUP(,-CODE(C$3:C2298),C$3:C2298),D2297)","v":159},"159(920)-600",null,null,null,"600",920,315,15253.350600069567,15953.156985069567,15997.355283069566,16697.652760269568,18162.089700669567,18798.545191869565]
[null,null,0,{"$f":"IF(C2299<>0,LOOKUP(,-CODE(C$3:C2299),C$3:C2299),D2298)","v":159},"159(920)-700",null,null,null,"700",920,315,16651.500690794204,17468.527575794204,17520.129273794202,18337.729510994202,20047.465771394203,20790.530222594203]
[null,null,0,{"$f":"IF(C2300<>0,LOOKUP(,-CODE(C$3:C2300),C$3:C2300),D2299)","v":159},"159(920)-800",null,null,null,"800",920,315,18268.349181518843,19202.596566518841,19261.601664518843,20196.504661718842,22151.540242118841,23001.213653318846]
[null,null,0,{"$f":"IF(C2301<>0,LOOKUP(,-CODE(C$3:C2301),C$3:C2301),D2300)","v":159},"159(920)-900",null,null,null,"900",920,315,19686.99767224348,20738.465557243479,20804.874055243479,21857.07981244348,24057.414712843478,25013.697084043481]
[null,null,null,{"$f":"IF(C2302<>0,LOOKUP(,-CODE(C$3:C2302),C$3:C2302),D2301)","v":159},"159(960)-450",null,null,null,"450",960,315,12701.918640979709,13248.82537597971,13283.366853979709,13830.65738317971,14975.131687579711,15472.528970779707]
[null,null,0,{"$f":"IF(C2303<>0,LOOKUP(,-CODE(C$3:C2303),C$3:C2303),D2302)","v":159},"159(960)-500",null,null,null,"500",960,315,14023.019432591305,14631.101417591306,14669.506595591305,15278.015304791305,16550.506869191304,17103.541432391306]
[null,null,0,{"$f":"IF(C2304<>0,LOOKUP(,-CODE(C$3:C2304),C$3:C2304),D2303)","v":159},"159(960)-600",null,null,null,"600",960,315,15868.72879288116,16599.161277881158,16645.293855881158,17376.238925081158,18904.765009481158,19569.074132681162]
[null,null,0,{"$f":"IF(C2305<>0,LOOKUP(,-CODE(C$3:C2305),C$3:C2305),D2304)","v":159},"159(960)-700",null,null,null,"700",960,315,17314.247753171014,18167.030738171015,18220.890716171016,19074.272145371015,20858.832749771016,21634.416432971015]
[null,null,0,{"$f":"IF(C2306<>0,LOOKUP(,-CODE(C$3:C2306),C$3:C2306),D2305)","v":159},"159(960)-800",null,null,null,"800",960,315,18663.465113460868,19638.598598460867,19700.185976460871,20676.003765660869,22716.598890060868,23603.457133260868]
[null,null,0,{"$f":"IF(C2307<>0,LOOKUP(,-CODE(C$3:C2307),C$3:C2307),D2306)","v":159},"159(960)-900",null,null,null,"900",960,315,20129.482473750726,21226.966458750729,21296.281236750729,22394.535385950723,24691.165030350727,25689.297833550729]
[null,"161",160,{"$f":"IF(C2308<>0,LOOKUP(,-CODE(C$3:C2308),C$3:C2308),D2307)","v":160},"160(720)-450","Шкафнастенныйдвухдверный с посудосушителем  (хром) со стеклом, открывание вверх, газ-лифт",null,null,"450",720,315,7279.7436459304345,7689.3510231304354,7690.4999919304355,8100.1073691304346,8883.1296063304344,9255.395497530435]
[null,null,null,{"$f":"IF(C2309<>0,LOOKUP(,-CODE(C$3:C2309),C$3:C2309),D2308)","v":160},"160(720)-500",null,null,null,"500",720,315,7790.5330173797111,8245.9577745797105,8247.2352633797091,8702.6600205797095,9573.268637779709,9987.1750089797097]
[null,null,0,{"$f":"IF(C2310<>0,LOOKUP(,-CODE(C$3:C2310),C$3:C2310),D2309)","v":160},"160(720)-600",null,null,null,"600",720,315,8810.8853602782619,9357.9448774782613,9359.4794062782621,9906.5389234782615,10952.320300678262,11449.507631878261]
[null,null,0,{"$f":"IF(C2311<>0,LOOKUP(,-CODE(C$3:C2311),C$3:C2311),D2310)","v":160},"160(720)-700",null,null,null,"700",720,315,9971.0473031768124,10609.741580376813,10611.533149176812,11250.227426376812,12471.181563576813,13051.649854776813]
[null,null,0,{"$f":"IF(C2312<>0,LOOKUP(,-CODE(C$3:C2312),C$3:C2312),D2311)","v":160},"160(720)-800",null,null,null,"800",720,315,11034.907646075362,11765.236683275363,11767.285292075363,12497.61432927536,13893.741226475362,14557.490477675361]
[null,null,0,{"$f":"IF(C2313<>0,LOOKUP(,-CODE(C$3:C2313),C$3:C2313),D2312)","v":160},"160(720)-900",null,null,null,"900",720,315,12215.567988973913,13037.531786173913,13039.837434973913,13861.801232173913,15433.100889373913,16180.131100573913]
[null,null,null,{"$f":"IF(C2314<>0,LOOKUP(,-CODE(C$3:C2314),C$3:C2314),D2313)","v":160},"160(800)-450",null,null,null,"450",800,315,7738.6975028579709,8194.199264057972,8195.4769688579709,8650.9787300579719,9521.7345512579723,9935.7109064579709]
[null,null,0,{"$f":"IF(C2315<>0,LOOKUP(,-CODE(C$3:C2315),C$3:C2315),D2314)","v":160},"160(800)-500",null,null,null,"500",800,315,8297.5277438724643,8803.9804850724649,8805.4011098724641,9311.8538510724647,10280.009652272465,10740.292087472464]
[null,null,0,{"$f":"IF(C2316<>0,LOOKUP(,-CODE(C$3:C2316),C$3:C2316),D2315)","v":160},"160(800)-600",null,null,null,"600",800,315,9413.9618259014496,10022.31652710145,10024.022991901449,10632.377693101451,11795.33345430145,12348.228049501449]
[null,null,0,{"$f":"IF(C2317<>0,LOOKUP(,-CODE(C$3:C2317),C$3:C2317),D2316)","v":160},"160(800)-700",null,null,null,"700",800,315,10670.205507930435,11380.462169130435,11382.454473930435,12092.711135130436,13450.466856330435,14095.973611530435]
[null,null,0,{"$f":"IF(C2318<>0,LOOKUP(,-CODE(C$3:C2318),C$3:C2318),D2317)","v":160},"160(800)-800",null,null,null,"800",800,315,11830.147589959421,12642.306211159421,12644.584355959421,13456.742977159422,15009.298658359421,15747.417573559422]
[null,null,0,{"$f":"IF(C2319<>0,LOOKUP(,-CODE(C$3:C2319),C$3:C2319),D2318)","v":160},"160(800)-900",null,null,null,"900",800,315,13106.889671988407,14020.950253188406,14023.514237988406,14937.574819188409,16684.930460388405,17515.661535588406]
[null,null,null,{"$f":"IF(C2320<>0,LOOKUP(,-CODE(C$3:C2320),C$3:C2320),D2319)","v":160},"160(920)-450",null,null,null,"450",920,315,8427.1282882492742,8951.471625449276,8952.9424342492748,9477.2857714492748,10479.641968649275,10956.184019849276]
[null,null,0,{"$f":"IF(C2321<>0,LOOKUP(,-CODE(C$3:C2321),C$3:C2321),D2320)","v":160},"160(920)-500",null,null,null,"500",920,315,9058.0198336115936,9641.0145508115947,9642.6498796115939,10225.644596811593,11340.121174011596,11869.967705211595]
[null,null,0,{"$f":"IF(C2322<>0,LOOKUP(,-CODE(C$3:C2322),C$3:C2322),D2321)","v":160},"160(920)-600",null,null,null,"600",920,315,10318.576524336231,11018.874001536233,11020.838370336232,11721.135847536232,13059.853184736232,13696.308675936232]
[null,null,0,{"$f":"IF(C2323<>0,LOOKUP(,-CODE(C$3:C2323),C$3:C2323),D2322)","v":160},"160(920)-700",null,null,null,"700",920,315,11718.942815060871,12536.543052260871,12538.83646106087,13356.436698260872,14919.39479546087,15662.45924666087]
[null,null,0,{"$f":"IF(C2324<>0,LOOKUP(,-CODE(C$3:C2324),C$3:C2324),D2323)","v":160},"160(920)-800",null,null,null,"800",920,315,13023.007505785508,13957.910502985509,13960.53295178551,14895.435948985509,16682.63480618551,17532.308217385511]
[null,null,0,{"$f":"IF(C2325<>0,LOOKUP(,-CODE(C$3:C2325),C$3:C2325),D2324)","v":160},"160(920)-900",null,null,null,"900",920,315,14443.872196510147,15496.077953710144,15499.029442510146,16551.235199710147,18562.674816910145,19518.957188110144]
[null,null,null,{"$f":"IF(C2326<>0,LOOKUP(,-CODE(C$3:C2326),C$3:C2326),D2325)","v":160},"160(960)-450",null,null,null,"450",960,315,8656.6052167130456,9203.8957459130452,9205.4309227130452,9752.7214519130448,10798.944441113044,11296.341724313044]
[null,null,0,{"$f":"IF(C2327<>0,LOOKUP(,-CODE(C$3:C2327),C$3:C2327),D2326)","v":160},"160(960)-500",null,null,null,"500",960,315,9311.5171968579743,9920.0259060579738,9921.7328028579723,10530.241512057974,11693.491681257972,12246.526244457973]
[null,null,0,{"$f":"IF(C2328<>0,LOOKUP(,-CODE(C$3:C2328),C$3:C2328),D2327)","v":160},"160(960)-600",null,null,null,"600",960,315,10620.114757147829,11351.059826347828,11353.110163147827,12084.055232347826,13481.359761547828,14145.668884747829]
[null,null,0,{"$f":"IF(C2329<>0,LOOKUP(,-CODE(C$3:C2329),C$3:C2329),D2328)","v":160},"160(960)-700",null,null,null,"700",960,315,12068.521917437683,12921.903346637682,12924.297123437682,13777.678552637684,15409.037441837681,16184.621125037684]
[null,null,0,{"$f":"IF(C2330<>0,LOOKUP(,-CODE(C$3:C2330),C$3:C2330),D2329)","v":160},"160(960)-800",null,null,null,"800",960,315,13420.627477727536,14396.445266927536,14399.182483727536,15375.000272927535,17240.413522127539,18127.271765327536]
[null,null,0,{"$f":"IF(C2331<>0,LOOKUP(,-CODE(C$3:C2331),C$3:C2331),D2330)","v":160},"160(960)-900",null,null,null,"900",960,315,14889.533038017391,15987.787187217393,15990.867844017392,17089.121993217392,19188.589602417393,20186.722405617395]
[null,"206,207,208",161,{"$f":"IF(C2332<>0,LOOKUP(,-CODE(C$3:C2332),C$3:C2332),D2331)","v":161},"161(600)-600","Шкаф настенный  угловой-трапеция с посудосушителем (хром)",null,null,"600",600,"600",14986.04501566145,15292.091095661448,15329.917015661449,15636.392935661448,16332.303895661449,16610.840215661447]
[null,null,0,{"$f":"IF(C2333<>0,LOOKUP(,-CODE(C$3:C2333),C$3:C2333),D2332)","v":161},"161(720)-600",null,null,null,"600",720,"600",15663.469106096232,16031.031986096232,16076.461106096231,16444.540226096229,17280.332786096231,17614.856306096233]
[null,null,0,{"$f":"IF(C2334<>0,LOOKUP(,-CODE(C$3:C2334),C$3:C2334),D2333)","v":161},"161(800)-600",null,null,null,"600",800,"600",16115.085166386085,16523.659246386087,16574.157166386085,16983.305086386084,17912.352046386084,18284.200366386085]
[null,null,0,{"$f":"IF(C2335<>0,LOOKUP(,-CODE(C$3:C2335),C$3:C2335),D2334)","v":161},"161(920)-600",null,null,null,"600",920,"600",17374.909473320869,17845.000353320869,17903.101473320869,18373.852593320869,19442.78115332087,19870.61667332087]
[null,null,0,{"$f":"IF(C2336<>0,LOOKUP(,-CODE(C$3:C2336),C$3:C2336),D2335)","v":161},"161(960)-600",null,null,null,"600",960,"600",17616.677503465799,18107.273983465799,18167.909503465798,18659.195023465796,19774.750783465795,20221.248703465797]
[null,"212,213,214",162,{"$f":"IF(C2337<>0,LOOKUP(,-CODE(C$3:C2337),C$3:C2337),D2336)","v":162},"162(600)-600","Шкаф настенный угловой-трапеция с посудосушителем (хром) со стеклом",null,null,"600",600,"600",14939.900815661449,15246.37673566145,15247.236415661449,15553.712335661448,16139.58425566145,16418.120575661447]
[null,null,0,{"$f":"IF(C2338<>0,LOOKUP(,-CODE(C$3:C2338),C$3:C2338),D2337)","v":162},"162(720)-600",null,null,null,"600",720,"600",15616.342106096232,15984.42122609623,15985.453706096232,16353.532826096231,17057.16794609623,17391.691466096232]
[null,null,0,{"$f":"IF(C2339<>0,LOOKUP(,-CODE(C$3:C2339),C$3:C2339),D2338)","v":162},"162(800)-600",null,null,null,"600",800,"600",16067.302966386085,16476.450886386083,16477.598566386085,16886.746486386084,17668.890406386086,18040.738726386084]
[null,null,0,{"$f":"IF(C2340<>0,LOOKUP(,-CODE(C$3:C2340),C$3:C2340),D2339)","v":162},"162(920)-600",null,null,null,"600",920,"600",17326.14447332087,17796.895593320867,17798.216073320869,18268.96719332087,19168.87431332087,19596.709833320871]
[null,null,0,{"$f":"IF(C2341<>0,LOOKUP(,-CODE(C$3:C2341),C$3:C2341),D2340)","v":162},"162(960)-600",null,null,null,"600",960,"600",17567.584903465799,18058.870423465796,18060.248503465798,18551.534023465796,19490.695543465798,19937.193463465799]
[null,"169",163,{"$f":"IF(C2342<>0,LOOKUP(,-CODE(C$3:C2342),C$3:C2342),D2341)","v":163},"163(460)-600","Шкаф настенный однодверный под встраиваемую вытяжку, подъем дна на 140 мм.",null,null,"600",460,315,4405.8370482202899,4755.4946946202899,4798.7108082202894,5148.8595468202893,5943.9378186202894,6262.1655642202895]
[null,null,0,{"$f":"IF(C2343<>0,LOOKUP(,-CODE(C$3:C2343),C$3:C2343),D2342)","v":163},"163(480)-600",null,null,null,"600",480,315,4555.4461246260871,4920.4060750260869,4965.5134846260871,5330.9860192260867,6160.8598390260868,6493.0144006260871]
[null,null,0,{"$f":"IF(C2344<>0,LOOKUP(,-CODE(C$3:C2344),C$3:C2344),D2343)","v":163},"163(600)-600",null,null,null,"600",600,315,5453.1005830608692,5909.8743574608689,5966.3295430608696,6423.744853660869,7462.3919614608685,7878.1074190608688]
[null,null,0,{"$f":"IF(C2345<>0,LOOKUP(,-CODE(C$3:C2345),C$3:C2345),D2344)","v":163},"163(720)-600",null,null,null,"600",720,315,6350.7550414956522,6899.3426398956517,6967.145601495652,7516.5036880956523,8763.9240838956521,9263.2004374956541]
[null,"226",164,{"$f":"IF(C2346<>0,LOOKUP(,-CODE(C$3:C2346),C$3:C2346),D2345)","v":164},"164(600)-600","Шкаф настенный двухдверный под встраиваемую вытяжку, подъем дна на 140 мм.",null,null,"600",600,315,5777.0517390608693,6231.5301678608694,6287.70165906087,6742.8184002608696,7776.2461758608697,8189.8726110608695]
[null,null,0,{"$f":"IF(C2347<>0,LOOKUP(,-CODE(C$3:C2347),C$3:C2347),D2346)","v":164},"164(720)-600",null,null,null,"600",720,315,6670.571957495652,7216.4028342956526,7283.8650774956523,7830.4625706956522,9071.6145222956511,9568.3819494956515]
[null,"170",165,{"$f":"IF(C2348<>0,LOOKUP(,-CODE(C$3:C2348),C$3:C2348),D2347)","v":165},"165(460)-600","Шкаф настенный однодверный под встраиваемую вытяжку, подъем дна на 140 мм, открывание вверх, газ-лифт",null,null,"600",460,315,4673.5870482202899,5023.2446946202899,5066.4608082202894,5416.6095468202893,6211.6878186202894,6529.9155642202895]
[null,null,0,{"$f":"IF(C2349<>0,LOOKUP(,-CODE(C$3:C2349),C$3:C2349),D2348)","v":165},"165(480)-600",null,null,null,"600",480,315,4823.1961246260871,5188.1560750260869,5233.2634846260871,5598.7360192260867,6428.6098390260868,6760.7644006260871]
[null,null,0,{"$f":"IF(C2350<>0,LOOKUP(,-CODE(C$3:C2350),C$3:C2350),D2349)","v":165},"165(540)-600",null,null,null,"600",540,315,5272.0233538434786,5682.8902162434788,5733.6715138434784,6145.1154364434788,7079.3759002434781,7453.3109098434779]
[null,null,0,{"$f":"IF(C2351<>0,LOOKUP(,-CODE(C$3:C2351),C$3:C2351),D2350)","v":165},"165(600)-600",null,null,null,"600",600,315,5720.8505830608692,6177.6243574608689,6234.0795430608696,6691.494853660869,7730.1419614608685,8145.8574190608688]
[null,"221",166,{"$f":"IF(C2352<>0,LOOKUP(,-CODE(C$3:C2352),C$3:C2352),D2351)","v":166},"166(600)-50","Шкаф настенный с декоративной колонной (пилястра)",null,null,"50",600,315,2548.9724544000001,2548.9724544000001,2548.9724544000001,2548.9724544000001,2548.9724544000001,2548.9724544000001]
[null,null,0,{"$f":"IF(C2353<>0,LOOKUP(,-CODE(C$3:C2353),C$3:C2353),D2352)","v":166},"166(720)-50",null,null,null,"50",720,315,2584.8746304000001,2584.8746304000001,2584.8746304000001,2584.8746304000001,2584.8746304000001,2584.8746304000001]
[null,null,0,{"$f":"IF(C2354<>0,LOOKUP(,-CODE(C$3:C2354),C$3:C2354),D2353)","v":166},"166(800)-50",null,null,null,"50",800,315,2610.2844144000001,2610.2844144000001,2610.2844144000001,2610.2844144000001,2610.2844144000001,2610.2844144000001]
[null,null,0,{"$f":"IF(C2355<>0,LOOKUP(,-CODE(C$3:C2355),C$3:C2355),D2354)","v":166},"166(920)-50",null,null,null,"50",920,315,2646.1865903999997,2646.1865903999997,2646.1865903999997,2646.1865903999997,2646.1865903999997,2646.1865903999997]
[null,null,0,{"$f":"IF(C2356<>0,LOOKUP(,-CODE(C$3:C2356),C$3:C2356),D2355)","v":166},"166(960)-50",null,null,null,"50",960,315,2658.1539824000001,2658.1539824000001,2658.1539824000001,2658.1539824000001,2658.1539824000001,2658.1539824000001]
[null,null,0,{"$f":"IF(C2357<>0,LOOKUP(,-CODE(C$3:C2357),C$3:C2357),D2356)","v":166},"166(1160)-50",null,null,null,"50",1160,315,2717.9909423999998,2717.9909423999998,2717.9909423999998,2717.9909423999998,2717.9909423999998,2717.9909423999998]
[null,"221",167,{"$f":"IF(C2358<>0,LOOKUP(,-CODE(C$3:C2358),C$3:C2358),D2357)","v":167},"167(600)-75","Шкаф настенный с декоративной колонной (пилястра)",null,null,"75",600,315,2771.2548069333334,2771.2548069333334,2771.2548069333334,2771.2548069333334,2771.2548069333334,2771.2548069333334]
[null,null,{"$error":"#REF!"},167,"167(720)-75",null,null,null,"75",720,315,2832.9563749333333,2832.9563749333333,2832.9563749333333,2832.9563749333333,2832.9563749333333,2832.9563749333333]
[null,null,{"$error":"#REF!"},167,"167(800)-75",null,null,null,"75",800,315,2874.0907536,2874.0907536,2874.0907536,2874.0907536,2874.0907536,2874.0907536]
[null,null,{"$error":"#REF!"},167,"167(920)-75",null,null,null,"75",920,315,2935.7923215999999,2935.7923215999999,2935.7923215999999,2935.7923215999999,2935.7923215999999,2935.7923215999999]
[null,null,{"$error":"#REF!"},167,"167(960)-75",null,null,null,"75",960,315,2956.3595109333332,2956.3595109333332,2956.3595109333332,2956.3595109333332,2956.3595109333332,2956.3595109333332]
[null,null,{"$error":"#REF!"},167,"167(1160)-75",null,null,null,"75",1160,315,3059.1954575999998,3059.1954575999998,3059.1954575999998,3059.1954575999998,3059.1954575999998,3059.1954575999998]
[null,"225",168,{"$f":"IF(C2364<>0,LOOKUP(,-CODE(C$3:C2364),C$3:C2364),D2363)","v":168},"168(600)-100","Шкаф настенный с декоративной колонной (пилястра) глубина 315 мм, боковины ЛДСП",null,null,"100",600,315,3007.1364821333332,3007.1364821333332,3007.1364821333332,3007.1364821333332,3007.1364821333332,3007.1364821333332]
[null,null,0,{"$f":"IF(C2365<>0,LOOKUP(,-CODE(C$3:C2365),C$3:C2365),D2364)","v":168},"168(720)-100",null,null,null,"100",720,315,3074.4660501333333,3074.4660501333333,3074.4660501333333,3074.4660501333333,3074.4660501333333,3074.4660501333333]
[null,null,0,{"$f":"IF(C2366<>0,LOOKUP(,-CODE(C$3:C2366),C$3:C2366),D2365)","v":168},"168(800)-100",null,null,null,"100",800,315,3129.3524287999999,3129.3524287999999,3129.3524287999999,3129.3524287999999,3129.3524287999999,3129.3524287999999]
[null,null,0,{"$f":"IF(C2367<>0,LOOKUP(,-CODE(C$3:C2367),C$3:C2367),D2366)","v":168},"168(920)-100",null,null,null,"100",920,315,3196.6819968,3196.6819968,3196.6819968,3196.6819968,3196.6819968,3196.6819968]
[null,null,0,{"$f":"IF(C2368<>0,LOOKUP(,-CODE(C$3:C2368),C$3:C2368),D2367)","v":168},"168(960)-100",null,null,null,"100",960,315,3219.125186133333,3219.125186133333,3219.125186133333,3219.125186133333,3219.125186133333,3219.125186133333]
[null,null,0,{"$f":"IF(C2369<>0,LOOKUP(,-CODE(C$3:C2369),C$3:C2369),D2368)","v":168},"168(1160)-100",null,null,null,"100",1160,315,3331.3411328000002,3331.3411328000002,3331.3411328000002,3331.3411328000002,3331.3411328000002,3331.3411328000002]
[null,null,171,{"$f":"IF(C2370<>0,LOOKUP(,-CODE(C$3:C2370),C$3:C2370),#REF!)","v":171},"171(600)-450","Шкафнастенныйдвухдверный с посудосушителем  (хром) со стеклом, открывание вверх, Aventos HF",null,null,"450",600,315,10563.661688805798,10904.427490005797,10905.383354805797,11246.149156005797,11897.571017205797,12207.271212405796]
[null,null,null,{"$f":"IF(C2371<>0,LOOKUP(,-CODE(C$3:C2371),C$3:C2371),D2370)","v":171},"171(600)-500",null,null,null,"500",600,315,10990.025262573912,11368.908043773912,11369.970828573913,11748.853609773912,12473.141450973913,12817.483726173914]
[null,null,0,{"$f":"IF(C2372<>0,LOOKUP(,-CODE(C$3:C2372),C$3:C2372),D2371)","v":171},"171(600)-600",null,null,null,"600",600,315,11841.526010110145,12296.642751310144,12297.919376110145,12753.036117310145,13623.055918510145,14036.682353710145]
[null,null,0,{"$f":"IF(C2373<>0,LOOKUP(,-CODE(C$3:C2373),C$3:C2373),D2372)","v":171},"171(600)-700",null,null,null,"700",600,315,12832.83635764638,13364.187058846379,13365.677523646378,13897.028224846379,14912.77998604638,15395.690581246379]
[null,null,0,{"$f":"IF(C2374<>0,LOOKUP(,-CODE(C$3:C2374),C$3:C2374),D2373)","v":171},"171(600)-800",null,null,null,"800",600,315,13727.845105182609,14335.429766382609,14337.134071182609,14944.718732382607,16106.202453582609,16658.397208782608]
[null,null,0,{"$f":"IF(C2375<>0,LOOKUP(,-CODE(C$3:C2375),C$3:C2375),D2374)","v":171},"171(600)-900",null,null,null,"900",600,315,14739.653852718842,15423.472473918842,15425.39061871884,16109.209239918842,17416.42492111884,18037.903836318841]
[null,null,null,{"$f":"IF(C2376<>0,LOOKUP(,-CODE(C$3:C2376),C$3:C2376),D2375)","v":171},"171(720)-450",null,null,null,"450",720,315,11571.592474197101,11981.199851397101,11982.348820197101,12391.956197397101,13174.9784345971,13547.244325797101]
[null,null,0,{"$f":"IF(C2377<>0,LOOKUP(,-CODE(C$3:C2377),C$3:C2377),D2376)","v":171},"171(720)-500",null,null,null,"500",720,315,12070.017352313043,12525.442109513044,12526.719598313042,12982.144355513045,13852.752972713044,14266.659343913043]
[null,null,0,{"$f":"IF(C2378<>0,LOOKUP(,-CODE(C$3:C2378),C$3:C2378),D2377)","v":171},"171(720)-600",null,null,null,"600",720,315,13065.64070854493,13612.700225744929,13614.234754544928,14161.294271744928,15207.075648944929,15704.262980144927]
[null,null,0,{"$f":"IF(C2379<>0,LOOKUP(,-CODE(C$3:C2379),C$3:C2379),D2378)","v":171},"171(720)-700",null,null,null,"700",720,315,14201.073664776812,14839.767941976812,14841.559510776811,15480.253787976812,16701.207925176815,17281.676216376814]
[null,null,0,{"$f":"IF(C2380<>0,LOOKUP(,-CODE(C$3:C2380),C$3:C2380),D2379)","v":171},"171(720)-800",null,null,null,"800",720,315,15465.205021008696,16195.534058208696,16197.582667008695,16927.911704208695,18324.038601408694,18987.787852608693]
[null,null,0,{"$f":"IF(C2381<>0,LOOKUP(,-CODE(C$3:C2381),C$3:C2381),D2380)","v":171},"171(720)-900",null,null,null,"900",720,315,16621.136377240582,17443.10017444058,17445.405823240581,18267.369620440582,19838.66927764058,20585.699488840579]
[null,null,null,{"$f":"IF(C2382<>0,LOOKUP(,-CODE(C$3:C2382),C$3:C2382),D2381)","v":171},"171(800)-450",null,null,null,"450",800,315,12269.046331124637,12724.548092324638,12725.825797124637,13181.327558324638,14052.083379524638,14466.059734724638]
[null,null,0,{"$f":"IF(C2383<>0,LOOKUP(,-CODE(C$3:C2383),C$3:C2383),D2382)","v":171},"171(800)-500",null,null,null,"500",800,315,12815.512078805799,13321.9648200058,13323.385444805799,13829.8381860058,14797.9939872058,15258.276422405799]
[null,null,0,{"$f":"IF(C2384<>0,LOOKUP(,-CODE(C$3:C2384),C$3:C2384),D2383)","v":171},"171(800)-600",null,null,null,"600",800,315,14132.217174168118,14740.571875368118,14742.278340168117,15350.633041368117,16513.588802568116,17066.483397768116]
[null,null,0,{"$f":"IF(C2385<>0,LOOKUP(,-CODE(C$3:C2385),C$3:C2385),D2384)","v":171},"171(800)-700",null,null,null,"700",800,315,15363.731869530435,16073.988530730434,16075.980835530436,16786.237496730435,18143.993217930438,18789.499973130434]
[null,null,0,{"$f":"IF(C2386<>0,LOOKUP(,-CODE(C$3:C2386),C$3:C2386),D2385)","v":171},"171(800)-800",null,null,null,"800",800,315,16498.944964892755,17311.103586092755,17313.381730892754,18125.540352092754,19678.096033292753,20416.214948492754]
[null,null,0,{"$f":"IF(C2387<>0,LOOKUP(,-CODE(C$3:C2387),C$3:C2387),D2386)","v":171},"171(800)-900",null,null,null,"900",800,315,17750.958060255074,18665.018641455074,18667.582626255073,19581.643207455076,21328.998848655076,22159.729923855073]
[null,null,null,{"$f":"IF(C2388<>0,LOOKUP(,-CODE(C$3:C2388),C$3:C2388),D2387)","v":171},"171(920)-450",null,null,null,"450",920,315,12986.111366515943,13510.454703715943,13511.925512515942,14036.268849715943,15038.625046915942,15515.167098115942]
[null,null,0,{"$f":"IF(C2389<>0,LOOKUP(,-CODE(C$3:C2389),C$3:C2389),D2388)","v":171},"171(920)-500",null,null,null,"500",920,315,13951.075823344929,14534.07054054493,14535.705869344931,15118.70058654493,16233.177163744929,16763.023694944928]
[null,null,0,{"$f":"IF(C2390<>0,LOOKUP(,-CODE(C$3:C2390),C$3:C2390),D2389)","v":171},"171(920)-600",null,null,null,"600",920,315,15210.512514069565,15910.809991269563,15912.774360069565,16613.071837269566,17951.789174469566,18588.244665669568]
[null,null,0,{"$f":"IF(C2391<>0,LOOKUP(,-CODE(C$3:C2391),C$3:C2391),D2390)","v":171},"171(920)-700",null,null,null,"700",920,315,16609.758804794204,17427.359041994205,17429.652450794205,18247.252687994205,19810.210785194202,20553.275236394202]
[null,null,0,{"$f":"IF(C2392<>0,LOOKUP(,-CODE(C$3:C2392),C$3:C2392),D2391)","v":171},"171(920)-800",null,null,null,"800",920,315,18227.703495518839,19162.606492718842,19165.228941518842,20100.131938718841,21887.330795918842,22737.004207118844]
[null,null,0,{"$f":"IF(C2393<>0,LOOKUP(,-CODE(C$3:C2393),C$3:C2393),D2392)","v":171},"171(920)-900",null,null,null,"900",920,315,19647.44818624348,20699.653943443478,20702.605432243479,21754.811189443481,23766.250806643478,24722.533177843481]
[null,null,null,{"$f":"IF(C2394<>0,LOOKUP(,-CODE(C$3:C2394),C$3:C2394),D2393)","v":171},"171(960)-450",null,null,null,"450",960,315,13215.588294979714,13762.878824179714,13764.414000979714,14311.704530179713,15357.927519379713,15855.324802579713]
[null,null,0,{"$f":"IF(C2395<>0,LOOKUP(,-CODE(C$3:C2395),C$3:C2395),D2394)","v":171},"171(960)-500",null,null,null,"500",960,315,13979.573186591304,14588.081895791303,14589.788792591306,15198.297501791305,16361.547670991305,16914.582234191304]
[null,null,0,{"$f":"IF(C2396<>0,LOOKUP(,-CODE(C$3:C2396),C$3:C2396),D2395)","v":171},"171(960)-600",null,null,null,"600",960,315,15827.050746881161,16557.995816081162,16560.046152881161,17290.99122208116,18688.295751281159,19352.60487448116]
[null,null,0,{"$f":"IF(C2397<>0,LOOKUP(,-CODE(C$3:C2397),C$3:C2397),D2396)","v":171},"171(960)-700",null,null,null,"700",960,315,17274.337907171015,18127.719336371018,18130.113113171014,18983.494542371016,20614.853431571013,21390.437114771019]
[null,null,0,{"$f":"IF(C2398<>0,LOOKUP(,-CODE(C$3:C2398),C$3:C2398),D2397)","v":171},"171(960)-800",null,null,null,"800",960,315,18625.323467460872,19601.141256660871,19603.878473460871,20579.696262660869,22445.109511860868,23331.967755060872]
[null,null,0,{"$f":"IF(C2399<>0,LOOKUP(,-CODE(C$3:C2399),C$3:C2399),D2398)","v":171},"171(960)-900",null,null,null,"900",960,315,20093.109027750725,21191.363176950726,21194.443833750724,22292.697982950725,24392.165592150726,25390.298395350728]
[null,null,174,{"$f":"IF(C2400<>0,LOOKUP(,-CODE(C$3:C2400),C$3:C2400),#REF!)","v":174},"174(300)-500","Шкаф настенный однодверный, открывание вверх,Aventos BLUM HK, под систему SERVO-DRIVE (без механизма)",null,null,"500",300,315,5464.0507288579702,5653.226423257971,5676.6076888579701,5866.0490794579709,6296.2112272579707,6468.382364857971]
[null,null,0,{"$f":"IF(C2401<>0,LOOKUP(,-CODE(C$3:C2401),C$3:C2401),D2400)","v":174},"174(300)-550",null,null,null,"550",300,315,5662.9601590028979,5871.1676134028985,5896.9011190028978,6105.4009996028981,6578.8390174028982,6768.3311950028983]
[null,null,0,{"$f":"IF(C2402<>0,LOOKUP(,-CODE(C$3:C2402),C$3:C2402),D2401)","v":174},"174(300)-600",null,null,null,"600",300,315,5861.8695891478255,6089.108803547826,6117.1945491478255,6344.7529197478252,6861.4668075478257,7068.2800251478257]
[null,null,0,{"$f":"IF(C2403<>0,LOOKUP(,-CODE(C$3:C2403),C$3:C2403),D2402)","v":174},"174(300)-650",null,null,null,"650",300,315,6060.7790192927532,6307.0499936927536,6337.4879792927532,6584.1048398927533,7144.0945976927533,7368.228855292753]
[null,null,0,{"$f":"IF(C2404<>0,LOOKUP(,-CODE(C$3:C2404),C$3:C2404),D2403)","v":174},"174(300)-700",null,null,null,"700",300,315,6259.6884494376809,6524.9911838376811,6557.7814094376808,6823.4567600376813,7426.7223878376808,7668.1776854376812]
[null,null,0,{"$f":"IF(C2405<>0,LOOKUP(,-CODE(C$3:C2405),C$3:C2405),D2404)","v":174},"174(300)-750",null,null,null,"750",300,315,6458.5978795826086,6742.9323739826086,6778.0748395826085,7062.8086801826084,7709.3501779826083,7968.1265155826077]
[null,null,0,{"$f":"IF(C2406<>0,LOOKUP(,-CODE(C$3:C2406),C$3:C2406),D2405)","v":174},"174(300)-800",null,null,null,"800",300,315,6657.5073097275363,6960.8735641275362,6998.3682697275362,7302.1606003275365,7991.9779681275359,8268.075345727535]
[null,null,0,{"$f":"IF(C2407<>0,LOOKUP(,-CODE(C$3:C2407),C$3:C2407),D2406)","v":174},"174(300)-850",null,null,null,"850",300,315,6856.416739872463,7178.8147542724637,7218.661699872463,7541.5125204724627,8274.6057582724625,8568.0241758724624]
[null,null,0,{"$f":"IF(C2408<>0,LOOKUP(,-CODE(C$3:C2408),C$3:C2408),D2407)","v":174},"174(300)-900",null,null,null,"900",300,315,7055.3261700173916,7396.7559444173912,7438.9551300173916,7780.8644406173917,8557.2335484173909,8867.9730060173915]
[null,null,0,{"$f":"IF(C2409<>0,LOOKUP(,-CODE(C$3:C2409),C$3:C2409),D2408)","v":174},"174(360)-500",null,null,null,"500",360,315,5842.8326537275361,6070.2256601275358,6098.3304137275354,6326.0427923275365,6843.1063841275363,7050.0595697275367]
[null,null,0,{"$f":"IF(C2410<>0,LOOKUP(,-CODE(C$3:C2410),C$3:C2410),D2409)","v":174},"174(360)-550",null,null,null,"550",360,315,6076.7647360463761,6327.0343024463764,6357.9664960463761,6608.5875646463764,7177.6696264463772,7405.4430520463766]
[null,null,0,{"$f":"IF(C2411<>0,LOOKUP(,-CODE(C$3:C2411),C$3:C2411),D2410)","v":174},"174(360)-600",null,null,null,"600",360,315,6310.696818365217,6583.842944765217,6617.6025783652167,6891.1323369652173,7512.2328687652171,7760.8265343652165]
[null,null,0,{"$f":"IF(C2412<>0,LOOKUP(,-CODE(C$3:C2412),C$3:C2412),D2411)","v":174},"174(360)-650",null,null,null,"650",360,315,6544.628900684058,6840.6515870840576,6877.2386606840573,7173.6771092840572,7846.796111084057,8116.2100166840573]
[null,null,0,{"$f":"IF(C2413<>0,LOOKUP(,-CODE(C$3:C2413),C$3:C2413),D2412)","v":174},"174(360)-700",null,null,null,"700",360,315,6778.560983002898,7097.4602294028973,7136.874743002898,7456.2218816028981,8181.3593534028987,8471.5934990028982]
[null,null,0,{"$f":"IF(C2414<>0,LOOKUP(,-CODE(C$3:C2414),C$3:C2414),D2413)","v":174},"174(360)-750",null,null,null,"750",360,315,7012.4930653217389,7354.2688717217388,7396.5108253217386,7738.7666539217389,8515.9225957217386,8826.976981321739]
[null,null,0,{"$f":"IF(C2415<>0,LOOKUP(,-CODE(C$3:C2415),C$3:C2415),D2414)","v":174},"174(360)-800",null,null,null,"800",360,315,7246.4251476405789,7611.0775140405785,7656.1469076405792,8021.3114262405788,8850.4858380405785,9182.3604636405798]
[null,null,0,{"$f":"IF(C2416<>0,LOOKUP(,-CODE(C$3:C2416),C$3:C2416),D2415)","v":174},"174(360)-850",null,null,null,"850",360,315,7480.3572299594198,7867.8861563594201,7915.7829899594199,8303.8561985594206,9185.0490803594203,9537.7439459594207]
[null,null,0,{"$f":"IF(C2417<>0,LOOKUP(,-CODE(C$3:C2417),C$3:C2417),D2416)","v":174},"174(360)-900",null,null,null,"900",360,315,7714.2893122782607,8124.6947986782598,8175.4190722782605,8586.4009708782614,9519.6123226782602,9893.1274282782615]
[null,null,0,{"$f":"IF(C2418<>0,LOOKUP(,-CODE(C$3:C2418),C$3:C2418),D2417)","v":174},"174(400)-500",null,null,null,"500",400,315,6095.3539369739128,6348.2251513739129,6379.4788969739129,6632.7052675739133,7207.7031553739125,7437.8443729739129]
[null,null,0,{"$f":"IF(C2419<>0,LOOKUP(,-CODE(C$3:C2419),C$3:C2419),D2418)","v":174},"174(400)-550",null,null,null,"550",400,315,6352.6344540753616,6630.945428475362,6665.3434140753625,6944.0452746753617,7576.8900324753622,7830.1842900753618]
[null,null,0,{"$f":"IF(C2420<>0,LOOKUP(,-CODE(C$3:C2420),C$3:C2420),D2419)","v":174},"174(400)-600",null,null,null,"600",400,315,6609.9149711768114,6913.6657055768119,6951.2079311768121,7255.3852817768111,7946.0769095768119,8222.5242071768116]
[null,null,0,{"$f":"IF(C2421<>0,LOOKUP(,-CODE(C$3:C2421),C$3:C2421),D2420)","v":174},"174(400)-650",null,null,null,"650",400,315,6867.1954882782611,7196.3859826782609,7237.0724482782607,7566.7252888782605,8315.2637866782607,8614.8641242782614]
[null,null,0,{"$f":"IF(C2422<>0,LOOKUP(,-CODE(C$3:C2422),C$3:C2422),D2421)","v":174},"174(400)-700",null,null,null,"700",400,315,7124.476005379709,7479.1062597797099,7522.9369653797094,7878.0652959797098,8684.4506637797094,9007.2040413797095]
[null,null,0,{"$f":"IF(C2423<>0,LOOKUP(,-CODE(C$3:C2423),C$3:C2423),D2422)","v":174},"174(400)-750",null,null,null,"750",400,315,7381.7565224811597,7761.8265368811599,7808.8014824811598,8189.4053030811592,9053.63754088116,9399.5439584811593]
[null,null,0,{"$f":"IF(C2424<>0,LOOKUP(,-CODE(C$3:C2424),C$3:C2424),D2423)","v":174},"174(400)-800",null,null,null,"800",400,315,7639.0370395826085,8044.5468139826089,8094.6659995826085,8500.7453101826086,9422.8244179826088,9791.8838755826091]
[null,null,0,{"$f":"IF(C2425<>0,LOOKUP(,-CODE(C$3:C2425),C$3:C2425),D2424)","v":174},"174(400)-850",null,null,null,"850",400,315,7896.3175566840564,8327.267091084057,8380.5305166840571,8812.085317284058,9792.0112950840576,10184.223792684057]
[null,null,0,{"$f":"IF(C2426<>0,LOOKUP(,-CODE(C$3:C2426),C$3:C2426),D2425)","v":174},"174(400)-900",null,null,null,"900",400,315,8153.5980737855079,8609.9873681855079,8666.3950337855076,9123.4253243855073,10161.198172185508,10576.563709785507]
[null,null,0,{"$f":"IF(C2427<>0,LOOKUP(,-CODE(C$3:C2427),C$3:C2427),D2426)","v":174},"174(460)-500",null,null,null,"500",460,315,6474.1358618434779,6765.2243882434777,6801.2016218434783,7092.6989804434779,7754.5983122434773,8019.5215778434776]
[null,null,0,{"$f":"IF(C2428<>0,LOOKUP(,-CODE(C$3:C2428),C$3:C2428),D2427)","v":174},"174(460)-550",null,null,null,"550",460,315,6766.4390311188399,7086.8121175188408,7126.4087911188408,7447.231839718841,8175.7206415188411,8467.296147118841]
[null,null,0,{"$f":"IF(C2429<>0,LOOKUP(,-CODE(C$3:C2429),C$3:C2429),D2428)","v":174},"174(460)-600",null,null,null,"600",460,315,7058.7422003942029,7408.3998467942019,7451.6159603942024,7801.7646989942023,8596.8429707942014,8915.0707163942025]
[null,null,0,{"$f":"IF(C2430<>0,LOOKUP(,-CODE(C$3:C2430),C$3:C2430),D2429)","v":174},"174(460)-650",null,null,null,"650",460,315,7351.0453696695658,7729.987576069565,7776.8231296695649,8156.2975582695653,9017.9653000695653,9362.8452856695658]
[null,null,0,{"$f":"IF(C2431<>0,LOOKUP(,-CODE(C$3:C2431),C$3:C2431),D2430)","v":174},"174(460)-700",null,null,null,"700",460,315,7643.3485389449279,8051.575305344928,8102.0302989449274,8510.8304175449266,9439.0876293449273,9810.6198549449291]
[null,null,0,{"$f":"IF(C2432<>0,LOOKUP(,-CODE(C$3:C2432),C$3:C2432),D2431)","v":174},"174(460)-750",null,null,null,"750",460,315,7935.6517082202899,8373.1630346202892,8427.2374682202899,8865.3632768202897,9860.2099586202894,10258.394424220291]
[null,null,0,{"$f":"IF(C2433<>0,LOOKUP(,-CODE(C$3:C2433),C$3:C2433),D2432)","v":174},"174(460)-800",null,null,null,"800",460,315,8227.9548774956529,8694.7507638956522,8752.4446374956515,9219.8961360956528,10281.332287895651,10706.168993495652]
[null,null,0,{"$f":"IF(C2434<>0,LOOKUP(,-CODE(C$3:C2434),C$3:C2434),D2433)","v":174},"174(460)-850",null,null,null,"850",460,315,8653.0080467710159,9149.0884931710152,9210.4018067710167,9707.178995371014,10835.204617171015,11286.693562771015]
[null,null,0,{"$f":"IF(C2435<>0,LOOKUP(,-CODE(C$3:C2435),C$3:C2435),D2434)","v":174},"174(460)-900",null,null,null,"900",460,315,8945.311216046377,9470.6762224463782,9535.6089760463765,10061.711854646377,11256.326946446377,11734.468132046379]
[null,null,0,{"$f":"IF(C2436<>0,LOOKUP(,-CODE(C$3:C2436),C$3:C2436),D2435)","v":174},"174(480)-500",null,null,null,"500",480,315,6600.3965034666662,6904.2241338666663,6941.7758634666661,7246.0302180666667,7936.8966978666667,8213.4139794666662]
[null,null,0,{"$f":"IF(C2437<>0,LOOKUP(,-CODE(C$3:C2437),C$3:C2437),D2436)","v":174},"174(480)-550",null,null,null,"550",480,315,6904.3738901333327,7238.7676805333331,7280.0972501333326,7614.9606947333332,8375.3308445333332,8679.666766133334]
[null,null,0,{"$f":"IF(C2438<>0,LOOKUP(,-CODE(C$3:C2438),C$3:C2438),D2437)","v":174},"174(480)-600",null,null,null,"600",480,315,7208.3512768000001,7573.3112271999998,7618.4186367999991,7983.8911713999996,8813.7649911999997,9145.9195528]
[null,null,0,{"$f":"IF(C2439<>0,LOOKUP(,-CODE(C$3:C2439),C$3:C2439),D2438)","v":174},"174(480)-650",null,null,null,"650",480,315,7512.3286634666665,7907.8547738666657,7956.7400234666657,8352.821648066667,9252.1991378666644,9612.172339466666]
[null,null,0,{"$f":"IF(C2440<>0,LOOKUP(,-CODE(C$3:C2440),C$3:C2440),D2439)","v":174},"174(480)-700",null,null,null,"700",480,315,7816.306050133333,8242.3983205333334,8295.061410133334,8721.7521247333334,9690.6332845333345,10078.425126133334]
[null,null,0,{"$f":"IF(C2441<>0,LOOKUP(,-CODE(C$3:C2441),C$3:C2441),D2440)","v":174},"174(480)-750",null,null,null,"750",480,315,8120.2834368000003,8576.9418672000011,8633.3827968000005,9090.6826013999998,10129.067431200001,10544.6779128]
[null,null,0,{"$f":"IF(C2442<>0,LOOKUP(,-CODE(C$3:C2442),C$3:C2442),D2441)","v":174},"174(480)-800",null,null,null,"800",480,315,8424.2608234666659,8911.4854138666669,8971.7041834666652,9459.6130780666663,10567.501577866666,11010.930699466666]
[null,null,0,{"$f":"IF(C2443<>0,LOOKUP(,-CODE(C$3:C2443),C$3:C2443),D2442)","v":174},"174(480)-850",null,null,null,"850",480,315,8860.9882101333333,9378.7789605333346,9442.7755701333335,9961.2935547333327,11138.685724533334,11609.933486133334]
[null,null,0,{"$f":"IF(C2444<>0,LOOKUP(,-CODE(C$3:C2444),C$3:C2444),D2443)","v":174},"174(480)-900",null,null,null,"900",480,315,9164.9655968000006,9713.3225071999987,9781.0969568,10330.224031400001,11577.1198712,12076.186272800001]
[null,null,175,{"$f":"IF(C2445<>0,LOOKUP(,-CODE(C$3:C2445),C$3:C2445),D2444)","v":175},"175(360)-500","Шкаф настенный однодверный, открывание вверх,Aventos BLUM HS, под систему SERVO-DRIVE (без механизма)",null,null,"500",360,315,8959.1366537275371,9186.5296601275368,9214.6344137275373,9442.3467923275366,9959.4103841275373,10166.363569727537]
[null,null,0,{"$f":"IF(C2446<>0,LOOKUP(,-CODE(C$3:C2446),C$3:C2446),D2445)","v":175},"175(360)-550",null,null,null,"550",360,315,9193.068736046378,9443.3383024463765,9474.270496046378,9724.8915646463774,10293.973626446377,10521.747052046378]
[null,null,0,{"$f":"IF(C2447<>0,LOOKUP(,-CODE(C$3:C2447),C$3:C2447),D2446)","v":175},"175(360)-600",null,null,null,"600",360,315,9427.0008183652171,9700.146944765218,9733.9065783652186,10007.436336965218,10628.536868765219,10877.130534365217]
[null,null,0,{"$f":"IF(C2448<>0,LOOKUP(,-CODE(C$3:C2448),C$3:C2448),D2447)","v":175},"175(360)-650",null,null,null,"650",360,315,9660.932900684058,9956.9555870840577,9993.5426606840574,10289.981109284057,10963.100111084059,11232.514016684057]
[null,null,0,{"$f":"IF(C2449<>0,LOOKUP(,-CODE(C$3:C2449),C$3:C2449),D2448)","v":175},"175(360)-700",null,null,null,"700",360,315,9910.614983002899,10229.514229402899,10268.928743002898,10588.275881602898,11313.413353402899,11603.647499002898]
[null,null,0,{"$f":"IF(C2450<>0,LOOKUP(,-CODE(C$3:C2450),C$3:C2450),D2449)","v":175},"175(360)-750",null,null,null,"750",360,315,10144.547065321738,10486.322871721739,10528.564825321739,10870.820653921739,11647.976595721739,11959.030981321739]
[null,null,0,{"$f":"IF(C2451<>0,LOOKUP(,-CODE(C$3:C2451),C$3:C2451),D2450)","v":175},"175(360)-800",null,null,null,"800",360,315,10378.479147640579,10743.131514040579,10788.200907640579,11153.36542624058,11982.539838040579,12314.41446364058]
[null,null,0,{"$f":"IF(C2452<>0,LOOKUP(,-CODE(C$3:C2452),C$3:C2452),D2451)","v":175},"175(360)-850",null,null,null,"850",360,315,10612.41122995942,10999.94015635942,11047.83698995942,11435.910198559421,12317.10308035942,12669.797945959421]
[null,null,0,{"$f":"IF(C2453<>0,LOOKUP(,-CODE(C$3:C2453),C$3:C2453),D2452)","v":175},"175(360)-900",null,null,null,"900",360,315,10846.343312278261,11256.748798678262,11307.473072278262,11718.454970878262,12651.666322678262,13025.181428278262]
[null,null,0,{"$f":"IF(C2454<>0,LOOKUP(,-CODE(C$3:C2454),C$3:C2454),D2453)","v":175},"175(400)-500",null,null,null,"500",400,315,9211.6579369739138,9464.5291513739139,9495.782896973913,9749.0092675739143,10324.007155373914,10554.148372973914]
[null,null,0,{"$f":"IF(C2455<>0,LOOKUP(,-CODE(C$3:C2455),C$3:C2455),D2454)","v":175},"175(400)-550",null,null,null,"550",400,315,9484.6884540753636,9762.9994284753629,9797.3974140753635,10076.099274675362,10708.944032475363,10962.238290075362]
[null,null,0,{"$f":"IF(C2456<>0,LOOKUP(,-CODE(C$3:C2456),C$3:C2456),D2455)","v":175},"175(400)-600",null,null,null,"600",400,315,9741.9689711768115,10045.719705576812,10083.261931176812,10387.439281776813,11078.130909576812,11354.578207176812]
[null,null,0,{"$f":"IF(C2457<>0,LOOKUP(,-CODE(C$3:C2457),C$3:C2457),D2456)","v":175},"175(400)-650",null,null,null,"650",400,315,9999.2494882782612,10328.439982678261,10369.126448278261,10698.779288878261,11447.317786678261,11746.918124278262]
[null,null,0,{"$f":"IF(C2458<>0,LOOKUP(,-CODE(C$3:C2458),C$3:C2458),D2457)","v":175},"175(400)-700",null,null,null,"700",400,315,10256.530005379711,10611.16025977971,10654.990965379709,11010.11929597971,11816.50466377971,12139.25804137971]
[null,null,0,{"$f":"IF(C2459<>0,LOOKUP(,-CODE(C$3:C2459),C$3:C2459),D2458)","v":175},"175(400)-750",null,null,null,"750",400,315,10513.810522481161,10893.880536881161,10940.85548248116,11321.459303081159,12185.69154088116,12531.597958481161]
[null,null,0,{"$f":"IF(C2460<>0,LOOKUP(,-CODE(C$3:C2460),C$3:C2460),D2459)","v":175},"175(400)-800",null,null,null,"800",400,315,10771.091039582609,11176.60081398261,11226.719999582609,11632.79931018261,12554.878417982611,12923.937875582609]
[null,null,0,{"$f":"IF(C2461<>0,LOOKUP(,-CODE(C$3:C2461),C$3:C2461),D2460)","v":175},"175(400)-850",null,null,null,"850",400,315,11028.371556684058,11459.321091084057,11512.584516684057,11944.139317284058,12924.065295084058,13316.277792684057]
[null,null,0,{"$f":"IF(C2462<>0,LOOKUP(,-CODE(C$3:C2462),C$3:C2462),D2461)","v":175},"175(400)-900",null,null,null,"900",400,315,11285.652073785508,11742.041368185508,11798.449033785508,12255.479324385507,13293.252172185508,13708.617709785507]
[null,null,0,{"$f":"IF(C2463<>0,LOOKUP(,-CODE(C$3:C2463),C$3:C2463),D2462)","v":175},"175(460)-500",null,null,null,"500",460,315,9606.1898618434789,9897.2783882434778,9933.2556218434784,10224.752980443478,10886.652312243477,11151.57557784348]
[null,null,0,{"$f":"IF(C2464<>0,LOOKUP(,-CODE(C$3:C2464),C$3:C2464),D2463)","v":175},"175(460)-550",null,null,null,"550",460,315,9898.49303111884,10218.866117518841,10258.462791118842,10579.285839718841,11307.774641518841,11599.350147118843]
[null,null,0,{"$f":"IF(C2465<>0,LOOKUP(,-CODE(C$3:C2465),C$3:C2465),D2464)","v":175},"175(460)-600",null,null,null,"600",460,315,10190.796200394203,10540.453846794202,10583.669960394203,10933.818698994202,11728.896970794201,12047.124716394203]
[null,null,0,{"$f":"IF(C2466<>0,LOOKUP(,-CODE(C$3:C2466),C$3:C2466),D2465)","v":175},"175(460)-650",null,null,null,"650",460,315,10483.099369669566,10862.041576069565,10908.877129669565,11288.351558269565,12150.019300069565,12494.899285669566]
[null,null,0,{"$f":"IF(C2467<>0,LOOKUP(,-CODE(C$3:C2467),C$3:C2467),D2466)","v":175},"175(460)-700",null,null,null,"700",460,315,10775.402538944927,11183.629305344928,11234.084298944927,11642.884417544927,12571.141629344927,12942.673854944929]
[null,null,0,{"$f":"IF(C2468<>0,LOOKUP(,-CODE(C$3:C2468),C$3:C2468),D2467)","v":175},"175(460)-750",null,null,null,"750",460,315,11067.70570822029,11505.217034620291,11559.29146822029,11997.41727682029,12992.263958620289,13390.448424220291]
[null,null,0,{"$f":"IF(C2469<>0,LOOKUP(,-CODE(C$3:C2469),C$3:C2469),D2468)","v":175},"175(460)-800",null,null,null,"800",460,315,11360.008877495653,11826.804763895652,11884.498637495653,12351.950136095653,13413.386287895653,13838.222993495652]
[null,null,0,{"$f":"IF(C2470<>0,LOOKUP(,-CODE(C$3:C2470),C$3:C2470),D2469)","v":175},"175(460)-850",null,null,null,"850",460,315,11652.312046771016,12148.392493171015,12209.705806771017,12706.482995371014,13834.508617171015,14285.997562771016]
[null,null,0,{"$f":"IF(C2471<>0,LOOKUP(,-CODE(C$3:C2471),C$3:C2471),D2470)","v":175},"175(460)-900",null,null,null,"900",460,315,11944.615216046377,12469.980222446378,12534.912976046377,13061.015854646377,14255.630946446377,14733.772132046379]
[null,null,0,{"$f":"IF(C2472<>0,LOOKUP(,-CODE(C$3:C2472),C$3:C2472),D2471)","v":175},"175(480)-500",null,null,null,"500",480,315,9732.4505034666672,10036.278133866666,10073.829863466668,10378.084218066668,11068.950697866667,11345.467979466666]
[null,null,0,{"$f":"IF(C2473<>0,LOOKUP(,-CODE(C$3:C2473),C$3:C2473),D2472)","v":175},"175(480)-550",null,null,null,"550",480,315,10036.427890133335,10370.821680533334,10412.151250133335,10747.014694733334,11507.384844533333,11811.720766133334]
[null,null,0,{"$f":"IF(C2474<>0,LOOKUP(,-CODE(C$3:C2474),C$3:C2474),D2473)","v":175},"175(480)-600",null,null,null,"600",480,315,10340.4052768,10705.3652272,10750.472636799999,11115.945171399999,11945.8189912,12277.9735528]
[null,null,0,{"$f":"IF(C2475<>0,LOOKUP(,-CODE(C$3:C2475),C$3:C2475),D2474)","v":175},"175(480)-650",null,null,null,"650",480,315,10644.382663466666,11039.908773866666,11088.794023466666,11484.875648066667,12384.253137866664,12744.226339466666]
[null,null,0,{"$f":"IF(C2476<>0,LOOKUP(,-CODE(C$3:C2476),C$3:C2476),D2475)","v":175},"175(480)-700",null,null,null,"700",480,315,10948.360050133335,11374.452320533335,11427.115410133334,11853.806124733335,12822.687284533335,13210.479126133334]
[null,null,0,{"$f":"IF(C2477<>0,LOOKUP(,-CODE(C$3:C2477),C$3:C2477),D2476)","v":175},"175(480)-750",null,null,null,"750",480,315,11252.3374368,11708.995867200001,11765.436796800001,12222.7366014,13261.121431200001,13676.731912800002]
[null,null,0,{"$f":"IF(C2478<>0,LOOKUP(,-CODE(C$3:C2478),C$3:C2478),D2477)","v":175},"175(480)-800",null,null,null,"800",480,315,11556.314823466666,12043.539413866667,12103.758183466667,12591.667078066666,13699.555577866668,14142.984699466666]
[null,null,0,{"$f":"IF(C2479<>0,LOOKUP(,-CODE(C$3:C2479),C$3:C2479),D2478)","v":175},"175(480)-850",null,null,null,"850",480,315,11860.292210133333,12378.082960533335,12442.079570133334,12960.597554733333,14137.989724533334,14609.237486133334]
[null,null,0,{"$f":"IF(C2480<>0,LOOKUP(,-CODE(C$3:C2480),C$3:C2480),D2479)","v":175},"175(480)-900",null,null,null,"900",480,315,12164.269596800001,12712.626507199999,12780.4009568,13329.528031400001,14576.423871200001,15075.490272800002]
[null,null,0,{"$f":"IF(C2481<>0,LOOKUP(,-CODE(C$3:C2481),C$3:C2481),D2480)","v":175},"175(600)-500",null,null,null,"500",600,315,10474.264353205797,10854.526607605798,10901.525313205799,11282.321643805797,12146.991011605798,12493.072389205798]
[null,null,0,{"$f":"IF(C2482<>0,LOOKUP(,-CODE(C$3:C2482),C$3:C2482),D2481)","v":175},"175(600)-550",null,null,null,"550",600,315,10848.287044220289,11266.80505862029,11318.532004220291,11737.637824820289,12689.296062620289,13070.194480220289]
[null,null,0,{"$f":"IF(C2483<>0,LOOKUP(,-CODE(C$3:C2483),C$3:C2483),D2482)","v":175},"175(600)-600",null,null,null,"600",600,315,11222.309735234783,11679.083509634784,11735.538695234784,12192.954005834783,13231.601113634782,13647.316571234784]
[null,null,0,{"$f":"IF(C2484<>0,LOOKUP(,-CODE(C$3:C2484),C$3:C2484),D2483)","v":175},"175(600)-650",null,null,null,"650",600,315,11596.332426249275,12091.361960649276,12152.545386249276,12648.270186849277,13773.906164649277,14224.438662249277]
[null,null,0,{"$f":"IF(C2485<>0,LOOKUP(,-CODE(C$3:C2485),C$3:C2485),D2484)","v":175},"175(600)-700",null,null,null,"700",600,315,12305.605117263769,12838.89041166377,12904.802077263768,13438.836367863769,14651.46121566377,15136.81075326377]
[null,null,0,{"$f":"IF(C2486<>0,LOOKUP(,-CODE(C$3:C2486),C$3:C2486),D2485)","v":175},"175(600)-750",null,null,null,"750",600,315,12679.627808278263,13251.168862678262,13321.808768278261,13894.152548878261,15193.76626667826,15713.932844278261]
[null,null,0,{"$f":"IF(C2487<>0,LOOKUP(,-CODE(C$3:C2487),C$3:C2487),D2486)","v":175},"175(600)-800",null,null,null,"800",600,315,13053.650499292755,13663.447313692754,13738.815459292753,14349.468729892753,15736.071317692755,16291.054935292756]
[null,null,0,{"$f":"IF(C2488<>0,LOOKUP(,-CODE(C$3:C2488),C$3:C2488),D2487)","v":175},"175(600)-850",null,null,null,"850",600,315,13427.673190307247,14075.725764707247,14155.822150307247,14804.784910907249,16278.376368707248,16868.177026307247]
[null,null,0,{"$f":"IF(C2489<>0,LOOKUP(,-CODE(C$3:C2489),C$3:C2489),D2488)","v":175},"175(600)-900",null,null,null,"900",600,315,13801.695881321741,14488.004215721739,14572.828841321741,15260.101091921741,16820.681419721739,17445.299117321742]
[null,null,0,{"$f":"IF(C2490<>0,LOOKUP(,-CODE(C$3:C2490),C$3:C2490),D2489)","v":175},"175(720)-500",null,null,null,"500",720,315,11567.078202944929,12023.775081344929,12080.220762944929,12537.559069544928,13576.031325344929,13991.676798944929]
[null,null,0,{"$f":"IF(C2491<>0,LOOKUP(,-CODE(C$3:C2491),C$3:C2491),D2490)","v":175},"175(720)-550",null,null,null,"550",720,315,12011.146198307248,12513.788436707247,12575.912758307248,13079.260954907248,14222.207280707247,14679.668194307247]
[null,null,0,{"$f":"IF(C2492<>0,LOOKUP(,-CODE(C$3:C2492),C$3:C2492),D2491)","v":175},"175(720)-600",null,null,null,"600",720,315,12455.214193669566,13003.801792069567,13071.604753669566,13620.962840269567,14868.383236069567,15367.659589669569]
[null,null,0,{"$f":"IF(C2493<>0,LOOKUP(,-CODE(C$3:C2493),C$3:C2493),D2492)","v":175},"175(720)-650",null,null,null,"650",720,315,12899.282189031885,13493.815147431886,13567.296749031884,14162.664725631887,15514.559191431887,16055.650985031887]
[null,null,0,{"$f":"IF(C2494<>0,LOOKUP(,-CODE(C$3:C2494),C$3:C2494),D2493)","v":175},"175(720)-700",null,null,null,"700",720,315,13343.350184394203,13983.828502794204,14062.988744394203,14704.366610994204,16160.735146794203,16743.642380394205]
[null,null,0,{"$f":"IF(C2495<>0,LOOKUP(,-CODE(C$3:C2495),C$3:C2495),D2494)","v":175},"175(720)-750",null,null,null,"750",720,315,13787.418179756525,14473.841858156524,14558.680739756524,15246.068496356525,16806.911102156526,17431.633775756523]
[null,null,0,{"$f":"IF(C2496<>0,LOOKUP(,-CODE(C$3:C2496),C$3:C2496),D2495)","v":175},"175(720)-800",null,null,null,"800",720,315,14231.486175118842,14963.855213518842,15054.372735118843,15787.770381718841,17453.087057518842,18119.625171118842]
[null,null,0,{"$f":"IF(C2497<>0,LOOKUP(,-CODE(C$3:C2497),C$3:C2497),D2496)","v":175},"175(720)-850",null,null,null,"850",720,315,14675.554170481162,15453.86856888116,15550.064730481161,16329.472267081162,18099.263012881162,18807.616566481163]
[null,null,0,{"$f":"IF(C2498<>0,LOOKUP(,-CODE(C$3:C2498),C$3:C2498),D2497)","v":175},"175(720)-900",null,null,null,"900",720,315,15119.622165843481,15943.88192424348,16045.756725843479,16871.17415244348,18745.438968243481,19495.607961843478]
[null,null,176,{"$f":"IF(C2499<>0,LOOKUP(,-CODE(C$3:C2499),C$3:C2499),D2498)","v":176},"176(300)-500","Шкаф настенный однодверный со стеклом, открывание вверх,Aventos BLUM HK, под систему SERVO-DRIVE (без механизма)",null,null,"500",300,315,5416.2121228579708,5605.6535134579708,5606.184905857971,5795.626296457971,6157.7702170579705,6329.9413546579708]
[null,null,0,{"$f":"IF(C2500<>0,LOOKUP(,-CODE(C$3:C2500),C$3:C2500),D2499)","v":176},"176(300)-550",null,null,null,"550",300,315,5612.9816530028984,5821.4815336028987,5822.0663860028981,6030.5662666028984,6429.1431772028991,6618.6353548028983]
[null,null,0,{"$f":"IF(C2501<>0,LOOKUP(,-CODE(C$3:C2501),C$3:C2501),D2500)","v":176},"176(300)-600",null,null,null,"600",300,315,5809.7511831478259,6037.3095537478257,6037.9478661478261,6265.5062367478258,6700.5161373478259,6907.3293549478258]
[null,null,0,{"$f":"IF(C2502<>0,LOOKUP(,-CODE(C$3:C2502),C$3:C2502),D2501)","v":176},"176(300)-650",null,null,null,"650",300,315,6006.5207132927535,6253.1375738927527,6253.8293462927541,6500.4462068927533,6971.8890974927526,7196.0233550927533]
[null,null,0,{"$f":"IF(C2503<>0,LOOKUP(,-CODE(C$3:C2503),C$3:C2503),D2502)","v":176},"176(300)-700",null,null,null,"700",300,315,6203.290243437682,6468.9655940376806,6469.7108264376811,6735.3861770376816,7243.2620576376812,7484.7173552376817]
[null,null,0,{"$f":"IF(C2504<>0,LOOKUP(,-CODE(C$3:C2504),C$3:C2504),D2503)","v":176},"176(300)-750",null,null,null,"750",300,315,6400.0597735826077,6684.7936141826085,6685.5923065826082,6970.326147182609,7514.6350177826089,7773.4113553826082]
[null,null,0,{"$f":"IF(C2505<>0,LOOKUP(,-CODE(C$3:C2505),C$3:C2505),D2504)","v":176},"176(300)-800",null,null,null,"800",300,315,6596.8293037275362,6900.6216343275364,6901.4737867275362,7205.2661173275355,7786.0079779275366,8062.1053555275357]
[null,null,0,{"$f":"IF(C2506<>0,LOOKUP(,-CODE(C$3:C2506),C$3:C2506),D2505)","v":176},"176(300)-850",null,null,null,"850",300,315,6793.5988338724637,7116.4496544724634,7117.3552668724633,7440.206087472463,8057.3809380724633,8350.7993556724632]
[null,null,0,{"$f":"IF(C2507<>0,LOOKUP(,-CODE(C$3:C2507),C$3:C2507),D2506)","v":176},"176(300)-900",null,null,null,"900",300,315,6990.3683640173913,7332.2776746173913,7333.2367470173904,7675.1460576173913,8328.7538982173919,8639.4933558173925]
[null,null,0,{"$f":"IF(C2508<>0,LOOKUP(,-CODE(C$3:C2508),C$3:C2508),D2507)","v":176},"176(360)-500",null,null,null,"500",360,315,5796.4581677275355,6024.1705463275366,6024.8092907275359,6252.5216693275361,6687.8259779275359,6894.7791635275362]
[null,null,0,{"$f":"IF(C2509<>0,LOOKUP(,-CODE(C$3:C2509),C$3:C2509),D2508)","v":176},"176(360)-550",null,null,null,"550",360,315,6029.2583500463761,6279.8794186463765,6280.5824230463768,6531.2034916463772,7010.3009902463764,7238.0744158463758]
[null,null,0,{"$f":"IF(C2510<>0,LOOKUP(,-CODE(C$3:C2510),C$3:C2510),D2509)","v":176},"176(360)-600",null,null,null,"600",360,315,6262.0585323652176,6535.5882909652173,6536.3555553652177,6809.8853139652174,7332.7760025652178,7581.3696681652173]
[null,null,0,{"$f":"IF(C2511<>0,LOOKUP(,-CODE(C$3:C2511),C$3:C2511),D2510)","v":176},"176(360)-650",null,null,null,"650",360,315,6494.8587146840573,6791.2971632840572,6792.1286876840577,7088.5671362840576,7655.2510148840574,7924.6649204840578]
[null,null,0,{"$f":"IF(C2512<>0,LOOKUP(,-CODE(C$3:C2512),C$3:C2512),D2511)","v":176},"176(360)-700",null,null,null,"700",360,315,6727.6588970028979,7047.006035602898,7047.9018200028977,7367.2489586028978,7977.726027202898,8267.9601728028993]
[null,null,0,{"$f":"IF(C2513<>0,LOOKUP(,-CODE(C$3:C2513),C$3:C2513),D2512)","v":176},"176(360)-750",null,null,null,"750",360,315,6960.4590793217394,7302.7149079217388,7303.6749523217395,7645.9307809217398,8300.2010395217385,8611.2554251217389]
[null,null,0,{"$f":"IF(C2514<>0,LOOKUP(,-CODE(C$3:C2514),C$3:C2514),D2513)","v":176},"176(360)-800",null,null,null,"800",360,315,7193.2592616405791,7558.4237802405796,7559.4480846405795,7924.6126032405782,8622.6760518405772,8954.5506774405785]
[null,null,0,{"$f":"IF(C2515<>0,LOOKUP(,-CODE(C$3:C2515),C$3:C2515),D2514)","v":176},"176(360)-850",null,null,null,"850",360,315,7426.0594439594206,7814.1326525594204,7815.2212169594204,8203.2944255594193,8945.1510641594195,9297.84592975942]
[null,null,0,{"$f":"IF(C2516<>0,LOOKUP(,-CODE(C$3:C2516),C$3:C2516),D2515)","v":176},"176(360)-900",null,null,null,"900",360,315,7658.8596262782621,8069.8415248782612,8070.9943492782613,8481.9762478782595,9267.6260764782601,9641.1411820782614]
[null,null,0,{"$f":"IF(C2517<>0,LOOKUP(,-CODE(C$3:C2517),C$3:C2517),D2516)","v":176},"176(400)-500",null,null,null,"500",400,315,6049.9555309739126,6303.1819015739129,6303.8922139739125,6557.1185845739128,7041.1964851739131,7271.3377027739125]
[null,null,0,{"$f":"IF(C2518<>0,LOOKUP(,-CODE(C$3:C2518),C$3:C2518),D2517)","v":176},"176(400)-550",null,null,null,"550",400,315,6306.7761480753616,6585.4780086753617,6586.2597810753614,6864.9616416753615,7397.7395322753619,7651.0337898753623]
[null,null,0,{"$f":"IF(C2519<>0,LOOKUP(,-CODE(C$3:C2519),C$3:C2519),D2518)","v":176},"176(400)-600",null,null,null,"600",400,315,6563.5967651768115,6867.7741157768114,6868.6273481768112,7172.8046987768121,7754.2825793768116,8030.7298769768113]
[null,null,0,{"$f":"IF(C2520<>0,LOOKUP(,-CODE(C$3:C2520),C$3:C2520),D2519)","v":176},"176(400)-650",null,null,null,"650",400,315,6820.4173822782614,7150.0702228782611,7150.994915278261,7480.6477558782608,8110.8256264782613,8410.4259640782602]
[null,null,0,{"$f":"IF(C2521<>0,LOOKUP(,-CODE(C$3:C2521),C$3:C2521),D2520)","v":176},"176(400)-700",null,null,null,"700",400,315,7077.2379993797094,7432.366329979709,7433.3624823797099,7788.4908129797086,8467.3686735797091,8790.122051179711]
[null,null,0,{"$f":"IF(C2522<>0,LOOKUP(,-CODE(C$3:C2522),C$3:C2522),D2521)","v":176},"176(400)-750",null,null,null,"750",400,315,7334.0586164811593,7714.6624370811596,7715.7300494811598,8096.3338700811591,8823.9117206811588,9169.8181382811599]
[null,null,0,{"$f":"IF(C2523<>0,LOOKUP(,-CODE(C$3:C2523),C$3:C2523),D2522)","v":176},"176(400)-800",null,null,null,"800",400,315,7590.8792335826092,7996.9585441826093,7998.0976165826087,8404.1769271826088,9180.4547677826104,9549.5142253826089]
[null,null,0,{"$f":"IF(C2524<>0,LOOKUP(,-CODE(C$3:C2524),C$3:C2524),D2523)","v":176},"176(400)-850",null,null,null,"850",400,315,7847.6998506840573,8279.2546512840563,8280.4651836840567,8712.0199842840575,9536.9978148840564,9929.2103124840578]
[null,null,0,{"$f":"IF(C2525<>0,LOOKUP(,-CODE(C$3:C2525),C$3:C2525),D2524)","v":176},"176(400)-900",null,null,null,"900",400,315,8104.520467785509,8561.5507583855087,8562.8327507855083,9019.863041385508,9893.5408619855079,10308.906399585509]
[null,null,0,{"$f":"IF(C2526<>0,LOOKUP(,-CODE(C$3:C2526),C$3:C2526),D2525)","v":176},"176(460)-500",null,null,null,"500",460,315,6430.2015758434782,6721.6989344434778,6722.5165988434783,7014.0139574434779,7571.2522460434784,7836.1755116434788]
[null,null,0,{"$f":"IF(C2527<>0,LOOKUP(,-CODE(C$3:C2527),C$3:C2527),D2526)","v":176},"176(460)-550",null,null,null,"550",460,315,6723.0528451188402,7043.8758937188413,7044.7758181188401,7365.5988667188403,7978.897345318841,8270.4728509188408]
[null,null,0,{"$f":"IF(C2528<>0,LOOKUP(,-CODE(C$3:C2528),C$3:C2528),D2527)","v":176},"176(460)-600",null,null,null,"600",460,315,7015.9041143942022,7366.052852994203,7367.0350373942028,7717.1837759942027,8386.5424445942044,8704.7701901942037]
[null,null,0,{"$f":"IF(C2529<>0,LOOKUP(,-CODE(C$3:C2529),C$3:C2529),D2528)","v":176},"176(460)-650",null,null,null,"650",460,315,7308.7553836695643,7688.2298122695647,7689.2942566695656,8068.7686852695651,8794.1875438695661,9139.0675294695648]
[null,null,0,{"$f":"IF(C2530<>0,LOOKUP(,-CODE(C$3:C2530),C$3:C2530),D2529)","v":176},"176(460)-700",null,null,null,"700",460,315,7601.6066529449272,8010.4067715449264,8011.5534759449265,8420.3535945449275,9201.8326431449277,9573.3648687449277]
[null,null,0,{"$f":"IF(C2531<>0,LOOKUP(,-CODE(C$3:C2531),C$3:C2531),D2530)","v":176},"176(460)-750",null,null,null,"750",460,315,7894.4579222202901,8332.5837308202899,8333.8126952202892,8771.9385038202909,9609.4777424202894,10007.662208020289]
[null,null,0,{"$f":"IF(C2532<>0,LOOKUP(,-CODE(C$3:C2532),C$3:C2532),D2531)","v":176},"176(460)-800",null,null,null,"800",460,315,8187.3091914956531,8654.7606900956525,8656.0719144956529,9123.5234130956524,10017.122841695655,10441.959547295653]
[null,null,0,{"$f":"IF(C2533<>0,LOOKUP(,-CODE(C$3:C2533),C$3:C2533),D2532)","v":176},"176(460)-850",null,null,null,"850",460,315,8612.9104607710142,9109.6876493710151,9111.0811337710147,9607.8583223710157,10557.517940971014,11009.006886571015]
[null,null,0,{"$f":"IF(C2534<>0,LOOKUP(,-CODE(C$3:C2534),C$3:C2534),D2533)","v":176},"176(460)-900",null,null,null,"900",460,315,8905.7617300463771,9431.8646086463759,9433.3403530463765,9959.4432316463772,10965.163040246376,11443.304225846377]
[null,null,0,{"$f":"IF(C2535<>0,LOOKUP(,-CODE(C$3:C2535),C$3:C2535),D2534)","v":176},"176(480)-500",null,null,null,"500",480,315,6556.9502574666667,6861.2046120666664,6862.0580604666666,7166.3124150666663,7747.9374996666666,8024.454781266666]
[null,null,0,{"$f":"IF(C2536<>0,LOOKUP(,-CODE(C$3:C2536),C$3:C2536),D2535)","v":176},"176(480)-550",null,null,null,"550",480,315,6861.8117441333334,7196.675188733333,7197.6144971333333,7532.477941733333,8172.6166163333337,8476.9525379333318]
[null,null,0,{"$f":"IF(C2537<>0,LOOKUP(,-CODE(C$3:C2537),C$3:C2537),D2536)","v":176},"176(480)-600",null,null,null,"600",480,315,7166.673230800001,7532.1457654000005,7533.1709338000001,7898.6434683999996,8597.2957330000008,8929.4502946000011]
[null,null,0,{"$f":"IF(C2538<>0,LOOKUP(,-CODE(C$3:C2538),C$3:C2538),D2537)","v":176},"176(480)-650",null,null,null,"650",480,315,7471.5347174666667,7867.6163420666662,7868.7273704666668,8264.8089950666654,9021.9748496666671,9381.9480512666651]
[null,null,0,{"$f":"IF(C2539<>0,LOOKUP(,-CODE(C$3:C2539),C$3:C2539),D2538)","v":176},"176(480)-700",null,null,null,"700",480,315,7776.3962041333343,8203.0869187333337,8204.2838071333335,8630.9745217333329,9446.6539663333333,9834.4458079333344]
[null,null,0,{"$f":"IF(C2540<>0,LOOKUP(,-CODE(C$3:C2540),C$3:C2540),D2539)","v":176},"176(480)-750",null,null,null,"750",480,315,8081.2576908000001,8538.5574954000003,8539.8402438000012,8997.1400484000005,9871.3330830000014,10286.9435646]
[null,null,0,{"$f":"IF(C2541<>0,LOOKUP(,-CODE(C$3:C2541),C$3:C2541),D2540)","v":176},"176(480)-800",null,null,null,"800",480,315,8386.1191774666659,8874.0280720666669,8875.396680466667,9363.3055750666663,10296.012199666666,10739.441321266668]
[null,null,0,{"$f":"IF(C2542<>0,LOOKUP(,-CODE(C$3:C2542),C$3:C2542),D2541)","v":176},"176(480)-850",null,null,null,"850",480,315,8823.7306641333325,9342.2486487333335,9343.7031171333347,9862.2211017333339,10853.441316333332,11324.689077933333]
[null,null,0,{"$f":"IF(C2543<>0,LOOKUP(,-CODE(C$3:C2543),C$3:C2543),D2542)","v":176},"176(480)-900",null,null,null,"900",480,315,9128.5921507999992,9677.7192254000001,9679.2595538000005,10228.3866284,11278.120433,11777.186834600001]
[null,null,177,{"$f":"IF(C2544<>0,LOOKUP(,-CODE(C$3:C2544),C$3:C2544),D2543)","v":177},"177(360)-500","Шкаф настенный однодверный со стеклом, открывание вверх,Aventos BLUM HS, под систему SERVO-DRIVE (без механизма)",null,null,"500",360,315,8912.7621677275365,9140.4745463275358,9141.1132907275369,9368.8256693275362,9804.1299779275359,10011.083163527537]
[null,null,0,{"$f":"IF(C2545<>0,LOOKUP(,-CODE(C$3:C2545),C$3:C2545),D2544)","v":177},"177(360)-550",null,null,null,"550",360,315,9145.5623500463771,9396.1834186463766,9396.8864230463787,9647.5074916463782,10126.604990246376,10354.378415846377]
[null,null,0,{"$f":"IF(C2546<>0,LOOKUP(,-CODE(C$3:C2546),C$3:C2546),D2545)","v":177},"177(360)-600",null,null,null,"600",360,315,9378.3625323652177,9651.8922909652174,9652.6595553652187,9926.1893139652184,10449.080002565217,10697.673668165218]
[null,null,0,{"$f":"IF(C2547<>0,LOOKUP(,-CODE(C$3:C2547),C$3:C2547),D2546)","v":177},"177(360)-650",null,null,null,"650",360,315,9611.1627146840583,9907.6011632840582,9908.4326876840587,10204.871136284059,10771.555014884058,11040.96892048406]
[null,null,0,{"$f":"IF(C2548<>0,LOOKUP(,-CODE(C$3:C2548),C$3:C2548),D2547)","v":177},"177(360)-700",null,null,null,"700",360,315,9859.7128970028989,10179.060035602899,10179.955820002899,10499.302958602899,11109.780027202898,11400.014172802899]
[null,null,0,{"$f":"IF(C2549<>0,LOOKUP(,-CODE(C$3:C2549),C$3:C2549),D2548)","v":177},"177(360)-750",null,null,null,"750",360,315,10092.513079321739,10434.768907921738,10435.728952321739,10777.984780921739,11432.25503952174,11743.309425121741]
[null,null,0,{"$f":"IF(C2550<>0,LOOKUP(,-CODE(C$3:C2550),C$3:C2550),D2549)","v":177},"177(360)-800",null,null,null,"800",360,315,10325.31326164058,10690.477780240579,10691.502084640579,11056.666603240579,11754.730051840579,12086.604677440579]
[null,null,0,{"$f":"IF(C2551<>0,LOOKUP(,-CODE(C$3:C2551),C$3:C2551),D2550)","v":177},"177(360)-850",null,null,null,"850",360,315,10558.113443959421,10946.186652559421,10947.275216959421,11335.348425559421,12077.205064159421,12429.89992975942]
[null,null,0,{"$f":"IF(C2552<>0,LOOKUP(,-CODE(C$3:C2552),C$3:C2552),D2551)","v":177},"177(360)-900",null,null,null,"900",360,315,10790.913626278261,11201.89552487826,11203.048349278261,11614.03024787826,12399.68007647826,12773.195182078261]
[null,null,0,{"$f":"IF(C2553<>0,LOOKUP(,-CODE(C$3:C2553),C$3:C2553),D2552)","v":177},"177(400)-500",null,null,null,"500",400,315,9166.2595309739118,9419.485901573913,9420.1962139739135,9673.4225845739129,10157.500485173912,10387.641702773913]
[null,null,0,{"$f":"IF(C2554<>0,LOOKUP(,-CODE(C$3:C2554),C$3:C2554),D2553)","v":177},"177(400)-550",null,null,null,"550",400,315,9438.8301480753635,9717.5320086753618,9718.3137810753633,9997.0156416753616,10529.793532275362,10783.087789875362]
[null,null,0,{"$f":"IF(C2555<>0,LOOKUP(,-CODE(C$3:C2555),C$3:C2555),D2554)","v":177},"177(400)-600",null,null,null,"600",400,315,9695.6507651768115,9999.8281157768124,10000.681348176811,10304.858698776812,10886.336579376812,11162.783876976811]
[null,null,0,{"$f":"IF(C2556<>0,LOOKUP(,-CODE(C$3:C2556),C$3:C2556),D2555)","v":177},"177(400)-650",null,null,null,"650",400,315,9952.4713822782614,10282.124222878263,10283.048915278261,10612.701755878263,11242.879626478261,11542.479964078262]
[null,null,0,{"$f":"IF(C2557<>0,LOOKUP(,-CODE(C$3:C2557),C$3:C2557),D2556)","v":177},"177(400)-700",null,null,null,"700",400,315,10209.291999379711,10564.42032997971,10565.416482379711,10920.54481297971,11599.422673579709,11922.176051179711]
[null,null,0,{"$f":"IF(C2558<>0,LOOKUP(,-CODE(C$3:C2558),C$3:C2558),D2557)","v":177},"177(400)-750",null,null,null,"750",400,315,10466.112616481159,10846.716437081159,10847.784049481161,11228.38787008116,11955.965720681161,12301.87213828116]
[null,null,0,{"$f":"IF(C2559<>0,LOOKUP(,-CODE(C$3:C2559),C$3:C2559),D2558)","v":177},"177(400)-800",null,null,null,"800",400,315,10722.933233582609,11129.012544182609,11130.151616582609,11536.230927182609,12312.50876778261,12681.568225382609]
[null,null,0,{"$f":"IF(C2560<>0,LOOKUP(,-CODE(C$3:C2560),C$3:C2560),D2559)","v":177},"177(400)-850",null,null,null,"850",400,315,10979.753850684057,11411.308651284056,11412.519183684057,11844.073984284058,12669.051814884057,13061.264312484058]
[null,null,0,{"$f":"IF(C2561<>0,LOOKUP(,-CODE(C$3:C2561),C$3:C2561),D2560)","v":177},"177(400)-900",null,null,null,"900",400,315,11236.574467785509,11693.604758385509,11694.886750785508,12151.917041385508,13025.594861985508,13440.960399585509]
[null,null,0,{"$f":"IF(C2562<>0,LOOKUP(,-CODE(C$3:C2562),C$3:C2562),D2561)","v":177},"177(460)-500",null,null,null,"500",460,315,9562.2555758434792,9853.7529344434788,9854.5705988434784,10146.067957443478,10703.306246043479,10968.22951164348]
[null,null,0,{"$f":"IF(C2563<>0,LOOKUP(,-CODE(C$3:C2563),C$3:C2563),D2562)","v":177},"177(460)-550",null,null,null,"550",460,315,9855.1068451188421,10175.929893718841,10176.829818118842,10497.652866718841,11110.951345318841,11402.526850918841]
[null,null,0,{"$f":"IF(C2564<>0,LOOKUP(,-CODE(C$3:C2564),C$3:C2564),D2563)","v":177},"177(460)-600",null,null,null,"600",460,315,10147.958114394203,10498.106852994204,10499.089037394204,10849.237775994203,11518.596444594205,11836.824190194204]
[null,null,0,{"$f":"IF(C2565<>0,LOOKUP(,-CODE(C$3:C2565),C$3:C2565),D2564)","v":177},"177(460)-650",null,null,null,"650",460,315,10440.809383669566,10820.283812269565,10821.348256669566,11200.822685269566,11926.241543869566,12271.121529469565]
[null,null,0,{"$f":"IF(C2566<>0,LOOKUP(,-CODE(C$3:C2566),C$3:C2566),D2565)","v":177},"177(460)-700",null,null,null,"700",460,315,10733.660652944929,11142.460771544927,11143.607475944928,11552.407594544928,12333.886643144928,12705.418868744928]
[null,null,0,{"$f":"IF(C2567<>0,LOOKUP(,-CODE(C$3:C2567),C$3:C2567),D2566)","v":177},"177(460)-750",null,null,null,"750",460,315,11026.51192222029,11464.63773082029,11465.866695220289,11903.992503820291,12741.531742420289,13139.716208020289]
[null,null,0,{"$f":"IF(C2568<>0,LOOKUP(,-CODE(C$3:C2568),C$3:C2568),D2567)","v":177},"177(460)-800",null,null,null,"800",460,315,11319.363191495653,11786.814690095653,11788.125914495653,12255.577413095652,13149.176841695655,13574.013547295654]
[null,null,0,{"$f":"IF(C2569<>0,LOOKUP(,-CODE(C$3:C2569),C$3:C2569),D2568)","v":177},"177(460)-850",null,null,null,"850",460,315,11612.214460771014,12108.991649371015,12110.385133771015,12607.162322371016,13556.821940971015,14008.310886571015]
[null,null,0,{"$f":"IF(C2570<>0,LOOKUP(,-CODE(C$3:C2570),C$3:C2570),D2569)","v":177},"177(460)-900",null,null,null,"900",460,315,11905.065730046377,12431.168608646376,12432.644353046377,12958.747231646377,13964.467040246376,14442.608225846378]
[null,null,0,{"$f":"IF(C2571<>0,LOOKUP(,-CODE(C$3:C2571),C$3:C2571),D2570)","v":177},"177(480)-500",null,null,null,"500",480,315,9689.0042574666677,9993.2586120666674,9994.1120604666667,10298.366415066666,10879.991499666667,11156.508781266668]
[null,null,0,{"$f":"IF(C2572<>0,LOOKUP(,-CODE(C$3:C2572),C$3:C2572),D2571)","v":177},"177(480)-550",null,null,null,"550",480,315,9993.8657441333344,10328.729188733334,10329.668497133334,10664.531941733334,11304.670616333333,11609.006537933334]
[null,null,0,{"$f":"IF(C2573<>0,LOOKUP(,-CODE(C$3:C2573),C$3:C2573),D2572)","v":177},"177(480)-600",null,null,null,"600",480,315,10298.727230800001,10664.199765400001,10665.2249338,11030.6974684,11729.349733000001,12061.504294600001]
[null,null,0,{"$f":"IF(C2574<>0,LOOKUP(,-CODE(C$3:C2574),C$3:C2574),D2573)","v":177},"177(480)-650",null,null,null,"650",480,315,10603.588717466666,10999.670342066665,11000.781370466666,11396.862995066667,12154.028849666667,12514.002051266665]
[null,null,0,{"$f":"IF(C2575<>0,LOOKUP(,-CODE(C$3:C2575),C$3:C2575),D2574)","v":177},"177(480)-700",null,null,null,"700",480,315,10908.450204133334,11335.140918733334,11336.337807133334,11763.028521733333,12578.707966333333,12966.499807933335]
[null,null,0,{"$f":"IF(C2576<>0,LOOKUP(,-CODE(C$3:C2576),C$3:C2576),D2575)","v":177},"177(480)-750",null,null,null,"750",480,315,11213.311690800001,11670.6114954,11671.894243800001,12129.194048400001,13003.387083000001,13418.9975646]
[null,null,0,{"$f":"IF(C2577<>0,LOOKUP(,-CODE(C$3:C2577),C$3:C2577),D2576)","v":177},"177(480)-800",null,null,null,"800",480,315,11518.173177466668,12006.082072066667,12007.450680466667,12495.359575066666,13428.066199666666,13871.495321266668]
[null,null,0,{"$f":"IF(C2578<>0,LOOKUP(,-CODE(C$3:C2578),C$3:C2578),D2577)","v":177},"177(480)-850",null,null,null,"850",480,315,11823.034664133333,12341.552648733334,12343.007117133335,12861.525101733334,13852.745316333332,14323.993077933334]
[null,null,0,{"$f":"IF(C2579<>0,LOOKUP(,-CODE(C$3:C2579),C$3:C2579),D2578)","v":177},"177(480)-900",null,null,null,"900",480,315,12127.896150799999,12677.0232254,12678.563553800001,13227.6906284,14277.424433,14776.490834600001]
[null,null,0,{"$f":"IF(C2580<>0,LOOKUP(,-CODE(C$3:C2580),C$3:C2580),D2579)","v":177},"177(600)-500",null,null,null,"500",600,315,10433.746347205797,10814.542677805799,10815.610830205798,11196.407160805798,11924.353021405797,12270.434399005799]
[null,null,0,{"$f":"IF(C2581<>0,LOOKUP(,-CODE(C$3:C2581),C$3:C2581),D2580)","v":177},"177(600)-550",null,null,null,"550",600,315,10810.669138220292,11229.77495882029,11230.950571220292,11650.05639182029,12451.236242420291,12832.134660020291]
[null,null,0,{"$f":"IF(C2582<>0,LOOKUP(,-CODE(C$3:C2582),C$3:C2582),D2581)","v":177},"177(600)-600",null,null,null,"600",600,315,11187.591929234783,11645.007239834784,11646.290312234783,12103.705622834783,12978.119463434781,13393.834921034784]
[null,null,0,{"$f":"IF(C2583<>0,LOOKUP(,-CODE(C$3:C2583),C$3:C2583),D2582)","v":177},"177(600)-650",null,null,null,"650",600,315,11564.514720249275,12060.239520849274,12061.630053249275,12557.354853849276,13505.002684449275,13955.535182049276]
[null,null,0,{"$f":"IF(C2584<>0,LOOKUP(,-CODE(C$3:C2584),C$3:C2584),D2583)","v":177},"177(600)-700",null,null,null,"700",600,315,12276.687511263768,12810.721801863769,12812.219794263769,13346.254084863769,14367.135905463769,14852.48544306377]
[null,null,0,{"$f":"IF(C2585<>0,LOOKUP(,-CODE(C$3:C2585),C$3:C2585),D2584)","v":177},"177(600)-750",null,null,null,"750",600,315,12653.610302278263,13225.954082878263,13227.559535278262,13799.903315878262,14894.019126478262,15414.185704078262]
[null,null,0,{"$f":"IF(C2586<>0,LOOKUP(,-CODE(C$3:C2586),C$3:C2586),D2585)","v":177},"177(600)-800",null,null,null,"800",600,315,13030.533093292755,13641.186363892755,13642.899276292756,14253.552546892755,15420.902347492756,15975.885965092755]
[null,null,0,{"$f":"IF(C2587<>0,LOOKUP(,-CODE(C$3:C2587),C$3:C2587),D2586)","v":177},"177(600)-850",null,null,null,"850",600,315,13407.455884307248,14056.418644907248,14058.239017307249,14707.201777907248,15947.785568507246,16537.586226107247]
[null,null,0,{"$f":"IF(C2588<>0,LOOKUP(,-CODE(C$3:C2588),C$3:C2588),D2587)","v":177},"177(600)-900",null,null,null,"900",600,315,13784.378675321739,14471.65092592174,14473.578758321741,15160.85100892174,16474.66878952174,17099.286487121743]
[null,null,0,{"$f":"IF(C2589<>0,LOOKUP(,-CODE(C$3:C2589),C$3:C2589),D2588)","v":177},"177(720)-500",null,null,null,"500",720,315,11529.488436944928,11986.826743544929,11988.10959994493,12445.447906544929,13319.714543144928,13735.360016744929]
[null,null,0,{"$f":"IF(C2590<>0,LOOKUP(,-CODE(C$3:C2590),C$3:C2590),D2589)","v":177},"177(720)-550",null,null,null,"550",720,315,11978.472532307249,12481.820728907249,12483.232645307249,12986.580841907249,13948.801868507249,14406.262782107249]
[null,null,0,{"$f":"IF(C2591<>0,LOOKUP(,-CODE(C$3:C2591),C$3:C2591),D2590)","v":177},"177(720)-600",null,null,null,"600",720,315,12427.456627669568,12976.814714269567,12978.355690669567,13527.713777269566,14577.889193869567,15077.165547469567]
[null,null,0,{"$f":"IF(C2592<>0,LOOKUP(,-CODE(C$3:C2592),C$3:C2592),D2591)","v":177},"177(720)-650",null,null,null,"650",720,315,12876.440723031885,13471.808699631885,13473.478736031886,14068.846712631885,15206.976519231886,15748.068312831885]
[null,null,0,{"$f":"IF(C2593<>0,LOOKUP(,-CODE(C$3:C2593),C$3:C2593),D2592)","v":177},"177(720)-700",null,null,null,"700",720,315,13325.424818394204,13966.802684994203,13968.601781394203,14609.979647994205,15836.063844594202,16418.971078194205]
[null,null,0,{"$f":"IF(C2594<>0,LOOKUP(,-CODE(C$3:C2594),C$3:C2594),D2593)","v":177},"177(720)-750",null,null,null,"750",720,315,13774.408913756524,14461.796670356523,14463.724826756523,15151.112583356524,16465.151169956524,17089.873843556525]
[null,null,0,{"$f":"IF(C2595<>0,LOOKUP(,-CODE(C$3:C2595),C$3:C2595),D2594)","v":177},"177(720)-800",null,null,null,"800",720,315,14223.393009118843,14956.790655718842,14958.847872118842,15692.245518718841,17094.238495318845,17760.776608918844]
[null,null,0,{"$f":"IF(C2596<>0,LOOKUP(,-CODE(C$3:C2596),C$3:C2596),D2595)","v":177},"177(720)-850",null,null,null,"850",720,315,14672.37710448116,15451.78464108116,15453.97091748116,16233.378454081161,17723.325820681159,18431.679374281157]
[null,null,0,{"$f":"IF(C2597<>0,LOOKUP(,-CODE(C$3:C2597),C$3:C2597),D2596)","v":177},"177(720)-900",null,null,null,"900",720,315,15121.361199843479,15946.77862644348,15949.093962843479,16774.51138944348,18352.41314604348,19102.58213964348]
[null,null,178,{"$f":"IF(C2598<>0,LOOKUP(,-CODE(C$3:C2598),C$3:C2598),D2597)","v":178},"178(600)-500","Шкаф настенный двухдверный, открывание вверх,Aventos BLUM HF, под систему SERVO-DRIVE (без механизма), полка ЛДСП",null,null,"500",600,315,9821.4693640057958,10199.820752805797,10246.583284005796,10625.466065205797,11485.790360805797,11830.132636005797]
[null,null,0,{"$f":"IF(C2599<>0,LOOKUP(,-CODE(C$3:C2599),C$3:C2599),D2598)","v":178},"178(600)-550",null,null,null,"550",600,315,10205.573948353622,10621.988857153621,10673.455868353623,11090.455629553622,12037.331665153622,12416.316020353621]
[null,null,0,{"$f":"IF(C2600<>0,LOOKUP(,-CODE(C$3:C2600),C$3:C2600),D2599)","v":178},"178(600)-600",null,null,null,"600",600,315,10589.67853270145,11044.156961501449,11100.328452701449,11555.445193901449,12588.872969501448,13002.499404701448]
[null,null,0,{"$f":"IF(C2601<>0,LOOKUP(,-CODE(C$3:C2601),C$3:C2601),D2600)","v":178},"178(600)-650",null,null,null,"650",600,315,10973.783117049275,11466.325065849276,11527.201037049275,12020.434758249276,13140.414273849276,13588.682789049275]
[null,null,0,{"$f":"IF(C2602<>0,LOOKUP(,-CODE(C$3:C2602),C$3:C2602),D2601)","v":178},"178(600)-700",null,null,null,"700",600,315,11357.887701397101,11888.4931701971,11954.073621397101,12485.4243225971,13691.955578197101,14174.866173397102]
[null,null,0,{"$f":"IF(C2603<>0,LOOKUP(,-CODE(C$3:C2603),C$3:C2603),D2602)","v":178},"178(600)-750",null,null,null,"750",600,315,11741.992285744927,12310.661274544927,12380.946205744927,12950.413886944927,14243.496882544927,14761.049557744926]
[null,null,0,{"$f":"IF(C2604<>0,LOOKUP(,-CODE(C$3:C2604),C$3:C2604),D2603)","v":178},"178(600)-800",null,null,null,"800",600,315,12126.096870092753,12732.829378892755,12807.818790092753,13415.403451292754,14795.038186892754,15347.232942092753]
[null,null,0,{"$f":"IF(C2605<>0,LOOKUP(,-CODE(C$3:C2605),C$3:C2605),D2604)","v":178},"178(600)-850",null,null,null,"850",600,315,12510.201454440579,13154.997483240579,13234.691374440579,13880.39301564058,15346.57949124058,15933.41632644058]
[null,null,0,{"$f":"IF(C2606<>0,LOOKUP(,-CODE(C$3:C2606),C$3:C2606),D2605)","v":178},"178(600)-900",null,null,null,"900",600,315,12894.306038788407,13577.165587588406,13661.563958788407,14345.382579988407,15898.120795588406,16519.599710788407]
[null,null,0,{"$f":"IF(C2607<>0,LOOKUP(,-CODE(C$3:C2607),C$3:C2607),D2606)","v":178},"178(720)-500",null,null,null,"500",720,315,10898.533213744928,11353.319226544927,11409.528733744926,11864.953490944928,12899.080674544928,13312.987045744929]
[null,null,0,{"$f":"IF(C2608<>0,LOOKUP(,-CODE(C$3:C2608),C$3:C2608),D2607)","v":178},"178(720)-550",null,null,null,"550",720,315,11352.68310244058,11853.222235240579,11915.08662244058,12416.328759640579,13554.492883240579,14010.039734440579]
[null,null,0,{"$f":"IF(C2609<>0,LOOKUP(,-CODE(C$3:C2609),C$3:C2609),D2608)","v":178},"178(720)-600",null,null,null,"600",720,315,11806.832991136231,12353.125243936232,12420.644511136232,12967.704028336233,14209.905091936233,14707.092423136231]
[null,null,0,{"$f":"IF(C2610<>0,LOOKUP(,-CODE(C$3:C2610),C$3:C2610),D2609)","v":178},"178(720)-650",null,null,null,"650",720,315,12260.982879831885,12853.028252631884,12926.202399831884,13519.079297031883,14865.317300631883,15404.145111831884]
[null,null,0,{"$f":"IF(C2611<>0,LOOKUP(,-CODE(C$3:C2611),C$3:C2611),D2610)","v":178},"178(720)-700",null,null,null,"700",720,315,12715.132768527536,13352.931261327536,13431.760288527536,14070.454565727534,15520.729509327535,16101.197800527538]
[null,null,0,{"$f":"IF(C2612<>0,LOOKUP(,-CODE(C$3:C2612),C$3:C2612),D2611)","v":178},"178(720)-750",null,null,null,"750",720,315,13169.282657223188,13852.834270023188,13937.318177223187,14621.829834423188,16176.141718023187,16798.250489223188]
[null,null,0,{"$f":"IF(C2613<>0,LOOKUP(,-CODE(C$3:C2613),C$3:C2613),D2612)","v":178},"178(720)-800",null,null,null,"800",720,315,13848.43254591884,14577.73727871884,14667.876065918841,15398.205103118838,17056.55392671884,17720.303177918839]
[null,null,0,{"$f":"IF(C2614<>0,LOOKUP(,-CODE(C$3:C2614),C$3:C2614),D2613)","v":178},"178(720)-850",null,null,null,"850",720,315,14302.582434614493,15077.640287414491,15173.433954614493,15949.580371814493,17711.966135414492,18417.355866614493]
[null,null,0,{"$f":"IF(C2615<>0,LOOKUP(,-CODE(C$3:C2615),C$3:C2615),D2614)","v":178},"178(720)-900",null,null,null,"900",720,315,14756.732323310145,15577.543296110143,15678.991843310145,16500.955640510147,18367.378344110144,19114.408555310147]
[null,null,0,{"$f":"IF(C2616<>0,LOOKUP(,-CODE(C$3:C2616),C$3:C2616),D2615)","v":178},"178(800)-500",null,null,null,"500",800,315,11792.147435037681,12297.889863837681,12360.397355037681,12866.850096237682,14016.845871837682,14477.128307037681]
[null,null,0,{"$f":"IF(C2617<>0,LOOKUP(,-CODE(C$3:C2617),C$3:C2617),D2616)","v":178},"178(800)-550",null,null,null,"550",800,315,12304.798686631882,12861.420635431883,12930.216606631884,13487.620327831883,14753.309843431884,15259.898358631883]
[null,null,0,{"$f":"IF(C2618<>0,LOOKUP(,-CODE(C$3:C2618),C$3:C2618),D2617)","v":178},"178(800)-600",null,null,null,"600",800,315,13042.449938226087,13649.951407026085,13725.035858226085,14333.390559426087,15714.773815026085,16267.668410226084]
[null,null,0,{"$f":"IF(C2619<>0,LOOKUP(,-CODE(C$3:C2619),C$3:C2619),D2618)","v":178},"178(800)-650",null,null,null,"650",800,315,13555.101189820291,14213.482178620288,14294.855109820292,14954.160791020291,16451.237786620288,17050.438461820289]
[null,null,0,{"$f":"IF(C2620<>0,LOOKUP(,-CODE(C$3:C2620),C$3:C2620),D2619)","v":178},"178(800)-700",null,null,null,"700",800,315,14067.752441414492,14777.012950214492,14864.674361414491,15574.931022614492,17187.701758214491,17833.208513414491]
[null,null,0,{"$f":"IF(C2621<>0,LOOKUP(,-CODE(C$3:C2621),C$3:C2621),D2620)","v":178},"178(800)-750",null,null,null,"750",800,315,14580.403693008695,15340.543721808695,15434.493613008695,16195.701254208696,17924.165729808694,18615.978565008696]
[null,null,0,{"$f":"IF(C2622<>0,LOOKUP(,-CODE(C$3:C2622),C$3:C2622),D2621)","v":178},"178(800)-800",null,null,null,"800",800,315,15093.054944602898,15904.074493402899,16004.3128646029,16816.4714858029,18660.629701402901,19398.748616602898]
[null,null,0,{"$f":"IF(C2623<>0,LOOKUP(,-CODE(C$3:C2623),C$3:C2623),D2622)","v":178},"178(800)-850",null,null,null,"850",800,315,15605.706196197101,16467.605264997102,16574.132116197099,17437.241717397101,19397.0936729971,20181.518668197103]
[null,null,0,{"$f":"IF(C2624<>0,LOOKUP(,-CODE(C$3:C2624),C$3:C2624),D2623)","v":178},"178(800)-900",null,null,null,"900",800,315,16118.357447791306,17031.136036591306,17143.951367791306,18058.011948991305,20133.557644591307,20964.288719791304]
[null,null,0,{"$f":"IF(C2625<>0,LOOKUP(,-CODE(C$3:C2625),C$3:C2625),D2624)","v":178},"178(920)-500",null,null,null,"500",920,315,12774.711284776811,13356.888337576813,13428.84280477681,14011.837521976811,15335.636185576812,15865.482716776813]
[null,null,0,{"$f":"IF(C2626<>0,LOOKUP(,-CODE(C$3:C2626),C$3:C2626),D2625)","v":178},"178(920)-550",null,null,null,"550",920,315,13357.407840718839,13998.154013518841,14077.347360718841,14718.993457918841,16175.971061518841,16759.122072718841]
[null,null,0,{"$f":"IF(C2627<>0,LOOKUP(,-CODE(C$3:C2627),C$3:C2627),D2626)","v":178},"178(920)-600",null,null,null,"600",920,315,13940.104396660869,14639.419689460869,14725.851916660868,15426.149393860869,17016.305937460867,17652.76142866087]
[null,null,0,{"$f":"IF(C2628<>0,LOOKUP(,-CODE(C$3:C2628),C$3:C2628),D2627)","v":178},"178(920)-650",null,null,null,"650",920,315,14522.800952602898,15280.6853654029,15374.3564726029,16133.305329802899,17856.640813402897,18546.400784602898]
[null,null,0,{"$f":"IF(C2629<>0,LOOKUP(,-CODE(C$3:C2629),C$3:C2629),D2628)","v":178},"178(920)-700",null,null,null,"700",920,315,15105.497508544928,15921.951041344928,16022.861028544927,16840.461265744925,18696.975689344927,19440.04014054493]
[null,null,0,{"$f":"IF(C2630<>0,LOOKUP(,-CODE(C$3:C2630),C$3:C2630),D2629)","v":178},"178(920)-750",null,null,null,"750",920,315,15688.194064486957,16563.216717286956,16671.365584486957,17547.617201686957,19537.310565286956,20333.679496486959]
[null,null,0,{"$f":"IF(C2631<>0,LOOKUP(,-CODE(C$3:C2631),C$3:C2631),D2630)","v":178},"178(920)-800",null,null,null,"800",920,315,16585.890620428989,17519.482393228987,17634.870140428986,18569.773137628988,20692.645441228986,21542.318852428987]
[null,null,0,{"$f":"IF(C2632<>0,LOOKUP(,-CODE(C$3:C2632),C$3:C2632),D2631)","v":178},"178(920)-850",null,null,null,"850",920,315,17168.587176371017,18160.748069171015,18283.374696371015,19276.929073571016,21532.980317171015,22435.958208371016]
[null,null,0,{"$f":"IF(C2633<>0,LOOKUP(,-CODE(C$3:C2633),C$3:C2633),D2632)","v":178},"178(920)-900",null,null,null,"900",920,315,17751.283732313044,18802.013745113043,18931.879252313047,19984.085009513044,22373.315193113045,23329.597564313044]
[null,null,0,{"$f":"IF(C2634<>0,LOOKUP(,-CODE(C$3:C2634),C$3:C2634),D2633)","v":178},"178(960)-500",null,null,null,"500",960,315,12802.232568023188,13409.887828823188,13484.99128802319,14093.499997223189,15475.232956823189,16028.26752002319]
[null,null,0,{"$f":"IF(C2635<>0,LOOKUP(,-CODE(C$3:C2635),C$3:C2635),D2634)","v":178},"178(960)-550",null,null,null,"550",960,315,13948.277558747826,14617.065139547827,14699.724278747826,15369.451167947827,16890.191467547826,17498.863310747827]
[null,null,0,{"$f":"IF(C2636<>0,LOOKUP(,-CODE(C$3:C2636),C$3:C2636),D2635)","v":178},"178(960)-600",null,null,null,"600",960,315,14554.322549472463,15284.242450272464,15374.457269472463,16105.402338672462,17765.149978272464,18429.459101472465]
[null,null,0,{"$f":"IF(C2637<>0,LOOKUP(,-CODE(C$3:C2637),C$3:C2637),D2636)","v":178},"178(960)-650",null,null,null,"650",960,315,15160.367540197101,15951.419760997102,16049.190260197101,16841.3535093971,18640.108488997099,19360.054892197099]
[null,null,0,{"$f":"IF(C2638<>0,LOOKUP(,-CODE(C$3:C2638),C$3:C2638),D2637)","v":178},"178(960)-700",null,null,null,"700",960,315,15766.412530921738,16618.597071721739,16723.92325092174,17577.304680121739,19515.066999721741,20290.65068292174]
[null,null,0,{"$f":"IF(C2639<>0,LOOKUP(,-CODE(C$3:C2639),C$3:C2639),D2638)","v":178},"178(960)-750",null,null,null,"750",960,315,16372.457521646376,17285.774382446376,17398.656241646378,18313.255850846377,20390.025510446379,21221.246473646377]
[null,null,0,{"$f":"IF(C2640<>0,LOOKUP(,-CODE(C$3:C2640),C$3:C2640),D2639)","v":178},"178(960)-800",null,null,null,"800",960,315,16978.502512371015,17952.951693171017,18073.389232371013,19049.207021571012,21264.984021171014,22151.842264371015]
[null,null,0,{"$f":"IF(C2641<>0,LOOKUP(,-CODE(C$3:C2641),C$3:C2641),D2640)","v":178},"178(960)-850",null,null,null,"850",960,315,17584.547503095651,18620.129003895654,18748.122223095655,19785.158192295654,22139.942531895656,23082.438055095656]
[null,null,0,{"$f":"IF(C2642<>0,LOOKUP(,-CODE(C$3:C2642),C$3:C2642),D2641)","v":178},"178(960)-900",null,null,null,"900",960,315,18190.592493820288,19287.306314620291,19422.85521382029,20521.109363020289,23014.901042620291,24013.03384582029]
[null,null,179,{"$f":"IF(C2643<>0,LOOKUP(,-CODE(C$3:C2643),C$3:C2643),D2642)","v":179},"179(600)-500","Шкаф настенный двухдверный со стеклом внизу, открывание вверх, Aventos BLUM HF, под систему SERVO-DRIVE (без механизма), полка ЛДСП",null,null,"500",600,315,9773.6307580057983,10152.247843005798,10176.160501005797,10555.043282205797,11347.349350605797,11691.691625805797]
[null,null,0,{"$f":"IF(C2644<>0,LOOKUP(,-CODE(C$3:C2644),C$3:C2644),D2643)","v":179},"179(600)-550",null,null,null,"550",600,315,10155.595442353622,10572.302777353623,10598.621135353624,11015.620896553623,11887.635824953622,12266.620180153624]
[null,null,0,{"$f":"IF(C2645<>0,LOOKUP(,-CODE(C$3:C2645),C$3:C2645),D2644)","v":179},"179(600)-600",null,null,null,"600",600,315,10537.56012670145,10992.35771170145,11021.08176970145,11476.198510901449,12427.922299301448,12841.548734501448]
[null,null,0,{"$f":"IF(C2646<>0,LOOKUP(,-CODE(C$3:C2646),C$3:C2646),D2645)","v":179},"179(600)-650",null,null,null,"650",600,315,10919.524811049276,11412.412646049275,11443.542404049274,11936.776125249275,12968.208773649274,13416.477288849275]
[null,null,0,{"$f":"IF(C2647<>0,LOOKUP(,-CODE(C$3:C2647),C$3:C2647),D2646)","v":179},"179(600)-700",null,null,null,"700",600,315,11301.489495397102,11832.4675803971,11866.003038397103,12397.3537395971,13508.495247997102,13991.405843197101]
[null,null,0,{"$f":"IF(C2648<>0,LOOKUP(,-CODE(C$3:C2648),C$3:C2648),D2647)","v":179},"179(600)-750",null,null,null,"750",600,315,11683.454179744927,12252.522514744927,12288.463672744929,12857.931353944929,14048.781722344927,14566.334397544928]
[null,null,0,{"$f":"IF(C2649<>0,LOOKUP(,-CODE(C$3:C2649),C$3:C2649),D2648)","v":179},"179(600)-800",null,null,null,"800",600,315,12065.418864092753,12672.577449092754,12710.924307092753,13318.508968292754,14589.068196692753,15141.262951892755]
[null,null,0,{"$f":"IF(C2650<>0,LOOKUP(,-CODE(C$3:C2650),C$3:C2650),D2649)","v":179},"179(600)-850",null,null,null,"850",600,315,12447.383548440579,13092.632383440579,13133.384941440578,13779.086582640579,15129.354671040579,15716.191506240579]
[null,null,0,{"$f":"IF(C2651<>0,LOOKUP(,-CODE(C$3:C2651),C$3:C2651),D2650)","v":179},"179(600)-900",null,null,null,"900",600,315,12829.348232788407,13512.687317788406,13555.845575788406,14239.664196988406,15669.641145388405,16291.120060588406]
[null,null,0,{"$f":"IF(C2652<>0,LOOKUP(,-CODE(C$3:C2652),C$3:C2652),D2651)","v":179},"179(720)-500",null,null,null,"500",720,315,10852.158727744929,11307.264112744928,11336.007610744928,11791.432367944928,12743.800268344929,13157.706639544929]
[null,null,0,{"$f":"IF(C2653<>0,LOOKUP(,-CODE(C$3:C2653),C$3:C2653),D2652)","v":179},"179(720)-550",null,null,null,"550",720,315,11305.176716440579,11806.067351440579,11837.702549440581,12338.94468664058,13387.12424704058,13842.67109824058]
[null,null,0,{"$f":"IF(C2654<>0,LOOKUP(,-CODE(C$3:C2654),C$3:C2654),D2653)","v":179},"179(720)-600",null,null,null,"600",720,315,11758.194705136233,12304.870590136232,12339.397488136232,12886.457005336233,14030.448225736232,14527.635556936231]
[null,null,0,{"$f":"IF(C2655<>0,LOOKUP(,-CODE(C$3:C2655),C$3:C2655),D2654)","v":179},"179(720)-650",null,null,null,"650",720,315,12211.212693831885,12803.673828831883,12841.092426831885,13433.969324031885,14673.772204431885,15212.600015631882]
[null,null,0,{"$f":"IF(C2656<>0,LOOKUP(,-CODE(C$3:C2656),C$3:C2656),D2655)","v":179},"179(720)-700",null,null,null,"700",720,315,12664.230682527535,13302.477067527536,13342.787365527536,13981.481642727536,15317.096183127536,15897.564474327537]
[null,null,0,{"$f":"IF(C2657<>0,LOOKUP(,-CODE(C$3:C2657),C$3:C2657),D2656)","v":179},"179(720)-750",null,null,null,"750",720,315,13117.248671223188,13801.280306223189,13844.482304223189,14528.993961423188,15960.420161823189,16582.52893302319]
[null,null,0,{"$f":"IF(C2658<>0,LOOKUP(,-CODE(C$3:C2658),C$3:C2658),D2657)","v":179},"179(720)-800",null,null,null,"800",720,315,13795.26665991884,14525.08354491884,14571.177242918839,15301.506280118838,16828.74414051884,17492.493391718843]
[null,null,0,{"$f":"IF(C2659<>0,LOOKUP(,-CODE(C$3:C2659),C$3:C2659),D2658)","v":179},"179(720)-850",null,null,null,"850",720,315,14248.284648614492,15023.886783614493,15072.872181614493,15849.018598814493,17472.068119214495,18177.457850414492]
[null,null,0,{"$f":"IF(C2660<>0,LOOKUP(,-CODE(C$3:C2660),C$3:C2660),D2659)","v":179},"179(720)-900",null,null,null,"900",720,315,14701.302637310144,15522.690022310142,15574.567120310143,16396.530917510143,18115.392097910146,18862.422309110145]
[null,null,0,{"$f":"IF(C2661<>0,LOOKUP(,-CODE(C$3:C2661),C$3:C2661),D2660)","v":179},"179(800)-500",null,null,null,"500",800,315,11746.749029037681,12252.84661403768,12284.810672037682,12791.263413237681,13850.33920163768,14310.621636837681]
[null,null,0,{"$f":"IF(C2662<>0,LOOKUP(,-CODE(C$3:C2662),C$3:C2662),D2661)","v":179},"179(800)-550",null,null,null,"550",800,315,12258.940380631886,12815.953215631884,12851.132973631884,13408.536694831884,14574.159343231884,15080.747858431883]
[null,null,0,{"$f":"IF(C2663<>0,LOOKUP(,-CODE(C$3:C2663),C$3:C2663),D2662)","v":179},"179(800)-600",null,null,null,"600",800,315,12996.131732226087,13604.059817226087,13642.455275226086,14250.809976426088,15522.979484826086,16075.874080026086]
[null,null,0,{"$f":"IF(C2664<>0,LOOKUP(,-CODE(C$3:C2664),C$3:C2664),D2663)","v":179},"179(800)-650",null,null,null,"650",800,315,13508.323083820289,14167.16641882029,14208.77757682029,14868.08325802029,16246.79962642029,16846.00030162029]
[null,null,0,{"$f":"IF(C2665<>0,LOOKUP(,-CODE(C$3:C2665),C$3:C2665),D2664)","v":179},"179(800)-700",null,null,null,"700",800,315,14020.514435414492,14730.273020414492,14775.099878414494,15485.356539614491,16970.619768014494,17616.126523214491]
[null,null,0,{"$f":"IF(C2666<>0,LOOKUP(,-CODE(C$3:C2666),C$3:C2666),D2665)","v":179},"179(800)-750",null,null,null,"750",800,315,14532.705787008694,15293.379622008695,15341.422180008696,16102.629821208697,17694.439909608696,18386.252744808695]
[null,null,0,{"$f":"IF(C2667<>0,LOOKUP(,-CODE(C$3:C2667),C$3:C2667),D2666)","v":179},"179(800)-800",null,null,null,"800",800,315,15044.897138602899,15856.486223602898,15907.7444816029,16719.903102802899,18418.260051202902,19156.378966402899]
[null,null,0,{"$f":"IF(C2668<>0,LOOKUP(,-CODE(C$3:C2668),C$3:C2668),D2667)","v":179},"179(800)-850",null,null,null,"850",800,315,15557.0884901971,16419.592825197098,16474.0667831971,17337.176384397098,19142.080192797097,19926.5051879971]
[null,null,0,{"$f":"IF(C2669<>0,LOOKUP(,-CODE(C$3:C2669),C$3:C2669),D2668)","v":179},"179(800)-900",null,null,null,"900",800,315,16069.279841791305,16982.699426791303,17040.389084791303,17954.449665991306,19865.900334391306,20696.631409591304]
[null,null,0,{"$f":"IF(C2670<>0,LOOKUP(,-CODE(C$3:C2670),C$3:C2670),D2669)","v":179},"179(920)-500",null,null,null,"500",920,315,12730.776998776812,13313.362883776812,13350.15778177681,13933.152498976811,15152.29011937681,15682.136650576809]
[null,null,0,{"$f":"IF(C2671<>0,LOOKUP(,-CODE(C$3:C2671),C$3:C2671),D2670)","v":179},"179(920)-550",null,null,null,"550",920,315,13314.021654718841,13955.217789718839,13995.714387718841,14637.36048491884,15979.147765318839,16562.298776518845]
[null,null,0,{"$f":"IF(C2672<>0,LOOKUP(,-CODE(C$3:C2672),C$3:C2672),D2671)","v":179},"179(920)-600",null,null,null,"600",920,315,13897.266310660869,14597.072695660871,14641.27099366087,15341.56847086087,16806.00541126087,17442.460902460869]
[null,null,0,{"$f":"IF(C2673<>0,LOOKUP(,-CODE(C$3:C2673),C$3:C2673),D2672)","v":179},"179(920)-650",null,null,null,"650",920,315,14480.510966602898,15238.9276016029,15286.827599602899,16045.776456802898,17632.8630572029,18322.623028402901]
[null,null,0,{"$f":"IF(C2674<>0,LOOKUP(,-CODE(C$3:C2674),C$3:C2674),D2673)","v":179},"179(920)-700",null,null,null,"700",920,315,15063.755622544928,15880.782507544927,15932.384205544926,16749.984442744924,18459.720703144925,19202.785154344925]
[null,null,0,{"$f":"IF(C2675<>0,LOOKUP(,-CODE(C$3:C2675),C$3:C2675),D2674)","v":179},"179(920)-750",null,null,null,"750",920,315,15647.000278486956,16522.637413486958,16577.940811486955,17454.192428686958,19286.578349086954,20082.947280286957]
[null,null,0,{"$f":"IF(C2676<>0,LOOKUP(,-CODE(C$3:C2676),C$3:C2676),D2675)","v":179},"179(920)-800",null,null,null,"800",920,315,16545.244934428985,17479.492319428988,17538.497417428989,18473.400414628988,20428.435995028987,21278.109406228989]
[null,null,0,{"$f":"IF(C2677<>0,LOOKUP(,-CODE(C$3:C2677),C$3:C2677),D2676)","v":179},"179(920)-850",null,null,null,"850",920,315,17128.489590371017,18121.347225371017,18184.054023371016,19177.608400571018,21255.293640971016,22158.271532171017]
[null,null,0,{"$f":"IF(C2678<>0,LOOKUP(,-CODE(C$3:C2678),C$3:C2678),D2677)","v":179},"179(920)-900",null,null,null,"900",920,315,17711.734246313041,18763.202131313043,18829.610629313043,19881.816386513041,22082.151286913042,23038.433658113041]
[null,null,0,{"$f":"IF(C2679<>0,LOOKUP(,-CODE(C$3:C2679),C$3:C2679),D2678)","v":179},"179(960)-500",null,null,null,"500",960,315,12758.786322023188,13366.868307023189,13405.273485023186,14013.782194223188,15286.273758623189,15839.308321823188]
[null,null,0,{"$f":"IF(C2680<>0,LOOKUP(,-CODE(C$3:C2680),C$3:C2680),D2679)","v":179},"179(960)-550",null,null,null,"550",960,315,13905.715412747826,14574.972647747825,14617.241525747826,15286.968414947827,16687.477239347827,17296.149082547825]
[null,null,0,{"$f":"IF(C2681<>0,LOOKUP(,-CODE(C$3:C2681),C$3:C2681),D2680)","v":179},"179(960)-600",null,null,null,"600",960,315,14512.644503472462,15243.076988472463,15289.209566472464,16020.154635672463,17548.680720072462,18212.989843272462]
[null,null,0,{"$f":"IF(C2682<>0,LOOKUP(,-CODE(C$3:C2682),C$3:C2682),D2681)","v":179},"179(960)-650",null,null,null,"650",960,315,15119.573594197102,15911.181329197101,15961.177607197102,16753.340856397102,18409.884200797103,19129.830603997103]
[null,null,0,{"$f":"IF(C2683<>0,LOOKUP(,-CODE(C$3:C2683),C$3:C2683),D2682)","v":179},"179(960)-700",null,null,null,"700",960,315,15726.502684921739,16579.285669921741,16633.145647921741,17486.527077121744,19271.087681521742,20046.671364721744]
[null,null,0,{"$f":"IF(C2684<>0,LOOKUP(,-CODE(C$3:C2684),C$3:C2684),D2683)","v":179},"179(960)-750",null,null,null,"750",960,315,16333.431775646379,17247.390010646377,17305.113688646379,18219.713297846378,20132.291162246376,20963.512125446377]
[null,null,0,{"$f":"IF(C2685<>0,LOOKUP(,-CODE(C$3:C2685),C$3:C2685),D2684)","v":179},"179(960)-800",null,null,null,"800",960,315,16940.360866371015,17915.494351371013,17977.081729371013,18952.899518571012,20993.494642971014,21880.352886171011]
[null,null,0,{"$f":"IF(C2686<>0,LOOKUP(,-CODE(C$3:C2686),C$3:C2686),D2685)","v":179},"179(960)-850",null,null,null,"850",960,315,17547.289957095651,18583.598692095653,18649.049770095655,19686.085739295653,21854.698123695653,22797.193646895656]
[null,null,0,{"$f":"IF(C2687<>0,LOOKUP(,-CODE(C$3:C2687),C$3:C2687),D2686)","v":179},"179(960)-900",null,null,null,"900",960,315,18154.21904782029,19251.703032820289,19321.017810820289,20419.271960020291,22715.901604420291,23714.034407620289]
[null,null,180,{"$f":"IF(C2688<>0,LOOKUP(,-CODE(C$3:C2688),C$3:C2688),D2687)","v":180},"180(360)-450","Шкафнастенныйоднодверный с посудосушителем (хром), открывание вверх, Aventos HK, под систему SERVO-DRIVE (без механизма)",null,null,"450",360,315,6964.8620540231896,7169.3785004231886,7194.6558140231891,7399.4595026231891,7864.5046244231889,8050.6375700231893]
[null,null,null,{"$f":"IF(C2689<>0,LOOKUP(,-CODE(C$3:C2689),C$3:C2689),D2688)","v":180},"180(360)-500",null,null,null,"500",360,315,7257.1374190956521,7484.5304254956518,7512.6351790956523,7740.3475576956525,8257.4111494956524,8464.3643350956518]
[null,null,0,{"$f":"IF(C2690<>0,LOOKUP(,-CODE(C$3:C2690),C$3:C2690),D2689)","v":180},"180(360)-600",null,null,null,"600",360,315,7840.4617492405796,8113.6078756405805,8147.3675092405801,8420.8972678405808,9041.9977996405796,9290.5914652405809]
[null,null,0,{"$f":"IF(C2691<>0,LOOKUP(,-CODE(C$3:C2691),C$3:C2691),D2690)","v":180},"180(360)-700",null,null,null,"700",360,315,8563.5956793855075,8882.4949257855078,8921.9094393855066,9241.2565779855067,9966.3940497855074,10256.628195385507]
[null,null,0,{"$f":"IF(C2692<>0,LOOKUP(,-CODE(C$3:C2692),C$3:C2692),D2691)","v":180},"180(360)-800",null,null,null,"800",360,315,9190.4280095304348,9555.0803759304345,9600.1497695304352,9965.3142881304339,10794.488699930434,11126.363325530434]
[null,null,0,{"$f":"IF(C2693<>0,LOOKUP(,-CODE(C$3:C2693),C$3:C2693),D2692)","v":180},"180(360)-900",null,null,null,"900",360,315,9934.0603396753631,10344.465826075362,10395.190099675363,10806.171998275364,11739.383350075363,12112.898455675364]
[null,null,null,{"$f":"IF(C2694<>0,LOOKUP(,-CODE(C$3:C2694),C$3:C2694),D2693)","v":180},"180(400)-450",null,null,null,"450",400,315,7194.0349024869574,7421.4663568869573,7449.5758624869577,7677.3267430869573,8194.4777608869572,8401.4659384869574]
[null,null,0,{"$f":"IF(C2695<>0,LOOKUP(,-CODE(C$3:C2695),C$3:C2695),D2694)","v":180},"180(400)-500",null,null,null,"500",400,315,7509.6587023420288,7762.5299167420289,7793.7836623420299,8047.0100329420293,8622.0079207420295,8852.1491383420289]
[null,null,0,{"$f":"IF(C2696<>0,LOOKUP(,-CODE(C$3:C2696),C$3:C2696),D2695)","v":180},"180(400)-600",null,null,null,"600",400,315,8139.6799020521748,8443.4306364521744,8480.9728620521746,8785.1502126521736,9475.8418404521744,9752.2891380521742]
[null,null,0,{"$f":"IF(C2697<>0,LOOKUP(,-CODE(C$3:C2697),C$3:C2697),D2696)","v":180},"180(400)-700",null,null,null,"700",400,315,8909.5107017623195,9264.1409561623186,9307.971661762318,9663.0999923623185,10469.485360162318,10792.238737762318]
[null,null,0,{"$f":"IF(C2698<>0,LOOKUP(,-CODE(C$3:C2698),C$3:C2698),D2697)","v":180},"180(400)-800",null,null,null,"800",400,315,9583.0399014724626,9988.5496758724639,10038.668861472463,10444.748172072465,11366.827279872465,11735.886737472463]
[null,null,0,{"$f":"IF(C2699<>0,LOOKUP(,-CODE(C$3:C2699),C$3:C2699),D2698)","v":180},"180(400)-900",null,null,null,"900",400,315,10373.36910118261,10829.75839558261,10886.16606118261,11343.19635178261,12380.969199582611,12796.334737182609]
[null,null,null,{"$f":"IF(C2700<>0,LOOKUP(,-CODE(C$3:C2700),C$3:C2700),D2699)","v":180},"180(460)-450",null,null,null,"450",460,315,7537.7941751826093,7799.59814158261,7831.9559351826092,8094.1276037826092,8689.4374655826086,8927.7084911826096]
[null,null,0,{"$f":"IF(C2701<>0,LOOKUP(,-CODE(C$3:C2701),C$3:C2701),D2700)","v":180},"180(460)-500",null,null,null,"500",460,315,7888.4406272115939,8179.5291536115947,8215.5063872115934,8507.0037458115949,9168.9030776115942,9433.8263432115946]
[null,null,0,{"$f":"IF(C2702<>0,LOOKUP(,-CODE(C$3:C2702),C$3:C2702),D2701)","v":180},"180(460)-600",null,null,null,"600",460,315,8588.5071312695654,8938.1647776695663,8981.3808912695658,9331.5296298695648,10126.607901669566,10444.835647269567]
[null,null,0,{"$f":"IF(C2703<>0,LOOKUP(,-CODE(C$3:C2703),C$3:C2703),D2702)","v":180},"180(460)-700",null,null,null,"700",460,315,9956.8610219942038,10423.656908394205,10481.350781994202,10948.802280594206,12010.238432394202,12435.075137994205]
[null,null,0,{"$f":"IF(C2704<>0,LOOKUP(,-CODE(C$3:C2704),C$3:C2704),D2703)","v":180},"180(460)-800",null,null,null,"800",460,315,10171.957739385507,10638.753625785508,10696.447499385507,11163.898997985509,12225.335149785507,12650.171855385508]
[null,null,0,{"$f":"IF(C2705<>0,LOOKUP(,-CODE(C$3:C2705),C$3:C2705),D2704)","v":180},"180(460)-900",null,null,null,"900",460,315,11032.332243443478,11557.697249843479,11622.630003443479,12148.732882043478,13343.34797384348,13821.489159443479]
[null,null,null,{"$f":"IF(C2706<>0,LOOKUP(,-CODE(C$3:C2706),C$3:C2706),D2705)","v":180},"180(480)-450",null,null,null,"450",480,315,7652.3805994144932,7925.6420698144939,7959.415959414493,8233.0612240144947,8854.4240338144937,9103.1226754144936]
[null,null,0,{"$f":"IF(C2707<>0,LOOKUP(,-CODE(C$3:C2707),C$3:C2707),D2706)","v":180},"180(480)-500",null,null,null,"500",480,315,8014.7012688347822,8318.5288992347832,8356.0806288347831,8660.3349834347828,9351.2014632347837,9627.7187448347831]
[null,null,0,{"$f":"IF(C2708<>0,LOOKUP(,-CODE(C$3:C2708),C$3:C2708),D2707)","v":180},"180(480)-600",null,null,null,"600",480,315,8738.1162076753626,9103.0761580753624,9148.1835676753617,9513.6561022753631,10343.529922075362,10675.684483675363]
[null,null,0,{"$f":"IF(C2709<>0,LOOKUP(,-CODE(C$3:C2709),C$3:C2709),D2708)","v":180},"180(480)-700",null,null,null,"700",480,315,9601.3407465159416,10027.433016915942,10080.096106515943,10506.786821115942,11475.667980915943,11863.459822515943]
[null,null,0,{"$f":"IF(C2710<>0,LOOKUP(,-CODE(C$3:C2710),C$3:C2710),D2709)","v":180},"180(480)-800",null,null,null,"800",480,315,10368.263685356522,10855.488275756521,10915.707045356521,11403.615939956522,12511.504439756522,12954.933561356522]
[null,null,0,{"$f":"IF(C2711<>0,LOOKUP(,-CODE(C$3:C2711),C$3:C2711),D2710)","v":180},"180(480)-900",null,null,null,"900",480,315,11384.736624197103,11933.093534597101,12000.867984197102,12549.995058797103,13796.890898597103,14295.957300197104]
[null,null,181,{"$f":"IF(C2712<>0,LOOKUP(,-CODE(C$3:C2712),C$3:C2712),D2711)","v":181},"181(360)-450","Шкафнастенныйоднодверный с посудосушителем (хром), открывание вверх, Aventos HS, под систему SERVO-DRIVE (без механизма)",null,null,"450",360,315,10081.166054023188,10285.682500423189,10310.959814023188,10515.763502623187,10980.808624423189,11166.941570023188]
[null,null,null,{"$f":"IF(C2713<>0,LOOKUP(,-CODE(C$3:C2713),C$3:C2713),D2712)","v":181},"181(360)-500",null,null,null,"500",360,315,10373.441419095652,10600.834425495652,10628.939179095652,10856.651557695652,11373.715149495652,11580.668335095652]
[null,null,0,{"$f":"IF(C2714<>0,LOOKUP(,-CODE(C$3:C2714),C$3:C2714),D2713)","v":181},"181(360)-600",null,null,null,"600",360,315,10956.76574924058,11229.911875640579,11263.671509240579,11537.201267840579,12158.30179964058,12406.895465240579]
[null,null,0,{"$f":"IF(C2715<>0,LOOKUP(,-CODE(C$3:C2715),C$3:C2715),D2714)","v":181},"181(360)-700",null,null,null,"700",360,315,11695.649679385506,12014.548925785506,12053.963439385507,12373.310577985507,13098.448049785507,13388.682195385507]
[null,null,0,{"$f":"IF(C2716<>0,LOOKUP(,-CODE(C$3:C2716),C$3:C2716),D2715)","v":181},"181(360)-800",null,null,null,"800",360,315,12322.482009530435,12687.134375930435,12732.203769530435,13097.368288130434,13926.542699930435,14258.417325530434]
[null,null,0,{"$f":"IF(C2717<>0,LOOKUP(,-CODE(C$3:C2717),C$3:C2717),D2716)","v":181},"181(360)-900",null,null,null,"900",360,315,13066.114339675361,13476.519826075362,13527.244099675361,13938.225998275362,14871.437350075361,15244.952455675362]
[null,null,null,{"$f":"IF(C2718<>0,LOOKUP(,-CODE(C$3:C2718),C$3:C2718),D2717)","v":181},"181(400)-450",null,null,null,"450",400,315,10310.338902486956,10537.770356886955,10565.879862486956,10793.630743086956,11310.781760886955,11517.769938486956]
[null,null,0,{"$f":"IF(C2719<>0,LOOKUP(,-CODE(C$3:C2719),C$3:C2719),D2718)","v":181},"181(400)-500",null,null,null,"500",400,315,10625.962702342027,10878.833916742027,10910.087662342028,11163.314032942028,11738.311920742028,11968.453138342027]
[null,null,0,{"$f":"IF(C2720<>0,LOOKUP(,-CODE(C$3:C2720),C$3:C2720),D2719)","v":181},"181(400)-600",null,null,null,"600",400,315,11271.733902052174,11575.484636452173,11613.026862052175,11917.204212652174,12607.895840452173,12884.343138052172]
[null,null,0,{"$f":"IF(C2721<>0,LOOKUP(,-CODE(C$3:C2721),C$3:C2721),D2720)","v":181},"181(400)-700",null,null,null,"700",400,315,12041.564701762316,12396.194956162317,12440.025661762316,12795.153992362317,13601.539360162318,13924.292737762316]
[null,null,0,{"$f":"IF(C2722<>0,LOOKUP(,-CODE(C$3:C2722),C$3:C2722),D2721)","v":181},"181(400)-800",null,null,null,"800",400,315,12715.093901472463,13120.603675872464,13170.722861472463,13576.802172072465,14498.881279872465,14867.940737472463]
[null,null,0,{"$f":"IF(C2723<>0,LOOKUP(,-CODE(C$3:C2723),C$3:C2723),D2722)","v":181},"181(400)-900",null,null,null,"900",400,315,13505.423101182609,13961.812395582609,14018.220061182608,14475.250351782608,15513.023199582611,15928.388737182609]
[null,null,null,{"$f":"IF(C2724<>0,LOOKUP(,-CODE(C$3:C2724),C$3:C2724),D2723)","v":181},"181(460)-450",null,null,null,"450",460,315,10669.848175182608,10931.652141582608,10964.009935182607,11226.181603782607,11821.491465582607,12059.762491182608]
[null,null,0,{"$f":"IF(C2725<>0,LOOKUP(,-CODE(C$3:C2725),C$3:C2725),D2724)","v":181},"181(460)-500",null,null,null,"500",460,315,11020.494627211594,11311.583153611595,11347.560387211593,11639.057745811593,12300.957077611594,12565.880343211593]
[null,null,0,{"$f":"IF(C2726<>0,LOOKUP(,-CODE(C$3:C2726),C$3:C2726),D2725)","v":181},"181(460)-600",null,null,null,"600",460,315,11720.561131269564,12070.218777669565,12113.434891269564,12463.583629869565,13258.661901669564,13576.889647269563]
[null,null,0,{"$f":"IF(C2727<>0,LOOKUP(,-CODE(C$3:C2727),C$3:C2727),D2726)","v":181},"181(460)-700",null,null,null,"700",460,315,12560.437235327536,12968.664001727535,13019.118995327535,13427.919113927535,14356.176325727534,14727.708551327536]
[null,null,0,{"$f":"IF(C2728<>0,LOOKUP(,-CODE(C$3:C2728),C$3:C2728),D2727)","v":181},"181(460)-800",null,null,null,"800",460,315,13304.011739385507,13770.807625785506,13828.501499385506,14295.952997985507,15357.389149785506,15782.225855385506]
[null,null,0,{"$f":"IF(C2729<>0,LOOKUP(,-CODE(C$3:C2729),C$3:C2729),D2728)","v":181},"181(460)-900",null,null,null,"900",460,315,14164.386243443478,14689.751249843479,14754.684003443479,15280.786882043478,16475.40197384348,16953.543159443478]
[null,null,null,{"$f":"IF(C2730<>0,LOOKUP(,-CODE(C$3:C2730),C$3:C2730),D2729)","v":181},"181(480)-450",null,null,null,"450",480,315,10784.434599414493,11057.696069814494,11091.469959414493,11365.115224014493,11986.478033814492,12235.176675414492]
[null,null,0,{"$f":"IF(C2731<>0,LOOKUP(,-CODE(C$3:C2731),C$3:C2731),D2730)","v":181},"181(480)-500",null,null,null,"500",480,315,11146.755268834781,11450.582899234782,11488.134628834781,11792.388983434781,12483.255463234782,12759.772744834781]
[null,null,0,{"$f":"IF(C2732<>0,LOOKUP(,-CODE(C$3:C2732),C$3:C2732),D2731)","v":181},"181(480)-600",null,null,null,"600",480,315,11870.170207675361,12235.130158075361,12280.237567675362,12645.710102275361,13475.583922075362,13807.738483675363]
[null,null,0,{"$f":"IF(C2733<>0,LOOKUP(,-CODE(C$3:C2733),C$3:C2733),D2732)","v":181},"181(480)-700",null,null,null,"700",480,315,12733.39474651594,13159.48701691594,13212.150106515941,13638.84082111594,14607.721980915941,14995.513822515941]
[null,null,0,{"$f":"IF(C2734<>0,LOOKUP(,-CODE(C$3:C2734),C$3:C2734),D2733)","v":181},"181(480)-800",null,null,null,"800",480,315,13500.31768535652,13987.542275756521,14047.761045356521,14535.66993995652,15643.558439756522,16086.98756135652]
[null,null,0,{"$f":"IF(C2735<>0,LOOKUP(,-CODE(C$3:C2735),C$3:C2735),D2734)","v":181},"181(480)-900",null,null,null,"900",480,315,14384.040624197103,14932.397534597101,15000.171984197103,15549.299058797103,16796.194898597103,17295.261300197104]
[null,null,182,{"$f":"IF(C2736<>0,LOOKUP(,-CODE(C$3:C2736),C$3:C2736),D2735)","v":182},"182(360)-450","Шкафнастенныйоднодверный с посудосушителем (хром) со стеклом, открывание вверх, Aventos HK, под систему SERVO-DRIVE (без механизма)",null,null,"450",360,315,6919.6194680231883,7124.4231566231892,7124.9976410231893,7329.8013296231884,7721.3124482231879,7907.4453938231882]
[null,null,null,{"$f":"IF(C2737<>0,LOOKUP(,-CODE(C$3:C2737),C$3:C2737),D2736)","v":182},"182(360)-500",null,null,null,"500",360,315,7210.7629330956524,7438.4753116956526,7439.1140560956528,7666.8264346956521,8102.1307432956519,8309.083928895654]
[null,null,0,{"$f":"IF(C2738<>0,LOOKUP(,-CODE(C$3:C2738),C$3:C2738),D2737)","v":182},"182(360)-600",null,null,null,"600",360,315,7791.8234632405793,8065.353221840579,8066.1204862405793,8339.6502448405809,8862.5409334405813,9111.1345990405807]
[null,null,0,{"$f":"IF(C2739<>0,LOOKUP(,-CODE(C$3:C2739),C$3:C2739),D2738)","v":182},"182(360)-700",null,null,null,"700",360,315,8512.6935933855075,8832.0407319855076,8832.9365163855073,9152.2836549855074,9762.7607235855066,10052.994869185508]
[null,null,0,{"$f":"IF(C2740<>0,LOOKUP(,-CODE(C$3:C2740),C$3:C2740),D2739)","v":182},"182(360)-800",null,null,null,"800",360,315,9137.2621235304341,9502.4266421304346,9503.4509465304345,9868.6154651304332,10566.678913730435,10898.553539330433]
[null,null,0,{"$f":"IF(C2741<>0,LOOKUP(,-CODE(C$3:C2741),C$3:C2741),D2740)","v":182},"182(360)-900",null,null,null,"900",360,315,9878.6306536753636,10289.612552275363,10290.765376675363,10701.747275275362,11487.397103875363,11860.912209475364]
[null,null,null,{"$f":"IF(C2742<>0,LOOKUP(,-CODE(C$3:C2742),C$3:C2742),D2741)","v":182},"182(400)-450",null,null,null,"450",400,315,7149.0963964869561,7376.8472770869566,7377.4861294869561,7605.2370100869566,8040.6149206869568,8247.6030982869579]
[null,null,0,{"$f":"IF(C2743<>0,LOOKUP(,-CODE(C$3:C2743),C$3:C2743),D2742)","v":182},"182(400)-500",null,null,null,"500",400,315,7464.2602963420295,7717.4866669420298,7718.1969793420294,7971.4233499420297,8455.5012505420291,8685.6424681420285]
[null,null,0,{"$f":"IF(C2744<>0,LOOKUP(,-CODE(C$3:C2744),C$3:C2744),D2743)","v":182},"182(400)-600",null,null,null,"600",400,315,8093.3616960521749,8397.5390466521749,8398.3922790521756,8702.5696296521746,9284.0475102521741,9560.4948078521738]
[null,null,0,{"$f":"IF(C2745<>0,LOOKUP(,-CODE(C$3:C2745),C$3:C2745),D2744)","v":182},"182(400)-700",null,null,null,"700",400,315,8862.2726957623199,9217.4010263623186,9218.3971787623195,9573.5255093623182,10252.403369962318,10575.15674756232]
[null,null,0,{"$f":"IF(C2746<>0,LOOKUP(,-CODE(C$3:C2746),C$3:C2746),D2745)","v":182},"182(400)-800",null,null,null,"800",400,315,9534.8820954724633,9940.9614060724634,9942.1004784724628,10348.179789072465,11124.457629672464,11493.517087272465]
[null,null,0,{"$f":"IF(C2747<>0,LOOKUP(,-CODE(C$3:C2747),C$3:C2747),D2746)","v":182},"182(400)-900",null,null,null,"900",400,315,10324.29149518261,10781.321785782611,10782.603778182611,11239.63406878261,12113.311889382609,12528.677426982611]
[null,null,null,{"$f":"IF(C2748<>0,LOOKUP(,-CODE(C$3:C2748),C$3:C2748),D2747)","v":182},"182(460)-450",null,null,null,"450",460,315,7493.3117891826096,7755.4834577826095,7756.218862182609,8018.3905307826099,8519.5686293826093,8757.8396549826102]
[null,null,0,{"$f":"IF(C2749<>0,LOOKUP(,-CODE(C$3:C2749),C$3:C2749),D2748)","v":182},"182(460)-500",null,null,null,"500",460,315,7844.5063412115942,8136.0036998115947,8136.8213642115943,8428.318722811593,8985.5570114115944,9250.480277011593]
[null,null,0,{"$f":"IF(C2750<>0,LOOKUP(,-CODE(C$3:C2750),C$3:C2750),D2749)","v":182},"182(460)-600",null,null,null,"600",460,315,8545.6690452695657,8895.8177838695665,8896.7999682695663,9246.9487068695671,9916.3073754695652,10234.535121069566]
[null,null,0,{"$f":"IF(C2751<>0,LOOKUP(,-CODE(C$3:C2751),C$3:C2751),D2750)","v":182},"182(460)-700",null,null,null,"700",460,315,9386.6413493275377,9795.441467927536,9796.5881723275361,10205.388290927536,10986.867339527536,11358.399565127536]
[null,null,0,{"$f":"IF(C2752<>0,LOOKUP(,-CODE(C$3:C2752),C$3:C2752),D2751)","v":182},"182(460)-800",null,null,null,"800",460,315,10131.312053385507,10598.763551985508,10600.074776385509,11067.526274985508,11961.125703585509,12385.962409185508]
[null,null,0,{"$f":"IF(C2753<>0,LOOKUP(,-CODE(C$3:C2753),C$3:C2753),D2752)","v":182},"182(460)-900",null,null,null,"900",460,315,11125.53275744348,11651.635636043478,11653.111380443477,12179.21425904348,13184.934067643479,13663.075253243478]
[null,null,null,{"$f":"IF(C2754<>0,LOOKUP(,-CODE(C$3:C2754),C$3:C2754),D2753)","v":182},"182(480)-450",null,null,null,"450",480,315,7608.0502534144935,7881.6955180144932,7882.4631064144933,8156.1083710144931,8679.2198656144919,8927.9185072144919]
[null,null,0,{"$f":"IF(C2755<>0,LOOKUP(,-CODE(C$3:C2755),C$3:C2755),D2754)","v":182},"182(480)-500",null,null,null,"500",480,315,7971.2550228347827,8275.5093774347824,8276.3628258347835,8580.6171804347832,9162.2422650347835,9438.759546634783]
[null,null,0,{"$f":"IF(C2756<>0,LOOKUP(,-CODE(C$3:C2756),C$3:C2756),D2755)","v":182},"182(480)-600",null,null,null,"600",480,315,8696.4381616753635,9061.9106962753631,9062.9358646753626,9428.408399275364,10127.060663875363,10459.215225475364]
[null,null,0,{"$f":"IF(C2757<>0,LOOKUP(,-CODE(C$3:C2757),C$3:C2757),D2756)","v":182},"182(480)-700",null,null,null,"700",480,315,9561.430900515943,9988.1216151159424,9989.3185035159422,10416.009218115942,11231.688662715942,11619.480504315943]
[null,null,0,{"$f":"IF(C2758<>0,LOOKUP(,-CODE(C$3:C2758),C$3:C2758),D2757)","v":182},"182(480)-800",null,null,null,"800",480,315,10330.122039356522,10818.030933956523,10819.399542356523,11307.30843695652,12240.015061556522,12683.444183156522]
[null,null,0,{"$f":"IF(C2759<>0,LOOKUP(,-CODE(C$3:C2759),C$3:C2759),D2758)","v":182},"182(480)-900",null,null,null,"900",480,315,11348.363178197102,11897.490252797103,11899.030581197103,12448.157655797102,13497.891460397102,13996.957861997103]
[null,null,183,{"$f":"IF(C2760<>0,LOOKUP(,-CODE(C$3:C2760),C$3:C2760),D2759)","v":183},"183(360)-450","Шкафнастенныйоднодверный с посудосушителем (хром) со стеклом, открывание вверх, Aventos HS, под систему SERVO-DRIVE (без механизма)",null,null,"450",360,315,10035.923468023189,10240.72715662319,10241.30164102319,10446.105329623189,10837.616448223189,11023.749393823189]
[null,null,null,{"$f":"IF(C2761<>0,LOOKUP(,-CODE(C$3:C2761),C$3:C2761),D2760)","v":183},"183(360)-500",null,null,null,"500",360,315,10327.066933095652,10554.779311695653,10555.418056095652,10783.130434695653,11218.434743295653,11425.387928895652]
[null,null,0,{"$f":"IF(C2762<>0,LOOKUP(,-CODE(C$3:C2762),C$3:C2762),D2761)","v":183},"183(360)-600",null,null,null,"600",360,315,10908.12746324058,11181.65722184058,11182.424486240579,11455.954244840581,11978.844933440581,12227.438599040581]
[null,null,0,{"$f":"IF(C2763<>0,LOOKUP(,-CODE(C$3:C2763),C$3:C2763),D2762)","v":183},"183(360)-700",null,null,null,"700",360,315,11644.747593385506,11964.094731985508,11964.990516385507,12284.337654985506,12894.814723585507,13185.048869185506]
[null,null,0,{"$f":"IF(C2764<>0,LOOKUP(,-CODE(C$3:C2764),C$3:C2764),D2763)","v":183},"183(360)-800",null,null,null,"800",360,315,12269.316123530432,12634.480642130433,12635.504946530433,13000.669465130431,13698.732913730431,14030.607539330433]
[null,null,0,{"$f":"IF(C2765<>0,LOOKUP(,-CODE(C$3:C2765),C$3:C2765),D2764)","v":183},"183(360)-900",null,null,null,"900",360,315,13010.684653675362,13421.666552275361,13422.819376675361,13833.801275275362,14619.451103875361,14992.96620947536]
[null,null,null,{"$f":"IF(C2766<>0,LOOKUP(,-CODE(C$3:C2766),C$3:C2766),D2765)","v":183},"183(400)-450",null,null,null,"450",400,315,10265.400396486957,10493.151277086956,10493.790129486957,10721.541010086956,11156.918920686956,11363.907098286956]
[null,null,0,{"$f":"IF(C2767<>0,LOOKUP(,-CODE(C$3:C2767),C$3:C2767),D2766)","v":183},"183(400)-500",null,null,null,"500",400,315,10580.564296342029,10833.790666942028,10834.500979342029,11087.727349942028,11571.805250542027,11801.946468142029]
[null,null,0,{"$f":"IF(C2768<>0,LOOKUP(,-CODE(C$3:C2768),C$3:C2768),D2767)","v":183},"183(400)-600",null,null,null,"600",400,315,11225.415696052172,11529.593046652173,11530.446279052172,11834.623629652173,12416.101510252172,12692.548807852172]
[null,null,0,{"$f":"IF(C2769<>0,LOOKUP(,-CODE(C$3:C2769),C$3:C2769),D2768)","v":183},"183(400)-700",null,null,null,"700",400,315,11994.326695762318,12349.455026362317,12350.451178762318,12705.579509362318,13384.457369962318,13707.210747562318]
[null,null,0,{"$f":"IF(C2770<>0,LOOKUP(,-CODE(C$3:C2770),C$3:C2770),D2769)","v":183},"183(400)-800",null,null,null,"800",400,315,12666.936095472462,13073.015406072462,13074.154478472461,13480.233789072461,14256.511629672461,14625.571087272461]
[null,null,0,{"$f":"IF(C2771<>0,LOOKUP(,-CODE(C$3:C2771),C$3:C2771),D2770)","v":183},"183(400)-900",null,null,null,"900",400,315,13456.345495182612,13913.375785782611,13914.657778182611,14371.688068782611,15245.36588938261,15660.731426982611]
[null,null,null,{"$f":"IF(C2772<>0,LOOKUP(,-CODE(C$3:C2772),C$3:C2772),D2771)","v":183},"183(460)-450",null,null,null,"450",460,315,10625.36578918261,10887.53745778261,10888.27286218261,11150.44453078261,11651.622629382609,11889.89365498261]
[null,null,0,{"$f":"IF(C2773<>0,LOOKUP(,-CODE(C$3:C2773),C$3:C2773),D2772)","v":183},"183(460)-500",null,null,null,"500",460,315,10976.560341211592,11268.057699811594,11268.875364211593,11560.372722811593,12117.611011411593,12382.534277011593]
[null,null,0,{"$f":"IF(C2774<>0,LOOKUP(,-CODE(C$3:C2774),C$3:C2774),D2773)","v":183},"183(460)-600",null,null,null,"600",460,315,11677.723045269566,12027.871783869565,12028.853968269566,12379.002706869565,13048.361375469565,13366.589121069566]
[null,null,0,{"$f":"IF(C2775<>0,LOOKUP(,-CODE(C$3:C2775),C$3:C2775),D2774)","v":183},"183(460)-700",null,null,null,"700",460,315,12518.695349327538,12927.495467927536,12928.642172327536,13337.442290927536,14118.921339527536,14490.453565127536]
[null,null,0,{"$f":"IF(C2776<>0,LOOKUP(,-CODE(C$3:C2776),C$3:C2776),D2775)","v":183},"183(460)-800",null,null,null,"800",460,315,13263.366053385507,13730.817551985507,13732.128776385507,14199.580274985507,15093.179703585509,15518.016409185508]
[null,null,0,{"$f":"IF(C2777<>0,LOOKUP(,-CODE(C$3:C2777),C$3:C2777),D2776)","v":183},"183(460)-900",null,null,null,"900",460,315,14124.83675744348,14650.939636043478,14652.415380443477,15178.51825904348,16184.238067643479,16662.379253243475]
[null,null,null,{"$f":"IF(C2778<>0,LOOKUP(,-CODE(C$3:C2778),C$3:C2778),D2777)","v":183},"183(480)-450",null,null,null,"450",480,315,10740.104253414493,11013.749518014492,11014.517106414492,11288.162371014492,11811.273865614492,12059.972507214492]
[null,null,0,{"$f":"IF(C2779<>0,LOOKUP(,-CODE(C$3:C2779),C$3:C2779),D2778)","v":183},"183(480)-500",null,null,null,"500",480,315,11103.309022834783,11407.563377434783,11408.416825834782,11712.671180434783,12294.296265034782,12570.813546634781]
[null,null,0,{"$f":"IF(C2780<>0,LOOKUP(,-CODE(C$3:C2780),C$3:C2780),D2779)","v":183},"183(480)-600",null,null,null,"600",480,315,11828.492161675364,12193.964696275363,12194.989864675363,12560.462399275364,13259.114663875363,13591.269225475364]
[null,null,0,{"$f":"IF(C2781<>0,LOOKUP(,-CODE(C$3:C2781),C$3:C2781),D2780)","v":183},"183(480)-700",null,null,null,"700",480,315,12693.484900515941,13120.175615115942,13121.37250351594,13548.063218115942,14363.74266271594,14751.534504315943]
[null,null,0,{"$f":"IF(C2782<>0,LOOKUP(,-CODE(C$3:C2782),C$3:C2782),D2781)","v":183},"183(480)-800",null,null,null,"800",480,315,13462.176039356522,13950.084933956523,13951.453542356523,14439.36243695652,15372.069061556522,15815.498183156522]
[null,null,0,{"$f":"IF(C2783<>0,LOOKUP(,-CODE(C$3:C2783),C$3:C2783),D2782)","v":183},"183(480)-900",null,null,null,"900",480,315,14347.667178197102,14896.794252797103,14898.334581197101,15447.461655797102,16497.195460397103,16996.261861997104]
[null,null,184,{"$f":"IF(C2784<>0,LOOKUP(,-CODE(C$3:C2784),C$3:C2784),D2783)","v":184},"184(600)-450","Шкафнастенныйдвухдверный с посудосушителем (хром), открывание вверх,Aventos HF, под систему SERVO-DRIVE (без механизма)",null,null,"450",600,315,10655.059100805796,10995.346969605796,11037.405020805796,11378.170822005797,12151.943377605796,12461.643572805797]
[null,null,null,{"$f":"IF(C2785<>0,LOOKUP(,-CODE(C$3:C2785),C$3:C2785),D2784)","v":184},"184(600)-500",null,null,null,"500",600,315,11085.702474573913,11464.053863373912,11510.816394573912,11889.699175773912,12750.023471373912,13094.365746573912]
[null,null,0,{"$f":"IF(C2786<>0,LOOKUP(,-CODE(C$3:C2786),C$3:C2786),D2785)","v":184},"184(600)-600",null,null,null,"600",600,315,11945.762822110144,12400.241250910145,12456.412742110144,12911.529483310143,13944.957258910144,14358.583694110144]
[null,null,0,{"$f":"IF(C2787<>0,LOOKUP(,-CODE(C$3:C2787),C$3:C2787),D2786)","v":184},"184(600)-700",null,null,null,"700",600,315,12945.632769646378,13476.238238446376,13541.818689646378,14073.169390846377,15279.700646446378,15762.611241646377]
[null,null,0,{"$f":"IF(C2788<>0,LOOKUP(,-CODE(C$3:C2788),C$3:C2788),D2787)","v":184},"184(600)-800",null,null,null,"800",600,315,13849.201117182609,14455.933625982609,14530.923037182609,15138.507698382609,16518.142433982608,17070.33718918261]
[null,null,0,{"$f":"IF(C2789<>0,LOOKUP(,-CODE(C$3:C2789),C$3:C2789),D2788)","v":184},"184(600)-900",null,null,null,"900",600,315,14869.569464718843,15552.429013518842,15636.827384718843,16320.646005918843,17873.384221518842,18494.863136718843]
[null,null,null,{"$f":"IF(C2790<>0,LOOKUP(,-CODE(C$3:C2790),C$3:C2790),D2789)","v":184},"184(720)-450",null,null,null,"450",720,315,11662.077646197102,12071.110538997102,12121.665166197101,12531.272543397101,13461.362786997102,13833.628678197101]
[null,null,0,{"$f":"IF(C2791<>0,LOOKUP(,-CODE(C$3:C2791),C$3:C2791),D2790)","v":184},"184(720)-500",null,null,null,"500",720,315,12162.766324313043,12617.552337113044,12673.761844313043,13129.186601513044,14163.313785113045,14577.220156313044]
[null,null,0,{"$f":"IF(C2792<>0,LOOKUP(,-CODE(C$3:C2792),C$3:C2792),D2791)","v":184},"184(720)-600",null,null,null,"600",720,315,13162.917280544927,13709.209533344929,13776.728800544928,14323.788317744929,15565.989381344929,16063.176712544928]
[null,null,0,{"$f":"IF(C2793<>0,LOOKUP(,-CODE(C$3:C2793),C$3:C2793),D2792)","v":184},"184(720)-700",null,null,null,"700",720,315,14302.877836776814,14940.676329576812,15019.505356776812,15658.199633976812,17108.474577576813,17688.942868776816]
[null,null,0,{"$f":"IF(C2794<>0,LOOKUP(,-CODE(C$3:C2794),C$3:C2794),D2793)","v":184},"184(720)-800",null,null,null,"800",720,315,15571.536793008694,16300.841525808693,16390.980313008695,17121.309350208692,18779.658173808697,19443.407425008692]
[null,null,0,{"$f":"IF(C2795<>0,LOOKUP(,-CODE(C$3:C2795),C$3:C2795),D2794)","v":184},"184(720)-900",null,null,null,"900",720,315,16731.995749240581,17552.806722040579,17654.255269240581,18476.219066440579,20342.64177004058,21089.671981240579]
[null,null,null,{"$f":"IF(C2796<>0,LOOKUP(,-CODE(C$3:C2796),C$3:C2796),D2795)","v":184},"184(800)-450",null,null,null,"450",800,315,12358.923343124639,12813.786251924639,12870.00526312464,13325.507024324639,14359.809059924639,14773.785415124639]
[null,null,0,{"$f":"IF(C2797<>0,LOOKUP(,-CODE(C$3:C2797),C$3:C2797),D2796)","v":184},"184(800)-500",null,null,null,"500",800,315,12906.308890805798,13412.051319605798,13474.5588108058,13981.011552005799,15131.007327605799,15591.289762805798]
[null,null,0,{"$f":"IF(C2798<>0,LOOKUP(,-CODE(C$3:C2798),C$3:C2798),D2797)","v":184},"184(800)-600",null,null,null,"600",800,315,14224.853586168118,14832.355054968117,14907.439506168117,15515.794207368117,16897.177462968117,17450.072058168116]
[null,null,0,{"$f":"IF(C2799<>0,LOOKUP(,-CODE(C$3:C2799),C$3:C2799),D2798)","v":184},"184(800)-700",null,null,null,"700",800,315,15458.207881530434,16167.468390330436,16255.129801530435,16965.386462730436,18578.157198330435,19223.663953530435]
[null,null,0,{"$f":"IF(C2800<>0,LOOKUP(,-CODE(C$3:C2800),C$3:C2800),D2799)","v":184},"184(800)-800",null,null,null,"800",800,315,16595.260576892753,17406.280125692756,17506.518496892757,18318.677118092754,20162.835333692754,20900.954248892755]
[null,null,0,{"$f":"IF(C2801<>0,LOOKUP(,-CODE(C$3:C2801),C$3:C2801),D2800)","v":184},"184(800)-900",null,null,null,"900",800,315,17849.113272255076,18761.891861055075,18874.707192255075,19788.767773455074,21864.313469055076,22695.044544255077]
[null,null,null,{"$f":"IF(C2802<>0,LOOKUP(,-CODE(C$3:C2802),C$3:C2802),D2801)","v":184},"184(920)-450",null,null,null,"450",920,315,13300.076138515942,13823.684071315944,13888.399658515942,14412.742995715942,15603.362719315941,16079.904770515943]
[null,null,0,{"$f":"IF(C2803<>0,LOOKUP(,-CODE(C$3:C2803),C$3:C2803),D2802)","v":184},"184(920)-500",null,null,null,"500",920,315,14038.944395344926,14621.121448144928,14693.075915344927,15276.070632544928,16599.869296144927,17129.715827344928]
[null,null,0,{"$f":"IF(C2804<>0,LOOKUP(,-CODE(C$3:C2804),C$3:C2804),D2803)","v":184},"184(920)-600",null,null,null,"600",920,315,15296.188686069567,15995.503978869565,16081.936206069566,16782.233683269566,18372.390226869567,19008.845718069566]
[null,null,0,{"$f":"IF(C2805<>0,LOOKUP(,-CODE(C$3:C2805),C$3:C2805),D2804)","v":184},"184(920)-700",null,null,null,"700",920,315,16693.242576794204,17509.696109594202,17610.606096794203,18428.206333994203,20284.720757594201,21027.785208794205]
[null,null,0,{"$f":"IF(C2806<>0,LOOKUP(,-CODE(C$3:C2806),C$3:C2806),D2805)","v":184},"184(920)-800",null,null,null,"800",920,315,18308.994867518843,19242.586640318841,19357.974387518843,20292.877384718842,22415.749688318843,23265.423099518841]
[null,null,0,{"$f":"IF(C2807<>0,LOOKUP(,-CODE(C$3:C2807),C$3:C2807),D2806)","v":184},"184(920)-900",null,null,null,"900",920,315,19726.547158243477,20777.277171043479,20907.142678243479,21959.348435443477,24348.578619043481,25304.86099024348]
[null,null,null,{"$f":"IF(C2808<>0,LOOKUP(,-CODE(C$3:C2808),C$3:C2808),D2807)","v":184},"184(960)-450",null,null,null,"450",960,315,13304.24898697971,13850.771927779711,13918.31970697971,14465.610236179711,15708.335855779711,16205.733138979711]
[null,null,0,{"$f":"IF(C2809<>0,LOOKUP(,-CODE(C$3:C2809),C$3:C2809),D2808)","v":184},"184(960)-500",null,null,null,"500",960,315,14066.465678591307,14674.120939391305,14749.224398591306,15357.733107791308,16739.466067391306,17292.500630591305]
[null,null,0,{"$f":"IF(C2810<>0,LOOKUP(,-CODE(C$3:C2810),C$3:C2810),D2809)","v":184},"184(960)-600",null,null,null,"600",960,315,15910.406838881161,16640.326739681161,16730.541558881159,17461.486628081162,19121.23426768116,19785.543390881161]
[null,null,0,{"$f":"IF(C2811<>0,LOOKUP(,-CODE(C$3:C2811),C$3:C2811),D2810)","v":184},"184(960)-700",null,null,null,"700",960,315,17354.157599171016,18206.342139971017,18311.668319171018,19165.049748371017,21102.812067971019,21878.395751171018]
[null,null,0,{"$f":"IF(C2812<>0,LOOKUP(,-CODE(C$3:C2812),C$3:C2812),D2811)","v":184},"184(960)-800",null,null,null,"800",960,315,18701.606759460868,19676.055940260871,19796.493479460871,20772.311268660869,22988.088268260872,23874.946511460868]
[null,null,0,{"$f":"IF(C2813<>0,LOOKUP(,-CODE(C$3:C2813),C$3:C2813),D2812)","v":184},"184(960)-900",null,null,null,"900",960,315,20165.855919750727,21262.569740550724,21398.118639750726,22496.372788950728,24990.164468550727,25988.297271750729]
[null,null,185,{"$f":"IF(C2814<>0,LOOKUP(,-CODE(C$3:C2814),C$3:C2814),D2813)","v":185},"185(600)-450","Шкафнастенныйдвухдверный с посудосушителем (хром) со стеклом внизу, открывание вверх, Aventos HF, под систему SERVO-DRIVE (без механизма)",null,null,"450",600,315,10609.360394805797,10949.887229805798,10971.394187805796,11312.159989005797,12024.757197405797,12334.457392605796]
[null,null,null,{"$f":"IF(C2815<>0,LOOKUP(,-CODE(C$3:C2815),C$3:C2815),D2814)","v":185},"185(600)-500",null,null,null,"500",600,315,11037.863868573913,11416.480953573913,11440.393611573912,11819.276392773912,12611.582461173912,12955.924736373912]
[null,null,0,{"$f":"IF(C2816<>0,LOOKUP(,-CODE(C$3:C2816),C$3:C2816),D2815)","v":185},"185(600)-600",null,null,null,"600",600,315,11893.644416110146,12348.442001110147,12377.166059110146,12832.282800310146,13784.006588710145,14197.633023910144]
[null,null,0,{"$f":"IF(C2817<>0,LOOKUP(,-CODE(C$3:C2817),C$3:C2817),D2816)","v":185},"185(600)-700",null,null,null,"700",600,315,12889.234563646376,13420.212648646377,13453.748106646377,13985.098807846378,15096.240316246378,15579.150911446377]
[null,null,0,{"$f":"IF(C2818<>0,LOOKUP(,-CODE(C$3:C2818),C$3:C2818),D2817)","v":185},"185(600)-800",null,null,null,"800",600,315,13788.523111182611,14395.681696182612,14434.028554182611,15041.613215382611,16312.172443782611,16864.367198982611]
[null,null,0,{"$f":"IF(C2819<>0,LOOKUP(,-CODE(C$3:C2819),C$3:C2819),D2818)","v":185},"185(600)-900",null,null,null,"900",600,315,14804.611658718841,15487.95074371884,15531.109001718842,16214.927622918842,17644.904571318842,18266.38348651884]
[null,null,null,{"$f":"IF(C2820<>0,LOOKUP(,-CODE(C$3:C2820),C$3:C2820),D2819)","v":185},"185(720)-450",null,null,null,"450",720,315,11616.835060197101,12026.155195197101,12052.006993197103,12461.614370397101,13318.170610797102,13690.436501997101]
[null,null,0,{"$f":"IF(C2821<>0,LOOKUP(,-CODE(C$3:C2821),C$3:C2821),D2820)","v":185},"185(720)-500",null,null,null,"500",720,315,12116.391838313044,12571.497223313043,12600.240721313043,13055.665478513045,14008.033378913045,14421.939750113044]
[null,null,0,{"$f":"IF(C2822<>0,LOOKUP(,-CODE(C$3:C2822),C$3:C2822),D2821)","v":185},"185(720)-600",null,null,null,"600",720,315,13114.278994544929,13660.95487954493,13695.48177754493,14242.541294744929,15386.532515144929,15883.719846344929]
[null,null,0,{"$f":"IF(C2823<>0,LOOKUP(,-CODE(C$3:C2823),C$3:C2823),D2822)","v":185},"185(720)-700",null,null,null,"700",720,315,14251.975750776812,14890.222135776814,14930.532433776814,15569.226710976813,16904.841251376813,17485.309542576812]
[null,null,0,{"$f":"IF(C2824<>0,LOOKUP(,-CODE(C$3:C2824),C$3:C2824),D2823)","v":185},"185(720)-800",null,null,null,"800",720,315,15518.370907008695,16248.187792008694,16294.281490008694,17024.610527208697,18551.848387608694,19215.597638808697]
[null,null,0,{"$f":"IF(C2825<>0,LOOKUP(,-CODE(C$3:C2825),C$3:C2825),D2824)","v":185},"185(720)-900",null,null,null,"900",720,315,16676.566063240582,17497.95344824058,17549.830546240581,18371.794343440582,20090.655523840582,20837.685735040581]
[null,null,null,{"$f":"IF(C2826<>0,LOOKUP(,-CODE(C$3:C2826),C$3:C2826),D2825)","v":185},"185(800)-450",null,null,null,"450",800,315,12538.984837124637,12994.167172124638,13022.915530124639,13478.417291324638,14430.946219724639,14844.922574924638]
[null,null,0,{"$f":"IF(C2827<>0,LOOKUP(,-CODE(C$3:C2827),C$3:C2827),D2826)","v":185},"185(800)-500",null,null,null,"500",800,315,13085.910484805798,13592.008069805797,13623.972127805799,14130.424869005798,15189.500657405797,15649.783092605798]
[null,null,0,{"$f":"IF(C2828<>0,LOOKUP(,-CODE(C$3:C2828),C$3:C2828),D2827)","v":185},"185(800)-600",null,null,null,"600",800,315,14178.535380168116,14786.463465168115,14824.858923168116,15433.213624368116,16705.383132768115,17258.277727968118]
[null,null,0,{"$f":"IF(C2829<>0,LOOKUP(,-CODE(C$3:C2829),C$3:C2829),D2828)","v":185},"185(800)-700",null,null,null,"700",800,315,15410.969875530434,16120.728460530434,16165.555318530436,16875.811979730435,18361.075208130434,19006.581963330435]
[null,null,0,{"$f":"IF(C2830<>0,LOOKUP(,-CODE(C$3:C2830),C$3:C2830),D2829)","v":185},"185(800)-800",null,null,null,"800",800,315,16547.102770892754,17358.691855892754,17409.950113892755,18222.108735092756,19920.465683492755,20658.584598692752]
[null,null,0,{"$f":"IF(C2831<>0,LOOKUP(,-CODE(C$3:C2831),C$3:C2831),D2830)","v":185},"185(800)-900",null,null,null,"900",800,315,17800.035666255073,18713.455251255073,18771.144909255072,19685.205490455075,21596.656158855076,22427.387234055073]
[null,null,null,{"$f":"IF(C2832<>0,LOOKUP(,-CODE(C$3:C2832),C$3:C2832),D2831)","v":185},"185(920)-450",null,null,null,"450",920,315,13255.593752515942,13779.569387515941,13812.662585515944,14337.005922715944,15433.493883115942,15910.035934315943]
[null,null,0,{"$f":"IF(C2833<>0,LOOKUP(,-CODE(C$3:C2833),C$3:C2833),D2832)","v":185},"185(920)-500",null,null,null,"500",920,315,13995.010109344928,14577.595994344929,14614.390892344927,15197.385609544928,16416.523229944927,16946.369761144928]
[null,null,0,{"$f":"IF(C2834<>0,LOOKUP(,-CODE(C$3:C2834),C$3:C2834),D2833)","v":185},"185(920)-600",null,null,null,"600",920,315,15253.350600069567,15953.156985069567,15997.355283069566,16697.652760269568,18162.089700669567,18798.545191869565]
[null,null,0,{"$f":"IF(C2835<>0,LOOKUP(,-CODE(C$3:C2835),C$3:C2835),D2834)","v":185},"185(920)-700",null,null,null,"700",920,315,16651.500690794204,17468.527575794204,17520.129273794202,18337.729510994202,20047.465771394203,20790.530222594203]
[null,null,0,{"$f":"IF(C2836<>0,LOOKUP(,-CODE(C$3:C2836),C$3:C2836),D2835)","v":185},"185(920)-800",null,null,null,"800",920,315,18268.349181518843,19202.596566518841,19261.601664518843,20196.504661718842,22151.540242118841,23001.213653318846]
[null,null,0,{"$f":"IF(C2837<>0,LOOKUP(,-CODE(C$3:C2837),C$3:C2837),D2836)","v":185},"185(920)-900",null,null,null,"900",920,315,19686.99767224348,20738.465557243479,20804.874055243479,21857.07981244348,24057.414712843478,25013.697084043481]
[null,null,null,{"$f":"IF(C2838<>0,LOOKUP(,-CODE(C$3:C2838),C$3:C2838),D2837)","v":185},"185(960)-450",null,null,null,"450",960,315,13259.918640979709,13806.82537597971,13841.366853979709,14388.65738317971,15533.131687579711,16030.528970779707]
[null,null,0,{"$f":"IF(C2839<>0,LOOKUP(,-CODE(C$3:C2839),C$3:C2839),D2838)","v":185},"185(960)-500",null,null,null,"500",960,315,14023.019432591305,14631.101417591306,14669.506595591305,15278.015304791305,16550.506869191304,17103.541432391306]
[null,null,0,{"$f":"IF(C2840<>0,LOOKUP(,-CODE(C$3:C2840),C$3:C2840),D2839)","v":185},"185(960)-600",null,null,null,"600",960,315,15868.72879288116,16599.161277881158,16645.293855881158,17376.238925081158,18904.765009481158,19569.074132681162]
[null,null,0,{"$f":"IF(C2841<>0,LOOKUP(,-CODE(C$3:C2841),C$3:C2841),D2840)","v":185},"185(960)-700",null,null,null,"700",960,315,17314.247753171014,18167.030738171015,18220.890716171016,19074.272145371015,20858.832749771016,21634.416432971015]
[null,null,0,{"$f":"IF(C2842<>0,LOOKUP(,-CODE(C$3:C2842),C$3:C2842),D2841)","v":185},"185(960)-800",null,null,null,"800",960,315,18663.465113460868,19638.598598460867,19700.185976460871,20676.003765660869,22716.598890060868,23603.457133260868]
[null,null,0,{"$f":"IF(C2843<>0,LOOKUP(,-CODE(C$3:C2843),C$3:C2843),D2842)","v":185},"185(960)-900",null,null,null,"900",960,315,20129.482473750726,21226.966458750729,21296.281236750729,22394.535385950723,24691.165030350727,25689.297833550729]
[null,"187",187,{"$f":"IF(C2844<>0,LOOKUP(,-CODE(C$3:C2844),C$3:C2844),#REF!)","v":187},"187(720)-600","Шкафнастенныйоднодверный, открывание вверх, газ-лифт и нишей под микроволновку",null,null,"600",720,315,4335.9840654028985,4609.1301918028985,4642.8898254028991,4916.4195840028988,5537.5201158028995,5786.1137814028989]
[null,null,null,{"$f":"IF(C2845<>0,LOOKUP(,-CODE(C$3:C2845),C$3:C2845),D2844)","v":187},"187(800)-600",null,null,null,"600",800,315,4660.1824510260867,4963.9331854260863,5001.4754110260865,5305.6527616260864,5996.3443894260863,6272.791687026086]
[null,"188",188,{"$f":"IF(C2846<>0,LOOKUP(,-CODE(C$3:C2846),C$3:C2846),D2845)","v":188},"188(720)-600","Шкафнастенныйоднодверный со стеклом, открывание вверх, газ-лифт и нишей под микроволновку",null,null,"600",720,315,4285.3957794028993,4558.925538002899,4559.6928024028985,4833.2225610028991,5356.1132496028986,5604.7069152028989]
[null,null,null,{"$f":"IF(C2847<>0,LOOKUP(,-CODE(C$3:C2847),C$3:C2847),D2846)","v":188},"188(800)-600",null,null,null,"600",800,315,4611.9142450260879,4916.0915956260869,4916.9448280260876,5221.1221786260867,5802.6000592260871,6079.0473568260868]
[null,"172",200,{"$f":"IF(C2848<>0,LOOKUP(,-CODE(C$3:C2848),C$3:C2848),D2847)","v":200},"200(1920)-600","Шкаф кухонный комбинированный под встраиваемую технику, двухдверный, полка ЛДСП",null,null,"600",1920,560,13224.381837576813,14229.743210376811,14354.001357576813,15360.774754776812,17646.842258376812,18561.834069576813]
[null,null,0,{"$f":"IF(C2849<>0,LOOKUP(,-CODE(C$3:C2849),C$3:C2849),D2848)","v":200},"200(2040)-600",null,null,null,"600",2040,560,14163.196296011596,15260.371492811595,15395.977416011596,16494.693589211594,18989.534380811594,19988.087088011598]
[null,null,0,{"$f":"IF(C2850<>0,LOOKUP(,-CODE(C$3:C2850),C$3:C2850),D2849)","v":200},"200(2120)-600",null,null,null,"600",2120,560,15068.443760434784,16226.828173234782,16369.999280434784,17530.010637634783,20164.033621234783,21218.293592434784]
[null,null,0,{"$f":"IF(C2851<>0,LOOKUP(,-CODE(C$3:C2851),C$3:C2851),D2850)","v":200},"200(2240)-600",null,null,null,"600",2240,560,16159.487718869565,17409.685955669564,17564.204838869566,18816.158972069567,21658.955243669563,22796.776110869567]
[null,null,0,{"$f":"IF(C2852<>0,LOOKUP(,-CODE(C$3:C2852),C$3:C2852),D2851)","v":200},"200(2280)-600",null,null,null,"600",2280,560,16472.42587168116,17753.228716481157,17911.530191681159,19194.131916881161,22106.519284481157,23272.193783681156]
[null,null,201,{"$f":"IF(C2853<>0,LOOKUP(,-CODE(C$3:C2853),C$3:C2853),D2852)","v":201},"201(1920)-600","Шкаф кухонный комбинированный под встраиваемую технику, двухдверный с метабоксом, H-180 мм, полка ЛДСП",null,null,"600",1920,560,14198.343954110147,15201.409981310147,15325.384434110147,16329.859261910146,18610.707433310148,19523.610222110146]
[null,null,0,{"$f":"IF(C2854<>0,LOOKUP(,-CODE(C$3:C2854),C$3:C2854),D2853)","v":201},"201(2040)-600",null,null,null,"600",2040,560,15137.15841254493,16232.038263744929,16367.360492544929,17463.77809634493,19953.399555744931,20949.863240544932]
[null,null,0,{"$f":"IF(C2855<>0,LOOKUP(,-CODE(C$3:C2855),C$3:C2855),D2854)","v":201},"201(2120)-600",null,null,null,"600",2120,560,16042.405876968118,17198.494944168116,17341.382356968119,18499.095144768115,21127.89879616812,22180.069744968117]
[null,null,0,{"$f":"IF(C2856<>0,LOOKUP(,-CODE(C$3:C2856),C$3:C2856),D2855)","v":201},"201(2240)-600",null,null,null,"600",2240,560,17133.449835402898,18381.352726602898,18535.587915402899,19785.243479202898,22622.820418602896,23758.552263402897]
[null,null,0,{"$f":"IF(C2857<>0,LOOKUP(,-CODE(C$3:C2857),C$3:C2857),D2856)","v":201},"201(2280)-600",null,null,null,"600",2280,560,17446.387988214494,18724.895487414491,18882.913268214492,20163.216424014492,23070.38445941449,24233.969936214493]
[null,null,202,{"$f":"IF(C2858<>0,LOOKUP(,-CODE(C$3:C2858),C$3:C2858),D2857)","v":202},"202(1920)-600","Шкаф кухонный комбинированный под встраиваемую технику, двухдверный с леграбоксом, H-180 мм, полка ЛДСП",null,null,"600",1920,560,15965.152123710146,16968.218150910147,17092.192603710144,18096.667431510145,20377.515602910145,21290.418391710147]
[null,null,0,{"$f":"IF(C2859<>0,LOOKUP(,-CODE(C$3:C2859),C$3:C2859),D2858)","v":202},"202(2040)-600",null,null,null,"600",2040,560,16903.966582144931,17998.84643334493,18134.16866214493,19230.58626594493,21720.207725344932,22716.671410144932]
[null,null,0,{"$f":"IF(C2860<>0,LOOKUP(,-CODE(C$3:C2860),C$3:C2860),D2859)","v":202},"202(2120)-600",null,null,null,"600",2120,560,17809.214046568115,18965.303113768117,19108.190526568116,20265.903314368115,22894.706965768117,23946.877914568118]
[null,null,0,{"$f":"IF(C2861<>0,LOOKUP(,-CODE(C$3:C2861),C$3:C2861),D2860)","v":202},"202(2240)-600",null,null,null,"600",2240,560,18900.258005002899,20148.160896202899,20302.3960850029,21552.051648802899,24389.628588202897,25525.360433002897]
[null,null,0,{"$f":"IF(C2862<>0,LOOKUP(,-CODE(C$3:C2862),C$3:C2862),D2861)","v":202},"202(2280)-600",null,null,null,"600",2280,560,19213.196157814491,20491.703657014492,20649.721437814493,21930.024593614493,24837.192629014491,26000.77810581449]
[null,"171",203,{"$f":"IF(C2863<>0,LOOKUP(,-CODE(C$3:C2863),C$3:C2863),D2862)","v":203},"203(1920)-600","Шкаф кухонный комбинированный под встраиваемую технику однодверный с двумя метабоксами, Н-360 мм, полка ЛДСП",null,null,"600",1920,560,15368.315674776813,16371.381701976814,16495.356154776811,17499.830982576812,19780.679153976813,20693.581942776815]
[null,null,0,{"$f":"IF(C2864<>0,LOOKUP(,-CODE(C$3:C2864),C$3:C2864),D2863)","v":203},"203(2040)-600",null,null,null,"600",2040,560,16314.448106544929,17409.327957744928,17544.650186544928,18641.067790344929,21130.68924974493,22127.152934544931]
[null,null,0,{"$f":"IF(C2865<>0,LOOKUP(,-CODE(C$3:C2865),C$3:C2865),D2864)","v":203},"203(2120)-600",null,null,null,"600",2120,560,17205.059624301452,18361.148691501447,18504.036104301449,19661.748892101448,22290.55254350145,23342.723492301451]
[null,null,0,{"$f":"IF(C2866<>0,LOOKUP(,-CODE(C$3:C2866),C$3:C2866),D2865)","v":203},"203(2240)-600",null,null,null,"600",2240,560,18303.421556069567,19551.324447269566,19705.559636069564,20955.215199869563,23792.792139269564,24928.523984069565]
[null,null,0,{"$f":"IF(C2867<>0,LOOKUP(,-CODE(C$3:C2867),C$3:C2867),D2866)","v":203},"203(2280)-600",null,null,null,"600",2280,560,18623.677682214493,19902.185181414494,20060.202962214491,21340.506118014491,24247.674153414489,25411.259630214492]
[null,null,204,{"$f":"IF(C2868<>0,LOOKUP(,-CODE(C$3:C2868),C$3:C2868),D2867)","v":204},"204(1920)-600","Шкаф кухонный комбинированный под встраиваемую технику однодверный с двумя леграбоксами, Н-360 мм, полка ЛДСП",null,null,"600",1920,560,18081.359373976811,19084.425401176813,19208.399853976811,20212.874681776811,22493.722853176812,23406.625641976811]
[null,null,0,{"$f":"IF(C2869<>0,LOOKUP(,-CODE(C$3:C2869),C$3:C2869),D2868)","v":204},"204(2040)-600",null,null,null,"600",2040,560,19027.491805744929,20122.371656944928,20257.693885744928,21354.111489544928,23843.732948944926,24840.196633744927]
[null,null,0,{"$f":"IF(C2870<>0,LOOKUP(,-CODE(C$3:C2870),C$3:C2870),D2869)","v":204},"204(2120)-600",null,null,null,"600",2120,560,19940.057243501447,21096.14631070145,21239.033723501449,22396.746511301448,25025.550162701449,26077.721111501451]
[null,null,0,{"$f":"IF(C2871<>0,LOOKUP(,-CODE(C$3:C2871),C$3:C2871),D2870)","v":204},"204(2240)-600",null,null,null,"600",2240,560,21045.737148602901,22293.6400398029,22447.875228602898,23697.530792402897,26535.107731802898,27670.839576602899]
[null,null,0,{"$f":"IF(C2872<>0,LOOKUP(,-CODE(C$3:C2872),C$3:C2872),D2871)","v":204},"204(2280)-600",null,null,null,"600",2280,560,21373.311248081161,22651.818747281162,22809.836528081159,24090.13968388116,26997.307719281158,28160.893196081161]
[null,null,205,{"$f":"IF(C2873<>0,LOOKUP(,-CODE(C$3:C2873),C$3:C2873),D2872)","v":205},"205(1920)-600","Шкаф кухонный комбинированный под встраиваемую технику однодверный с тремя метабоксами, H-180 мм, полка ЛДСП",null,null,"600",1920,560,15957.656765176811,16958.427446776812,17082.118205176812,18084.294463576814,20359.923302776813,21270.737069176812]
[null,null,0,{"$f":"IF(C2874<>0,LOOKUP(,-CODE(C$3:C2874),C$3:C2874),D2873)","v":205},"205(2040)-600",null,null,null,"600",2040,560,16896.471223611596,17989.055729211592,18124.094263611594,19218.213298011593,21702.615425211596,22696.990087611593]
[null,null,0,{"$f":"IF(C2875<>0,LOOKUP(,-CODE(C$3:C2875),C$3:C2875),D2874)","v":205},"205(2120)-600",null,null,null,"600",2120,560,17801.718688034784,18955.512409634783,19098.116128034784,20253.530346434782,22877.114665634781,23927.196592034783]
[null,null,0,{"$f":"IF(C2876<>0,LOOKUP(,-CODE(C$3:C2876),C$3:C2876),D2875)","v":205},"205(2240)-600",null,null,null,"600",2240,560,18892.762646469564,20138.370192069564,20292.321686469564,21539.678680869565,24372.036288069565,25505.679110469562]
[null,null,0,{"$f":"IF(C2877<>0,LOOKUP(,-CODE(C$3:C2877),C$3:C2877),D2876)","v":205},"205(2280)-600",null,null,null,"600",2280,560,19205.70079928116,20481.912952881157,20639.647039281157,21917.651625681159,24819.600328881159,25981.096783281162]
[null,null,206,{"$f":"IF(C2878<>0,LOOKUP(,-CODE(C$3:C2878),C$3:C2878),D2877)","v":206},"206(1920)-600","Шкаф кухонный комбинированный под встраиваемую технику однодверный с тремя леграбоксами, H-180 мм, полка ЛДСП",null,null,"600",1920,560,20061.330210510147,21062.100892110146,21185.791650510146,22187.967908910148,24463.596748110147,25374.410514510146]
[null,null,0,{"$f":"IF(C2879<>0,LOOKUP(,-CODE(C$3:C2879),C$3:C2879),D2878)","v":206},"206(2040)-600",null,null,null,"600",2040,560,21000.144668944929,22092.729174544926,22227.767708944928,23321.886743344927,25806.28887054493,26800.663532944927]
[null,null,0,{"$f":"IF(C2880<>0,LOOKUP(,-CODE(C$3:C2880),C$3:C2880),D2879)","v":206},"206(2120)-600",null,null,null,"600",2120,560,21905.392133368114,23059.185854968113,23201.789573368114,24357.203791768115,26980.788110968115,28030.870037368117]
[null,null,0,{"$f":"IF(C2881<>0,LOOKUP(,-CODE(C$3:C2881),C$3:C2881),D2880)","v":206},"206(2240)-600",null,null,null,"600",2240,560,22996.436091802898,24242.043637402901,24395.995131802898,25643.352126202903,28475.709733402902,29609.3525558029]
[null,null,0,{"$f":"IF(C2882<>0,LOOKUP(,-CODE(C$3:C2882),C$3:C2882),D2881)","v":206},"206(2280)-600",null,null,null,"600",2280,560,23309.374244614497,24585.586398214495,24743.320484614494,26021.325071014493,28923.273774214493,30084.770228614496]
[null,null,207,{"$f":"IF(C2883<>0,LOOKUP(,-CODE(C$3:C2883),C$3:C2883),D2882)","v":207},"207(1920)-600","Шкаф кухонный комбинированный под встраиваемую технику и нишей под микроволновку Н-380 мм, однодверный с метабоксом, H-360 мм, полка ЛДСП",null,null,"600",1920,560,11563.0089348,12277.626531599999,12365.9500548,13081.571328,14706.523419600002,15356.905726800002]
[null,null,0,{"$f":"IF(C2884<>0,LOOKUP(,-CODE(C$3:C2884),C$3:C2884),D2883)","v":207},"207(2040)-600",null,null,null,"600",2040,560,12501.823393234783,13308.254814034783,13407.926113234782,14215.490162434784,16049.215542034783,16783.158745234781]
[null,null,0,{"$f":"IF(C2885<>0,LOOKUP(,-CODE(C$3:C2885),C$3:C2885),D2884)","v":207},"207(2120)-600",null,null,null,"600",2120,560,13365.49491165797,14233.135548457973,14340.372031657971,15209.231264857972,17182.138836457969,17971.78930365797]
[null,null,0,{"$f":"IF(C2886<>0,LOOKUP(,-CODE(C$3:C2886),C$3:C2886),D2885)","v":207},"207(2240)-600",null,null,null,"600",2240,560,14456.538870092754,15415.993330892754,15534.577590092753,16495.379599292755,18677.060458892753,19550.271822092756]
[null,null,0,{"$f":"IF(C2887<>0,LOOKUP(,-CODE(C$3:C2887),C$3:C2887),D2886)","v":207},"207(2280)-600",null,null,null,"600",2280,560,14769.47702290435,15759.536091704351,15881.902942904348,16873.352544104349,19124.62449970435,20025.689494904349]
[null,null,208,{"$f":"IF(C2888<>0,LOOKUP(,-CODE(C$3:C2888),C$3:C2888),D2887)","v":208},"208(1920)-600","Шкаф кухонный комбинированный под встраиваемую технику и нишей под микроволновку Н-380 мм, однодверный с леграбоксом, H-360 мм, полка ЛДСП",null,null,"600",1920,560,12924.489771066666,13639.107367866667,13727.430891066666,14443.052164266668,16068.004255866668,16718.38656306667]
[null,null,0,{"$f":"IF(C2889<>0,LOOKUP(,-CODE(C$3:C2889),C$3:C2889),D2888)","v":208},"208(2040)-600",null,null,null,"600",2040,560,13863.304229501449,14669.735650301449,14769.406949501448,15576.97099870145,17410.696378301447,18144.639581501448]
[null,null,0,{"$f":"IF(C2890<>0,LOOKUP(,-CODE(C$3:C2890),C$3:C2890),D2889)","v":208},"208(2120)-600",null,null,null,"600",2120,560,14726.975747924636,15594.616384724639,15701.852867924637,16570.712101124638,18543.619672724635,19333.270139924636]
[null,null,0,{"$f":"IF(C2891<>0,LOOKUP(,-CODE(C$3:C2891),C$3:C2891),D2890)","v":208},"208(2240)-600",null,null,null,"600",2240,560,15818.019706359421,16777.47416715942,16896.058426359421,17856.860435559422,20038.541295159423,20911.752658359423]
[null,null,0,{"$f":"IF(C2892<>0,LOOKUP(,-CODE(C$3:C2892),C$3:C2892),D2891)","v":208},"208(2280)-600",null,null,null,"600",2280,560,16130.957859171014,17121.016927971017,17243.383779171014,18234.833380371012,20486.105335971013,21387.170331171015]
[null,null,209,{"$f":"IF(C2893<>0,LOOKUP(,-CODE(C$3:C2893),C$3:C2893),D2892)","v":209},"209(1920)-600","Шкаф кухонный комбинированный под встраиваемую технику и нишей под микроволновку Н-450 мм, однодверный с метабоксом, H-360 мм, полка ЛДСП",null,null,"600",1920,560,11563.0089348,12277.626531599999,12365.9500548,13081.571328,14706.523419600002,15356.905726800002]
[null,null,0,{"$f":"IF(C2894<>0,LOOKUP(,-CODE(C$3:C2894),C$3:C2894),D2893)","v":209},"209(2040)-600",null,null,null,"600",2040,560,12501.823393234783,13308.254814034783,13407.926113234782,14215.490162434784,16049.215542034783,16783.158745234781]
[null,null,0,{"$f":"IF(C2895<>0,LOOKUP(,-CODE(C$3:C2895),C$3:C2895),D2894)","v":209},"209(2120)-600",null,null,null,"600",2120,560,13365.49491165797,14233.135548457973,14340.372031657971,15209.231264857972,17182.138836457969,17971.78930365797]
[null,null,0,{"$f":"IF(C2896<>0,LOOKUP(,-CODE(C$3:C2896),C$3:C2896),D2895)","v":209},"209(2240)-600",null,null,null,"600",2240,560,14304.309370092753,15263.763830892753,15382.348090092753,16343.150099292754,18524.830958892755,19398.042322092755]
[null,null,0,{"$f":"IF(C2897<>0,LOOKUP(,-CODE(C$3:C2897),C$3:C2897),D2896)","v":209},"209(2280)-600",null,null,null,"600",2280,560,14769.47702290435,15759.536091704351,15881.902942904348,16873.352544104349,19124.62449970435,20025.689494904349]
[null,null,210,{"$f":"IF(C2898<>0,LOOKUP(,-CODE(C$3:C2898),C$3:C2898),D2897)","v":210},"210(1920)-600","Шкаф кухонный комбинированный под встраиваемую технику и нишей под микроволновку Н-450 мм, однодверный с леграбоксом, H-360 мм, полка ЛДСП",null,null,"600",1920,560,12924.489771066666,13639.107367866667,13727.430891066666,14443.052164266668,16068.004255866668,16718.38656306667]
[null,null,0,{"$f":"IF(C2899<>0,LOOKUP(,-CODE(C$3:C2899),C$3:C2899),D2898)","v":210},"210(2040)-600",null,null,null,"600",2040,560,13863.304229501449,14669.735650301449,14769.406949501448,15576.97099870145,17410.696378301447,18144.639581501448]
[null,null,0,{"$f":"IF(C2900<>0,LOOKUP(,-CODE(C$3:C2900),C$3:C2900),D2899)","v":210},"210(2120)-600",null,null,null,"600",2120,560,14726.975747924636,15594.616384724639,15701.852867924637,16570.712101124638,18543.619672724635,19333.270139924636]
[null,null,0,{"$f":"IF(C2901<>0,LOOKUP(,-CODE(C$3:C2901),C$3:C2901),D2900)","v":210},"210(2240)-600",null,null,null,"600",2240,560,15665.790206359421,16625.244667159423,16743.82892635942,17704.63093555942,19886.311795159421,20759.523158359421]
[null,null,0,{"$f":"IF(C2902<>0,LOOKUP(,-CODE(C$3:C2902),C$3:C2902),D2901)","v":210},"210(2280)-600",null,null,null,"600",2280,560,16130.957859171014,17121.016927971017,17243.383779171014,18234.833380371012,20486.105335971013,21387.170331171015]
[null,null,211,{"$f":"IF(C2903<>0,LOOKUP(,-CODE(C$3:C2903),C$3:C2903),D2902)","v":211},"211(1920)-400","Шкаф кухонный комбинированный,  трехдверный, полка ЛДСП",null,null,"400",1920,560,13025.36938252174,13997.67700972174,14117.849862521738,15091.52309032174,17302.430461721739,18187.339650521739]
[null,null,0,{"$f":"IF(C2904<>0,LOOKUP(,-CODE(C$3:C2904),C$3:C2904),D2903)","v":211},"211(2040)-400",null,null,null,"400",2040,560,13684.002623565219,14717.365674765217,14845.084703565219,15879.899107365218,18229.638966765218,19170.11545156522]
[null,null,0,{"$f":"IF(C2905<>0,LOOKUP(,-CODE(C$3:C2905),C$3:C2905),D2904)","v":211},"211(2120)-400",null,null,null,"400",2120,560,14320.944636394202,15395.011303594203,15527.761116394204,16603.336304194203,19045.631155594201,20023.152504394202]
[null,null,0,{"$f":"IF(C2906<>0,LOOKUP(,-CODE(C$3:C2906),C$3:C2906),D2905)","v":211},"211(2240)-400",null,null,null,"400",2240,560,15131.807377437683,16266.929468637683,16407.225457437682,17543.941821237684,20125.069160637679,21158.157805437681]
[null,null,0,{"$f":"IF(C2907<>0,LOOKUP(,-CODE(C$3:C2907),C$3:C2907),D2906)","v":211},"211(2280)-400",null,null,null,"400",2280,560,15351.351791118843,16506.825690318841,16649.637071118843,17806.733826918844,20434.138662318845,21485.749739118841]
[null,null,0,{"$f":"IF(C2908<>0,LOOKUP(,-CODE(C$3:C2908),C$3:C2908),D2907)","v":211},"211(1920)-450",null,null,null,"450",1920,560,14296.692688028985,15391.457195228984,15526.765168028984,16623.067265828984,19112.426447228987,20108.785156028986]
[null,null,0,{"$f":"IF(C2909<>0,LOOKUP(,-CODE(C$3:C2909),C$3:C2909),D2908)","v":211},"211(2040)-450",null,null,null,"450",2040,560,15025.37123342029,16188.880764620291,16332.68531342029,17497.828987220291,20143.50585662029,21202.43026142029]
[null,null,0,{"$f":"IF(C2910<>0,LOOKUP(,-CODE(C$3:C2910),C$3:C2910),D2909)","v":211},"211(2120)-450",null,null,null,"450",2120,560,15729.389609147827,16938.729156347828,17088.198089147827,18299.236146947827,21049.124808347824,22149.759677147827]
[null,null,0,{"$f":"IF(C2911<>0,LOOKUP(,-CODE(C$3:C2911),C$3:C2911),D2910)","v":211},"211(2240)-450",null,null,null,"450",2240,560,16610.297654539132,17888.382225739133,18046.347734539129,19326.227368339132,22232.433717739132,23395.634282539133]
[null,null,0,{"$f":"IF(C2912<>0,LOOKUP(,-CODE(C$3:C2912),C$3:C2912),D2911)","v":211},"211(2280)-450",null,null,null,"450",2280,560,16853.190503002897,18154.190082202898,18314.9877830029,19617.814608802895,22576.126854202899,23760.182651002899]
[null,null,0,{"$f":"IF(C2913<>0,LOOKUP(,-CODE(C$3:C2913),C$3:C2913),D2912)","v":211},"211(1920)-500",null,null,null,"500",1920,560,15568.015993536232,16785.237380736231,16935.680473536231,18154.61144133623,20922.422432736232,22030.230661536232]
[null,null,0,{"$f":"IF(C2914<>0,LOOKUP(,-CODE(C$3:C2914),C$3:C2914),D2913)","v":211},"211(2040)-500",null,null,null,"500",2040,560,16366.739843275362,17660.395854475362,17820.285923275362,19115.758867075361,22057.372746475365,23234.745071275363]
[null,null,0,{"$f":"IF(C2915<>0,LOOKUP(,-CODE(C$3:C2915),C$3:C2915),D2914)","v":211},"211(2120)-500",null,null,null,"500",2120,560,17137.83458190145,18482.447009101448,18648.635061901448,19995.135989701448,23052.618461101447,24276.366849901449]
[null,null,0,{"$f":"IF(C2916<>0,LOOKUP(,-CODE(C$3:C2916),C$3:C2916),D2915)","v":211},"211(2240)-500",null,null,null,"500",2240,560,18088.787931640582,19509.834982840581,19685.47001164058,21108.51291544058,24339.798274840578,25633.110759640585]
[null,null,0,{"$f":"IF(C2917<>0,LOOKUP(,-CODE(C$3:C2917),C$3:C2917),D2916)","v":211},"211(2280)-500",null,null,null,"500",2280,560,18355.029214886956,19801.554474086959,19980.338494886957,21428.895390686957,24718.115046086961,26034.615562886956]
[null,null,0,{"$f":"IF(C2918<>0,LOOKUP(,-CODE(C$3:C2918),C$3:C2918),D2917)","v":211},"211(1920)-550",null,null,null,"550",1920,560,16839.33929904348,18179.017566243478,18344.59577904348,19686.15561684348,22732.418418243484,23951.676167043479]
[null,null,0,{"$f":"IF(C2919<>0,LOOKUP(,-CODE(C$3:C2919),C$3:C2919),D2918)","v":211},"211(2040)-550",null,null,null,"550",2040,560,17708.108453130433,19131.910944330433,19307.886533130433,20733.688746930435,23971.239636330432,25267.059881130433]
[null,null,0,{"$f":"IF(C2920<>0,LOOKUP(,-CODE(C$3:C2920),C$3:C2920),D2919)","v":211},"211(2120)-550",null,null,null,"550",2120,560,18546.279554655073,20026.164861855075,20209.072034655073,21691.035832455069,25056.112113855073,26402.974022655071]
[null,null,0,{"$f":"IF(C2921<>0,LOOKUP(,-CODE(C$3:C2921),C$3:C2921),D2920)","v":211},"211(2240)-550",null,null,null,"550",2240,560,19567.278208742027,21131.287739942029,21324.592288742027,22890.798462542029,26447.162831942027,27870.587236742027]
[null,null,0,{"$f":"IF(C2922<>0,LOOKUP(,-CODE(C$3:C2922),C$3:C2922),D2921)","v":211},"211(2280)-550",null,null,null,"550",2280,560,19856.867926771014,21448.918865971016,21645.689206771014,23239.97617257102,26860.103237971016,28309.048474771018]
[null,null,0,{"$f":"IF(C2923<>0,LOOKUP(,-CODE(C$3:C2923),C$3:C2923),D2922)","v":211},"211(1920)-600",null,null,null,"600",1920,560,18110.662604550726,19572.797751750724,19753.511084550726,21217.699792350726,24542.414403750725,25873.121672550726]
[null,null,0,{"$f":"IF(C2924<>0,LOOKUP(,-CODE(C$3:C2924),C$3:C2924),D2923)","v":211},"211(2040)-600",null,null,null,"600",2040,560,19049.477062985505,20603.426034185508,20795.487142985508,22351.618626785508,25885.106526185507,27299.374690985511]
[null,null,0,{"$f":"IF(C2925<>0,LOOKUP(,-CODE(C$3:C2925),C$3:C2925),D2924)","v":211},"211(2120)-600",null,null,null,"600",2120,560,19954.724527408696,21569.882714608695,21769.509007408698,23386.935675208697,27059.605766608696,28529.581195408697]
[null,null,0,{"$f":"IF(C2926<>0,LOOKUP(,-CODE(C$3:C2926),C$3:C2926),D2925)","v":211},"211(2240)-600",null,null,null,"600",2240,560,21045.76848584348,22752.740497043476,22963.714565843478,24673.08400964348,28554.527389043476,30108.063713843479]
[null,null,0,{"$f":"IF(C2927<>0,LOOKUP(,-CODE(C$3:C2927),C$3:C2927),D2926)","v":211},"211(2280)-600",null,null,null,"600",2280,560,21358.706638655072,23096.283257855073,23311.039918655071,25051.056954455074,29002.091429855071,30583.481386655076]
[null,null,212,{"$f":"IF(C2928<>0,LOOKUP(,-CODE(C$3:C2928),C$3:C2928),D2927)","v":212},"212(1920)-400","Шкаф кухонный комбинированный, трехдверный с метабоксом,H-180 мм, полка ЛДСП",null,null,"400",1920,560,13911.925952388407,14882.707193988404,15002.691392388406,15974.836090788405,18182.272649988408,19065.792656388407]
[null,null,0,{"$f":"IF(C2929<>0,LOOKUP(,-CODE(C$3:C2929),C$3:C2929),D2928)","v":212},"212(2040)-400",null,null,null,"400",2040,560,14570.559193431884,15602.395859031883,15729.926233431885,16763.212107831885,19109.481155031885,20048.568457431884]
[null,null,0,{"$f":"IF(C2930<>0,LOOKUP(,-CODE(C$3:C2930),C$3:C2930),D2929)","v":212},"212(2120)-400",null,null,null,"400",2120,560,15207.501206260869,16280.041487860868,16412.602646260868,17486.649304660867,19925.473343860867,20901.60551026087]
[null,null,0,{"$f":"IF(C2931<>0,LOOKUP(,-CODE(C$3:C2931),C$3:C2931),D2930)","v":212},"212(2240)-400",null,null,null,"400",2240,560,16018.363947304348,17151.959652904348,17292.066987304348,18427.254821704348,21004.911348904345,22036.610811304345]
[null,null,0,{"$f":"IF(C2932<>0,LOOKUP(,-CODE(C$3:C2932),C$3:C2932),D2931)","v":212},"212(2280)-400",null,null,null,"400",2280,560,16237.908360985508,17391.855874585508,17534.478600985509,18690.046827385508,21313.980850585507,22364.202744985509]
[null,null,0,{"$f":"IF(C2933<>0,LOOKUP(,-CODE(C$3:C2933),C$3:C2933),D2932)","v":212},"212(1920)-450",null,null,null,"450",1920,560,15205.100644562317,16298.14652616232,16433.242084562316,17527.823142962319,20013.274382162319,21008.068948562315]
[null,null,0,{"$f":"IF(C2934<>0,LOOKUP(,-CODE(C$3:C2934),C$3:C2934),D2933)","v":212},"212(2040)-450",null,null,null,"450",2040,560,15933.779189953624,17095.570095553623,17239.162229953621,18402.584864353623,21044.353791553622,22101.714053953623]
[null,null,0,{"$f":"IF(C2935<>0,LOOKUP(,-CODE(C$3:C2935),C$3:C2935),D2934)","v":212},"212(2120)-450",null,null,null,"450",2120,560,16637.797565681158,17845.41848728116,17994.675005681158,19203.992024081159,21949.97274328116,23049.043469681161]
[null,null,0,{"$f":"IF(C2936<>0,LOOKUP(,-CODE(C$3:C2936),C$3:C2936),D2935)","v":212},"212(2240)-450",null,null,null,"450",2240,560,17518.705611072466,18795.071556672465,18952.824651072464,20230.983245472464,23133.281652672464,24294.918075072463]
[null,null,0,{"$f":"IF(C2937<>0,LOOKUP(,-CODE(C$3:C2937),C$3:C2937),D2936)","v":212},"212(2280)-450",null,null,null,"450",2280,560,17761.598459536232,19060.87941313623,19221.464699536231,20522.57048593623,23476.974789136231,24659.466443536232]
[null,null,0,{"$f":"IF(C2938<>0,LOOKUP(,-CODE(C$3:C2938),C$3:C2938),D2937)","v":212},"212(1920)-500",null,null,null,"500",1920,560,16498.275336736231,17713.585858336231,17863.792776736234,19080.810195136233,21844.276114336233,22950.345240736235]
[null,null,0,{"$f":"IF(C2939<>0,LOOKUP(,-CODE(C$3:C2939),C$3:C2939),D2938)","v":212},"212(2040)-500",null,null,null,"500",2040,560,17296.999186475361,18588.744332075363,18748.398226475361,20041.957620875364,22979.226428075362,24154.859650475362]
[null,null,0,{"$f":"IF(C2940<>0,LOOKUP(,-CODE(C$3:C2940),C$3:C2940),D2939)","v":212},"212(2120)-500",null,null,null,"500",2120,560,18068.09392510145,19410.795486701449,19576.747365101452,20921.334743501451,23974.472142701452,25196.481429101448]
[null,null,0,{"$f":"IF(C2941<>0,LOOKUP(,-CODE(C$3:C2941),C$3:C2941),D2940)","v":212},"212(2240)-500",null,null,null,"500",2240,560,19019.047274840581,20438.183460440581,20613.58231484058,22034.711669240583,25261.651956440579,26553.225338840581]
[null,null,0,{"$f":"IF(C2942<>0,LOOKUP(,-CODE(C$3:C2942),C$3:C2942),D2941)","v":212},"212(2280)-500",null,null,null,"500",2280,560,19285.288558086959,20729.902951686956,20908.45079808696,22355.09414448696,25639.968727686955,26954.730142086959]
[null,null,0,{"$f":"IF(C2943<>0,LOOKUP(,-CODE(C$3:C2943),C$3:C2943),D2942)","v":212},"212(1920)-550",null,null,null,"550",1920,560,17791.450028910145,19129.025190510147,19294.343468910145,20633.797247310147,23675.277846510144,24892.621532910147]
[null,null,0,{"$f":"IF(C2944<>0,LOOKUP(,-CODE(C$3:C2944),C$3:C2944),D2943)","v":212},"212(2040)-550",null,null,null,"550",2040,560,18660.219182997102,20081.918568597102,20257.634222997101,21681.330377397102,24914.0990645971,26208.005246997101]
[null,null,0,{"$f":"IF(C2945<>0,LOOKUP(,-CODE(C$3:C2945),C$3:C2945),D2944)","v":212},"212(2120)-550",null,null,null,"550",2120,560,19498.390284521738,20976.172486121737,21158.819724521738,22638.67746292174,25998.971542121741,27343.919388521739]
[null,null,0,{"$f":"IF(C2946<>0,LOOKUP(,-CODE(C$3:C2946),C$3:C2946),D2945)","v":212},"212(2240)-550",null,null,null,"550",2240,560,20519.388938608696,22081.295364208694,22274.339978608696,23838.440093008696,27390.022260208698,28811.532602608695]
[null,null,0,{"$f":"IF(C2947<>0,LOOKUP(,-CODE(C$3:C2947),C$3:C2947),D2946)","v":212},"212(2280)-550",null,null,null,"550",2280,560,20808.978656637679,22398.926490237682,22595.436896637679,24187.617803037683,27802.96266623768,29249.993840637682]
[null,null,0,{"$f":"IF(C2948<>0,LOOKUP(,-CODE(C$3:C2948),C$3:C2948),D2947)","v":212},"212(1920)-600",null,null,null,"600",1920,560,19084.624721084059,20544.464522684058,20724.894161084056,22186.784299484058,25506.279578684058,26834.897825084059]
[null,null,0,{"$f":"IF(C2949<>0,LOOKUP(,-CODE(C$3:C2949),C$3:C2949),D2948)","v":212},"212(2040)-600",null,null,null,"600",2040,560,20023.439179518839,21575.092805118838,21766.870219518842,23320.703133918836,26848.971701118837,28261.150843518837]
[null,null,0,{"$f":"IF(C2950<>0,LOOKUP(,-CODE(C$3:C2950),C$3:C2950),D2949)","v":212},"212(2120)-600",null,null,null,"600",2120,560,20928.686643942026,22541.549485542029,22740.892083942028,24356.020182342028,28023.470941542026,29491.357347942027]
[null,null,0,{"$f":"IF(C2951<>0,LOOKUP(,-CODE(C$3:C2951),C$3:C2951),D2950)","v":212},"212(2240)-600",null,null,null,"600",2240,560,22019.730602376814,23724.407267976814,23935.097642376815,25642.168516776816,29518.392563976813,31069.839866376817]
[null,null,0,{"$f":"IF(C2952<>0,LOOKUP(,-CODE(C$3:C2952),C$3:C2952),D2951)","v":212},"212(2280)-600",null,null,null,"600",2280,560,22332.668755188402,24067.950028788408,24282.422995188404,26020.141461588406,29965.956604788404,31545.257539188406]
[null,null,213,{"$f":"IF(C2953<>0,LOOKUP(,-CODE(C$3:C2953),C$3:C2953),D2952)","v":213},"213(1920)-400","Шкаф кухонный комбинированный, трехдверный с леграбоксом, H-180 мм, полка ЛДСП",null,null,"400",1920,560,15621.011256921738,16591.79249852174,16711.776696921741,17683.92139532174,19891.35795452174,20774.877960921738]
[null,null,0,{"$f":"IF(C2954<>0,LOOKUP(,-CODE(C$3:C2954),C$3:C2954),D2953)","v":213},"213(2040)-400",null,null,null,"400",2040,560,16279.644497965217,17311.481163565215,17439.01153796522,18472.297412365217,20818.56645956522,21757.653761965215]
[null,null,0,{"$f":"IF(C2955<>0,LOOKUP(,-CODE(C$3:C2955),C$3:C2955),D2954)","v":213},"213(2120)-400",null,null,null,"400",2120,560,16916.586510794201,17989.126792394203,18121.687950794203,19195.734609194202,21634.558648394202,22610.690814794201]
[null,null,0,{"$f":"IF(C2956<>0,LOOKUP(,-CODE(C$3:C2956),C$3:C2956),D2955)","v":213},"213(2240)-400",null,null,null,"400",2240,560,17727.449251837679,18861.044957437683,19001.15229183768,20136.340126237679,22713.99665343768,23745.69611583768]
[null,null,0,{"$f":"IF(C2957<>0,LOOKUP(,-CODE(C$3:C2957),C$3:C2957),D2956)","v":213},"213(2280)-400",null,null,null,"400",2280,560,17946.993665518843,19100.94117911884,19243.563905518844,20399.132131918843,23023.066155118842,24073.288049518844]
[null,null,0,{"$f":"IF(C2958<>0,LOOKUP(,-CODE(C$3:C2958),C$3:C2958),D2957)","v":213},"213(1920)-450",null,null,null,"450",1920,560,16913.870949095653,18006.916830695653,18142.012389095653,19236.593447495652,21722.044686695652,22716.839253095648]
[null,null,0,{"$f":"IF(C2959<>0,LOOKUP(,-CODE(C$3:C2959),C$3:C2959),D2958)","v":213},"213(2040)-450",null,null,null,"450",2040,560,17642.549494486957,18804.340400086956,18947.932534486958,20111.355168886956,22753.124096086955,23810.484358486956]
[null,null,0,{"$f":"IF(C2960<>0,LOOKUP(,-CODE(C$3:C2960),C$3:C2960),D2959)","v":213},"213(2120)-450",null,null,null,"450",2120,560,18346.567870214491,19554.188791814493,19703.445310214491,20912.762328614492,23658.743047814492,24757.813774214494]
[null,null,0,{"$f":"IF(C2961<>0,LOOKUP(,-CODE(C$3:C2961),C$3:C2961),D2960)","v":213},"213(2240)-450",null,null,null,"450",2240,560,19227.475915605799,20503.841861205801,20661.594955605797,21939.7535500058,24842.051957205796,26003.688379605795]
[null,null,0,{"$f":"IF(C2962<>0,LOOKUP(,-CODE(C$3:C2962),C$3:C2962),D2961)","v":213},"213(2280)-450",null,null,null,"450",2280,560,19470.368764069564,20769.649717669563,20930.235004069564,22231.340790469563,25185.745093669564,26368.236748069565]
[null,null,0,{"$f":"IF(C2963<>0,LOOKUP(,-CODE(C$3:C2963),C$3:C2963),D2962)","v":213},"213(1920)-500",null,null,null,"500",1920,560,18206.730641269562,19422.041162869566,19572.248081269565,20789.265499669564,23552.731418869567,24658.800545269565]
[null,null,0,{"$f":"IF(C2964<>0,LOOKUP(,-CODE(C$3:C2964),C$3:C2964),D2963)","v":213},"213(2040)-500",null,null,null,"500",2040,560,19005.454491008699,20297.199636608697,20456.853531008695,21750.412925408695,24687.681732608697,25863.314955008696]
[null,null,0,{"$f":"IF(C2965<>0,LOOKUP(,-CODE(C$3:C2965),C$3:C2965),D2964)","v":213},"213(2120)-500",null,null,null,"500",2120,560,19776.54922963478,21119.250791234783,21285.202669634782,22629.790048034782,25682.927447234782,26904.936733634782]
[null,null,0,{"$f":"IF(C2966<>0,LOOKUP(,-CODE(C$3:C2966),C$3:C2966),D2965)","v":213},"213(2240)-500",null,null,null,"500",2240,560,20727.502579373911,22146.638764973912,22322.037619373914,23743.166973773914,26970.107260973913,28261.680643373911]
[null,null,0,{"$f":"IF(C2967<>0,LOOKUP(,-CODE(C$3:C2967),C$3:C2967),D2966)","v":213},"213(2280)-500",null,null,null,"500",2280,560,20993.743862620293,22438.358256220294,22616.906102620291,24063.549449020291,27348.42403222029,28663.185446620293]
[null,null,0,{"$f":"IF(C2968<>0,LOOKUP(,-CODE(C$3:C2968),C$3:C2968),D2967)","v":213},"213(1920)-550",null,null,null,"550",1920,560,19499.590333443477,20837.165495043479,21002.483773443477,22341.937551843479,25383.418151043479,26600.761837443482]
[null,null,0,{"$f":"IF(C2969<>0,LOOKUP(,-CODE(C$3:C2969),C$3:C2969),D2968)","v":213},"213(2040)-550",null,null,null,"550",2040,560,20368.359487530433,21790.058873130434,21965.774527530433,23389.470681930434,26622.239369130431,27916.145551530433]
[null,null,0,{"$f":"IF(C2970<>0,LOOKUP(,-CODE(C$3:C2970),C$3:C2970),D2969)","v":213},"213(2120)-550",null,null,null,"550",2120,560,21206.530589055074,22684.312790655073,22866.960029055073,24346.817767455072,27707.111846655072,29052.059693055071]
[null,null,0,{"$f":"IF(C2971<>0,LOOKUP(,-CODE(C$3:C2971),C$3:C2971),D2970)","v":213},"213(2240)-550",null,null,null,"550",2240,560,22227.529243142031,23789.43566874203,23982.480283142031,25546.580397542028,29098.16256474203,30519.672907142027]
[null,null,0,{"$f":"IF(C2972<>0,LOOKUP(,-CODE(C$3:C2972),C$3:C2972),D2971)","v":213},"213(2280)-550",null,null,null,"550",2280,560,22517.118961171014,24107.066794771017,24303.577201171014,25895.758107571019,29511.102970771011,30958.134145171018]
[null,null,0,{"$f":"IF(C2973<>0,LOOKUP(,-CODE(C$3:C2973),C$3:C2973),D2972)","v":213},"213(1920)-600",null,null,null,"600",1920,560,20792.450025617392,22252.289827217392,22432.719465617389,23894.609604017391,27214.104883217391,28542.723129617392]
[null,null,0,{"$f":"IF(C2974<>0,LOOKUP(,-CODE(C$3:C2974),C$3:C2974),D2973)","v":213},"213(2040)-600",null,null,null,"600",2040,560,21731.264484052175,23282.918109652172,23474.695524052175,25028.528438452173,28556.797005652174,29968.97614805217]
[null,null,0,{"$f":"IF(C2975<>0,LOOKUP(,-CODE(C$3:C2975),C$3:C2975),D2974)","v":213},"213(2120)-600",null,null,null,"600",2120,560,22636.51194847536,24249.374790075362,24448.717388475361,26063.845486875362,29731.296246075362,31199.182652475363]
[null,null,0,{"$f":"IF(C2976<>0,LOOKUP(,-CODE(C$3:C2976),C$3:C2976),D2975)","v":213},"213(2240)-600",null,null,null,"600",2240,560,23727.555906910147,25432.232572510147,25642.922946910148,27349.993821310149,31226.217868510146,32777.66517091015]
[null,null,0,{"$f":"IF(C2977<>0,LOOKUP(,-CODE(C$3:C2977),C$3:C2977),D2976)","v":213},"213(2280)-600",null,null,null,"600",2280,560,24040.494059721736,25775.775333321741,25990.248299721738,27727.966766121739,31673.781909321737,33253.082843721742]
[null,null,214,{"$f":"IF(C2978<>0,LOOKUP(,-CODE(C$3:C2978),C$3:C2978),D2977)","v":214},"214(1920)-400","Шкаф кухонный комбинированный, двухдверный с двумя метабоксами, Н-360 мм, полка ЛДСП",null,null,"400",1920,560,15069.589566388406,16040.370807988405,16160.355006388407,17132.499704788406,19339.936263988406,20223.456270388408]
[null,null,0,{"$f":"IF(C2979<>0,LOOKUP(,-CODE(C$3:C2979),C$3:C2979),D2978)","v":214},"214(2040)-400",null,null,null,"400",2040,560,15728.222807431885,16760.059473031884,16887.589847431886,17920.875721831886,20267.144769031886,21206.232071431885]
[null,null,0,{"$f":"IF(C2980<>0,LOOKUP(,-CODE(C$3:C2980),C$3:C2980),D2979)","v":214},"214(2120)-400",null,null,null,"400",2120,560,16365.164820260869,17437.705101860869,17570.266260260869,18644.312918660868,21083.136957860868,22059.269124260871]
[null,null,0,{"$f":"IF(C2981<>0,LOOKUP(,-CODE(C$3:C2981),C$3:C2981),D2980)","v":214},"214(2240)-400",null,null,null,"400",2240,560,17176.027561304349,18309.623266904349,18449.730601304349,19584.918435704349,22162.574962904346,23194.274425304346]
[null,null,0,{"$f":"IF(C2982<>0,LOOKUP(,-CODE(C$3:C2982),C$3:C2982),D2981)","v":214},"214(2280)-400",null,null,null,"400",2280,560,17395.571974985505,18549.519488585509,18692.142214985506,19847.710441385505,22471.644464585508,23521.866358985506]
[null,null,0,{"$f":"IF(C2983<>0,LOOKUP(,-CODE(C$3:C2983),C$3:C2983),D2982)","v":214},"214(1920)-450",null,null,null,"450",1920,560,16374.988751895653,17468.034633495652,17603.130191895652,18697.711250295652,21183.162489495651,22177.957055895651]
[null,null,0,{"$f":"IF(C2984<>0,LOOKUP(,-CODE(C$3:C2984),C$3:C2984),D2983)","v":214},"214(2040)-450",null,null,null,"450",2040,560,17103.667297286956,18265.458202886955,18409.050337286957,19572.472971686955,22214.241898886958,23271.602161286955]
[null,null,0,{"$f":"IF(C2985<>0,LOOKUP(,-CODE(C$3:C2985),C$3:C2985),D2984)","v":214},"214(2120)-450",null,null,null,"450",2120,560,17807.685673014494,19015.306594614492,19164.563113014494,20373.880131414495,23119.860850614496,24218.931577014497]
[null,null,0,{"$f":"IF(C2986<>0,LOOKUP(,-CODE(C$3:C2986),C$3:C2986),D2985)","v":214},"214(2240)-450",null,null,null,"450",2240,560,18688.593718405798,19964.959664005797,20122.712758405796,21400.871352805796,24303.169760005796,25464.806182405795]
[null,null,0,{"$f":"IF(C2987<>0,LOOKUP(,-CODE(C$3:C2987),C$3:C2987),D2986)","v":214},"214(2280)-450",null,null,null,"450",2280,560,18931.486566869564,20230.767520469562,20391.352806869563,21692.458593269563,24646.862896469564,25829.354550869564]
[null,null,0,{"$f":"IF(C2988<>0,LOOKUP(,-CODE(C$3:C2988),C$3:C2988),D2987)","v":214},"214(1920)-500",null,null,null,"500",1920,560,17680.387937402898,18895.698459002899,19045.905377402902,20262.922795802901,23026.3887150029,24132.457841402902]
[null,null,0,{"$f":"IF(C2989<>0,LOOKUP(,-CODE(C$3:C2989),C$3:C2989),D2988)","v":214},"214(2040)-500",null,null,null,"500",2040,560,18479.111787142028,19770.85693274203,19930.510827142029,21224.070221542028,24161.33902874203,25336.97225114203]
[null,null,0,{"$f":"IF(C2990<>0,LOOKUP(,-CODE(C$3:C2990),C$3:C2990),D2989)","v":214},"214(2120)-500",null,null,null,"500",2120,560,19250.206525768117,20592.908087368116,20758.859965768119,22103.447344168118,25156.584743368119,26378.594029768115]
[null,null,0,{"$f":"IF(C2991<>0,LOOKUP(,-CODE(C$3:C2991),C$3:C2991),D2990)","v":214},"214(2240)-500",null,null,null,"500",2240,560,20201.159875507248,21620.296061107249,21795.694915507243,23216.824269907247,26443.764557107243,27735.337939507248]
[null,null,0,{"$f":"IF(C2992<>0,LOOKUP(,-CODE(C$3:C2992),C$3:C2992),D2991)","v":214},"214(2280)-500",null,null,null,"500",2280,560,20467.401158753626,21912.015552353623,22090.563398753624,23537.206745153624,26822.081328353623,28136.842742753626]
[null,null,0,{"$f":"IF(C2993<>0,LOOKUP(,-CODE(C$3:C2993),C$3:C2993),D2992)","v":214},"214(1920)-550",null,null,null,"550",1920,560,18985.787122910144,20323.362284510145,20488.680562910144,21828.134341310146,24869.614940510146,26086.958626910149]
[null,null,0,{"$f":"IF(C2994<>0,LOOKUP(,-CODE(C$3:C2994),C$3:C2994),D2993)","v":214},"214(2040)-550",null,null,null,"550",2040,560,19854.5562769971,21276.255662597101,21451.9713169971,22875.667471397101,26108.436158597102,27402.342340997104]
[null,null,0,{"$f":"IF(C2995<>0,LOOKUP(,-CODE(C$3:C2995),C$3:C2995),D2994)","v":214},"214(2120)-550",null,null,null,"550",2120,560,20692.72737852174,22170.509580121739,22353.15681852174,23833.014556921738,27193.308636121739,28538.256482521738]
[null,null,0,{"$f":"IF(C2996<>0,LOOKUP(,-CODE(C$3:C2996),C$3:C2996),D2995)","v":214},"214(2240)-550",null,null,null,"550",2240,560,21713.726032608694,23275.632458208693,23468.677072608694,25032.777187008694,28584.359354208696,30005.869696608694]
[null,null,0,{"$f":"IF(C2997<>0,LOOKUP(,-CODE(C$3:C2997),C$3:C2997),D2996)","v":214},"214(2280)-550",null,null,null,"550",2280,560,22003.315750637681,23593.26358423768,23789.773990637681,25381.954897037682,28997.299760237678,30444.330934637681]
[null,null,0,{"$f":"IF(C2998<>0,LOOKUP(,-CODE(C$3:C2998),C$3:C2998),D2997)","v":214},"214(1920)-600",null,null,null,"600",1920,560,20291.186308417389,21751.026110017392,21931.455748417389,23393.345886817391,26712.841166017392,28041.459412417393]
[null,null,0,{"$f":"IF(C2999<>0,LOOKUP(,-CODE(C$3:C2999),C$3:C2999),D2998)","v":214},"214(2040)-600",null,null,null,"600",2040,560,21230.000766852172,22781.654392452176,22973.431806852175,24527.26472125217,28055.53328845217,29467.712430852174]
[null,null,0,{"$f":"IF(C3000<>0,LOOKUP(,-CODE(C$3:C3000),C$3:C3000),D2999)","v":214},"214(2120)-600",null,null,null,"600",2120,560,22135.248231275364,23748.111072875363,23947.453671275362,25562.581769675366,29230.032528875359,30697.91893527536]
[null,null,0,{"$f":"IF(C3001<>0,LOOKUP(,-CODE(C$3:C3001),C$3:C3001),D3000)","v":214},"214(2240)-600",null,null,null,"600",2240,560,23226.292189710148,24930.968855310144,25141.659229710145,26848.730104110145,30724.954151310143,32276.401453710147]
[null,null,0,{"$f":"IF(C3002<>0,LOOKUP(,-CODE(C$3:C3002),C$3:C3002),D3001)","v":214},"214(2280)-600",null,null,null,"600",2280,560,23539.230342521736,25274.511616121741,25488.984582521738,27226.70304892174,31172.518192121737,32751.819126521739]
[null,null,215,{"$f":"IF(C3003<>0,LOOKUP(,-CODE(C$3:C3003),C$3:C3003),D3002)","v":215},"215(1920)-400","Шкаф кухонный комбинированный, двухдверный с двумя леграбоксами, Н-360 мм, полка ЛДСП",null,null,"400",1920,560,17796.111238921738,18766.892480521739,18886.876678921741,19859.02137732174,22066.457936521743,22949.977942921741]
[null,null,0,{"$f":"IF(C3004<>0,LOOKUP(,-CODE(C$3:C3004),C$3:C3004),D3003)","v":215},"215(2040)-400",null,null,null,"400",2040,560,18454.744479965218,19486.581145565218,19614.111519965219,20647.397394365216,22993.666441565219,23932.753743965219]
[null,null,0,{"$f":"IF(C3005<>0,LOOKUP(,-CODE(C$3:C3005),C$3:C3005),D3004)","v":215},"215(2120)-400",null,null,null,"400",2120,560,19091.686492794201,20164.226774394203,20296.787932794203,21370.834591194201,23809.658630394202,24785.790796794201]
[null,null,0,{"$f":"IF(C3006<>0,LOOKUP(,-CODE(C$3:C3006),C$3:C3006),D3005)","v":215},"215(2240)-400",null,null,null,"400",2240,560,19902.549233837679,21036.144939437683,21176.252273837679,22311.440108237679,24889.09663543768,25920.79609783768]
[null,null,0,{"$f":"IF(C3007<>0,LOOKUP(,-CODE(C$3:C3007),C$3:C3007),D3006)","v":215},"215(2280)-400",null,null,null,"400",2280,560,20122.093647518843,21276.041161118839,21418.663887518844,22574.232113918843,25198.166137118842,26248.388031518843]
[null,null,0,{"$f":"IF(C3008<>0,LOOKUP(,-CODE(C$3:C3008),C$3:C3008),D3007)","v":215},"215(1920)-450",null,null,null,"450",1920,560,19099.970424428982,20193.016306028985,20328.111864428982,21422.692922828985,23908.144162028984,24902.938728428984]
[null,null,0,{"$f":"IF(C3009<>0,LOOKUP(,-CODE(C$3:C3009),C$3:C3009),D3008)","v":215},"215(2040)-450",null,null,null,"450",2040,560,19828.648969820289,20990.439875420288,21134.032009820286,22297.454644220288,24939.223571420291,25996.583833820288]
[null,null,0,{"$f":"IF(C3010<>0,LOOKUP(,-CODE(C$3:C3010),C$3:C3010),D3009)","v":215},"215(2120)-450",null,null,null,"450",2120,560,20532.667345547823,21740.288267147826,21889.544785547827,23098.861803947824,25844.842523147825,26943.913249547826]
[null,null,0,{"$f":"IF(C3011<>0,LOOKUP(,-CODE(C$3:C3011),C$3:C3011),D3010)","v":215},"215(2240)-450",null,null,null,"450",2240,560,21413.575390939131,22689.94133653913,22847.694430939133,24125.853025339129,27028.151432539133,28189.787854939132]
[null,null,0,{"$f":"IF(C3012<>0,LOOKUP(,-CODE(C$3:C3012),C$3:C3012),D3011)","v":215},"215(2280)-450",null,null,null,"450",2280,560,21656.468239402897,22955.749193002899,23116.334479402896,24417.440265802899,27371.844569002897,28554.336223402897]
[null,null,0,{"$f":"IF(C3013<>0,LOOKUP(,-CODE(C$3:C3013),C$3:C3013),D3012)","v":215},"215(1920)-500",null,null,null,"500",1920,560,20403.829609936234,21619.140131536231,21769.347049936234,22986.364468336236,25749.830387536233,26855.899513936234]
[null,null,0,{"$f":"IF(C3014<>0,LOOKUP(,-CODE(C$3:C3014),C$3:C3014),D3013)","v":215},"215(2040)-500",null,null,null,"500",2040,560,21202.553459675364,22494.298605275362,22653.952499675361,23947.51189407536,26884.780701275362,28060.413923675362]
[null,null,0,{"$f":"IF(C3015<>0,LOOKUP(,-CODE(C$3:C3015),C$3:C3015),D3014)","v":215},"215(2120)-500",null,null,null,"500",2120,560,21973.648198301453,23316.349759901452,23482.301638301451,24826.889016701454,27880.026415901451,29102.035702301451]
[null,null,0,{"$f":"IF(C3016<>0,LOOKUP(,-CODE(C$3:C3016),C$3:C3016),D3015)","v":215},"215(2240)-500",null,null,null,"500",2240,560,22924.60154804058,24343.737733640581,24519.136588040579,25940.265942440579,29167.206229640578,30458.77961204058]
[null,null,0,{"$f":"IF(C3017<>0,LOOKUP(,-CODE(C$3:C3017),C$3:C3017),D3016)","v":215},"215(2280)-500",null,null,null,"500",2280,560,23190.842831286958,24635.457224886959,24814.005071286956,26260.648417686956,29545.523000886955,30860.284415286958]
[null,null,0,{"$f":"IF(C3018<>0,LOOKUP(,-CODE(C$3:C3018),C$3:C3018),D3017)","v":215},"215(1920)-550",null,null,null,"550",1920,560,21707.688795443479,23045.263957043477,23210.582235443479,24550.036013843477,27591.516613043477,28808.86029944348]
[null,null,0,{"$f":"IF(C3019<>0,LOOKUP(,-CODE(C$3:C3019),C$3:C3019),D3018)","v":215},"215(2040)-550",null,null,null,"550",2040,560,22576.457949530435,23998.157335130432,24173.872989530435,25597.569143930436,28830.337831130433,30124.244013530435]
[null,null,0,{"$f":"IF(C3020<>0,LOOKUP(,-CODE(C$3:C3020),C$3:C3020),D3019)","v":215},"215(2120)-550",null,null,null,"550",2120,560,23414.629051055075,24892.411252655074,25075.058491055075,26554.916229455073,29915.210308655074,31260.158155055073]
[null,null,0,{"$f":"IF(C3021<>0,LOOKUP(,-CODE(C$3:C3021),C$3:C3021),D3020)","v":215},"215(2240)-550",null,null,null,"550",2240,560,24435.627705142026,25997.534130742024,26190.578745142026,27754.678859542029,31306.261026742031,32727.771369142029]
[null,null,0,{"$f":"IF(C3022<>0,LOOKUP(,-CODE(C$3:C3022),C$3:C3022),D3021)","v":215},"215(2280)-550",null,null,null,"550",2280,560,24725.217423171016,26315.165256771015,26511.675663171016,28103.856569571017,31719.201432771013,33166.232607171012]
[null,null,0,{"$f":"IF(C3023<>0,LOOKUP(,-CODE(C$3:C3023),C$3:C3023),D3022)","v":215},"215(1920)-600",null,null,null,"600",1920,560,23011.547980950723,24471.387782550722,24651.817420950723,26113.707559350725,29433.202838550722,30761.821084950723]
[null,null,0,{"$f":"IF(C3024<>0,LOOKUP(,-CODE(C$3:C3024),C$3:C3024),D3023)","v":215},"215(2040)-600",null,null,null,"600",2040,560,23950.362439385506,25502.016064985506,25693.793479385509,27247.626393785504,30775.894960985504,32188.074103385505]
[null,null,0,{"$f":"IF(C3025<>0,LOOKUP(,-CODE(C$3:C3025),C$3:C3025),D3024)","v":215},"215(2120)-600",null,null,null,"600",2120,560,24855.609903808694,26468.472745408697,26667.815343808696,28282.943442208696,31950.394201408693,33418.280607808694]
[null,null,0,{"$f":"IF(C3026<>0,LOOKUP(,-CODE(C$3:C3026),C$3:C3026),D3025)","v":215},"215(2240)-600",null,null,null,"600",2240,560,25946.653862243482,27651.330527843478,27862.020902243479,29569.09177664348,33445.315823843477,34996.763126243481]
[null,null,0,{"$f":"IF(C3027<>0,LOOKUP(,-CODE(C$3:C3027),C$3:C3027),D3026)","v":215},"215(2280)-600",null,null,null,"600",2280,560,26259.59201505507,27994.873288655072,28209.346255055068,29947.06472145507,33892.879864655071,35472.180799055073]
[null,null,216,{"$f":"IF(C3028<>0,LOOKUP(,-CODE(C$3:C3028),C$3:C3028),D3027)","v":216},"216(1920)-400","Шкаф кухонный комбинированный, двухдверный с тремя метабоксами, H-180 мм, полка ЛДСП",null,null,"400",1920,560,15556.245243455072,16525.500099455072,16645.295643455072,17615.911812455073,19819.877559455075,20702.008383455075]
[null,null,0,{"$f":"IF(C3029<>0,LOOKUP(,-CODE(C$3:C3029),C$3:C3029),D3028)","v":216},"216(2040)-400",null,null,null,"400",2040,560,16214.878484498551,17245.188764498551,17372.530484498551,18404.287829498553,20747.086064498551,21684.784184498552]
[null,null,0,{"$f":"IF(C3030<>0,LOOKUP(,-CODE(C$3:C3030),C$3:C3030),D3029)","v":216},"216(2120)-400",null,null,null,"400",2120,560,16851.820497327535,17922.834393327536,18055.206897327538,19127.725026327535,21563.078253327534,22537.821237327538]
[null,null,0,{"$f":"IF(C3031<>0,LOOKUP(,-CODE(C$3:C3031),C$3:C3031),D3030)","v":216},"216(2240)-400",null,null,null,"400",2240,560,17662.683238371013,18794.752558371016,18934.671238371015,20068.330543371016,22642.516258371015,23672.826538371017]
[null,null,0,{"$f":"IF(C3032<>0,LOOKUP(,-CODE(C$3:C3032),C$3:C3032),D3031)","v":216},"216(2280)-400",null,null,null,"400",2280,560,17882.227652052177,19034.648780052175,19177.082852052175,20331.122549052176,22951.585760052178,24000.418472052177]
[null,null,0,{"$f":"IF(C3033<>0,LOOKUP(,-CODE(C$3:C3033),C$3:C3033),D3032)","v":216},"216(1920)-450",null,null,null,"450",1920,560,16878.980815628987,17970.308071628984,18105.191215628987,19198.051234628983,21679.594531628987,22672.824955628988]
[null,null,0,{"$f":"IF(C3034<>0,LOOKUP(,-CODE(C$3:C3034),C$3:C3034),D3033)","v":216},"216(2040)-450",null,null,null,"450",2040,560,17607.659361020291,18767.731641020291,18911.111361020288,20072.812956020287,22710.673941020286,23766.470061020293]
[null,null,0,{"$f":"IF(C3035<>0,LOOKUP(,-CODE(C$3:C3035),C$3:C3035),D3034)","v":216},"216(2120)-450",null,null,null,"450",2120,560,18311.677736747828,19517.580032747828,19666.624136747829,20874.220115747827,23616.292892747828,24713.799476747827]
[null,null,0,{"$f":"IF(C3036<>0,LOOKUP(,-CODE(C$3:C3036),C$3:C3036),D3035)","v":216},"216(2240)-450",null,null,null,"450",2240,560,19192.585782139133,20467.233102139129,20624.773782139131,21901.211337139132,24799.601802139128,25959.674082139129]
[null,null,0,{"$f":"IF(C3037<>0,LOOKUP(,-CODE(C$3:C3037),C$3:C3037),D3036)","v":216},"216(2280)-450",null,null,null,"450",2280,560,19435.478630602898,20733.040958602898,20893.413830602898,22192.798577602902,25143.294938602899,26324.222450602902]
[null,null,0,{"$f":"IF(C3038<>0,LOOKUP(,-CODE(C$3:C3038),C$3:C3038),D3037)","v":216},"216(1920)-500",null,null,null,"500",1920,560,18201.716387802899,19415.1160438029,19565.086787802898,20780.190656802901,23539.311503802899,24643.641527802902]
[null,null,0,{"$f":"IF(C3039<>0,LOOKUP(,-CODE(C$3:C3039),C$3:C3039),D3038)","v":216},"216(2040)-500",null,null,null,"500",2040,560,19000.440237542025,20290.274517542028,20449.692237542025,21741.338082542024,24674.261817542028,25848.155937542026]
[null,null,0,{"$f":"IF(C3040<>0,LOOKUP(,-CODE(C$3:C3040),C$3:C3040),D3039)","v":216},"216(2120)-500",null,null,null,"500",2120,560,19771.534976168117,21112.325672168117,21278.041376168116,22620.715205168115,25669.507532168118,26889.777716168115]
[null,null,0,{"$f":"IF(C3041<>0,LOOKUP(,-CODE(C$3:C3041),C$3:C3041),D3040)","v":216},"216(2240)-500",null,null,null,"500",2240,560,20722.488325907249,22139.713645907246,22314.876325907248,23734.092130907247,26956.687345907249,28246.521625907248]
[null,null,0,{"$f":"IF(C3042<>0,LOOKUP(,-CODE(C$3:C3042),C$3:C3042),D3041)","v":216},"216(2280)-500",null,null,null,"500",2280,560,20988.729609153623,22431.433137153625,22609.744809153624,24054.474606153621,27335.004117153621,28648.026429153622]
[null,null,0,{"$f":"IF(C3043<>0,LOOKUP(,-CODE(C$3:C3043),C$3:C3043),D3042)","v":216},"216(1920)-550",null,null,null,"550",1920,560,19524.451959976814,20859.924015976812,21024.982359976813,22362.330078976811,25399.028475976811,26614.458099976815]
[null,null,0,{"$f":"IF(C3044<>0,LOOKUP(,-CODE(C$3:C3044),C$3:C3044),D3043)","v":216},"216(2040)-550",null,null,null,"550",2040,560,20393.221114063766,21812.817394063768,21988.27311406377,23409.863209063769,26637.849694063767,27929.84181406377]
[null,null,0,{"$f":"IF(C3045<>0,LOOKUP(,-CODE(C$3:C3045),C$3:C3045),D3044)","v":216},"216(2120)-550",null,null,null,"550",2120,560,21231.392215588407,22707.071311588406,22889.458615588406,24367.210294588407,27722.722171588408,29065.755955588407]
[null,null,0,{"$f":"IF(C3046<>0,LOOKUP(,-CODE(C$3:C3046),C$3:C3046),D3045)","v":216},"216(2240)-550",null,null,null,"550",2240,560,22252.390869675361,23812.194189675363,24004.97886967536,25566.97292467536,29113.772889675362,30533.369169675359]
[null,null,0,{"$f":"IF(C3047<>0,LOOKUP(,-CODE(C$3:C3047),C$3:C3047),D3046)","v":216},"216(2280)-550",null,null,null,"550",2280,560,22541.980587704347,24129.825315704347,24326.075787704351,25916.150634704347,29526.71329570435,30971.83040770435]
[null,null,0,{"$f":"IF(C3048<>0,LOOKUP(,-CODE(C$3:C3048),C$3:C3048),D3047)","v":216},"216(1920)-600",null,null,null,"600",1920,560,20847.187532150725,22304.731988150725,22484.877932150725,23944.469501150725,27258.74544815073,28585.274672150728]
[null,null,0,{"$f":"IF(C3049<>0,LOOKUP(,-CODE(C$3:C3049),C$3:C3049),D3048)","v":216},"216(2040)-600",null,null,null,"600",2040,560,21786.001990585508,23335.360270585508,23526.853990585507,25078.388335585507,28601.437570585513,30011.527690585506]
[null,null,0,{"$f":"IF(C3050<>0,LOOKUP(,-CODE(C$3:C3050),C$3:C3050),D3049)","v":216},"216(2120)-600",null,null,null,"600",2120,560,22691.249455008699,24301.816951008699,24500.8758550087,26113.705384008696,29775.936811008702,31241.734195008699]
[null,null,0,{"$f":"IF(C3051<>0,LOOKUP(,-CODE(C$3:C3051),C$3:C3051),D3050)","v":216},"216(2240)-600",null,null,null,"600",2240,560,23782.293413443476,25484.674733443477,25695.081413443477,27399.853718443479,31270.858433443474,32820.216713443471]
[null,null,0,{"$f":"IF(C3052<>0,LOOKUP(,-CODE(C$3:C3052),C$3:C3052),D3051)","v":216},"216(2280)-600",null,null,null,"600",2280,560,24095.231566255072,25828.217494255074,26042.406766255073,27777.826663255073,31718.422474255072,33295.634386255071]
[null,null,217,{"$f":"IF(C3053<>0,LOOKUP(,-CODE(C$3:C3053),C$3:C3053),D3052)","v":217},"217(1920)-400","Шкаф кухонный комбинированный, двухдверный с тремя леграбоксами, H-180 мм, полка ЛДСП",null,null,"400",1920,560,19595.068688788404,20564.323544788407,20684.119088788404,21654.735257788405,23858.701004788403,24740.831828788403]
[null,null,0,{"$f":"IF(C3054<>0,LOOKUP(,-CODE(C$3:C3054),C$3:C3054),D3053)","v":217},"217(2040)-400",null,null,null,"400",2040,560,20253.701929831885,21284.012209831883,21411.353929831886,22443.111274831885,24785.909509831887,25723.607629831884]
[null,null,0,{"$f":"IF(C3055<>0,LOOKUP(,-CODE(C$3:C3055),C$3:C3055),D3054)","v":217},"217(2120)-400",null,null,null,"400",2120,560,20890.64394266087,21961.657838660871,22094.030342660873,23166.54847166087,25601.901698660869,26576.644682660874]
[null,null,0,{"$f":"IF(C3056<>0,LOOKUP(,-CODE(C$3:C3056),C$3:C3056),D3055)","v":217},"217(2240)-400",null,null,null,"400",2240,560,21701.506683704349,22833.576003704347,22973.494683704346,24107.153988704347,26681.339703704347,27711.649983704348]
[null,null,0,{"$f":"IF(C3057<>0,LOOKUP(,-CODE(C$3:C3057),C$3:C3057),D3056)","v":217},"217(2280)-400",null,null,null,"400",2280,560,21921.051097385509,23073.472225385507,23215.906297385511,24369.945994385511,26990.409205385509,28039.241917385509]
[null,null,0,{"$f":"IF(C3058<>0,LOOKUP(,-CODE(C$3:C3058),C$3:C3058),D3057)","v":217},"217(1920)-450",null,null,null,"450",1920,560,20916.404260962321,22007.731516962318,22142.614660962321,23235.474679962317,25717.017976962321,26710.248400962322]
[null,null,0,{"$f":"IF(C3059<>0,LOOKUP(,-CODE(C$3:C3059),C$3:C3059),D3058)","v":217},"217(2040)-450",null,null,null,"450",2040,560,21645.082806353625,22805.155086353625,22948.534806353622,24110.236401353621,26748.09738635362,27803.893506353626]
[null,null,0,{"$f":"IF(C3060<>0,LOOKUP(,-CODE(C$3:C3060),C$3:C3060),D3059)","v":217},"217(2120)-450",null,null,null,"450",2120,560,22349.101182081158,23555.003478081158,23704.047582081159,24911.64356108116,27653.716338081158,28751.222922081157]
[null,null,0,{"$f":"IF(C3061<>0,LOOKUP(,-CODE(C$3:C3061),C$3:C3061),D3060)","v":217},"217(2240)-450",null,null,null,"450",2240,560,23230.009227472463,24504.656547472463,24662.197227472461,25938.634782472465,28837.025247472462,29997.097527472462]
[null,null,0,{"$f":"IF(C3062<>0,LOOKUP(,-CODE(C$3:C3062),C$3:C3062),D3061)","v":217},"217(2280)-450",null,null,null,"450",2280,560,23472.902075936232,24770.464403936232,24930.837275936232,26230.222022936232,29180.718383936233,30361.645895936232]
[null,null,0,{"$f":"IF(C3063<>0,LOOKUP(,-CODE(C$3:C3063),C$3:C3063),D3062)","v":217},"217(1920)-500",null,null,null,"500",1920,560,22237.739833136235,23451.139489136232,23601.110233136234,24816.214102136233,27575.334949136231,28679.664973136234]
[null,null,0,{"$f":"IF(C3064<>0,LOOKUP(,-CODE(C$3:C3064),C$3:C3064),D3063)","v":217},"217(2040)-500",null,null,null,"500",2040,560,23036.463682875361,24326.29796287536,24485.715682875361,25777.36152787536,28710.285262875361,29884.179382875358]
[null,null,0,{"$f":"IF(C3065<>0,LOOKUP(,-CODE(C$3:C3065),C$3:C3065),D3064)","v":217},"217(2120)-500",null,null,null,"500",2120,560,23807.55842150145,25148.34911750145,25314.064821501452,26656.738650501447,29705.53097750145,30925.801161501447]
[null,null,0,{"$f":"IF(C3066<>0,LOOKUP(,-CODE(C$3:C3066),C$3:C3066),D3065)","v":217},"217(2240)-500",null,null,null,"500",2240,560,24758.511771240581,26175.737091240582,26350.89977124058,27770.11557624058,30992.710791240581,32282.54507124058]
[null,null,0,{"$f":"IF(C3067<>0,LOOKUP(,-CODE(C$3:C3067),C$3:C3067),D3066)","v":217},"217(2280)-500",null,null,null,"500",2280,560,25024.753054486959,26467.456582486957,26645.768254486957,28090.498051486953,31371.027562486954,32684.049874486955]
[null,null,0,{"$f":"IF(C3068<>0,LOOKUP(,-CODE(C$3:C3068),C$3:C3068),D3067)","v":217},"217(1920)-550",null,null,null,"550",1920,560,23559.075405310148,24894.547461310147,25059.605805310144,26396.953524310145,29433.651921310142,30649.081545310146]
[null,null,0,{"$f":"IF(C3069<>0,LOOKUP(,-CODE(C$3:C3069),C$3:C3069),D3068)","v":217},"217(2040)-550",null,null,null,"550",2040,560,24427.844559397101,25847.440839397103,26022.896559397101,27444.4866543971,30672.473139397101,31964.465259397104]
[null,null,0,{"$f":"IF(C3070<>0,LOOKUP(,-CODE(C$3:C3070),C$3:C3070),D3069)","v":217},"217(2120)-550",null,null,null,"550",2120,560,25266.015660921741,26741.694756921741,26924.082060921741,28401.833739921742,31757.345616921739,33100.379400921738]
[null,null,0,{"$f":"IF(C3071<>0,LOOKUP(,-CODE(C$3:C3071),C$3:C3071),D3070)","v":217},"217(2240)-550",null,null,null,"550",2240,560,26287.014315008695,27846.817635008694,28039.602315008698,29601.596370008694,33148.3963350087,34567.992615008698]
[null,null,0,{"$f":"IF(C3072<>0,LOOKUP(,-CODE(C$3:C3072),C$3:C3072),D3071)","v":217},"217(2280)-550",null,null,null,"550",2280,560,26576.604033037682,28164.448761037682,28360.699233037682,29950.774080037681,33561.336741037681,35006.453853037681]
[null,null,0,{"$f":"IF(C3073<>0,LOOKUP(,-CODE(C$3:C3073),C$3:C3073),D3072)","v":217},"217(1920)-600",null,null,null,"600",1920,560,24880.410977484062,26337.955433484058,26518.101377484061,27977.692946484058,31291.968893484063,32618.498117484061]
[null,null,0,{"$f":"IF(C3074<>0,LOOKUP(,-CODE(C$3:C3074),C$3:C3074),D3073)","v":217},"217(2040)-600",null,null,null,"600",2040,560,25819.225435918841,27368.583715918845,27560.077435918844,29111.611780918844,32634.661015918842,34044.751135918843]
[null,null,0,{"$f":"IF(C3075<>0,LOOKUP(,-CODE(C$3:C3075),C$3:C3075),D3074)","v":217},"217(2120)-600",null,null,null,"600",2120,560,26724.472900342029,28335.040396342032,28534.09930034203,30146.928829342032,33809.160256342031,35274.957640342029]
[null,null,0,{"$f":"IF(C3076<>0,LOOKUP(,-CODE(C$3:C3076),C$3:C3076),D3075)","v":217},"217(2240)-600",null,null,null,"600",2240,560,27815.516858776813,29517.898178776813,29728.304858776813,31433.077163776816,35304.081878776808,36853.440158776808]
[null,null,0,{"$f":"IF(C3077<>0,LOOKUP(,-CODE(C$3:C3077),C$3:C3077),D3076)","v":217},"217(2280)-600",null,null,null,"600",2280,560,28128.455011588405,29861.440939588407,30075.630211588406,31811.050108588406,35751.645919588409,37328.857831588408]
[null,null,218,{"$f":"IF(C3078<>0,LOOKUP(,-CODE(C$3:C3078),C$3:C3078),D3077)","v":218},"218(1920)-400","Шкаф кухонный комбинированный, двухдверный, полка ЛДСП",null,null,"400",1920,560,13036.553733588404,14010.387746388406,14130.749253588405,15105.951010788405,17320.329194388407,18206.627565588406]
[null,null,0,{"$f":"IF(C3079<>0,LOOKUP(,-CODE(C$3:C3079),C$3:C3079),D3078)","v":218},"218(2040)-400",null,null,null,"400",2040,560,13695.186974631886,14730.076411431884,14857.984094631884,15894.327027831885,18247.537699431887,19189.403366631886]
[null,null,0,{"$f":"IF(C3080<>0,LOOKUP(,-CODE(C$3:C3080),C$3:C3080),D3079)","v":218},"218(2120)-400",null,null,null,"400",2120,560,14162.910051994202,15238.503104794203,15371.441571994203,16448.545289194204,18894.310952794203,19873.221483994203]
[null,null,0,{"$f":"IF(C3081<>0,LOOKUP(,-CODE(C$3:C3081),C$3:C3081),D3080)","v":218},"218(2240)-400",null,null,null,"400",2240,560,14821.543293037681,15958.19176983768,16098.676413037681,17236.92130623768,19821.519457837683,20855.99728503768]
[null,null,0,{"$f":"IF(C3082<>0,LOOKUP(,-CODE(C$3:C3082),C$3:C3082),D3081)","v":218},"218(2280)-400",null,null,null,"400",2280,560,15041.087706718841,16198.087991518842,16341.08802671884,17499.71331191884,20130.588959518838,21183.589218718836]
[null,null,0,{"$f":"IF(C3083<>0,LOOKUP(,-CODE(C$3:C3083),C$3:C3083),D3082)","v":218},"218(1920)-450",null,null,null,"450",1920,560,14309.249639095651,15405.732771895651,15541.253159095653,16639.276296295651,19132.54341989565,20130.466271095655]
[null,null,0,{"$f":"IF(C3084<>0,LOOKUP(,-CODE(C$3:C3084),C$3:C3084),D3083)","v":218},"218(2040)-450",null,null,null,"450",2040,560,15037.928184486955,16203.156341286955,16347.173304486954,17514.038017686958,20163.622829286956,21224.111376486959]
[null,null,0,{"$f":"IF(C3085<>0,LOOKUP(,-CODE(C$3:C3085),C$3:C3085),D3084)","v":218},"218(2120)-450",null,null,null,"450",2120,560,15552.348131414492,16763.406304214492,16913.087651414491,18125.846748614491,20879.643352214491,21981.842363414493]
[null,null,0,{"$f":"IF(C3086<>0,LOOKUP(,-CODE(C$3:C3086),C$3:C3086),D3085)","v":218},"218(2240)-450",null,null,null,"450",2240,560,16281.026676805797,17560.829873605799,17719.007796805796,19000.608470005798,21910.722761605797,23075.487468805797]
[null,null,0,{"$f":"IF(C3087<>0,LOOKUP(,-CODE(C$3:C3087),C$3:C3087),D3086)","v":218},"218(2280)-450",null,null,null,"450",2280,560,16523.919525269564,17826.637730069564,17987.647845269563,19292.195710469565,22254.415898069565,23440.035837269566]
[null,null,0,{"$f":"IF(C3088<>0,LOOKUP(,-CODE(C$3:C3088),C$3:C3088),D3087)","v":218},"218(1920)-500",null,null,null,"500",1920,560,15581.945544602899,16801.077797402901,16951.757064602898,18172.601581802897,20944.757645402897,22054.3049766029]
[null,null,0,{"$f":"IF(C3089<>0,LOOKUP(,-CODE(C$3:C3089),C$3:C3089),D3088)","v":218},"218(2040)-500",null,null,null,"500",2040,560,16380.669394342029,17676.236271142028,17836.362514342029,19133.749007542032,22079.70795914203,23258.819386342031]
[null,null,0,{"$f":"IF(C3090<>0,LOOKUP(,-CODE(C$3:C3090),C$3:C3090),D3089)","v":218},"218(2120)-500",null,null,null,"500",2120,560,16941.786210834784,18288.309503634784,18454.733730834785,19803.148208034781,22864.975751634785,24090.463242834787]
[null,null,0,{"$f":"IF(C3091<>0,LOOKUP(,-CODE(C$3:C3091),C$3:C3091),D3090)","v":218},"218(2240)-500",null,null,null,"500",2240,560,17740.510060573914,19163.467977373912,19339.339180573912,20764.295633773916,23999.926065373918,25294.977652573914]
[null,null,0,{"$f":"IF(C3092<>0,LOOKUP(,-CODE(C$3:C3092),C$3:C3092),D3091)","v":218},"218(2280)-500",null,null,null,"500",2280,560,18006.751343820288,19455.18746862029,19634.207663820289,21084.678109020289,24378.242836620291,25696.482455820289]
[null,null,0,{"$f":"IF(C3093<>0,LOOKUP(,-CODE(C$3:C3093),C$3:C3093),D3092)","v":218},"218(1920)-550",null,null,null,"550",1920,560,16854.641450110146,18196.422822910146,18362.260970110143,19705.926867310147,22756.971870910147,23978.143682110149]
[null,null,0,{"$f":"IF(C3094<>0,LOOKUP(,-CODE(C$3:C3094),C$3:C3094),D3093)","v":218},"218(2040)-550",null,null,null,"550",2040,560,17723.410604197103,19149.316200997102,19325.551724197103,20753.459997397102,23995.793088997103,25293.527396197103]
[null,null,0,{"$f":"IF(C3095<>0,LOOKUP(,-CODE(C$3:C3095),C$3:C3095),D3094)","v":218},"218(2120)-550",null,null,null,"550",2120,560,18331.224290255072,19813.212703055073,19996.379810255072,21480.449667455072,24850.308151055073,26199.084122255073]
[null,null,0,{"$f":"IF(C3096<>0,LOOKUP(,-CODE(C$3:C3096),C$3:C3096),D3095)","v":218},"218(2240)-550",null,null,null,"550",2240,560,19199.993444342028,20766.106081142028,20959.670564342028,22527.982797542027,26089.129369142029,27514.467836342028]
[null,null,0,{"$f":"IF(C3097<>0,LOOKUP(,-CODE(C$3:C3097),C$3:C3097),D3096)","v":218},"218(2280)-550",null,null,null,"550",2280,560,19489.583162371015,21083.737207171016,21280.767482371015,22877.160507571014,26502.069775171014,27952.929074371012]
[null,null,0,{"$f":"IF(C3098<>0,LOOKUP(,-CODE(C$3:C3098),C$3:C3098),D3097)","v":218},"218(1920)-600",null,null,null,"600",1920,560,18127.33735561739,19591.767848417388,19772.764875617388,21239.252152817389,24569.18609641739,25901.98238761739]
[null,null,0,{"$f":"IF(C3099<>0,LOOKUP(,-CODE(C$3:C3099),C$3:C3099),D3098)","v":218},"218(2040)-600",null,null,null,"600",2040,560,19066.151814052177,20622.396130852176,20814.740934052174,22373.170987252175,25911.878218852176,27328.235406052176]
[null,null,0,{"$f":"IF(C3100<>0,LOOKUP(,-CODE(C$3:C3100),C$3:C3100),D3099)","v":218},"218(2120)-600",null,null,null,"600",2120,560,19720.66236967536,21338.115902475358,21538.025889675358,23157.751126875359,26835.64055047536,28307.70500167536]
[null,null,0,{"$f":"IF(C3101<>0,LOOKUP(,-CODE(C$3:C3101),C$3:C3101),D3100)","v":218},"218(2240)-600",null,null,null,"600",2240,560,20659.476828110142,22368.744184910145,22580.001948110148,24291.669961310145,28178.332672910146,29733.958020110149]
[null,null,0,{"$f":"IF(C3102<>0,LOOKUP(,-CODE(C$3:C3102),C$3:C3102),D3101)","v":218},"218(2280)-600",null,null,null,"600",2280,560,20972.414980921742,22712.286945721738,22927.327300921737,24669.642906121739,28625.896713721737,30209.375692921738]
[null,"172",219,{"$f":"IF(C3103<>0,LOOKUP(,-CODE(C$3:C3103),C$3:C3103),D3102)","v":219},"219(1920)-600","Шкаф кухонный комбинированный под встраиваемую технику, четырехдверный, полка ЛДСП",null,null,"600",1920,560,13868.149909576812,14868.459215176812,14992.092949576812,15993.807183976811,18268.386911176811,19178.780773576811]
[null,null,0,{"$f":"IF(C3104<>0,LOOKUP(,-CODE(C$3:C3104),C$3:C3104),D3103)","v":219},"219(2040)-600",null,null,null,"600",2040,560,14802.830128011594,15894.491881611595,16029.416368011594,17122.611354411594,19604.915257611596,20598.450112011593]
[null,null,0,{"$f":"IF(C3105<>0,LOOKUP(,-CODE(C$3:C3105),C$3:C3105),D3104)","v":219},"219(2120)-600",null,null,null,"600",2120,560,15705.321432434783,16857.884818034781,17000.336472434781,18154.518626834782,20775.305314034784,21824.267496434783]
[null,null,0,{"$f":"IF(C3106<>0,LOOKUP(,-CODE(C$3:C3106),C$3:C3106),D3105)","v":219},"219(2240)-600",null,null,null,"600",2240,560,16944.460650869565,18188.376484469565,18342.118890869566,19587.781797269567,22416.292660469564,23548.395834869567]
[null,null,0,{"$f":"IF(C3107<>0,LOOKUP(,-CODE(C$3:C3107),C$3:C3107),D3106)","v":219},"219(2280)-600",null,null,null,"600",2280,560,17256.020723681158,18530.387373281159,18687.89336368116,19964.04985408116,22861.802109281161,24021.61894768116]
[null,"171",220,{"$f":"IF(C3108<>0,LOOKUP(,-CODE(C$3:C3108),C$3:C3108),D3107)","v":220},"220(1920)-600","Шкаф кухонный комбинированный под встраиваемую технику, двухдверный с двумя метабоксами, Н-360 мм, полка ЛДСП",null,null,"600",1920,560,15724.722457443479,16725.03176304348,16848.665497443479,17850.379731843477,20124.959459043479,21035.353321443479]
[null,null,0,{"$f":"IF(C3109<>0,LOOKUP(,-CODE(C$3:C3109),C$3:C3109),D3108)","v":220},"220(2040)-600",null,null,null,"600",2040,560,16659.40267587826,17751.064429478261,17885.988915878261,18979.183902278262,21461.48780547826,22455.022659878261]
[null,null,0,{"$f":"IF(C3110<>0,LOOKUP(,-CODE(C$3:C3110),C$3:C3110),D3109)","v":220},"220(2120)-600",null,null,null,"600",2120,560,17561.893980301451,18714.45736590145,18856.909020301449,20011.091174701451,22631.877861901448,23680.840044301451]
[null,null,0,{"$f":"IF(C3111<>0,LOOKUP(,-CODE(C$3:C3111),C$3:C3111),D3110)","v":220},"220(2240)-600",null,null,null,"600",2240,560,18648.803698736228,19892.719532336232,20046.461938736233,21292.124845136233,24120.635708336231,25252.738882736234]
[null,null,0,{"$f":"IF(C3112<>0,LOOKUP(,-CODE(C$3:C3112),C$3:C3112),D3111)","v":220},"220(2280)-600",null,null,null,"600",2280,560,18960.363771547825,20234.730421147826,20392.236411547827,21668.392901947824,24566.145157147825,25725.961995547827]
[null,null,221,{"$f":"IF(C3113<>0,LOOKUP(,-CODE(C$3:C3113),C$3:C3113),D3112)","v":221},"221(1920)-600","Шкаф кухонный комбинированный под встраиваемую технику, двухдверный с двумя леграбоксами, Н-360 мм, полка ЛДСП",null,null,"600",1920,560,18415.81223664348,19416.12154224348,19539.755276643482,20541.469511043477,22816.049238243479,23726.443100643479]
[null,null,0,{"$f":"IF(C3114<>0,LOOKUP(,-CODE(C$3:C3114),C$3:C3114),D3113)","v":221},"221(2040)-600",null,null,null,"600",2040,560,19350.49245507826,20442.154208678261,20577.07869507826,21670.273681478262,24152.57758467826,25146.112439078257]
[null,null,0,{"$f":"IF(C3115<>0,LOOKUP(,-CODE(C$3:C3115),C$3:C3115),D3114)","v":221},"221(2120)-600",null,null,null,"600",2120,560,20252.983759501447,21405.547145101449,21547.998799501449,22702.18095390145,25322.967641101452,26371.92982350145]
[null,null,0,{"$f":"IF(C3116<>0,LOOKUP(,-CODE(C$3:C3116),C$3:C3116),D3115)","v":221},"221(2240)-600",null,null,null,"600",2240,560,21339.893477936232,22583.809311536235,22737.551717936232,23983.214624336233,26811.725487536234,27943.828661936233]
[null,null,0,{"$f":"IF(C3117<>0,LOOKUP(,-CODE(C$3:C3117),C$3:C3117),D3116)","v":221},"221(2280)-600",null,null,null,"600",2280,560,21651.453550747825,22925.820200347822,23083.326190747826,24359.482681147827,27257.234936347828,28417.051774747822]
[null,null,222,{"$f":"IF(C3118<>0,LOOKUP(,-CODE(C$3:C3118),C$3:C3118),D3117)","v":222},"222(2040)-300-560","Шкаф кухонный с выкатной корзиной VAUTH-SAGEL HSA",null,null,300,2040,"560",40011.300191221737,40786.654093621735,40882.484351221734,41658.927233821734,43421.986177621737,44127.645347221733]
[null,null,0,{"$f":"IF(C3119<>0,LOOKUP(,-CODE(C$3:C3119),C$3:C3119),D3118)","v":222},"222(2240)-300-560",null,null,null,300,2240,"560",46356.08941180144,47207.570354201438,47312.809571801437,48165.486414401443,50101.648838201443,50876.592167801442]
[null,null,0,{"$f":"IF(C3120<>0,LOOKUP(,-CODE(C$3:C3120),C$3:C3120),D3119)","v":222},"222(2040)-300-660",null,null,null,300,2040,"660",40455.598164555071,41230.952066955069,41326.782324555068,42103.225207155068,43866.284150955071,44571.943320555067]
[null,null,0,{"$f":"IF(C3121<>0,LOOKUP(,-CODE(C$3:C3121),C$3:C3121),D3120)","v":222},"222(2240)-300-660",null,null,null,300,2240,"660",46714.387385134774,47565.868327534772,47671.107545134771,48523.784387734777,50459.946811534777,51234.890141134776]
[null,null,223,{"$f":"IF(C3122<>0,LOOKUP(,-CODE(C$3:C3122),C$3:C3122),D3121)","v":223},"223(2040)-600-560","Шкаф кухонный распашной с выкатной корзиной VAUTH-SAGEL DUSA",null,null,600,2040,"560",71428.719710352161,72987.25937275216,73179.887870352162,74740.616492952162,78284.543056752169,79702.98926635216]
[null,null,0,{"$f":"IF(C3123<>0,LOOKUP(,-CODE(C$3:C3123),C$3:C3123),D3122)","v":223},"223(2240)-600-560",null,null,null,600,2240,"560",77563.175286910133,79274.737989310132,79486.279446910135,81200.246029510134,85092.12807331013,86649.842442910129]
[null,"192",224,{"$f":"IF(C3124<>0,LOOKUP(,-CODE(C$3:C3124),C$3:C3124),D3123)","v":224},"224(1920)-350","Шкаф кухонный трехдверный радиусный, полки ЛДСП",null,null,350,1920,560,44366.964877866667,38413.659277866667,38413.659277866667,38413.659277866667,38413.659277866667,38413.659277866667]
[null,null,0,{"$f":"IF(C3125<>0,LOOKUP(,-CODE(C$3:C3125),C$3:C3125),D3124)","v":224},"224(2040)-350",null,null,null,350,2040,560,44442.347053866666,38489.041453866666,38489.041453866666,38489.041453866666,38489.041453866666,38489.041453866666]
[null,null,0,{"$f":"IF(C3126<>0,LOOKUP(,-CODE(C$3:C3126),C$3:C3126),D3125)","v":224},"224(2120)-350",null,null,null,350,2120,560,44609.384749333331,38656.079149333338,38656.079149333338,38656.079149333338,38656.079149333338,38656.079149333338]
[null,null,0,{"$f":"IF(C3127<>0,LOOKUP(,-CODE(C$3:C3127),C$3:C3127),D3126)","v":224},"224(2240)-350",null,null,null,350,2240,560,45034.085925333333,39080.780325333333,39080.780325333333,39080.780325333333,39080.780325333333,39080.780325333333]
[null,null,0,{"$f":"IF(C3128<>0,LOOKUP(,-CODE(C$3:C3128),C$3:C3128),D3127)","v":224},"224(2280)-350",null,null,null,350,2280,560,45059.213317333335,39105.907717333335,39105.907717333335,39105.907717333335,39105.907717333335,39105.907717333335]
[null,null,225,{"$f":"IF(C3129<>0,LOOKUP(,-CODE(C$3:C3129),C$3:C3129),D3128)","v":225},"225(1920)-350","Шкаф кухонный трехдверный радиусный двумя стекло-фасадами, полки ЛДСП",null,null,350,1920,560,30055.764877866666,24102.459277866667,24102.459277866667,24102.459277866667,24102.459277866667,24102.459277866667]
[null,null,0,{"$f":"IF(C3130<>0,LOOKUP(,-CODE(C$3:C3130),C$3:C3130),D3129)","v":225},"225(2040)-350",null,null,null,350,2040,560,30192.005053866669,24238.69945386667,24238.69945386667,24238.69945386667,24238.69945386667,24238.69945386667]
[null,null,0,{"$f":"IF(C3131<>0,LOOKUP(,-CODE(C$3:C3131),C$3:C3131),D3130)","v":225},"225(2120)-350",null,null,null,350,2120,560,30398.864749333334,24445.559149333334,24445.559149333334,24445.559149333334,24445.559149333334,24445.559149333334]
[null,null,0,{"$f":"IF(C3132<>0,LOOKUP(,-CODE(C$3:C3132),C$3:C3132),D3131)","v":225},"225(2240)-350",null,null,null,350,2240,560,30884.423925333336,24931.118325333337,24931.118325333337,24931.118325333337,24931.118325333337,24931.118325333337]
[null,null,0,{"$f":"IF(C3133<>0,LOOKUP(,-CODE(C$3:C3133),C$3:C3133),D3132)","v":225},"225(2280)-350",null,null,null,350,2280,560,30929.837317333335,24976.531717333335,24976.531717333335,24976.531717333335,24976.531717333335,24976.531717333335]
[null,null,226,{"$f":"IF(C3134<>0,LOOKUP(,-CODE(C$3:C3134),C$3:C3134),D3133)","v":226},"226(400-1160)-315","Шкаф кухонный настольный однодверная, полки ЛДСП",null,null,400,1160,"315",7606.7275171130441,8195.403563513044,8268.161277113044,8857.6641157130434,10196.240687513044,10732.002033113042]
[null,null,0,{"$f":"IF(C3135<>0,LOOKUP(,-CODE(C$3:C3135),C$3:C3135),D3134)","v":226},"226(400-1280)-315",null,null,null,400,1280,"315",8224.2007581565213,8873.9322285565213,8954.2361181565211,9604.8801327565216,11082.289192556522,11673.617834156523]
[null,null,0,{"$f":"IF(C3136<>0,LOOKUP(,-CODE(C$3:C3136),C$3:C3136),D3135)","v":226},"226(400-1360)-315",null,null,null,400,1360,"315",8664.4838355188422,9354.9189219188411,9440.2535955188414,10131.65839411884,11701.62244591884,12329.99595151884]
[null,null,0,{"$f":"IF(C3137<>0,LOOKUP(,-CODE(C$3:C3137),C$3:C3137),D3136)","v":226},"226(400-1480)-315",null,null,null,400,1480,"315",9281.9570765623193,10033.44758696232,10126.32843656232,10878.87441116232,12587.67095096232,13271.611752562319]
[null,null,0,{"$f":"IF(C3138<>0,LOOKUP(,-CODE(C$3:C3138),C$3:C3138),D3137)","v":226},"226(400-1520)-315",null,null,null,400,1520,"315",9487.7814902434802,10259.623808643479,10355.020050243478,11127.946416843479,12883.020452643479,13585.483686243479]
[null,null,0,{"$f":"IF(C3139<>0,LOOKUP(,-CODE(C$3:C3139),C$3:C3139),D3138)","v":226},"226(450-1160)-315",null,null,null,450,1160,"315",8343.0417750840588,9005.8583814840586,9087.7795350840588,9751.5270636840578,11258.69010548406,11861.92769108406]
[null,null,0,{"$f":"IF(C3140<>0,LOOKUP(,-CODE(C$3:C3140),C$3:C3140),D3139)","v":226},"226(450-1280)-315",null,null,null,450,1280,"315",9030.5603204753606,9762.121950875362,9852.5396804753618,10585.128785075362,12248.609514875363,12914.412796475361]
[null,null,0,{"$f":"IF(C3141<>0,LOOKUP(,-CODE(C$3:C3141),C$3:C3141),D3140)","v":226},"226(450-1360)-315",null,null,null,450,1360,"315",9517.5402674028974,10294.931913802899,10391.014027402898,11169.497516002897,12937.190037802899,13644.703783402898]
[null,null,0,{"$f":"IF(C3142<>0,LOOKUP(,-CODE(C$3:C3142),C$3:C3142),D3141)","v":226},"226(450-1480)-315",null,null,null,450,1480,"315",10205.058812794203,11051.195483194204,11155.774172794203,12003.099237394203,13927.109447194203,14697.188888794202]
[null,null,0,{"$f":"IF(C3143<>0,LOOKUP(,-CODE(C$3:C3143),C$3:C3143),D3142)","v":226},"226(450-1520)-315",null,null,null,450,1520,"315",10434.231661257973,11303.283339657972,11410.694221257972,12280.966477857972,14257.082583657972,15048.017257257972]
[null,null,0,{"$f":"IF(C3144<>0,LOOKUP(,-CODE(C$3:C3144),C$3:C3144),D3143)","v":226},"226(500-1160)-315",null,null,null,500,1160,"315",9079.3560330550717,9816.3131994550731,9907.3977930550736,10645.390011655072,12321.139523455073,12991.853349055073]
[null,null,0,{"$f":"IF(C3145<>0,LOOKUP(,-CODE(C$3:C3145),C$3:C3145),D3144)","v":226},"226(500-1280)-315",null,null,null,500,1280,"315",9836.9198827942037,10650.311673194203,10750.843242794203,11565.377437394203,13414.929837194204,14155.207758794204]
[null,null,0,{"$f":"IF(C3146<>0,LOOKUP(,-CODE(C$3:C3146),C$3:C3146),D3145)","v":226},"226(500-1360)-315",null,null,null,500,1360,"315",10370.596699286956,11234.944905686956,11341.774459286957,12207.336637886954,14172.757629686956,14959.411615286957]
[null,null,0,{"$f":"IF(C3147<>0,LOOKUP(,-CODE(C$3:C3147),C$3:C3147),D3146)","v":226},"226(500-1480)-315",null,null,null,500,1480,"315",11128.160549026086,12068.943379426086,12185.219909026087,13127.324063626087,15266.547943426087,16122.766025026085]
[null,null,0,{"$f":"IF(C3148<>0,LOOKUP(,-CODE(C$3:C3148),C$3:C3148),D3147)","v":226},"226(500-1520)-315",null,null,null,500,1520,"315",11380.681832272465,12346.942870672465,12466.368392272463,13433.986538872465,15631.144714672464,16510.550828272462]
[null,null,0,{"$f":"IF(C3149<>0,LOOKUP(,-CODE(C$3:C3149),C$3:C3149),D3148)","v":226},"226(550-1160)-315",null,null,null,550,1160,"315",9815.6702910260865,10626.768017426086,10727.016051026087,11539.252959626087,13383.588941426086,14121.779007026085]
[null,null,0,{"$f":"IF(C3150<>0,LOOKUP(,-CODE(C$3:C3150),C$3:C3150),D3149)","v":226},"226(550-1280)-315",null,null,null,550,1280,"315",10643.279445113043,11538.501395513043,11649.146805113043,12545.626089713043,14581.250159513043,15396.002721113044]
[null,null,0,{"$f":"IF(C3151<>0,LOOKUP(,-CODE(C$3:C3151),C$3:C3151),D3150)","v":226},"226(550-1360)-315",null,null,null,550,1360,"315",11223.653131171013,12174.957897571014,12292.534891171013,13245.175759771013,15408.325221571016,16274.119447171015]
[null,null,0,{"$f":"IF(C3152<>0,LOOKUP(,-CODE(C$3:C3152),C$3:C3152),D3151)","v":226},"226(550-1480)-315",null,null,null,550,1480,"315",12051.262285257972,13086.691275657973,13214.665645257974,14251.548889857973,16605.986439657972,17548.343161257973]
[null,null,0,{"$f":"IF(C3153<>0,LOOKUP(,-CODE(C$3:C3153),C$3:C3153),D3152)","v":226},"226(550-1520)-315",null,null,null,550,1520,"315",12327.132003286957,13390.602401686956,13522.042563286956,14587.006599886956,17005.206845686957,17973.084399286956]
[null,null,0,{"$f":"IF(C3154<>0,LOOKUP(,-CODE(C$3:C3154),C$3:C3154),D3153)","v":226},"226(600-1160)-315",null,null,null,600,1160,"315",10551.984548997101,11437.222835397102,11546.634308997101,12433.115907597103,14446.038359397102,15251.704664997103]
[null,null,0,{"$f":"IF(C3155<>0,LOOKUP(,-CODE(C$3:C3155),C$3:C3155),D3154)","v":226},"226(600-1280)-315",null,null,null,600,1280,"315",11449.639007431884,12426.691117831884,12547.450367431884,13525.874742031885,15747.570481831885,16636.797683431883]
[null,null,0,{"$f":"IF(C3156<>0,LOOKUP(,-CODE(C$3:C3156),C$3:C3156),D3155)","v":226},"226(600-1360)-315",null,null,null,600,1360,"315",12076.709563055072,13114.970889455071,13243.29532305507,14283.014881655072,16643.892813455073,17588.827279055073]
[null,null,0,{"$f":"IF(C3157<>0,LOOKUP(,-CODE(C$3:C3157),C$3:C3157),D3156)","v":226},"226(600-1480)-315",null,null,null,600,1480,"315",12974.364021489855,14104.439171889855,14244.111381489856,15375.773716089854,17945.424935889852,18973.920297489854]
[null,null,0,{"$f":"IF(C3158<>0,LOOKUP(,-CODE(C$3:C3158),C$3:C3158),D3157)","v":226},"226(600-1520)-315",null,null,null,600,1520,"315",13273.582174301449,14434.261932701449,14577.71673430145,15740.026660901449,18379.268976701449,19435.61797030145]
[null,"86",227,{"$f":"IF(C3159<>0,LOOKUP(,-CODE(C$3:C3159),C$3:C3159),D3158)","v":227},"227(400-1160)-315","Шкаф кухонный настольный двухдверная, полки ЛДСП",null,null,400,1160,"315",7786.3983333797096,8373.5479941797093,8446.1170533797103,9034.0913625797093,10369.19712217971,10903.569285379708]
[null,null,0,{"$f":"IF(C3160<>0,LOOKUP(,-CODE(C$3:C3160),C$3:C3160),D3159)","v":227},"227(400-1280)-315",null,null,null,400,1280,"315",8403.8715744231886,9052.0766592231885,9132.1918944231875,9781.3073796231874,11255.245627223187,11845.185086423187]
[null,null,0,{"$f":"IF(C3161<>0,LOOKUP(,-CODE(C$3:C3161),C$3:C3161),D3160)","v":227},"227(400-1360)-315",null,null,null,400,1360,"315",8913.3488199188396,9602.2575207188402,9687.4035399188397,10377.279809118842,11943.77304871884,12570.757371918839]
[null,null,0,{"$f":"IF(C3162<>0,LOOKUP(,-CODE(C$3:C3162),C$3:C3162),D3161)","v":227},"227(400-1480)-315",null,null,null,400,1480,"315",9683.051560962318,10433.015685762319,10525.707880962318,11276.725326162319,12982.051053762319,13664.602672962319]
[null,null,0,{"$f":"IF(C3163<>0,LOOKUP(,-CODE(C$3:C3163),C$3:C3163),D3162)","v":227},"227(400-1520)-315",null,null,null,400,1520,"315",9888.8759746434771,10659.191907443477,10754.39949464348,11525.797331843478,13277.400555443477,13978.474606643478]
[null,null,0,{"$f":"IF(C3164<>0,LOOKUP(,-CODE(C$3:C3164),C$3:C3164),D3163)","v":227},"227(450-1160)-315",null,null,null,450,1160,"315",8521.5499913507247,9182.6479721507239,9264.3567113507252,9926.3832005507247,11429.638300150726,12031.311743350725]
[null,null,0,{"$f":"IF(C3165<>0,LOOKUP(,-CODE(C$3:C3165),C$3:C3165),D3164)","v":227},"227(450-1280)-315",null,null,null,450,1280,"315",9209.0685367420301,9938.911541542031,10029.116856742028,10759.984921942028,12419.55770954203,13083.796848742029]
[null,null,0,{"$f":"IF(C3166<>0,LOOKUP(,-CODE(C$3:C3166),C$3:C3166),D3165)","v":227},"227(450-1360)-315",null,null,null,450,1360,"315",9777.0471451362337,10552.720165936233,10648.589865136233,11425.352314336234,13189.136893936235,13895.086497136233]
[null,null,0,{"$f":"IF(C3167<>0,LOOKUP(,-CODE(C$3:C3167),C$3:C3167),D3166)","v":227},"227(450-1480)-315",null,null,null,450,1480,"315",10616.795190527537,11461.213235327536,11565.579510527536,12411.183535727536,14331.285803327537,15099.801102527535]
[null,null,0,{"$f":"IF(C3168<>0,LOOKUP(,-CODE(C$3:C3168),C$3:C3168),D3167)","v":227},"227(450-1520)-315",null,null,null,450,1520,"315",10845.968038991305,11713.301091791305,11820.499558991305,12689.050776191305,14661.258939791305,15450.629470991305]
[null,null,0,{"$f":"IF(C3169<>0,LOOKUP(,-CODE(C$3:C3169),C$3:C3169),D3168)","v":227},"227(500-1160)-315",null,null,null,500,1160,"315",9256.7016493217398,9991.7479501217385,10082.59636932174,10818.67503852174,12490.079478121741,13159.054201321738]
[null,null,0,{"$f":"IF(C3170<>0,LOOKUP(,-CODE(C$3:C3170),C$3:C3170),D3169)","v":227},"227(500-1280)-315",null,null,null,500,1280,"315",10014.26549906087,10825.74642386087,10926.041819060869,11738.662464260869,13583.86979186087,14322.408611060871]
[null,null,0,{"$f":"IF(C3171<>0,LOOKUP(,-CODE(C$3:C3171),C$3:C3171),D3170)","v":227},"227(500-1360)-315",null,null,null,500,1360,"315",10640.745470353622,11503.182811153623,11609.776190353623,12473.424819553624,14434.500739153624,15219.415622353623]
[null,null,0,{"$f":"IF(C3172<>0,LOOKUP(,-CODE(C$3:C3172),C$3:C3172),D3171)","v":227},"227(500-1480)-315",null,null,null,500,1480,"315",11550.538820092755,12489.410784892754,12605.451140092755,13545.641745292754,15680.520552892754,16534.999532092752]
[null,null,0,{"$f":"IF(C3173<>0,LOOKUP(,-CODE(C$3:C3173),C$3:C3173),D3172)","v":227},"227(500-1520)-315",null,null,null,500,1520,"315",11803.06010333913,12767.410276139131,12886.599623339131,13852.30422053913,16045.117324139132,16922.784335339129]
[null,null,0,{"$f":"IF(C3174<>0,LOOKUP(,-CODE(C$3:C3174),C$3:C3174),D3173)","v":227},"227(550-1160)-315",null,null,null,550,1160,"315",9991.853307292753,10800.847928092753,10900.836027292753,11710.966876492752,13550.520656092753,14286.796659292751]
[null,null,0,{"$f":"IF(C3175<>0,LOOKUP(,-CODE(C$3:C3175),C$3:C3175),D3174)","v":227},"227(550-1280)-315",null,null,null,550,1280,"315",10819.462461379711,11712.581306179711,11822.966781379711,12717.34000657971,14748.181874179711,15561.020373379712]
[null,null,0,{"$f":"IF(C3176<>0,LOOKUP(,-CODE(C$3:C3176),C$3:C3176),D3175)","v":227},"227(550-1360)-315",null,null,null,550,1360,"315",11504.443795571016,12453.645456371016,12570.962515571016,13521.497324771015,15679.864584371016,16543.744747571014]
[null,null,0,{"$f":"IF(C3177<>0,LOOKUP(,-CODE(C$3:C3177),C$3:C3177),D3176)","v":227},"227(550-1480)-315",null,null,null,550,1480,"315",12484.282449657971,13517.608334457971,13645.322769657971,14680.099954857973,17029.755302457972,17970.197961657974]
[null,null,0,{"$f":"IF(C3178<>0,LOOKUP(,-CODE(C$3:C3178),C$3:C3178),D3177)","v":227},"227(550-1520)-315",null,null,null,550,1520,"315",12760.152167686956,13821.519460486958,13952.699687686956,15015.557664886957,17428.975708486956,18394.939199686956]
[null,null,0,{"$f":"IF(C3179<>0,LOOKUP(,-CODE(C$3:C3179),C$3:C3179),D3178)","v":227},"227(600-1160)-315",null,null,null,600,1160,"315",10727.004965263768,11609.94790606377,11719.075685263768,12603.258714463769,14610.961834063768,15414.539117263768]
[null,null,0,{"$f":"IF(C3180<>0,LOOKUP(,-CODE(C$3:C3180),C$3:C3180),D3179)","v":227},"227(600-1280)-315",null,null,null,600,1280,"315",11624.659423698551,12599.41618849855,12719.89174369855,13696.01754889855,15912.493956498551,16799.63213569855]
[null,null,0,{"$f":"IF(C3181<>0,LOOKUP(,-CODE(C$3:C3181),C$3:C3181),D3180)","v":227},"227(600-1360)-315",null,null,null,600,1360,"315",12368.142120788405,13404.108101588405,13532.148840788404,14569.569829988404,16925.228429588406,17868.073872788405]
[null,null,0,{"$f":"IF(C3182<>0,LOOKUP(,-CODE(C$3:C3182),C$3:C3182),D3181)","v":227},"227(600-1480)-315",null,null,null,600,1480,"315",13418.026079223189,14545.80588402319,14685.19439922319,15814.55816442319,18378.990052023189,19405.396391223188]
[null,null,0,{"$f":"IF(C3183<>0,LOOKUP(,-CODE(C$3:C3183),C$3:C3183),D3182)","v":227},"227(600-1520)-315",null,null,null,600,1520,"315",13717.244232034784,14875.628644834782,15018.799752034785,16178.811109234783,18812.834092834786,19867.094064034784]
[null,null,228,{"$f":"IF(C3184<>0,LOOKUP(,-CODE(C$3:C3184),C$3:C3184),D3183)","v":228},"228(400-1160)-315","Шкаф кухонный настольный однодверная с метабоксом, Н-180 мм, полки ЛДСП",null,null,400,1160,"315",8252.3347576463766,8839.4844184463764,8912.0534776463755,9500.0277868463763,10835.133546446377,11369.505709646375]
[null,null,0,{"$f":"IF(C3185<>0,LOOKUP(,-CODE(C$3:C3185),C$3:C3185),D3184)","v":228},"228(400-1280)-315",null,null,null,400,1280,"315",8869.8079986898556,9518.0130834898555,9598.1283186898545,10247.243803889854,11721.182051489854,12311.121510689854]
[null,null,0,{"$f":"IF(C3186<>0,LOOKUP(,-CODE(C$3:C3186),C$3:C3186),D3185)","v":228},"228(400-1360)-315",null,null,null,400,1360,"315",9379.2852441855066,10068.193944985507,10153.339964185507,10843.216233385507,12409.709472985507,13036.693796185506]
[null,null,0,{"$f":"IF(C3187<>0,LOOKUP(,-CODE(C$3:C3187),C$3:C3187),D3186)","v":228},"228(400-1480)-315",null,null,null,400,1480,"315",9996.7584852289838,10746.722610028984,10839.414805228984,11590.432250428985,13295.757978028985,13978.309597228985]
[null,null,0,{"$f":"IF(C3188<>0,LOOKUP(,-CODE(C$3:C3188),C$3:C3188),D3187)","v":228},"228(400-1520)-315",null,null,null,400,1520,"315",10202.582898910145,10972.898831710145,11068.106418910145,11839.504256110145,13591.107479710145,14292.181530910146]
[null,null,0,{"$f":"IF(C3189<>0,LOOKUP(,-CODE(C$3:C3189),C$3:C3189),D3188)","v":228},"228(450-1160)-315",null,null,null,450,1160,"315",9003.0804022840584,9664.1783830840577,9745.8871222840589,10407.913611484058,11911.168711084059,12512.842154284059]
[null,null,0,{"$f":"IF(C3190<>0,LOOKUP(,-CODE(C$3:C3190),C$3:C3190),D3189)","v":228},"228(450-1280)-315",null,null,null,450,1280,"315",9690.5989476753639,10420.441952475363,10510.647267675362,11241.515332875362,12901.088120475364,13565.327259675363]
[null,null,0,{"$f":"IF(C3191<>0,LOOKUP(,-CODE(C$3:C3191),C$3:C3191),D3190)","v":228},"228(450-1360)-315",null,null,null,450,1360,"315",10258.577556069566,11034.250576869565,11130.120276069567,11906.882725269566,13670.667304869567,14376.616908069565]
[null,null,0,{"$f":"IF(C3192<>0,LOOKUP(,-CODE(C$3:C3192),C$3:C3192),D3191)","v":228},"228(450-1480)-315",null,null,null,450,1480,"315",10946.096101460869,11790.514146260868,11894.880421460868,12740.484446660868,14660.586714260869,15429.102013460868]
[null,null,0,{"$f":"IF(C3193<>0,LOOKUP(,-CODE(C$3:C3193),C$3:C3193),D3192)","v":228},"228(450-1520)-315",null,null,null,450,1520,"315",11175.268949924637,12042.602002724638,12149.800469924638,13018.351687124637,14990.559850724638,15779.930381924638]
[null,null,0,{"$f":"IF(C3194<>0,LOOKUP(,-CODE(C$3:C3194),C$3:C3194),D3193)","v":228},"228(500-1160)-315",null,null,null,500,1160,"315",9753.8260469217385,10488.872347721739,10579.720766921739,11315.799436121739,12987.203875721741,13656.178598921739]
[null,null,0,{"$f":"IF(C3195<>0,LOOKUP(,-CODE(C$3:C3195),C$3:C3195),D3194)","v":228},"228(500-1280)-315",null,null,null,500,1280,"315",10511.389896660869,11322.870821460871,11423.166216660869,12235.786861860868,14080.994189460869,14819.53300866087]
[null,null,0,{"$f":"IF(C3196<>0,LOOKUP(,-CODE(C$3:C3196),C$3:C3196),D3195)","v":228},"228(500-1360)-315",null,null,null,500,1360,"315",11137.869867953623,12000.307208753624,12106.900587953623,12970.549217153624,14931.625136753624,15716.540019953623]
[null,null,0,{"$f":"IF(C3197<>0,LOOKUP(,-CODE(C$3:C3197),C$3:C3197),D3196)","v":228},"228(500-1480)-315",null,null,null,500,1480,"315",11895.433717692755,12834.305682492753,12950.346037692754,13890.536642892754,16025.415450492754,16879.894429692751]
[null,null,0,{"$f":"IF(C3198<>0,LOOKUP(,-CODE(C$3:C3198),C$3:C3198),D3197)","v":228},"228(500-1520)-315",null,null,null,500,1520,"315",12147.95500093913,13112.305173739131,13231.49452093913,14197.199118139129,16390.012221739129,17267.679232939128]
[null,null,0,{"$f":"IF(C3199<>0,LOOKUP(,-CODE(C$3:C3199),C$3:C3199),D3198)","v":228},"228(550-1160)-315",null,null,null,550,1160,"315",10504.57169155942,11313.56631235942,11413.55441155942,12223.685260759419,14063.23904035942,14799.515043559419]
[null,null,0,{"$f":"IF(C3200<>0,LOOKUP(,-CODE(C$3:C3200),C$3:C3200),D3199)","v":228},"228(550-1280)-315",null,null,null,550,1280,"315",11332.180845646377,12225.299690446376,12335.685165646377,13230.058390846376,15260.900258446376,16073.738757646377]
[null,null,0,{"$f":"IF(C3201<>0,LOOKUP(,-CODE(C$3:C3201),C$3:C3201),D3200)","v":228},"228(550-1360)-315",null,null,null,550,1360,"315",12017.162179837682,12966.363840637681,13083.680899837682,14034.21570903768,16192.582968637682,17056.463131837681]
[null,null,0,{"$f":"IF(C3202<>0,LOOKUP(,-CODE(C$3:C3202),C$3:C3202),D3201)","v":228},"228(550-1480)-315",null,null,null,550,1480,"315",12844.771333924637,13878.097218724637,14005.811653924637,15040.588839124641,17390.244186724638,18330.68684592464]
[null,null,0,{"$f":"IF(C3203<>0,LOOKUP(,-CODE(C$3:C3203),C$3:C3203),D3202)","v":228},"228(550-1520)-315",null,null,null,550,1520,"315",13120.641051953624,14182.008344753624,14313.188571953624,15376.046549153623,17789.464592753622,18755.428083953622]
[null,null,0,{"$f":"IF(C3204<>0,LOOKUP(,-CODE(C$3:C3204),C$3:C3204),D3203)","v":228},"228(600-1160)-315",null,null,null,600,1160,"315",11255.317336197102,12138.260276997104,12247.388056197102,13131.571085397103,15139.274204997102,15942.851488197102]
[null,null,0,{"$f":"IF(C3205<>0,LOOKUP(,-CODE(C$3:C3205),C$3:C3205),D3204)","v":228},"228(600-1280)-315",null,null,null,600,1280,"315",12152.971794631885,13127.728559431882,13248.204114631884,14224.329919831882,16440.806327431885,17327.944506631884]
[null,null,0,{"$f":"IF(C3206<>0,LOOKUP(,-CODE(C$3:C3206),C$3:C3206),D3205)","v":228},"228(600-1360)-315",null,null,null,600,1360,"315",12896.454491721739,13932.420472521739,14060.461211721738,15097.882200921738,17453.54080052174,18396.386243721739]
[null,null,0,{"$f":"IF(C3207<>0,LOOKUP(,-CODE(C$3:C3207),C$3:C3207),D3206)","v":228},"228(600-1480)-315",null,null,null,600,1480,"315",13794.108950156522,14921.888754956522,15061.277270156523,16190.641035356522,18755.072922956522,19781.479262156521]
[null,null,0,{"$f":"IF(C3208<>0,LOOKUP(,-CODE(C$3:C3208),C$3:C3208),D3207)","v":228},"228(600-1520)-315",null,null,null,600,1520,"315",14093.327102968116,15251.711515768115,15394.882622968118,16554.893980168115,19188.916963768119,20243.176934968116]
[null,"88",229,{"$f":"IF(C3209<>0,LOOKUP(,-CODE(C$3:C3209),C$3:C3209),D3208)","v":229},"229(400-1160)-315","Шкаф кухонный настольный однодверная с двумя метабоксами, Н-180 мм, полки ЛДСП",null,null,400,1160,"315",8896.8832379130436,9482.5065131130432,9554.8869179130434,10141.332697713044,11472.967645113044,12005.950625913043]
[null,null,0,{"$f":"IF(C3210<>0,LOOKUP(,-CODE(C$3:C3210),C$3:C3210),D3209)","v":229},"229(400-1280)-315",null,null,null,400,1280,"315",9514.3564789565226,10161.035178156522,10240.96175895652,10888.548714756522,12359.016150156524,12947.566426956524]
[null,null,0,{"$f":"IF(C3211<>0,LOOKUP(,-CODE(C$3:C3211),C$3:C3211),D3210)","v":229},"229(400-1360)-315",null,null,null,400,1360,"315",9926.0053063188407,10613.387621518841,10698.34498631884,11386.692726118839,12949.71515351884,13575.310294318841]
[null,null,0,{"$f":"IF(C3212<>0,LOOKUP(,-CODE(C$3:C3212),C$3:C3212),D3211)","v":229},"229(400-1480)-315",null,null,null,400,1480,"315",10543.47854736232,11291.91628656232,11384.419827362319,12133.908743162319,13835.763658562319,14516.92609536232]
[null,null,0,{"$f":"IF(C3213<>0,LOOKUP(,-CODE(C$3:C3213),C$3:C3213),D3212)","v":229},"229(400-1520)-315",null,null,null,400,1520,"315",10749.302961043479,11518.092508243479,11613.111441043478,12382.980748843478,14131.11316024348,14830.798029043479]
[null,null,0,{"$f":"IF(C3214<>0,LOOKUP(,-CODE(C$3:C3214),C$3:C3214),D3213)","v":229},"229(450-1160)-315",null,null,null,450,1160,"315",9661.5002692173912,10320.87962441739,10402.375949217392,11062.681399017391,12562.028556417392,13162.137857217393]
[null,null,0,{"$f":"IF(C3215<>0,LOOKUP(,-CODE(C$3:C3215),C$3:C3215),D3214)","v":229},"229(450-1280)-315",null,null,null,450,1280,"315",10349.018814608695,11077.143193808697,11167.136094608697,11896.283120408696,13551.947965808697,14214.622962608695]
[null,null,0,{"$f":"IF(C3216<>0,LOOKUP(,-CODE(C$3:C3216),C$3:C3216),D3215)","v":229},"229(450-1360)-315",null,null,null,450,1360,"315",10807.364511536232,11581.318906736233,11676.976191536231,12452.017601336231,14211.894238736231,14916.279699536231]
[null,null,0,{"$f":"IF(C3217<>0,LOOKUP(,-CODE(C$3:C3217),C$3:C3217),D3216)","v":229},"229(450-1480)-315",null,null,null,450,1480,"315",11494.883056927538,12337.582476127536,12441.736336927537,13285.619322727536,15201.813648127536,15968.764804927536]
[null,null,0,{"$f":"IF(C3218<>0,LOOKUP(,-CODE(C$3:C3218),C$3:C3218),D3217)","v":229},"229(450-1520)-315",null,null,null,450,1520,"315",11724.055905391306,12589.670332591306,12696.656385391305,13563.486563191305,15531.786784591306,16319.593173391306]
[null,null,0,{"$f":"IF(C3219<>0,LOOKUP(,-CODE(C$3:C3219),C$3:C3219),D3218)","v":229},"229(500-1160)-315",null,null,null,500,1160,"315",10426.117300521739,11159.252735721739,11249.864980521739,11984.030100321739,13651.089467721738,14318.32508852174]
[null,null,0,{"$f":"IF(C3220<>0,LOOKUP(,-CODE(C$3:C3220),C$3:C3220),D3219)","v":229},"229(500-1280)-315",null,null,null,500,1280,"315",11183.681150260869,11993.25120946087,12093.31043026087,12904.01752606087,14744.87978146087,15481.67949826087]
[null,null,0,{"$f":"IF(C3221<>0,LOOKUP(,-CODE(C$3:C3221),C$3:C3221),D3220)","v":229},"229(500-1360)-315",null,null,null,500,1360,"315",11688.723716753624,12549.250191953624,12655.607396753623,13517.342476553624,15474.073323953624,16257.249104753624]
[null,null,0,{"$f":"IF(C3222<>0,LOOKUP(,-CODE(C$3:C3222),C$3:C3222),D3221)","v":229},"229(500-1480)-315",null,null,null,500,1480,"315",12446.287566492754,13383.248665692754,13499.052846492756,14437.329902292755,16567.863637692753,17420.603514492755]
[null,null,0,{"$f":"IF(C3223<>0,LOOKUP(,-CODE(C$3:C3223),C$3:C3223),D3222)","v":229},"229(500-1520)-315",null,null,null,500,1520,"315",12698.808849739131,13661.248156939133,13780.201329739131,14743.992377539131,16932.460408939129,17808.388317739133]
[null,null,0,{"$f":"IF(C3224<>0,LOOKUP(,-CODE(C$3:C3224),C$3:C3224),D3223)","v":229},"229(550-1160)-315",null,null,null,550,1160,"315",11190.734331826086,11997.625847026085,12097.354011826086,12905.378801626086,14740.150379026087,15474.512319826086]
[null,null,0,{"$f":"IF(C3225<>0,LOOKUP(,-CODE(C$3:C3225),C$3:C3225),D3224)","v":229},"229(550-1280)-315",null,null,null,550,1280,"315",12018.343485913045,12909.359225113043,13019.484765913043,13911.751931713043,15937.811597113043,16748.736033913046]
[null,null,0,{"$f":"IF(C3226<>0,LOOKUP(,-CODE(C$3:C3226),C$3:C3226),D3225)","v":229},"229(550-1360)-315",null,null,null,550,1360,"315",12570.082921971016,13517.181477171014,13634.238601971014,14582.667351771015,16736.252409171015,17598.218509971015]
[null,null,0,{"$f":"IF(C3227<>0,LOOKUP(,-CODE(C$3:C3227),C$3:C3227),D3226)","v":229},"229(550-1480)-315",null,null,null,550,1480,"315",13397.692076057971,14428.914855257972,14556.369356057972,15589.040481857972,17933.913627257971,18872.442224057973]
[null,null,0,{"$f":"IF(C3228<>0,LOOKUP(,-CODE(C$3:C3228),C$3:C3228),D3227)","v":229},"229(550-1520)-315",null,null,null,550,1520,"315",13673.561794086956,14732.825981286955,14863.746274086956,15924.498191886956,18333.134033286955,19297.183462086956]
[null,null,0,{"$f":"IF(C3229<>0,LOOKUP(,-CODE(C$3:C3229),C$3:C3229),D3228)","v":229},"229(600-1160)-315",null,null,null,600,1160,"315",11955.351363130434,12835.998958330434,12944.843043130435,13826.727502930435,15829.211290330433,16630.699551130434]
[null,null,0,{"$f":"IF(C3230<>0,LOOKUP(,-CODE(C$3:C3230),C$3:C3230),D3229)","v":229},"229(600-1280)-315",null,null,null,600,1280,"315",12853.005821565217,13825.467240765218,13945.659101565217,14919.486337365217,17130.743412765216,18015.792569565216]
[null,null,0,{"$f":"IF(C3231<>0,LOOKUP(,-CODE(C$3:C3231),C$3:C3231),D3230)","v":229},"229(600-1360)-315",null,null,null,600,1360,"315",13451.442127188406,14485.112762388406,14612.869807188406,15647.992226988408,17998.431494388406,18939.187915188406]
[null,null,0,{"$f":"IF(C3232<>0,LOOKUP(,-CODE(C$3:C3232),C$3:C3232),D3231)","v":229},"229(600-1480)-315",null,null,null,600,1480,"315",14349.096585623189,15474.58104482319,15613.685865623189,16740.751061423191,19299.963616823192,20324.280933623191]
[null,null,0,{"$f":"IF(C3233<>0,LOOKUP(,-CODE(C$3:C3233),C$3:C3233),D3232)","v":229},"229(600-1520)-315",null,null,null,600,1520,"315",14648.314738434783,15804.403805634782,15947.291218434782,17105.004006234783,19733.807657634781,20785.978606434786]
[null,null,230,{"$f":"IF(C3234<>0,LOOKUP(,-CODE(C$3:C3234),C$3:C3234),D3233)","v":230},"230(400-1160)-315","Шкаф кухонный настольный однодверная со стеклом, полки стекло",null,null,400,1160,"315",7335.0546767130427,7924.5575153130421,7926.211099713043,8515.7139383130434,9642.6317069130437,10178.393052513044]
[null,null,0,{"$f":"IF(C3235<>0,LOOKUP(,-CODE(C$3:C3235),C$3:C3235),D3234)","v":230},"230(400-1280)-315",null,null,null,400,1280,"315",7951.4241577565217,8602.0681723565212,8603.8932607565221,9254.5372753565225,10498.335019956521,11089.663661556522]
[null,null,0,{"$f":"IF(C3236<>0,LOOKUP(,-CODE(C$3:C3236),C$3:C3236),D3235)","v":230},"230(400-1360)-315",null,null,null,400,1360,"315",8427.2871451188403,9118.6919437188408,9120.6313681188403,9812.0361667188408,11133.753895318841,11762.127400918842]
[null,null,0,{"$f":"IF(C3237<>0,LOOKUP(,-CODE(C$3:C3237),C$3:C3237),D3236)","v":230},"230(400-1480)-315",null,null,null,400,1480,"315",9043.6566261623193,9796.202600762319,9798.3135291623203,10550.859503762318,11989.457208362319,12673.39800996232]
[null,null,0,{"$f":"IF(C3238<>0,LOOKUP(,-CODE(C$3:C3238),C$3:C3238),D3237)","v":230},"230(400-1520)-315",null,null,null,400,1520,"315",9249.1131198434796,10022.039486443478,10024.207582843479,10797.133949443478,12274.691646043479,12977.154879643478]
[null,null,0,{"$f":"IF(C3239<>0,LOOKUP(,-CODE(C$3:C3239),C$3:C3239),D3238)","v":230},"230(450-1160)-315",null,null,null,450,1160,"315",8048.2635546840593,8712.0110832840583,8713.8729276840568,9377.6204562840576,10646.467414884059,11249.705000484057]
[null,null,0,{"$f":"IF(C3240<>0,LOOKUP(,-CODE(C$3:C3240),C$3:C3240),D3239)","v":230},"230(450-1280)-315",null,null,null,450,1280,"315",8736.6943400753607,9469.2834446753623,9471.3383930753607,10203.927497675362,11604.374832275362,12270.178113875361]
[null,null,0,{"$f":"IF(C3241<>0,LOOKUP(,-CODE(C$3:C3241),C$3:C3241),D3240)","v":230},"230(450-1360)-315",null,null,null,450,1360,"315",9260.5981970028988,10039.0816856029,10041.265370002899,10819.748858602898,12307.9297772029,13015.443522802898]
[null,null,0,{"$f":"IF(C3242<>0,LOOKUP(,-CODE(C$3:C3242),C$3:C3242),D3241)","v":230},"230(450-1480)-315",null,null,null,450,1480,"315",9949.0289823942021,10796.3540469942,10798.730835394203,11646.055899994202,13265.8371945942,14035.916636194203]
[null,null,0,{"$f":"IF(C3243<>0,LOOKUP(,-CODE(C$3:C3243),C$3:C3243),D3242)","v":230},"230(450-1520)-315",null,null,null,450,1520,"315",10178.50591085797,11048.778167457971,11051.219323857969,11921.491580457969,13585.139667057971,14376.07434065797]
[null,null,0,{"$f":"IF(C3244<>0,LOOKUP(,-CODE(C$3:C3244),C$3:C3244),D3243)","v":230},"230(500-1160)-315",null,null,null,500,1160,"315",8761.4724326550713,9499.4646512550717,9501.5347556550714,10239.526974255072,11650.303122855074,12321.016948455072]
[null,null,0,{"$f":"IF(C3245<>0,LOOKUP(,-CODE(C$3:C3245),C$3:C3245),D3244)","v":230},"230(500-1280)-315",null,null,null,500,1280,"315",9521.9645223942025,10336.498716994203,10338.783525394203,11153.317719994202,12710.414644594202,13450.692566194202]
[null,null,0,{"$f":"IF(C3246<>0,LOOKUP(,-CODE(C$3:C3246),C$3:C3246),D3245)","v":230},"230(500-1360)-315",null,null,null,500,1360,"315",10093.909248886957,10959.471427486957,10961.899371886957,11827.461550486956,13482.105659086958,14268.759644686957]
[null,null,0,{"$f":"IF(C3247<>0,LOOKUP(,-CODE(C$3:C3247),C$3:C3247),D3246)","v":230},"230(500-1480)-315",null,null,null,500,1480,"315",10854.401338626087,11796.505493226086,11799.148141626087,12741.252296226088,14542.217180826086,15398.435262426086]
[null,null,0,{"$f":"IF(C3248<>0,LOOKUP(,-CODE(C$3:C3248),C$3:C3248),D3247)","v":230},"230(500-1520)-315",null,null,null,500,1520,"315",11107.898701872466,12075.516848472465,12078.231064872465,13045.849211472463,14895.587688072465,15774.993801672465]
[null,null,0,{"$f":"IF(C3249<>0,LOOKUP(,-CODE(C$3:C3249),C$3:C3249),D3248)","v":230},"230(550-1160)-315",null,null,null,550,1160,"315",9474.6813106260852,10286.918219226087,10289.196583626086,11101.433492226086,12654.138830826087,13392.328896426086]
[null,null,0,{"$f":"IF(C3250<>0,LOOKUP(,-CODE(C$3:C3250),C$3:C3250),D3249)","v":230},"230(550-1280)-315",null,null,null,550,1280,"315",10307.234704713044,11203.713989313044,11206.228657713044,12102.707942313045,13816.454456913045,14631.207018513043]
[null,null,0,{"$f":"IF(C3251<>0,LOOKUP(,-CODE(C$3:C3251),C$3:C3251),D3250)","v":230},"230(550-1360)-315",null,null,null,550,1360,"315",10927.220300771014,11879.861169371015,11882.533373771015,12835.174242371015,14656.281540971017,15522.075766571015]
[null,null,0,{"$f":"IF(C3252<>0,LOOKUP(,-CODE(C$3:C3252),C$3:C3252),D3251)","v":230},"230(550-1480)-315",null,null,null,550,1480,"315",11759.773694857971,12796.656939457971,12799.565447857971,13836.448692457972,15818.597167057971,16760.953888657972]
[null,null,0,{"$f":"IF(C3253<>0,LOOKUP(,-CODE(C$3:C3253),C$3:C3253),D3252)","v":230},"230(550-1520)-315",null,null,null,550,1520,"315",12037.291492886956,13102.255529486956,13105.242805886955,14170.206842486956,16206.035709086955,17173.913262686954]
[null,null,0,{"$f":"IF(C3254<>0,LOOKUP(,-CODE(C$3:C3254),C$3:C3254),D3253)","v":230},"230(600-1160)-315",null,null,null,600,1160,"315",10187.890188597103,11074.371787197102,11076.858411597103,11963.340010197102,13657.974538797102,14463.640844397101]
[null,null,0,{"$f":"IF(C3255<>0,LOOKUP(,-CODE(C$3:C3255),C$3:C3255),D3254)","v":230},"230(600-1280)-315",null,null,null,600,1280,"315",11092.504887031884,12070.929261631883,12073.673790031884,13052.098164631883,14922.494269231884,15811.721470831882]
[null,null,0,{"$f":"IF(C3256<>0,LOOKUP(,-CODE(C$3:C3256),C$3:C3256),D3255)","v":230},"230(600-1360)-315",null,null,null,600,1360,"315",11760.531352655074,12800.250911255074,12803.167375655074,13842.886934255073,15830.457422855074,16775.391888455073]
[null,null,0,{"$f":"IF(C3257<>0,LOOKUP(,-CODE(C$3:C3257),C$3:C3257),D3256)","v":230},"230(600-1480)-315",null,null,null,600,1480,"315",12665.146051089856,13796.808385689856,13799.982754089855,14931.645088689855,17094.977153289856,18123.472514889854]
[null,null,0,{"$f":"IF(C3258<>0,LOOKUP(,-CODE(C$3:C3258),C$3:C3258),D3257)","v":230},"230(600-1520)-315",null,null,null,600,1520,"315",12966.684283901448,14128.994210501451,14132.254546901449,15294.564473501448,17516.483730101452,18572.832723701449]
[null,null,231,{"$f":"IF(C3259<>0,LOOKUP(,-CODE(C$3:C3259),C$3:C3259),D3258)","v":231},"231(400-1160)-315","Шкаф кухонный настольный двухдверная со стеклом, полки верх-стекло, низ-ЛДСП",null,null,400,1160,"315",7613.6629971130433,8201.2446579130428,8236.661717113042,8824.6360263130446,10049.149785913043,10583.521949113043]
[null,null,0,{"$f":"IF(C3260<>0,LOOKUP(,-CODE(C$3:C3260),C$3:C3260),D3259)","v":231},"231(400-1280)-315",null,null,null,400,1280,"315",8229.6242381565207,8878.3477229565215,8913.8805581565211,9562.9960433565193,10904.22389095652,11494.163350156521]
[null,null,0,{"$f":"IF(C3261<>0,LOOKUP(,-CODE(C$3:C3261),C$3:C3261),D3260)","v":231},"231(400-1360)-315",null,null,null,400,1360,"315",8640.265065518839,9329.7497663188387,9365.35978551884,10055.236054718838,11474.27329431884,12101.257617518839]
[null,null,0,{"$f":"IF(C3262<>0,LOOKUP(,-CODE(C$3:C3262),C$3:C3262),D3261)","v":231},"231(400-1480)-315",null,null,null,400,1480,"315",9408.4558065623169,10159.082331362319,10194.808126562317,10945.825571762318,12481.576899362317,13164.12851856232]
[null,null,0,{"$f":"IF(C3263<>0,LOOKUP(,-CODE(C$3:C3263),C$3:C3263),D3262)","v":231},"231(400-1520)-315",null,null,null,400,1520,"315",9613.7762202434769,10384.783353043476,10420.547740243477,11191.945577443477,12766.601601043478,13467.675652243479]
[null,null,0,{"$f":"IF(C3264<>0,LOOKUP(,-CODE(C$3:C3264),C$3:C3264),D3263)","v":231},"231(450-1160)-315",null,null,null,450,1160,"315",8327.9356684173908,8989.5196492173927,9029.43238841739,9691.4588776173914,11070.297977217393,11671.971420417392]
[null,null,0,{"$f":"IF(C3265<>0,LOOKUP(,-CODE(C$3:C3265),C$3:C3265),D3264)","v":231},"231(450-1280)-315",null,null,null,450,1280,"315",9015.9582138086971,9746.3844186086953,9786.4345338086951,10517.302599008695,12027.576186608696,12691.815325808695]
[null,null,0,{"$f":"IF(C3266<>0,LOOKUP(,-CODE(C$3:C3266),C$3:C3266),D3265)","v":231},"231(450-1360)-315",null,null,null,450,1360,"315",9474.6399107362304,10250.960931536232,10291.102630736232,11067.865079936231,12665.761659536232,13371.711262736233]
[null,null,0,{"$f":"IF(C3267<>0,LOOKUP(,-CODE(C$3:C3267),C$3:C3267),D3266)","v":231},"231(450-1480)-315",null,null,null,450,1480,"315",10314.891956127536,11160.055200927536,11200.334276127534,12045.938301327536,13775.269368927537,14543.784668127535]
[null,null,0,{"$f":"IF(C3268<>0,LOOKUP(,-CODE(C$3:C3268),C$3:C3268),D3267)","v":231},"231(450-1520)-315",null,null,null,450,1520,"315",10544.232804591304,11412.343457391304,11452.668324591305,12321.219541791306,14094.362105391305,14883.732636591305]
[null,null,0,{"$f":"IF(C3269<>0,LOOKUP(,-CODE(C$3:C3269),C$3:C3269),D3268)","v":231},"231(500-1160)-315",null,null,null,500,1160,"315",9042.2083397217393,9777.794640521739,9822.2030597217381,10558.281728921738,12091.446168521739,12760.420891721737]
[null,null,0,{"$f":"IF(C3270<>0,LOOKUP(,-CODE(C$3:C3270),C$3:C3270),D3269)","v":231},"231(500-1280)-315",null,null,null,500,1280,"315",9802.2921894608698,10614.421114260869,10658.988509460869,11471.609154660871,13150.92848226087,13889.467301460872]
[null,null,0,{"$f":"IF(C3271<>0,LOOKUP(,-CODE(C$3:C3271),C$3:C3271),D3270)","v":231},"231(500-1360)-315",null,null,null,500,1360,"315",10309.014755953624,11172.172096753624,11216.845475953623,12080.494105153624,13857.250024753626,14642.164907953626]
[null,null,0,{"$f":"IF(C3272<>0,LOOKUP(,-CODE(C$3:C3272),C$3:C3272),D3271)","v":231},"231(500-1480)-315",null,null,null,500,1480,"315",11221.328105692754,12161.028070492754,12205.860425692752,13146.051030892753,15068.961838492753,15923.440817692754]
[null,null,0,{"$f":"IF(C3273<>0,LOOKUP(,-CODE(C$3:C3273),C$3:C3273),D3272)","v":231},"231(500-1520)-315",null,null,null,500,1520,"315",11474.689388939129,12439.903561739129,12484.78890893913,13450.49350613913,15422.12260973913,16299.789620939129]
[null,null,0,{"$f":"IF(C3274<>0,LOOKUP(,-CODE(C$3:C3274),C$3:C3274),D3273)","v":231},"231(550-1160)-315",null,null,null,550,1160,"315",9756.4810110260878,10566.069631826085,10614.973731026088,11425.104580226087,13112.594359826086,13848.870363026088]
[null,null,0,{"$f":"IF(C3275<>0,LOOKUP(,-CODE(C$3:C3275),C$3:C3275),D3274)","v":231},"231(550-1280)-315",null,null,null,550,1280,"315",10588.626165113044,11482.457809913045,11531.542485113045,12425.915710313046,14274.280777913043,15087.119277113045]
[null,null,0,{"$f":"IF(C3276<>0,LOOKUP(,-CODE(C$3:C3276),C$3:C3276),D3275)","v":231},"231(550-1360)-315",null,null,null,550,1360,"315",11143.389601171015,12093.383261971016,12142.588321171015,13093.123130371016,15048.738389971017,15912.618553171014]
[null,null,0,{"$f":"IF(C3277<>0,LOOKUP(,-CODE(C$3:C3277),C$3:C3277),D3276)","v":231},"231(550-1480)-315",null,null,null,550,1480,"315",12127.764255257971,13162.000940057971,13211.386575257971,14246.163760457972,16362.65430805797,17303.096967257974]
[null,null,0,{"$f":"IF(C3278<>0,LOOKUP(,-CODE(C$3:C3278),C$3:C3278),D3277)","v":231},"231(550-1520)-315",null,null,null,550,1520,"315",12405.145973286957,13467.463666086953,13516.909493286954,14579.767470486959,16749.883114086959,17715.846605286955]
[null,null,0,{"$f":"IF(C3279<>0,LOOKUP(,-CODE(C$3:C3279),C$3:C3279),D3278)","v":231},"231(600-1160)-315",null,null,null,600,1160,"315",10470.753682330436,11354.344623130435,11407.744402330436,12291.927431530436,14133.742551130434,14937.319834330436]
[null,null,0,{"$f":"IF(C3280<>0,LOOKUP(,-CODE(C$3:C3280),C$3:C3280),D3279)","v":231},"231(600-1280)-315",null,null,null,600,1280,"315",11374.960140765217,12350.494505565217,12404.096460765219,13380.222265965218,15397.633073565217,16284.771252765218]
[null,null,0,{"$f":"IF(C3281<>0,LOOKUP(,-CODE(C$3:C3281),C$3:C3281),D3280)","v":231},"231(600-1360)-315",null,null,null,600,1360,"315",11977.764446388406,13014.594427188405,13068.331166388407,14105.752155588409,16240.226755188409,17183.072198388407]
[null,null,0,{"$f":"IF(C3282<>0,LOOKUP(,-CODE(C$3:C3282),C$3:C3282),D3281)","v":231},"231(600-1480)-315",null,null,null,600,1480,"315",13034.200404823188,14162.97380962319,14216.912724823191,15346.27649002319,17656.346777623192,18682.753116823191]
[null,null,0,{"$f":"IF(C3283<>0,LOOKUP(,-CODE(C$3:C3283),C$3:C3283),D3282)","v":231},"231(600-1520)-315",null,null,null,600,1520,"315",13335.602557634784,14495.023770434784,14549.030077634785,15709.041434834784,18077.643618434788,19131.903589634781]
[null,null,232,{"$f":"IF(C3284<>0,LOOKUP(,-CODE(C$3:C3284),C$3:C3284),D3283)","v":232},"232(400-1160)-315","Шкаф кухонный настольный однодверная со стеклом, полки стекло, с метабоксом, Н-180 мм",null,null,400,1160,"315",8074.8114213797089,8662.6666821797098,8674.5541413797109,9262.5284505797099,10417.00061017971,10951.37277337971]
[null,null,0,{"$f":"IF(C3285<>0,LOOKUP(,-CODE(C$3:C3285),C$3:C3285),D3284)","v":232},"232(400-1280)-315",null,null,null,400,1280,"315",8690.7726624231873,9339.7697472231866,9351.7729824231865,10000.888467623188,11272.074715223187,11862.014174423188]
[null,null,0,{"$f":"IF(C3286<>0,LOOKUP(,-CODE(C$3:C3286),C$3:C3286),D3285)","v":232},"232(400-1360)-315",null,null,null,400,1360,"315",9101.4134897855056,9791.1717905855057,9803.2522097855071,10493.128478985505,11842.124118585505,12469.108441785505]
[null,null,0,{"$f":"IF(C3287<>0,LOOKUP(,-CODE(C$3:C3287),C$3:C3287),D3286)","v":232},"232(400-1480)-315",null,null,null,400,1480,"315",9717.374730828984,10468.274855628984,10480.471050828985,11231.488496028984,12697.198223628984,13379.749842828984]
[null,null,0,{"$f":"IF(C3288<>0,LOOKUP(,-CODE(C$3:C3288),C$3:C3288),D3287)","v":232},"232(400-1520)-315",null,null,null,400,1520,"315",9922.695144510144,10693.975877310142,10706.210664510145,11477.608501710143,12982.222925310143,13683.296976510144]
[null,null,0,{"$f":"IF(C3289<>0,LOOKUP(,-CODE(C$3:C3289),C$3:C3289),D3288)","v":232},"232(450-1160)-315",null,null,null,450,1160,"315",8811.0620793507242,9472.9538601507229,9486.3957993507247,10148.422288550724,11448.464588150724,12050.138031350723]
[null,null,0,{"$f":"IF(C3290<>0,LOOKUP(,-CODE(C$3:C3290),C$3:C3290),D3289)","v":232},"232(450-1280)-315",null,null,null,450,1280,"315",9499.0846247420286,10229.818629542029,10243.39794474203,10974.26600994203,12405.742797542031,13069.981936742031]
[null,null,0,{"$f":"IF(C3291<>0,LOOKUP(,-CODE(C$3:C3291),C$3:C3291),D3290)","v":232},"232(450-1360)-315",null,null,null,450,1360,"315",9957.7663216695655,10734.395142469566,10748.066041669565,11524.828490869566,13043.928270469569,13749.877873669568]
[null,null,0,{"$f":"IF(C3292<>0,LOOKUP(,-CODE(C$3:C3292),C$3:C3292),D3291)","v":232},"232(450-1480)-315",null,null,null,450,1480,"315",10645.788867060868,11491.259911860867,11505.068187060868,12350.67221226087,14001.20647986087,14769.721779060867]
[null,null,0,{"$f":"IF(C3293<>0,LOOKUP(,-CODE(C$3:C3293),C$3:C3293),D3292)","v":232},"232(450-1520)-315",null,null,null,450,1520,"315",10875.129715524636,11743.548168324636,11757.402235524636,12625.953452724636,14320.299216324636,15109.669747524635]
[null,null,0,{"$f":"IF(C3294<>0,LOOKUP(,-CODE(C$3:C3294),C$3:C3294),D3293)","v":232},"232(500-1160)-315",null,null,null,500,1160,"315",9547.3127373217394,10283.24103812174,10298.237457321738,11034.316126521739,12479.92856612174,13148.903289321739]
[null,null,0,{"$f":"IF(C3295<>0,LOOKUP(,-CODE(C$3:C3295),C$3:C3295),D3294)","v":232},"232(500-1280)-315",null,null,null,500,1280,"315",10307.39658706087,11119.86751186087,11135.022907060869,11947.64355226087,13539.41087986087,14277.94969906087]
[null,null,0,{"$f":"IF(C3296<>0,LOOKUP(,-CODE(C$3:C3296),C$3:C3296),D3295)","v":232},"232(500-1360)-315",null,null,null,500,1360,"315",10814.119153553622,11677.618494353623,11692.879873553624,12556.528502753623,14245.732422353623,15030.647305553621]
[null,null,0,{"$f":"IF(C3297<>0,LOOKUP(,-CODE(C$3:C3297),C$3:C3297),D3296)","v":232},"232(500-1480)-315",null,null,null,500,1480,"315",11574.203003292754,12514.244968092753,12529.665323292753,13469.855928492752,15305.214736092754,16159.693715292753]
[null,null,0,{"$f":"IF(C3298<>0,LOOKUP(,-CODE(C$3:C3298),C$3:C3298),D3297)","v":232},"232(500-1520)-315",null,null,null,500,1520,"315",11827.564286539129,12793.120459339129,12808.593806539129,13774.298403739129,15658.375507339128,16536.042518539129]
[null,null,0,{"$f":"IF(C3299<>0,LOOKUP(,-CODE(C$3:C3299),C$3:C3299),D3298)","v":232},"232(550-1160)-315",null,null,null,550,1160,"315",10283.563395292751,11093.528216092753,11110.079115292752,11920.209964492751,13511.392544092752,14247.668547292753]
[null,null,0,{"$f":"IF(C3300<>0,LOOKUP(,-CODE(C$3:C3300),C$3:C3300),D3299)","v":232},"232(550-1280)-315",null,null,null,550,1280,"315",11115.708549379709,12009.916394179709,12026.647869379711,12921.021094579712,14673.078962179708,15485.917461379711]
[null,null,0,{"$f":"IF(C3301<>0,LOOKUP(,-CODE(C$3:C3301),C$3:C3301),D3300)","v":232},"232(550-1360)-315",null,null,null,550,1360,"315",11670.471985437682,12620.841846237681,12637.693705437679,13588.22851463768,15447.536574237682,16311.416737437681]
[null,null,0,{"$f":"IF(C3302<>0,LOOKUP(,-CODE(C$3:C3302),C$3:C3302),D3301)","v":232},"232(550-1480)-315",null,null,null,550,1480,"315",12502.617139524638,13537.230024324639,13554.262459524638,14589.039644724638,16609.222992324638,17549.665651524636]
[null,null,0,{"$f":"IF(C3303<>0,LOOKUP(,-CODE(C$3:C3303),C$3:C3303),D3302)","v":232},"232(550-1520)-315",null,null,null,550,1520,"315",12779.998857553621,13842.692750353621,13859.785377553622,14922.64335475362,16996.451798353621,17962.415289553624]
[null,null,0,{"$f":"IF(C3304<>0,LOOKUP(,-CODE(C$3:C3304),C$3:C3304),D3303)","v":232},"232(600-1160)-315",null,null,null,600,1160,"315",11019.81405326377,11903.815394063769,11921.920773263768,12806.103802463767,14542.856522063767,15346.433805263769]
[null,null,0,{"$f":"IF(C3305<>0,LOOKUP(,-CODE(C$3:C3305),C$3:C3305),D3304)","v":232},"232(600-1280)-315",null,null,null,600,1280,"315",11924.020511698551,12899.965276498549,12918.27283169855,13894.398636898552,15806.74704449855,16693.885223698551]
[null,null,0,{"$f":"IF(C3306<>0,LOOKUP(,-CODE(C$3:C3306),C$3:C3306),D3305)","v":232},"232(600-1360)-315",null,null,null,600,1360,"315",12526.824817321742,13564.06519812174,13582.507537321739,14619.928526521739,16649.34072612174,17592.186169321736]
[null,null,0,{"$f":"IF(C3307<>0,LOOKUP(,-CODE(C$3:C3307),C$3:C3307),D3306)","v":232},"232(600-1480)-315",null,null,null,600,1480,"315",13431.031275756523,14560.215080556522,14578.859595756521,15708.223360956521,17913.231248556523,18939.637587756522]
[null,null,0,{"$f":"IF(C3308<>0,LOOKUP(,-CODE(C$3:C3308),C$3:C3308),D3307)","v":232},"232(600-1520)-315",null,null,null,600,1520,"315",13732.433428568116,14892.265041368117,14910.976948568117,16070.988305768116,18334.528089368116,19388.788060568113]
[null,"93",233,{"$f":"IF(C3309<>0,LOOKUP(,-CODE(C$3:C3309),C$3:C3309),D3308)","v":233},"233(400-1160)-315","Шкаф кухонный настольный однодверная со стеклом, полки стекло, с двумя метабоксами, Н-180 мм",null,null,400,1160,"315",8721.6279016463759,9307.8271768463765,9330.6715816463766,9917.1173614463769,11101.296308846377,11634.279289646378]
[null,null,0,{"$f":"IF(C3310<>0,LOOKUP(,-CODE(C$3:C3310),C$3:C3310),D3309)","v":233},"233(400-1280)-315",null,null,null,400,1280,"315",9337.5891426898543,9984.9302418898551,10007.890422689856,10655.477378489853,11956.370413889854,12544.920690689854]
[null,null,0,{"$f":"IF(C3311<>0,LOOKUP(,-CODE(C$3:C3311),C$3:C3311),D3310)","v":233},"233(400-1360)-315",null,null,null,400,1360,"315",9748.2299700521726,10436.332285252174,10459.369650052173,11147.717389852172,12526.419817252172,13152.014958052172]
[null,null,0,{"$f":"IF(C3312<>0,LOOKUP(,-CODE(C$3:C3312),C$3:C3312),D3311)","v":233},"233(400-1480)-315",null,null,null,400,1480,"315",10364.191211095655,11113.435350295655,11136.588491095654,11886.077406895654,13381.493922295655,14062.656359095656]
[null,null,0,{"$f":"IF(C3313<>0,LOOKUP(,-CODE(C$3:C3313),C$3:C3313),D3312)","v":233},"233(400-1520)-315",null,null,null,400,1520,"315",10569.511624776813,11339.136371976814,11362.328104776812,12132.197412576812,13666.518623976814,14366.203492776813]
[null,null,0,{"$f":"IF(C3314<>0,LOOKUP(,-CODE(C$3:C3314),C$3:C3314),D3313)","v":233},"233(450-1160)-315",null,null,null,450,1160,"315",9468.7259462840557,10128.753301484057,10154.521626284059,10814.827076084057,12148.286233484057,12748.395534284056]
[null,null,0,{"$f":"IF(C3315<>0,LOOKUP(,-CODE(C$3:C3315),C$3:C3315),D3314)","v":233},"233(450-1280)-315",null,null,null,450,1280,"315",10156.748491675362,10885.618070875362,10911.523771675362,11640.670797475363,13105.56444287536,13768.239439675363]
[null,null,0,{"$f":"IF(C3316<>0,LOOKUP(,-CODE(C$3:C3316),C$3:C3316),D3315)","v":233},"233(450-1360)-315",null,null,null,450,1360,"315",10615.430188602899,11390.194583802899,11416.191868602898,12191.233278402899,13743.7499158029,14448.135376602901]
[null,null,0,{"$f":"IF(C3317<>0,LOOKUP(,-CODE(C$3:C3317),C$3:C3317),D3316)","v":233},"233(450-1480)-315",null,null,null,450,1480,"315",11303.452733994201,12147.059353194201,12173.194013994203,13017.076999794201,14701.028125194201,15467.979281994203]
[null,null,0,{"$f":"IF(C3318<>0,LOOKUP(,-CODE(C$3:C3318),C$3:C3318),D3317)","v":233},"233(450-1520)-315",null,null,null,450,1520,"315",11532.793582457971,12399.347609657971,12425.528062457972,13292.35824025797,15020.12086165797,15807.927250457971]
[null,null,0,{"$f":"IF(C3319<>0,LOOKUP(,-CODE(C$3:C3319),C$3:C3319),D3318)","v":233},"233(500-1160)-315",null,null,null,500,1160,"315",10215.823990921739,10949.67942612174,10978.371670921739,11712.536790721739,13195.27615812174,13862.51177892174]
[null,null,0,{"$f":"IF(C3320<>0,LOOKUP(,-CODE(C$3:C3320),C$3:C3320),D3319)","v":233},"233(500-1280)-315",null,null,null,500,1280,"315",10975.907840660868,11786.305899860869,11815.157120660868,12625.864216460868,14254.75847186087,14991.558188660871]
[null,null,0,{"$f":"IF(C3321<>0,LOOKUP(,-CODE(C$3:C3321),C$3:C3321),D3320)","v":233},"233(500-1360)-315",null,null,null,500,1360,"315",11482.630407153623,12344.056882353623,12373.014087153622,13234.749166953623,14961.080014353623,15744.255795153624]
[null,null,0,{"$f":"IF(C3322<>0,LOOKUP(,-CODE(C$3:C3322),C$3:C3322),D3321)","v":233},"233(500-1480)-315",null,null,null,500,1480,"315",12242.714256892754,13180.683356092753,13209.799536892755,14148.076592692754,16020.562328092754,16873.302204892752]
[null,null,0,{"$f":"IF(C3323<>0,LOOKUP(,-CODE(C$3:C3323),C$3:C3323),D3322)","v":233},"233(500-1520)-315",null,null,null,500,1520,"315",12496.075540139131,13459.558847339133,13488.728020139131,14452.519067939131,16373.723099339131,17249.651008139132]
[null,null,0,{"$f":"IF(C3324<>0,LOOKUP(,-CODE(C$3:C3324),C$3:C3324),D3323)","v":233},"233(550-1160)-315",null,null,null,550,1160,"315",10962.922035559421,11770.605550759419,11802.221715559421,12610.246505359421,14242.266082759421,14976.62802355942]
[null,null,0,{"$f":"IF(C3325<>0,LOOKUP(,-CODE(C$3:C3325),C$3:C3325),D3324)","v":233},"233(550-1280)-315",null,null,null,550,1280,"315",11795.067189646375,12686.993728846377,12718.790469646376,13611.057635446377,15403.952500846375,16214.876937646375]
[null,null,0,{"$f":"IF(C3326<>0,LOOKUP(,-CODE(C$3:C3326),C$3:C3326),D3325)","v":233},"233(550-1360)-315",null,null,null,550,1360,"315",12349.830625704348,13297.919180904348,13329.83630570435,14278.265055504347,16178.410112904348,17040.376213704349]
[null,null,0,{"$f":"IF(C3327<>0,LOOKUP(,-CODE(C$3:C3327),C$3:C3327),D3326)","v":233},"233(550-1480)-315",null,null,null,550,1480,"315",13181.975779791303,14214.307358991306,14246.405059791306,15279.076185591306,17340.096530991308,18278.625127791307]
[null,null,0,{"$f":"IF(C3328<>0,LOOKUP(,-CODE(C$3:C3328),C$3:C3328),D3327)","v":233},"233(550-1520)-315",null,null,null,550,1520,"315",13459.357497820289,14519.770085020289,14551.927977820291,15612.679895620291,17727.325337020291,18691.374765820288]
[null,null,0,{"$f":"IF(C3329<>0,LOOKUP(,-CODE(C$3:C3329),C$3:C3329),D3328)","v":233},"233(600-1160)-315",null,null,null,600,1160,"315",11710.0200801971,12591.531675397102,12626.071760197101,13507.956219997101,15289.256007397102,16090.744268197102]
[null,null,0,{"$f":"IF(C3330<>0,LOOKUP(,-CODE(C$3:C3330),C$3:C3330),D3329)","v":233},"233(600-1280)-315",null,null,null,600,1280,"315",12614.226538631885,13587.681557831884,13622.423818631883,14596.251054431885,16553.146529831887,17438.195686631887]
[null,null,0,{"$f":"IF(C3331<>0,LOOKUP(,-CODE(C$3:C3331),C$3:C3331),D3330)","v":233},"233(600-1360)-315",null,null,null,600,1360,"315",13217.030844255074,14251.781479455072,14286.658524255075,15321.780944055074,17395.740211455071,18336.496632255072]
[null,null,0,{"$f":"IF(C3332<>0,LOOKUP(,-CODE(C$3:C3332),C$3:C3332),D3331)","v":233},"233(600-1480)-315",null,null,null,600,1480,"315",14121.237302689855,15247.931361889856,15283.010582689856,16410.075778489856,18659.630733889855,19683.948050689858]
[null,null,0,{"$f":"IF(C3333<>0,LOOKUP(,-CODE(C$3:C3333),C$3:C3333),D3332)","v":233},"233(600-1520)-315",null,null,null,600,1520,"315",14422.639455501449,15579.981322701449,15615.127935501449,16772.840723301451,19080.927574701451,20133.098523501449]
[null,null,234,{"$f":"IF(C3334<>0,LOOKUP(,-CODE(C$3:C3334),C$3:C3334),D3333)","v":234},"234(600-1160)-315","Шкаф кухонный настольный двухдверная с метабоксом, Н-180 мм, полка ЛДСП",null,null,600,1160,"315",11712.308228197102,12590.814269797102,12699.393668197101,13579.133566597102,15576.7477257971,16376.286932197101]
[null,null,0,{"$f":"IF(C3335<>0,LOOKUP(,-CODE(C$3:C3335),C$3:C3335),D3334)","v":234},"234(600-1280)-315",null,null,null,600,1280,"315",12605.828446631886,13575.686936231885,13695.557086631883,14666.777737031884,16872.116072231882,17754.796270631883]
[null,null,0,{"$f":"IF(C3336<>0,LOOKUP(,-CODE(C$3:C3336),C$3:C3336),D3335)","v":234},"234(600-1360)-315",null,null,null,600,1360,"315",13346.55498372174,14377.315105321739,14504.712423721739,15536.92024212174,17880.74136132174,18818.848887721739]
[null,null,0,{"$f":"IF(C3337<>0,LOOKUP(,-CODE(C$3:C3337),C$3:C3337),D3336)","v":234},"234(600-1480)-315",null,null,null,600,1480,"315",14240.07520215652,15362.187771756522,15500.875842156522,16624.564412556523,19176.109707756525,20197.358226156524]
[null,null,0,{"$f":"IF(C3338<>0,LOOKUP(,-CODE(C$3:C3338),C$3:C3338),D3337)","v":234},"234(600-1520)-315",null,null,null,600,1520,"315",14537.915274968116,15690.478660568117,15832.930314968116,16987.112469368119,19607.899156568117,20656.86133896812]
[null,null,0,{"$f":"IF(C3339<>0,LOOKUP(,-CODE(C$3:C3339),C$3:C3339),D3338)","v":234},"234(650-1160)-315",null,null,null,650,1160,"315",12463.053872834782,13415.508234434781,13533.227312834782,14487.01939123478,16652.782890434784,17519.623376834781]
[null,null,0,{"$f":"IF(C3340<>0,LOOKUP(,-CODE(C$3:C3340),C$3:C3340),D3339)","v":234},"234(650-1280)-315",null,null,null,650,1280,"315",13426.619395617392,14478.115805217392,14608.076035617392,15661.049266017391,18052.022141217389,19009.00201961739]
[null,null,0,{"$f":"IF(C3341<>0,LOOKUP(,-CODE(C$3:C3341),C$3:C3341),D3340)","v":234},"234(650-1360)-315",null,null,null,650,1360,"315",14225.847295605796,15343.371737205798,15481.492735605796,16600.586734005796,19141.699193205797,20158.771999605797]
[null,null,0,{"$f":"IF(C3342<>0,LOOKUP(,-CODE(C$3:C3342),C$3:C3342),D3341)","v":234},"234(650-1480)-315",null,null,null,650,1480,"315",15189.412818388406,16405.979307988404,16556.341458388408,17774.616608788405,20540.938443988405,21648.150642388406]
[null,null,0,{"$f":"IF(C3343<>0,LOOKUP(,-CODE(C$3:C3343),C$3:C3343),D3342)","v":234},"234(650-1520)-315",null,null,null,650,1520,"315",15510.601325982607,16760.181831582609,16914.624365982607,18165.959900382608,21007.351527582607,22144.61018998261]
[null,null,0,{"$f":"IF(C3344<>0,LOOKUP(,-CODE(C$3:C3344),C$3:C3344),D3343)","v":234},"234(700-1160)-315",null,null,null,700,1160,"315",13213.799517472464,14240.202199072464,14367.060957472464,15394.905215872464,17728.818055072465,18662.959821472465]
[null,null,0,{"$f":"IF(C3345<>0,LOOKUP(,-CODE(C$3:C3345),C$3:C3345),D3344)","v":234},"234(700-1280)-315",null,null,null,700,1280,"315",14247.410344602898,15380.544674202898,15520.5949846029,16655.320795002899,19231.928210202899,20263.207768602901]
[null,null,0,{"$f":"IF(C3346<>0,LOOKUP(,-CODE(C$3:C3346),C$3:C3346),D3345)","v":234},"234(700-1360)-315",null,null,null,700,1360,"315",15105.139607489855,16309.428369089856,16458.273047489856,17664.253225889857,20402.657025089855,21498.695111489858]
[null,null,0,{"$f":"IF(C3347<>0,LOOKUP(,-CODE(C$3:C3347),C$3:C3347),D3346)","v":234},"234(700-1480)-315",null,null,null,700,1480,"315",16138.750434620291,17449.770844220289,17611.80707462029,18924.66880502029,21905.767180220289,23098.943058620287]
[null,null,0,{"$f":"IF(C3348<>0,LOOKUP(,-CODE(C$3:C3348),C$3:C3348),D3347)","v":234},"234(700-1520)-315",null,null,null,700,1520,"315",16483.287376997105,17829.885002597104,17996.318416997103,19344.807331397104,22406.8038985971,23632.3590409971]
[null,null,0,{"$f":"IF(C3349<>0,LOOKUP(,-CODE(C$3:C3349),C$3:C3349),D3348)","v":234},"234(750-1160)-315",null,null,null,750,1160,"315",13964.545162110146,15064.896163710146,15200.894602110146,16302.791040510145,18804.853219710145,19806.296266110145]
[null,null,0,{"$f":"IF(C3350<>0,LOOKUP(,-CODE(C$3:C3350),C$3:C3350),D3349)","v":234},"234(750-1280)-315",null,null,null,750,1280,"315",15068.201293588407,16282.973543188407,16433.113933588407,17649.592323988407,20411.834279188406,21517.413517588408]
[null,null,0,{"$f":"IF(C3351<>0,LOOKUP(,-CODE(C$3:C3351),C$3:C3351),D3350)","v":234},"234(750-1360)-315",null,null,null,750,1360,"315",15984.431919373916,17275.485000973917,17435.053359373916,18727.919717773915,21663.614856973916,22838.618223373913]
[null,null,0,{"$f":"IF(C3352<>0,LOOKUP(,-CODE(C$3:C3352),C$3:C3352),D3351)","v":234},"234(750-1480)-315",null,null,null,750,1480,"315",17088.088050852173,18493.562380452175,18667.272690852173,20074.721001252175,23270.595916452174,24549.735474852176]
[null,null,0,{"$f":"IF(C3353<>0,LOOKUP(,-CODE(C$3:C3353),C$3:C3353),D3352)","v":234},"234(750-1520)-315",null,null,null,750,1520,"315",17455.973428011595,18899.588173611599,19078.012468011599,20523.654762411599,23806.256269611593,25120.107892011598]
[null,null,0,{"$f":"IF(C3354<>0,LOOKUP(,-CODE(C$3:C3354),C$3:C3354),D3353)","v":234},"234(800-1160)-315",null,null,null,800,1160,"315",14715.290806747827,15889.590128347827,16034.728246747825,17210.676865147827,19880.888384347829,20949.632710747825]
[null,null,0,{"$f":"IF(C3355<>0,LOOKUP(,-CODE(C$3:C3355),C$3:C3355),D3354)","v":234},"234(800-1280)-315",null,null,null,800,1280,"315",15888.992242573913,17185.402412173913,17345.632882573911,18643.863852973911,21591.740348173909,22771.619266573915]
[null,null,0,{"$f":"IF(C3356<>0,LOOKUP(,-CODE(C$3:C3356),C$3:C3356),D3355)","v":234},"234(800-1360)-315",null,null,null,800,1360,"315",16863.724231257969,18241.54163285797,18411.833671257969,19791.586209657973,22924.57268885797,24178.541335257967]
[null,null,0,{"$f":"IF(C3357<>0,LOOKUP(,-CODE(C$3:C3357),C$3:C3357),D3356)","v":234},"234(800-1480)-315",null,null,null,800,1480,"315",18037.425667084059,19537.353916684056,19722.738307084055,21224.773197484057,24635.424652684058,26000.527891084061]
[null,null,0,{"$f":"IF(C3358<>0,LOOKUP(,-CODE(C$3:C3358),C$3:C3358),D3357)","v":234},"234(800-1520)-315",null,null,null,800,1520,"315",18428.659479026086,19969.291344626086,20159.706519026087,21702.502193426088,25205.708640626086,26607.856743026088]
[null,null,235,{"$f":"IF(C3359<>0,LOOKUP(,-CODE(C$3:C3359),C$3:C3359),D3358)","v":235},"235(600-1160)-315","Шкаф кухонный настольный двухдверная с двумя метабоксами (вертикально), Н-180 мм, полка ЛДСП",null,null,600,1160,"315",12412.445611130435,13288.667841530436,13396.964971130436,14274.417850730435,16266.838905530436,17064.299587130437]
[null,null,0,{"$f":"IF(C3360<>0,LOOKUP(,-CODE(C$3:C3360),C$3:C3360),D3359)","v":235},"235(600-1280)-315",null,null,null,600,1280,"315",13305.965829565217,14273.540507965217,14393.128389565218,15362.062021165217,17562.207251965217,18442.808925565216]
[null,null,0,{"$f":"IF(C3361<>0,LOOKUP(,-CODE(C$3:C3361),C$3:C3361),D3360)","v":235},"235(600-1360)-315",null,null,null,600,1360,"315",13901.645975188405,14930.122285588404,15057.237335188405,16087.158134788406,18425.786149588406,19361.815151188406]
[null,null,0,{"$f":"IF(C3362<>0,LOOKUP(,-CODE(C$3:C3362),C$3:C3362),D3361)","v":235},"235(600-1480)-315",null,null,null,600,1480,"315",14795.166193623189,15914.994952023189,16053.400753623187,17174.802305223187,19721.154496023191,20740.324489623188]
[null,null,0,{"$f":"IF(C3363<>0,LOOKUP(,-CODE(C$3:C3363),C$3:C3363),D3362)","v":235},"235(600-1520)-315",null,null,null,600,1520,"315",15093.006266434782,16243.285840834782,16385.455226434784,17537.350362034784,20152.943944834784,21199.827602434783]
[null,null,0,{"$f":"IF(C3364<>0,LOOKUP(,-CODE(C$3:C3364),C$3:C3364),D3363)","v":235},"235(650-1160)-315",null,null,null,650,1160,"315",13177.062642434783,14127.040952834781,14244.454002434781,15195.766552034782,17355.899816834783,18220.486818434783]
[null,null,0,{"$f":"IF(C3365<>0,LOOKUP(,-CODE(C$3:C3365),C$3:C3365),D3364)","v":235},"235(650-1280)-315",null,null,null,650,1280,"315",14140.628165217393,15189.64852361739,15319.302725217392,16369.796426817393,18755.139067617391,19709.865461217392]
[null,null,0,{"$f":"IF(C3366<>0,LOOKUP(,-CODE(C$3:C3366),C$3:C3366),D3365)","v":235},"235(650-1360)-315",null,null,null,650,1360,"315",14783.005180405798,15898.053570805798,16035.868540405798,17152.483010005799,19687.965234805797,20702.784556405797]
[null,null,0,{"$f":"IF(C3367<>0,LOOKUP(,-CODE(C$3:C3367),C$3:C3367),D3366)","v":235},"235(650-1480)-315",null,null,null,650,1480,"315",15746.570703188405,16960.661141588404,17110.717263188406,18326.512884788408,21087.204485588405,22192.163199188406]
[null,null,0,{"$f":"IF(C3368<>0,LOOKUP(,-CODE(C$3:C3368),C$3:C3368),D3367)","v":235},"235(650-1520)-315",null,null,null,650,1520,"315",16067.759210782609,17314.863665182609,17469.000170782605,18717.856176382607,21553.617569182607,22688.622746782607]
[null,null,0,{"$f":"IF(C3369<>0,LOOKUP(,-CODE(C$3:C3369),C$3:C3369),D3368)","v":235},"235(700-1160)-315",null,null,null,700,1160,"315",13941.679673739131,14965.414064139131,15091.94303373913,16117.115253339131,18444.960728139129,19376.674049739129]
[null,null,0,{"$f":"IF(C3370<>0,LOOKUP(,-CODE(C$3:C3370),C$3:C3370),D3369)","v":235},"235(700-1280)-315",null,null,null,700,1280,"315",14975.290500869565,16105.756539269565,16245.477060869565,17377.530832469565,19948.070883269567,20976.921996869565]
[null,null,0,{"$f":"IF(C3371<>0,LOOKUP(,-CODE(C$3:C3371),C$3:C3371),D3370)","v":235},"235(700-1360)-315",null,null,null,700,1360,"315",15664.364385623187,16865.984856023188,17014.499745623187,18217.807885223188,20950.144320023188,22043.753961623192]
[null,null,0,{"$f":"IF(C3372<>0,LOOKUP(,-CODE(C$3:C3372),C$3:C3372),D3371)","v":235},"235(700-1480)-315",null,null,null,700,1480,"315",16697.975212753623,18006.327331153625,18168.033772753624,19478.223464353621,22453.254475153626,23644.00190875362]
[null,null,0,{"$f":"IF(C3373<>0,LOOKUP(,-CODE(C$3:C3373),C$3:C3373),D3372)","v":235},"235(700-1520)-315",null,null,null,700,1520,"315",17042.512155130436,18386.441489530436,18552.545115130437,19898.361990730435,22954.291193530436,24177.417891130437]
[null,null,0,{"$f":"IF(C3374<>0,LOOKUP(,-CODE(C$3:C3374),C$3:C3374),D3373)","v":235},"235(750-1160)-315",null,null,null,750,1160,"315",14706.296705043478,15803.787175443478,15939.432065043478,17038.463954643477,19534.021639443476,20532.861281043479]
[null,null,0,{"$f":"IF(C3375<>0,LOOKUP(,-CODE(C$3:C3375),C$3:C3375),D3374)","v":235},"235(750-1280)-315",null,null,null,750,1280,"315",15809.952836521737,17021.86455492174,17171.651396521738,18385.265238121738,21141.002698921737,22243.978532521738]
[null,null,0,{"$f":"IF(C3376<>0,LOOKUP(,-CODE(C$3:C3376),C$3:C3376),D3375)","v":235},"235(750-1360)-315",null,null,null,750,1360,"315",16545.723590840578,17833.916141240581,17993.130950840579,19283.132760440581,22212.323405240582,23384.723366840579]
[null,null,0,{"$f":"IF(C3377<>0,LOOKUP(,-CODE(C$3:C3377),C$3:C3377),D3376)","v":235},"235(750-1480)-315",null,null,null,750,1480,"315",17649.379722318841,19051.993520718843,19225.350282318839,20629.934043918842,23819.30446471884,25095.840618318842]
[null,null,0,{"$f":"IF(C3378<>0,LOOKUP(,-CODE(C$3:C3378),C$3:C3378),D3377)","v":235},"235(750-1520)-315",null,null,null,750,1520,"315",18017.26509947826,19458.019313878263,19636.090059478262,21078.867805078262,24354.964817878259,25666.213035478264]
[null,null,0,{"$f":"IF(C3379<>0,LOOKUP(,-CODE(C$3:C3379),C$3:C3379),D3378)","v":235},"235(800-1160)-315",null,null,null,800,1160,"315",15470.913736347826,16642.160286747825,16786.921096347825,17959.812655947826,20623.082550747826,21689.048512347828]
[null,null,0,{"$f":"IF(C3380<>0,LOOKUP(,-CODE(C$3:C3380),C$3:C3380),D3379)","v":235},"235(800-1280)-315",null,null,null,800,1280,"315",16644.615172173915,17937.972570573911,18097.825732173911,19392.999643773914,22333.934514573913,23511.035068173915]
[null,null,0,{"$f":"IF(C3381<>0,LOOKUP(,-CODE(C$3:C3381),C$3:C3381),D3380)","v":235},"235(800-1360)-315",null,null,null,800,1360,"315",17427.08279605797,18801.847426457971,18971.762156057972,20348.457635657971,23474.50249045797,24725.69277205797]
[null,null,0,{"$f":"IF(C3382<>0,LOOKUP(,-CODE(C$3:C3382),C$3:C3382),D3381)","v":235},"235(800-1480)-315",null,null,null,800,1480,"315",18600.784231884059,20097.659710284061,20282.666791884058,21781.644623484059,25185.354454284057,26547.67932788406]
[null,null,0,{"$f":"IF(C3383<>0,LOOKUP(,-CODE(C$3:C3383),C$3:C3383),D3382)","v":235},"235(800-1520)-315",null,null,null,800,1520,"315",18992.018043826087,20529.59713822609,20719.635003826086,22259.373619426085,25755.638442226089,27155.008179826087]
[null,null,236,{"$f":"IF(C3384<>0,LOOKUP(,-CODE(C$3:C3384),C$3:C3384),D3383)","v":236},"236(600-1160)-315","Шкаф кухонный настольный двухдверная с двумя метабоксами (горизонтально), Н-180 мм, полка ЛДСП",null,null,600,1160,"315",12334.736697530436,13213.242739130434,13321.822137530435,14201.562035930434,16199.176195130432,16998.715401530433]
[null,null,0,{"$f":"IF(C3385<>0,LOOKUP(,-CODE(C$3:C3385),C$3:C3385),D3384)","v":236},"236(600-1280)-315",null,null,null,600,1280,"315",13228.256915965219,14198.115405565219,14317.985555965217,15289.206206365216,17494.544541565218,18377.224739965215]
[null,null,0,{"$f":"IF(C3386<>0,LOOKUP(,-CODE(C$3:C3386),C$3:C3386),D3385)","v":236},"236(600-1360)-315",null,null,null,600,1360,"315",13968.983453055072,14999.743574655073,15127.140893055072,16159.348711455073,18503.169830655072,19441.277357055071]
[null,null,0,{"$f":"IF(C3387<>0,LOOKUP(,-CODE(C$3:C3387),C$3:C3387),D3386)","v":236},"236(600-1480)-315",null,null,null,600,1480,"315",14862.503671489852,15984.616241089854,16123.304311489854,17246.992881889855,19798.538177089857,20819.786695489856]
[null,null,0,{"$f":"IF(C3388<>0,LOOKUP(,-CODE(C$3:C3388),C$3:C3388),D3387)","v":236},"236(600-1520)-315",null,null,null,600,1520,"315",15160.343744301448,16312.907129901449,16455.358784301447,17609.540938701452,20230.327625901449,21279.289808301452]
[null,null,0,{"$f":"IF(C3389<>0,LOOKUP(,-CODE(C$3:C3389),C$3:C3389),D3388)","v":236},"236(650-1160)-315",null,null,null,650,1160,"315",13085.482342168116,14037.936703768115,14155.655782168116,15109.447860568114,17275.211359768116,18142.051846168113]
[null,null,0,{"$f":"IF(C3390<>0,LOOKUP(,-CODE(C$3:C3390),C$3:C3390),D3389)","v":236},"236(650-1280)-315",null,null,null,650,1280,"315",14049.047864950724,15100.544274550724,15230.504504950724,16283.477735350723,18674.450610550724,19631.430488950726]
[null,null,0,{"$f":"IF(C3391<>0,LOOKUP(,-CODE(C$3:C3391),C$3:C3391),D3390)","v":236},"236(650-1360)-315",null,null,null,650,1360,"315",14848.27576493913,15965.80020653913,16103.92120493913,17223.015203339128,19764.127662539129,20781.200468939129]
[null,null,0,{"$f":"IF(C3392<>0,LOOKUP(,-CODE(C$3:C3392),C$3:C3392),D3391)","v":236},"236(650-1480)-315",null,null,null,650,1480,"315",15811.841287721738,17028.407777321736,17178.76992772174,18397.045078121737,21163.366913321737,22270.579111721738]
[null,null,0,{"$f":"IF(C3393<>0,LOOKUP(,-CODE(C$3:C3393),C$3:C3393),D3392)","v":236},"236(650-1520)-315",null,null,null,650,1520,"315",16133.029795315941,17382.610300915941,17537.052835315939,18788.38836971594,21629.779996915939,22767.038659315942]
[null,null,0,{"$f":"IF(C3394<>0,LOOKUP(,-CODE(C$3:C3394),C$3:C3394),D3393)","v":236},"236(700-1160)-315",null,null,null,700,1160,"315",13836.227986805796,14862.630668405796,14989.489426805798,16017.333685205798,18351.246524405797,19285.388290805797]
[null,null,0,{"$f":"IF(C3395<>0,LOOKUP(,-CODE(C$3:C3395),C$3:C3395),D3394)","v":236},"236(700-1280)-315",null,null,null,700,1280,"315",14869.838813936232,16002.97314353623,16143.023453936232,17277.749264336231,19854.356679536231,20885.636237936233]
[null,null,0,{"$f":"IF(C3396<>0,LOOKUP(,-CODE(C$3:C3396),C$3:C3396),D3395)","v":236},"236(700-1360)-315",null,null,null,700,1360,"315",15727.568076823187,16931.856838423188,17080.701516823188,18286.681695223189,21025.085494423187,22121.12358082319]
[null,null,0,{"$f":"IF(C3397<>0,LOOKUP(,-CODE(C$3:C3397),C$3:C3397),D3396)","v":236},"236(700-1480)-315",null,null,null,700,1480,"315",16761.178903953623,18072.199313553621,18234.235543953622,19547.097274353622,22528.195649553621,23721.371527953619]
[null,null,0,{"$f":"IF(C3398<>0,LOOKUP(,-CODE(C$3:C3398),C$3:C3398),D3397)","v":236},"236(700-1520)-315",null,null,null,700,1520,"315",17105.715846330437,18452.313471930436,18618.746886330435,19967.235800730436,23029.232367930432,24254.787510330432]
[null,null,0,{"$f":"IF(C3399<>0,LOOKUP(,-CODE(C$3:C3399),C$3:C3399),D3398)","v":236},"236(750-1160)-315",null,null,null,750,1160,"315",14586.973631443478,15687.324633043478,15823.323071443478,16925.219509843475,19427.281689043477,20428.724735443477]
[null,null,0,{"$f":"IF(C3400<>0,LOOKUP(,-CODE(C$3:C3400),C$3:C3400),D3399)","v":236},"236(750-1280)-315",null,null,null,750,1280,"315",15690.629762921739,16905.402012521739,17055.542402921739,18272.020793321739,21034.262748521738,22139.84198692174]
[null,null,0,{"$f":"IF(C3401<>0,LOOKUP(,-CODE(C$3:C3401),C$3:C3401),D3400)","v":236},"236(750-1360)-315",null,null,null,750,1360,"315",16606.860388707246,17897.913470307249,18057.481828707248,19350.348187107247,22286.043326307248,23461.046692707245]
[null,null,0,{"$f":"IF(C3402<>0,LOOKUP(,-CODE(C$3:C3402),C$3:C3402),D3401)","v":236},"236(750-1480)-315",null,null,null,750,1480,"315",17710.516520185509,19115.990849785507,19289.701160185508,20697.149470585511,23893.024385785506,25172.163944185508]
[null,null,0,{"$f":"IF(C3403<>0,LOOKUP(,-CODE(C$3:C3403),C$3:C3403),D3402)","v":236},"236(750-1520)-315",null,null,null,750,1520,"315",18078.401897344927,19522.016642944931,19700.440937344931,21146.083231744931,24428.684738944925,25742.53636134493]
[null,null,0,{"$f":"IF(C3404<>0,LOOKUP(,-CODE(C$3:C3404),C$3:C3404),D3403)","v":236},"236(800-1160)-315",null,null,null,800,1160,"315",15337.719276081159,16512.018597681159,16657.156716081157,17833.105334481159,20503.316853681161,21572.061180081157]
[null,null,0,{"$f":"IF(C3405<>0,LOOKUP(,-CODE(C$3:C3405),C$3:C3405),D3404)","v":236},"236(800-1280)-315",null,null,null,800,1280,"315",16511.420711907245,17807.830881507245,17968.061351907243,19266.292322307243,22214.168817507241,23394.047735907247]
[null,null,0,{"$f":"IF(C3406<>0,LOOKUP(,-CODE(C$3:C3406),C$3:C3406),D3405)","v":236},"236(800-1360)-315",null,null,null,800,1360,"315",17486.152700591301,18863.970102191302,19034.262140591301,20414.014678991305,23547.001158191302,24800.969804591299]
[null,null,0,{"$f":"IF(C3407<>0,LOOKUP(,-CODE(C$3:C3407),C$3:C3407),D3406)","v":236},"236(800-1480)-315",null,null,null,800,1480,"315",18659.854136417391,20159.782386017388,20345.166776417391,21847.201666817389,25257.85312201739,26622.956360417393]
[null,null,0,{"$f":"IF(C3408<>0,LOOKUP(,-CODE(C$3:C3408),C$3:C3408),D3407)","v":236},"236(800-1520)-315",null,null,null,800,1520,"315",19051.087948359418,20591.719813959418,20782.134988359423,22324.93066275942,25828.137109959418,27230.28521235942]
[null,null,237,{"$f":"IF(C3409<>0,LOOKUP(,-CODE(C$3:C3409),C$3:C3409),D3408)","v":237},"237(600-1160)-315","Шкаф кухонный настольный двухдверная со стеклом, полки стекло, с метабоксом, Н-180 мм",null,null,600,1160,"315",11349.394945263768,12228.959386863768,12246.516385263767,13126.256283663766,14852.920042863767,15652.459249263768]
[null,null,0,{"$f":"IF(C3410<>0,LOOKUP(,-CODE(C$3:C3410),C$3:C3410),D3409)","v":237},"237(600-1280)-315",null,null,null,600,1280,"315",12231.827163698552,13202.873653298551,13220.575803698552,14191.796454098552,16093.006789298552,16975.686987698551]
[null,null,0,{"$f":"IF(C3411<>0,LOOKUP(,-CODE(C$3:C3411),C$3:C3411),D3410)","v":237},"237(600-1360)-315",null,null,null,600,1360,"315",12820.115309321738,13852.14983092174,13869.94874932174,14902.156567721739,16919.731286921739,17857.838813321741]
[null,null,0,{"$f":"IF(C3412<>0,LOOKUP(,-CODE(C$3:C3412),C$3:C3412),D3411)","v":237},"237(600-1480)-315",null,null,null,600,1480,"315",13702.547527756524,14826.064097356524,14844.008167756521,15967.696738156523,18159.818033356525,19181.066551756521]
[null,null,0,{"$f":"IF(C3413<>0,LOOKUP(,-CODE(C$3:C3413),C$3:C3413),D3412)","v":237},"237(600-1520)-315",null,null,null,600,1520,"315",13996.691600568114,15150.702186168115,15168.694640568116,16322.876794968115,18573.180282168116,19622.142464568118]
[null,null,0,{"$f":"IF(C3414<>0,LOOKUP(,-CODE(C$3:C3414),C$3:C3414),D3413)","v":237},"237(650-1160)-315",null,null,null,650,1160,"315",12085.645603234781,13039.246564834782,13058.358043234781,14012.150121634781,15884.384020834781,16751.22450723478]
[null,null,0,{"$f":"IF(C3415<>0,LOOKUP(,-CODE(C$3:C3415),C$3:C3415),D3414)","v":237},"237(650-1280)-315",null,null,null,650,1280,"315",13040.13912601739,14092.922535617392,14112.200766017389,15165.17399641739,17226.674871617393,18183.654750017391]
[null,null,0,{"$f":"IF(C3416<>0,LOOKUP(,-CODE(C$3:C3416),C$3:C3416),D3415)","v":237},"237(650-1360)-315",null,null,null,650,1360,"315",13676.468141205796,14795.373182805795,14814.762581205798,15933.856579605797,18121.5354388058,19138.6082452058]
[null,null,0,{"$f":"IF(C3417<>0,LOOKUP(,-CODE(C$3:C3417),C$3:C3417),D3416)","v":237},"237(650-1480)-315",null,null,null,650,1480,"315",14630.961663988408,15849.049153588407,15868.605303988406,17086.880454388403,19463.826289588404,20571.038487988408]
[null,null,0,{"$f":"IF(C3418<>0,LOOKUP(,-CODE(C$3:C3418),C$3:C3418),D3417)","v":237},"237(650-1520)-315",null,null,null,650,1520,"315",14949.126171582608,16200.274477182609,16219.886211582609,17471.22174598261,19911.256573182611,21048.515235582607]
[null,null,0,{"$f":"IF(C3419<>0,LOOKUP(,-CODE(C$3:C3419),C$3:C3419),D3418)","v":237},"237(700-1160)-315",null,null,null,700,1160,"315",12821.896261205797,13849.533742805799,13870.199701205798,14898.043959605799,16915.847998805795,17849.989765205799]
[null,null,0,{"$f":"IF(C3420<>0,LOOKUP(,-CODE(C$3:C3420),C$3:C3420),D3419)","v":237},"237(700-1280)-315",null,null,null,700,1280,"315",13848.451088336235,14982.971417936231,15003.825728336233,16138.551538736232,18360.342953936233,19391.622512336235]
[null,null,0,{"$f":"IF(C3421<>0,LOOKUP(,-CODE(C$3:C3421),C$3:C3421),D3420)","v":237},"237(700-1360)-315",null,null,null,700,1360,"315",14532.820973089856,15738.596534689856,15759.576413089857,16965.556591489854,19323.339590689851,20419.377677089855]
[null,null,0,{"$f":"IF(C3422<>0,LOOKUP(,-CODE(C$3:C3422),C$3:C3422),D3421)","v":237},"237(700-1480)-315",null,null,null,700,1480,"315",15559.375800220289,16872.034209820289,16893.202440220288,18206.064170620288,20767.834545820289,21961.010424220287]
[null,null,0,{"$f":"IF(C3423<>0,LOOKUP(,-CODE(C$3:C3423),C$3:C3423),D3422)","v":237},"237(700-1520)-315",null,null,null,700,1520,"315",15901.560742597103,17249.846768197101,17271.077782597105,18619.566696997103,21249.332864197098,22474.888006597099]
[null,null,0,{"$f":"IF(C3424<>0,LOOKUP(,-CODE(C$3:C3424),C$3:C3424),D3423)","v":237},"237(750-1160)-315",null,null,null,750,1160,"315",13558.14691917681,14659.82092077681,14682.04135917681,15783.937797576809,17947.311976776815,18948.755023176811]
[null,null,0,{"$f":"IF(C3425<>0,LOOKUP(,-CODE(C$3:C3425),C$3:C3425),D3424)","v":237},"237(750-1280)-315",null,null,null,750,1280,"315",14656.763050655072,15873.020300255073,15895.450690655074,17111.929081055074,19494.011036255073,20599.590274655075]
[null,null,0,{"$f":"IF(C3426<>0,LOOKUP(,-CODE(C$3:C3426),C$3:C3426),D3425)","v":237},"237(750-1360)-315",null,null,null,750,1360,"315",15389.173804973912,16681.819886573914,16704.390244973914,17997.256603373913,20525.143742573913,21700.147108973913]
[null,null,0,{"$f":"IF(C3427<>0,LOOKUP(,-CODE(C$3:C3427),C$3:C3427),D3426)","v":237},"237(750-1480)-315",null,null,null,750,1480,"315",16487.78993645218,17895.019266052179,17917.799576452177,19325.247886852179,22071.842802052179,23350.982360452177]
[null,null,0,{"$f":"IF(C3428<>0,LOOKUP(,-CODE(C$3:C3428),C$3:C3428),D3427)","v":237},"237(750-1520)-315",null,null,null,750,1520,"315",16853.995313611595,18299.419059211596,18322.269353611595,19767.911648011599,22587.409155211604,23901.260777611602]
[null,null,0,{"$f":"IF(C3429<>0,LOOKUP(,-CODE(C$3:C3429),C$3:C3429),D3428)","v":237},"237(800-1160)-315",null,null,null,800,1160,"315",14294.397577147825,15470.108098747827,15493.883017147829,16669.831635547827,18978.775954747827,20047.520281147827]
[null,null,0,{"$f":"IF(C3430<>0,LOOKUP(,-CODE(C$3:C3430),C$3:C3430),D3429)","v":237},"237(800-1280)-315",null,null,null,800,1280,"315",15465.075012973914,16763.069182573912,16787.075652973912,18085.306623373912,20627.679118573913,21807.558036973915]
[null,null,0,{"$f":"IF(C3431<>0,LOOKUP(,-CODE(C$3:C3431),C$3:C3431),D3430)","v":237},"237(800-1360)-315",null,null,null,800,1360,"315",16245.526636857971,17625.043238457969,17649.204076857972,19028.956615257972,21726.947894457968,22980.916540857972]
[null,null,0,{"$f":"IF(C3432<>0,LOOKUP(,-CODE(C$3:C3432),C$3:C3432),D3431)","v":237},"237(800-1480)-315",null,null,null,800,1480,"315",17416.204072684057,18918.004322284058,18942.396712684058,20444.431603084056,23375.851058284057,24740.954296684056]
[null,null,0,{"$f":"IF(C3433<>0,LOOKUP(,-CODE(C$3:C3433),C$3:C3433),D3432)","v":237},"237(800-1520)-315",null,null,null,800,1520,"315",17806.429884626086,19348.991350226082,19373.460924626088,20916.256599026085,23925.485446226085,25327.633548626087]
[null,null,238,{"$f":"IF(C3434<>0,LOOKUP(,-CODE(C$3:C3434),C$3:C3434),D3433)","v":238},"238(600-1160)-315","Шкаф кухонный настольный двухдверная со стеклом, полки стекло, с двумя метабоксами (вертикально), Н-180 мм",null,null,600,1160,"315",12066.164328197101,12943.250558597101,12977.243688197101,13854.696567797102,15625.933622597102,16423.394304197103]
[null,null,0,{"$f":"IF(C3435<>0,LOOKUP(,-CODE(C$3:C3435),C$3:C3435),D3434)","v":238},"238(600-1280)-315",null,null,null,600,1280,"315",12948.596546631885,13917.164825031885,13951.303106631885,14920.236738231886,16866.020369031885,17746.622042631887]
[null,null,0,{"$f":"IF(C3436<>0,LOOKUP(,-CODE(C$3:C3436),C$3:C3436),D3435)","v":238},"238(600-1360)-315",null,null,null,600,1360,"315",13536.884692255071,14566.441002655074,14600.676052255074,15630.596851855074,17692.744866655074,18628.773868255073]
[null,null,0,{"$f":"IF(C3437<>0,LOOKUP(,-CODE(C$3:C3437),C$3:C3437),D3436)","v":238},"238(600-1480)-315",null,null,null,600,1480,"315",14419.316910689857,15540.355269089856,15574.735470689855,16696.137022289855,18932.831613089857,19952.001606689861]
[null,null,0,{"$f":"IF(C3438<>0,LOOKUP(,-CODE(C$3:C3438),C$3:C3438),D3437)","v":238},"238(600-1520)-315",null,null,null,600,1520,"315",14713.460983501449,15864.993357901451,15899.421943501449,17051.317079101449,19346.193861901447,20393.07751950145]
[null,null,0,{"$f":"IF(C3439<>0,LOOKUP(,-CODE(C$3:C3439),C$3:C3439),D3438)","v":238},"238(650-1160)-315",null,null,null,650,1160,"315",12813.262372834783,13764.176683234784,13801.093732834785,14752.406282434784,16672.923547234779,17537.51054883478]
[null,null,0,{"$f":"IF(C3440<>0,LOOKUP(,-CODE(C$3:C3440),C$3:C3440),D3439)","v":238},"238(650-1280)-315",null,null,null,650,1280,"315",13767.755895617389,14817.852654017392,14854.93645561739,15905.43015721739,18015.214398017393,18969.940791617391]
[null,null,0,{"$f":"IF(C3441<>0,LOOKUP(,-CODE(C$3:C3441),C$3:C3441),D3440)","v":238},"238(650-1360)-315",null,null,null,650,1360,"315",14404.084910805797,15520.303301205797,15557.498270805798,16674.112740405795,18910.074965205797,19924.894286805797]
[null,null,0,{"$f":"IF(C3442<>0,LOOKUP(,-CODE(C$3:C3442),C$3:C3442),D3441)","v":238},"238(650-1480)-315",null,null,null,650,1480,"315",15358.578433588405,16573.979271988406,16611.340993588405,17827.136615188407,20252.365815988411,21357.324529588408]
[null,null,0,{"$f":"IF(C3443<>0,LOOKUP(,-CODE(C$3:C3443),C$3:C3443),D3442)","v":238},"238(650-1520)-315",null,null,null,650,1520,"315",15676.742941182607,16925.204595582607,16962.621901182607,18211.477906782609,20699.796099582607,21834.801277182607]
[null,null,0,{"$f":"IF(C3444<>0,LOOKUP(,-CODE(C$3:C3444),C$3:C3444),D3443)","v":238},"238(700-1160)-315",null,null,null,700,1160,"315",13560.360417472464,14585.102807872463,14624.943777472465,15650.115997072462,17719.913471872464,18651.626793472464]
[null,null,0,{"$f":"IF(C3445<>0,LOOKUP(,-CODE(C$3:C3445),C$3:C3445),D3444)","v":238},"238(700-1280)-315",null,null,null,700,1280,"315",14586.915244602898,15718.540483002898,15758.569804602899,16890.623576202903,19164.408427002898,20193.2595406029]
[null,null,0,{"$f":"IF(C3446<>0,LOOKUP(,-CODE(C$3:C3446),C$3:C3446),D3445)","v":238},"238(700-1360)-315",null,null,null,700,1360,"315",15271.285129356522,16474.165599756521,16514.32048935652,17717.628628956521,20127.405063756523,21221.014705356523]
[null,null,0,{"$f":"IF(C3447<>0,LOOKUP(,-CODE(C$3:C3447),C$3:C3447),D3446)","v":238},"238(700-1480)-315",null,null,null,700,1480,"315",16297.839956486956,17607.603274886958,17647.946516486962,18958.136208086959,21571.900018886961,22762.647452486963]
[null,null,0,{"$f":"IF(C3448<>0,LOOKUP(,-CODE(C$3:C3448),C$3:C3448),D3447)","v":238},"238(700-1520)-315",null,null,null,700,1520,"315",16640.024898863769,17985.415833263771,18025.821858863768,19371.638734463766,22053.39833726377,23276.525034863771]
[null,null,0,{"$f":"IF(C3449<>0,LOOKUP(,-CODE(C$3:C3449),C$3:C3449),D3448)","v":238},"238(750-1160)-315",null,null,null,750,1160,"315",14307.458462110144,15406.028932510146,15448.793822110145,16547.825711710146,18766.903396510144,19765.743038110148]
[null,null,0,{"$f":"IF(C3450<>0,LOOKUP(,-CODE(C$3:C3450),C$3:C3450),D3449)","v":238},"238(750-1280)-315",null,null,null,750,1280,"315",15406.074593588406,16619.228311988405,16662.203153588405,17875.816995188408,20313.602455988406,21416.578289588404]
[null,null,0,{"$f":"IF(C3451<>0,LOOKUP(,-CODE(C$3:C3451),C$3:C3451),D3450)","v":238},"238(750-1360)-315",null,null,null,750,1360,"315",16138.485347907246,17428.027898307246,17471.142707907245,18761.144517507248,21344.735162307246,22517.135123907246]
[null,null,0,{"$f":"IF(C3452<>0,LOOKUP(,-CODE(C$3:C3452),C$3:C3452),D3451)","v":238},"238(750-1480)-315",null,null,null,750,1480,"315",17237.10147938551,18641.227277785511,18684.552039385508,20089.135800985507,22891.434221785512,24167.97037538551]
[null,null,0,{"$f":"IF(C3453<>0,LOOKUP(,-CODE(C$3:C3453),C$3:C3453),D3452)","v":238},"238(750-1520)-315",null,null,null,750,1520,"315",17603.306856544928,19045.627070944931,19089.021816544933,20531.79956214493,23407.00057494493,24718.248792544931]
[null,null,0,{"$f":"IF(C3454<>0,LOOKUP(,-CODE(C$3:C3454),C$3:C3454),D3453)","v":238},"238(800-1160)-315",null,null,null,800,1160,"315",15054.556506747824,16226.955057147825,16272.643866747825,17445.535426347826,19813.893321147825,20879.859282747828]
[null,null,0,{"$f":"IF(C3455<>0,LOOKUP(,-CODE(C$3:C3455),C$3:C3455),D3454)","v":238},"238(800-1280)-315",null,null,null,800,1280,"315",16225.233942573914,17519.916140973914,17565.836502573911,18861.01041417391,21462.796484973911,22639.897038573912]
[null,null,0,{"$f":"IF(C3456<>0,LOOKUP(,-CODE(C$3:C3456),C$3:C3456),D3455)","v":238},"238(800-1360)-315",null,null,null,800,1360,"315",17005.685566457971,18381.89019685797,18427.964926457971,19804.66040605797,22562.065260857969,23813.25554245797]
[null,null,0,{"$f":"IF(C3457<>0,LOOKUP(,-CODE(C$3:C3457),C$3:C3457),D3456)","v":238},"238(800-1480)-315",null,null,null,800,1480,"315",18176.363002284059,19674.851280684059,19721.157562284061,21220.135393884062,24210.968424684062,25573.293298284065]
[null,null,0,{"$f":"IF(C3458<>0,LOOKUP(,-CODE(C$3:C3458),C$3:C3458),D3457)","v":238},"238(800-1520)-315",null,null,null,800,1520,"315",18566.588814226088,20105.838308626091,20152.221774226087,21691.960389826087,24760.602812626094,26159.972550226092]
[null,null,239,{"$f":"IF(C3459<>0,LOOKUP(,-CODE(C$3:C3459),C$3:C3459),D3458)","v":239},"239(600-1160)-315","Шкаф кухонный настольный двухдверная со стеклом, полки стекло, с двумя метабоксами (горизонтально), Н-180 мм",null,null,600,1160,"315",11971.823414597102,12851.3878561971,12868.944854597101,13748.6847529971,15475.348512197099,16274.887718597101]
[null,null,0,{"$f":"IF(C3460<>0,LOOKUP(,-CODE(C$3:C3460),C$3:C3460),D3459)","v":239},"239(600-1280)-315",null,null,null,600,1280,"315",12854.255633031884,13825.302122631883,13843.004273031884,14814.224923431884,16715.435258631886,17598.115457031883]
[null,null,0,{"$f":"IF(C3461<>0,LOOKUP(,-CODE(C$3:C3461),C$3:C3461),D3460)","v":239},"239(600-1360)-315",null,null,null,600,1360,"315",13442.54377865507,14474.578300255072,14492.377218655072,15524.585037055071,17542.159756255071,18480.267282655073]
[null,null,0,{"$f":"IF(C3462<>0,LOOKUP(,-CODE(C$3:C3462),C$3:C3462),D3461)","v":239},"239(600-1480)-315",null,null,null,600,1480,"315",14324.975997089856,15448.492566689856,15466.436637089853,16590.125207489855,18782.246502689857,19803.495021089853]
[null,null,0,{"$f":"IF(C3463<>0,LOOKUP(,-CODE(C$3:C3463),C$3:C3463),D3462)","v":239},"239(600-1520)-315",null,null,null,600,1520,"315",14619.120069901448,15773.130655501449,15791.123109901448,16945.305264301449,19195.608751501448,20244.57093390145]
[null,null,0,{"$f":"IF(C3464<>0,LOOKUP(,-CODE(C$3:C3464),C$3:C3464),D3463)","v":239},"239(650-1160)-315",null,null,null,650,1160,"315",12708.074072568113,13661.675034168116,13680.786512568115,14634.578590968114,16506.812490168115,17373.652976568112]
[null,null,0,{"$f":"IF(C3465<>0,LOOKUP(,-CODE(C$3:C3465),C$3:C3465),D3464)","v":239},"239(650-1280)-315",null,null,null,650,1280,"315",13662.567595350723,14715.351004950724,14734.629235350723,15787.602465750722,17849.103340950725,18806.083219350723]
[null,null,0,{"$f":"IF(C3466<>0,LOOKUP(,-CODE(C$3:C3466),C$3:C3466),D3465)","v":239},"239(650-1360)-315",null,null,null,650,1360,"315",14298.896610539128,15417.801652139127,15437.19105053913,16556.285048939131,18743.963908139132,19761.036714539132]
[null,null,0,{"$f":"IF(C3467<>0,LOOKUP(,-CODE(C$3:C3467),C$3:C3467),D3466)","v":239},"239(650-1480)-315",null,null,null,650,1480,"315",15253.39013332174,16471.477622921739,16491.033773321738,17709.308923721735,20086.254758921736,21193.46695732174]
[null,null,0,{"$f":"IF(C3468<>0,LOOKUP(,-CODE(C$3:C3468),C$3:C3468),D3467)","v":239},"239(650-1520)-315",null,null,null,650,1520,"315",15571.554640915941,16822.702946515943,16842.314680915944,18093.650215315942,20533.685042515943,21670.943704915942]
[null,null,0,{"$f":"IF(C3469<>0,LOOKUP(,-CODE(C$3:C3469),C$3:C3469),D3468)","v":239},"239(700-1160)-315",null,null,null,700,1160,"315",13444.324730539129,14471.962212139131,14492.628170539132,15520.472428939132,17538.276468139127,18472.418234539131]
[null,null,0,{"$f":"IF(C3470<>0,LOOKUP(,-CODE(C$3:C3470),C$3:C3470),D3469)","v":239},"239(700-1280)-315",null,null,null,700,1280,"315",14470.879557669567,15605.399887269565,15626.254197669565,16760.980008069564,18982.771423269565,20014.050981669567]
[null,null,0,{"$f":"IF(C3471<>0,LOOKUP(,-CODE(C$3:C3471),C$3:C3471),D3470)","v":239},"239(700-1360)-315",null,null,null,700,1360,"315",15155.249442423188,16361.025004023188,16382.004882423189,17587.985060823186,19945.768060023183,21041.806146423187]
[null,null,0,{"$f":"IF(C3472<>0,LOOKUP(,-CODE(C$3:C3472),C$3:C3472),D3471)","v":239},"239(700-1480)-315",null,null,null,700,1480,"315",16181.804269553622,17494.462679153621,17515.63090955362,18828.49263995362,21390.263015153621,22583.438893553619]
[null,null,0,{"$f":"IF(C3473<>0,LOOKUP(,-CODE(C$3:C3473),C$3:C3473),D3472)","v":239},"239(700-1520)-315",null,null,null,700,1520,"315",16523.989211930435,17872.275237530434,17893.506251930437,19241.995166330435,21871.761333530434,23097.316475930431]
[null,null,0,{"$f":"IF(C3474<>0,LOOKUP(,-CODE(C$3:C3474),C$3:C3474),D3473)","v":239},"239(750-1160)-315",null,null,null,750,1160,"315",14180.575388510146,15282.249390110146,15304.469828510146,16406.366266910147,18569.740446110147,19571.183492510147]
[null,null,0,{"$f":"IF(C3475<>0,LOOKUP(,-CODE(C$3:C3475),C$3:C3475),D3474)","v":239},"239(750-1280)-315",null,null,null,750,1280,"315",15279.191519988406,16495.448769588405,16517.879159988406,17734.357550388406,20116.439505588405,21222.018743988407]
[null,null,0,{"$f":"IF(C3476<>0,LOOKUP(,-CODE(C$3:C3476),C$3:C3476),D3475)","v":239},"239(750-1360)-315",null,null,null,750,1360,"315",16011.602274307246,17304.248355907246,17326.818714307246,18619.685072707245,21147.572211907245,22322.575578307249]
[null,null,0,{"$f":"IF(C3477<>0,LOOKUP(,-CODE(C$3:C3477),C$3:C3477),D3476)","v":239},"239(750-1480)-315",null,null,null,750,1480,"315",17110.218405785512,18517.447735385511,18540.228045785509,19947.676356185511,22694.271271385511,23973.410829785509]
[null,null,0,{"$f":"IF(C3478<>0,LOOKUP(,-CODE(C$3:C3478),C$3:C3478),D3477)","v":239},"239(750-1520)-315",null,null,null,750,1520,"315",17476.42378294493,18921.847528544928,18944.697822944927,20390.340117344931,23209.837624544936,24523.689246944934]
[null,null,0,{"$f":"IF(C3479<>0,LOOKUP(,-CODE(C$3:C3479),C$3:C3479),D3478)","v":239},"239(800-1160)-315",null,null,null,800,1160,"315",14916.826046481159,16092.536568081159,16116.311486481161,17292.260104881159,19601.204424081159,20669.948750481159]
[null,null,0,{"$f":"IF(C3480<>0,LOOKUP(,-CODE(C$3:C3480),C$3:C3480),D3479)","v":239},"239(800-1280)-315",null,null,null,800,1280,"315",16087.503482307246,17385.497651907244,17409.504122307244,18707.735092707248,21250.107587907245,22429.986506307247]
[null,null,0,{"$f":"IF(C3481<>0,LOOKUP(,-CODE(C$3:C3481),C$3:C3481),D3480)","v":239},"239(800-1360)-315",null,null,null,800,1360,"315",16867.955106191304,18247.471707791301,18271.632546191304,19651.385084591304,22349.3763637913,23603.345010191304]
[null,null,0,{"$f":"IF(C3482<>0,LOOKUP(,-CODE(C$3:C3482),C$3:C3482),D3481)","v":239},"239(800-1480)-315",null,null,null,800,1480,"315",18038.632542017389,19540.43279161739,19564.82518201739,21066.860072417388,23998.279527617389,25363.382766017388]
[null,null,0,{"$f":"IF(C3483<>0,LOOKUP(,-CODE(C$3:C3483),C$3:C3483),D3482)","v":239},"239(800-1520)-315",null,null,null,800,1520,"315",18428.858353959418,19971.419819559418,19995.88939395942,21538.68506835942,24547.91391555942,25950.062017959419]
[null,null,240,{"$f":"IF(C3484<>0,LOOKUP(,-CODE(C$3:C3484),C$3:C3484),D3483)","v":240},"240(300)-720","Тумба кухонная двухсторонний  двухдверная, полка ЛДСП",null,null,300,720,520,6615.3110020000004,7155.6284356000015,7222.4092420000015,7763.4855484,8992.1006116000008,9483.8501859999997]
[null,null,0,{"$f":"IF(C3485<>0,LOOKUP(,-CODE(C$3:C3485),C$3:C3485),D3484)","v":240},"240(350)-720",null,null,null,350,720,520,7486.9817753333336,8119.1899289333342,8197.3280153333344,8830.4241017333334,10267.987304933333,10843.367759333332]
[null,null,0,{"$f":"IF(C3486<>0,LOOKUP(,-CODE(C$3:C3486),C$3:C3486),D3485)","v":240},"240(400)-720",null,null,null,400,720,520,8358.6525486666669,9082.7514222666669,9172.2467886666673,9897.3626550666668,11543.873998266667,12202.885332666667]
[null,null,0,{"$f":"IF(C3487<>0,LOOKUP(,-CODE(C$3:C3487),C$3:C3487),D3486)","v":240},"240(450)-720",null,null,null,450,720,520,9230.3233220000002,10046.3129156,10147.165562,10964.3012084,12819.7606916,13562.402906000001]
[null,null,0,{"$f":"IF(C3488<>0,LOOKUP(,-CODE(C$3:C3488),C$3:C3488),D3487)","v":240},"240(500)-720",null,null,null,500,720,520,10101.994095333335,11009.874408933334,11122.084335333335,12031.239761733334,14095.647384933334,14921.920479333334]
[null,null,0,{"$f":"IF(C3489<>0,LOOKUP(,-CODE(C$3:C3489),C$3:C3489),D3488)","v":240},"240(550)-720",null,null,null,550,720,520,10973.664868666667,11973.435902266667,12097.003108666668,13098.178315066667,15371.534078266666,16281.438052666668]
[null,null,0,{"$f":"IF(C3490<>0,LOOKUP(,-CODE(C$3:C3490),C$3:C3490),D3489)","v":240},"240(300)-920",null,null,null,300,920,520,8578.7629527999998,9269.7965464000008,9355.2051928000001,10047.209339200001,11618.534322400001,12247.4525368]
[null,null,0,{"$f":"IF(C3491<>0,LOOKUP(,-CODE(C$3:C3491),C$3:C3491),D3490)","v":240},"240(350)-920",null,null,null,350,920,520,9699.0932194666675,10507.649533066666,10607.583459466667,11417.275385866666,13255.832509066666,13991.709603466668]
[null,null,0,{"$f":"IF(C3492<>0,LOOKUP(,-CODE(C$3:C3492),C$3:C3492),D3491)","v":240},"240(400)-920",null,null,null,400,920,520,10819.423486133333,11745.502519733334,11859.961726133333,12787.341432533332,14893.130695733335,15735.966670133334]
[null,null,0,{"$f":"IF(C3493<>0,LOOKUP(,-CODE(C$3:C3493),C$3:C3493),D3492)","v":240},"240(450)-920",null,null,null,450,920,520,11939.753752799999,12983.355506399999,13112.3399928,14157.407479199999,16530.4288824,17480.223736799999]
[null,null,0,{"$f":"IF(C3494<>0,LOOKUP(,-CODE(C$3:C3494),C$3:C3494),D3493)","v":240},"240(500)-920",null,null,null,500,920,520,13060.084019466667,14221.208493066668,14364.718259466668,15527.473525866668,18167.72706906667,19224.480803466664]
[null,null,0,{"$f":"IF(C3495<>0,LOOKUP(,-CODE(C$3:C3495),C$3:C3495),D3494)","v":240},"240(550)-920",null,null,null,550,920,520,14180.414286133333,15459.061479733333,15617.096526133333,16897.539572533333,19805.025255733333,20968.737870133333]
[null,null,241,{"$f":"IF(C3496<>0,LOOKUP(,-CODE(C$3:C3496),C$3:C3496),D3495)","v":241},"241(300)-720","Тумба кухонная двухсторонний двухдверная со стеклом, полка стекло",null,null,300,720,520,6386.076783866667,6927.1530902666673,6928.6708358666656,7469.7471422666658,8504.0907686666669,8995.8403430666676]
[null,null,0,{"$f":"IF(C3497<>0,LOOKUP(,-CODE(C$3:C3497),C$3:C3497),D3496)","v":241},"241(350)-720",null,null,null,350,720,520,7248.6002638666669,7881.6963502666658,7883.4722158666664,8516.5683022666672,9726.820708666668,10302.201163066666]
[null,null,0,{"$f":"IF(C3498<>0,LOOKUP(,-CODE(C$3:C3498),C$3:C3498),D3497)","v":241},"241(400)-720",null,null,null,400,720,520,8111.1237438666667,8836.239610266668,8838.2735958666672,9563.3894622666667,10949.550648666667,11608.561983066667]
[null,null,0,{"$f":"IF(C3499<>0,LOOKUP(,-CODE(C$3:C3499),C$3:C3499),D3498)","v":241},"241(450)-720",null,null,null,450,720,520,8973.6472238666665,9790.7828702666684,9793.074975866668,10610.210622266668,12172.280588666667,12914.922803066669]
[null,null,0,{"$f":"IF(C3500<>0,LOOKUP(,-CODE(C$3:C3500),C$3:C3500),D3499)","v":241},"241(500)-720",null,null,null,500,720,520,9836.1707038666664,10745.326130266665,10747.876355866665,11657.031782266668,13395.010528666668,14221.283623066665]
[null,null,0,{"$f":"IF(C3501<>0,LOOKUP(,-CODE(C$3:C3501),C$3:C3501),D3500)","v":241},"241(550)-720",null,null,null,550,720,520,10698.694183866666,11699.869390266666,11702.677735866664,12703.852942266667,14617.740468666665,15527.644443066665]
[null,null,0,{"$f":"IF(C3502<>0,LOOKUP(,-CODE(C$3:C3502),C$3:C3502),D3501)","v":241},"241(300)-920",null,null,null,300,920,520,8286.7974805333342,8978.8016269333348,8980.7427325333338,9672.7468789333343,10995.610345333334,11624.528559733333]
[null,null,0,{"$f":"IF(C3503<>0,LOOKUP(,-CODE(C$3:C3503),C$3:C3503),D3502)","v":241},"241(350)-920",null,null,null,350,920,520,9385.7209605333337,10195.412886933334,10197.684112533332,11007.376038933335,12555.216285333334,13291.093379733333]
[null,null,0,{"$f":"IF(C3504<>0,LOOKUP(,-CODE(C$3:C3504),C$3:C3504),D3503)","v":241},"241(400)-920",null,null,null,400,920,520,10484.644440533333,11412.024146933334,11414.625492533332,12342.005198933335,14114.822225333333,14957.658199733334]
[null,null,0,{"$f":"IF(C3505<>0,LOOKUP(,-CODE(C$3:C3505),C$3:C3505),D3504)","v":241},"241(450)-920",null,null,null,450,920,520,11583.567920533334,12628.635406933334,12631.566872533334,13676.634358933334,15674.428165333335,16624.223019733334]
[null,null,0,{"$f":"IF(C3506<>0,LOOKUP(,-CODE(C$3:C3506),C$3:C3506),D3505)","v":241},"241(500)-920",null,null,null,500,920,520,12682.491400533334,13845.246666933335,13848.508252533335,15011.263518933334,17234.034105333336,18290.787839733337]
[null,null,0,{"$f":"IF(C3507<>0,LOOKUP(,-CODE(C$3:C3507),C$3:C3507),D3506)","v":241},"241(550)-920",null,null,null,550,920,520,13781.414880533335,15061.857926933333,15065.449632533335,16345.892678933335,18793.64004533333,19957.352659733329]
[null,null,242,{"$f":"IF(C3508<>0,LOOKUP(,-CODE(C$3:C3508),C$3:C3508),D3507)","v":242},"242(600)-720","Тумба кухонная двухсторонний четырехдверная, полка ЛДСП",null,null,600,720,520,12534.373641999999,13626.0353956,13760.959881999999,14854.154868400001,17336.458771599999,18329.993625999999]
[null,null,0,{"$f":"IF(C3509<>0,LOOKUP(,-CODE(C$3:C3509),C$3:C3509),D3508)","v":242},"242(650)-720",null,null,null,650,720,520,13406.044415333334,14589.596888933334,14735.878655333334,15921.093421733334,18612.345464933333,19689.511199333334]
[null,null,0,{"$f":"IF(C3510<>0,LOOKUP(,-CODE(C$3:C3510),C$3:C3510),D3509)","v":242},"242(700)-720",null,null,null,700,720,520,14277.715188666665,15553.158382266669,15710.797428666665,16988.031975066668,19888.232158266666,21049.028772666665]
[null,null,0,{"$f":"IF(C3511<>0,LOOKUP(,-CODE(C$3:C3511),C$3:C3511),D3510)","v":242},"242(750)-720",null,null,null,750,720,520,15149.385962,16516.7198756,16685.716202,18054.970528400001,21164.1188516,22408.546346000003]
[null,null,0,{"$f":"IF(C3512<>0,LOOKUP(,-CODE(C$3:C3512),C$3:C3512),D3511)","v":242},"242(800)-720",null,null,null,800,720,520,16021.056735333332,17480.281368933331,17660.634975333334,19121.909081733331,22440.00554493333,23768.063919333334]
[null,null,0,{"$f":"IF(C3513<>0,LOOKUP(,-CODE(C$3:C3513),C$3:C3513),D3512)","v":242},"242(600)-920",null,null,null,600,920,520,16294.2415528,17690.411466400001,17862.971792800003,19261.102619199999,22435.8204424,23706.491936800001]
[null,null,0,{"$f":"IF(C3514<>0,LOOKUP(,-CODE(C$3:C3514),C$3:C3514),D3513)","v":242},"242(650)-920",null,null,null,650,920,520,17414.571819466666,18928.264453066666,19115.350059466666,20631.168665866666,24073.118629066666,25450.749003466666]
[null,null,0,{"$f":"IF(C3515<>0,LOOKUP(,-CODE(C$3:C3515),C$3:C3515),D3514)","v":242},"242(700)-920",null,null,null,700,920,520,18534.902086133334,20166.117439733334,20367.728326133336,22001.234712533333,25710.416815733333,27195.006070133335]
[null,null,0,{"$f":"IF(C3516<>0,LOOKUP(,-CODE(C$3:C3516),C$3:C3516),D3515)","v":242},"242(750)-920",null,null,null,750,920,520,19655.232352799998,21403.970426400003,21620.106592800003,23371.300759199999,27347.7150024,28939.2631368]
[null,null,0,{"$f":"IF(C3517<>0,LOOKUP(,-CODE(C$3:C3517),C$3:C3517),D3516)","v":242},"242(800)-920",null,null,null,800,920,520,20775.562619466666,22641.823413066668,22872.484859466669,24741.366805866666,28985.013189066667,30683.520203466669]
[null,null,243,{"$f":"IF(C3518<>0,LOOKUP(,-CODE(C$3:C3518),C$3:C3518),D3517)","v":243},"243(600)-720","Тумба кухонная двухсторонний четырехдверная со стеклом, полка стекло",null,null,600,720,520,12067.975663866666,13161.170650266668,13164.237115866665,14257.432102266666,16347.228408666666,17340.763263066667]
[null,null,0,{"$f":"IF(C3519<>0,LOOKUP(,-CODE(C$3:C3519),C$3:C3519),D3518)","v":243},"243(650)-720",null,null,null,650,720,520,12930.499143866668,14115.713910266668,14119.038495866667,15304.253262266664,17569.958348666667,18647.124083066668]
[null,null,0,{"$f":"IF(C3520<>0,LOOKUP(,-CODE(C$3:C3520),C$3:C3520),D3519)","v":243},"243(700)-720",null,null,null,700,720,520,13793.022623866666,15070.257170266665,15073.839875866666,16351.074422266667,18792.688288666668,19953.48490306667]
[null,null,0,{"$f":"IF(C3521<>0,LOOKUP(,-CODE(C$3:C3521),C$3:C3521),D3520)","v":243},"243(750)-720",null,null,null,750,720,520,14655.546103866667,16024.800430266665,16028.641255866665,17397.895582266668,20015.418228666666,21259.845723066668]
[null,null,0,{"$f":"IF(C3522<>0,LOOKUP(,-CODE(C$3:C3522),C$3:C3522),D3521)","v":243},"243(800)-720",null,null,null,800,720,520,15518.069583866665,16979.343690266665,16983.442635866664,18444.716742266664,21238.148168666667,22566.206543066663]
[null,null,0,{"$f":"IF(C3523<>0,LOOKUP(,-CODE(C$3:C3523),C$3:C3523),D3522)","v":243},"243(600)-920",null,null,null,600,920,520,15632.755360533334,17030.886186933334,17034.808012533333,18432.938838933333,21105.662985333336,22376.334479733338]
[null,null,0,{"$f":"IF(C3524<>0,LOOKUP(,-CODE(C$3:C3524),C$3:C3524),D3523)","v":243},"243(650)-920",null,null,null,650,920,520,16731.678840533332,18247.497446933332,18251.749392533333,19767.567998933329,22665.268925333334,24042.899299733333]
[null,null,0,{"$f":"IF(C3525<>0,LOOKUP(,-CODE(C$3:C3525),C$3:C3525),D3524)","v":243},"243(700)-920",null,null,null,700,920,520,17830.602320533333,19464.108706933333,19468.690772533333,21102.197158933333,24224.874865333331,25709.464119733333]
[null,null,0,{"$f":"IF(C3526<>0,LOOKUP(,-CODE(C$3:C3526),C$3:C3526),D3525)","v":243},"243(750)-920",null,null,null,750,920,520,18929.525800533334,20680.719966933335,20685.632152533333,22436.826318933337,25784.480805333333,27376.028939733333]
[null,null,0,{"$f":"IF(C3527<>0,LOOKUP(,-CODE(C$3:C3527),C$3:C3527),D3526)","v":243},"243(800)-920",null,null,null,800,920,520,20028.449280533336,21897.331226933336,21902.573532533337,23771.455478933338,27344.086745333338,29042.59375973334]
[null,null,244,{"$f":"IF(C3528<>0,LOOKUP(,-CODE(C$3:C3528),C$3:C3528),D3527)","v":244},"244(950)-720","Тумба кухонная-угловая двухсторонная трехдверная, полка ЛДСП",null,null,950,720,520,19535.459055333333,21270.355848933334,21484.781295333334,23222.114741733334,27167.055624933335,28746.006639333333]
[null,null,0,{"$f":"IF(C3529<>0,LOOKUP(,-CODE(C$3:C3529),C$3:C3529),D3528)","v":244},"244(1000)-720",null,null,null,1000,720,520,20407.129828666668,22233.917342266668,22459.700068666669,24289.053295066667,28442.942318266669,30105.524212666667]
[null,null,0,{"$f":"IF(C3530<>0,LOOKUP(,-CODE(C$3:C3530),C$3:C3530),D3529)","v":244},"244(1050)-720",null,null,null,1050,720,520,21278.800602000003,23197.478835600003,23434.618842,25355.991848400001,29718.829011599999,31465.041785999998]
[null,null,0,{"$f":"IF(C3531<>0,LOOKUP(,-CODE(C$3:C3531),C$3:C3531),D3530)","v":244},"244(1100)-720",null,null,null,1100,720,520,22150.471375333334,24161.040328933334,24409.537615333335,26422.930401733334,30994.715704933333,32824.559359333332]
[null,null,0,{"$f":"IF(C3532<>0,LOOKUP(,-CODE(C$3:C3532),C$3:C3532),D3531)","v":244},"244(1150)-720",null,null,null,1150,720,520,23022.14214866667,25124.601822266668,25384.456388666666,27489.868955066668,32270.602398266667,34184.07693266667]
[null,null,0,{"$f":"IF(C3533<>0,LOOKUP(,-CODE(C$3:C3533),C$3:C3533),D3532)","v":244},"244(1200)-720",null,null,null,1200,720,520,23893.812922000001,26088.163315599999,26359.375162,28556.807508400001,33546.4890916,35543.594506000009]
[null,null,0,{"$f":"IF(C3534<>0,LOOKUP(,-CODE(C$3:C3534),C$3:C3534),D3533)","v":244},"244(950)-920",null,null,null,950,920,520,25125.663419466666,27344.492373066663,27618.729659466666,29840.674945866664,34886.017749066668,36905.401403466662]
[null,null,0,{"$f":"IF(C3535<>0,LOOKUP(,-CODE(C$3:C3535),C$3:C3535),D3534)","v":244},"244(1000)-920",null,null,null,1000,920,520,26245.993686133334,28582.345359733335,28871.107926133336,31210.740992533334,36523.315935733335,38649.658470133334]
[null,null,0,{"$f":"IF(C3536<>0,LOOKUP(,-CODE(C$3:C3536),C$3:C3536),D3535)","v":244},"244(1050)-920",null,null,null,1050,920,520,27366.323952799998,29820.1983464,30123.486192800003,32580.807039200001,38160.614122400002,40393.915536799999]
[null,null,0,{"$f":"IF(C3537<>0,LOOKUP(,-CODE(C$3:C3537),C$3:C3537),D3536)","v":244},"244(1100)-920",null,null,null,1100,920,520,28486.654219466669,31058.051333066669,31375.864459466666,33950.873085866668,39797.912309066669,42138.172603466672]
[null,null,0,{"$f":"IF(C3538<>0,LOOKUP(,-CODE(C$3:C3538),C$3:C3538),D3537)","v":244},"244(1150)-920",null,null,null,1150,920,520,29606.984486133333,32295.904319733334,32628.242726133332,35320.939132533334,41435.210495733336,43882.429670133337]
[null,null,0,{"$f":"IF(C3539<>0,LOOKUP(,-CODE(C$3:C3539),C$3:C3539),D3538)","v":244},"244(1200)-920",null,null,null,1200,920,520,30727.314752800001,33533.757306399995,33880.620992799995,36691.005179199994,43072.508682399995,45626.686736799995]
[null,null,247,{"$f":"IF(C3540<>0,LOOKUP(,-CODE(C$3:C3540),C$3:C3540),#REF!)","v":247},"247(300)-720","Тумба кухонная односторонная однодверная, полка ЛДСП",null,null,300,720,260,3524.7103666956518,3797.6258050956521,3831.356926695652,4104.6556732956524,4725.2316490956518,4973.6153626956511]
[null,null,0,{"$f":"IF(C3541<>0,LOOKUP(,-CODE(C$3:C3541),C$3:C3541),D3540)","v":247},"247(350)-720",null,null,null,350,720,260,3973.1373487246374,4291.9981471246374,4331.4079087246373,4650.716545324638,5375.7665911246377,5665.9657447246373]
[null,null,0,{"$f":"IF(C3542<>0,LOOKUP(,-CODE(C$3:C3542),C$3:C3542),D3541)","v":247},"247(400)-720",null,null,null,400,720,260,4421.5643307536229,4786.3704891536227,4831.4588907536236,5196.7774173536227,6026.3015331536226,6358.3161267536234]
[null,null,0,{"$f":"IF(C3543<>0,LOOKUP(,-CODE(C$3:C3543),C$3:C3543),D3542)","v":247},"247(450)-720",null,null,null,450,720,260,4869.9913127826085,5280.7428311826088,5331.5098727826089,5742.8382893826083,6676.8364751826084,7050.6665087826086]
[null,null,0,{"$f":"IF(C3544<>0,LOOKUP(,-CODE(C$3:C3544),C$3:C3544),D3543)","v":247},"247(500)-720",null,null,null,500,720,260,5318.418294811594,5775.115173211595,5831.5608548115952,6288.8991614115948,7327.3714172115951,7743.0168908115947]
[null,null,0,{"$f":"IF(C3545<>0,LOOKUP(,-CODE(C$3:C3545),C$3:C3545),D3544)","v":247},"247(550)-720",null,null,null,550,720,260,5766.8452768405805,6269.4875152405803,6331.6118368405805,6834.9600334405804,7977.9063592405801,8435.36727284058]
[null,null,0,{"$f":"IF(C3546<>0,LOOKUP(,-CODE(C$3:C3546),C$3:C3546),D3545)","v":247},"247(300)-920",null,null,null,300,920,260,4547.8548260753623,4896.897304475362,4940.0373860753625,5289.5700926753625,6083.2495484753617,6400.917422075363]
[null,null,0,{"$f":"IF(C3547<>0,LOOKUP(,-CODE(C$3:C3547),C$3:C3547),D3546)","v":247},"247(350)-920",null,null,null,350,920,260,5122.903475350724,5530.707313750725,5581.1100353507245,5989.4866319507246,6916.7821577507248,7287.9294713507243]
[null,null,0,{"$f":"IF(C3548<>0,LOOKUP(,-CODE(C$3:C3548),C$3:C3548),D3547)","v":247},"247(400)-920",null,null,null,400,920,260,5697.9521246260865,6164.5173230260871,6222.1826846260874,6689.4031712260867,7750.3147670260869,8174.9415206260874]
[null,null,0,{"$f":"IF(C3549<>0,LOOKUP(,-CODE(C$3:C3549),C$3:C3549),D3548)","v":247},"247(450)-920",null,null,null,450,920,260,6273.0007739014491,6798.32733230145,6863.2553339014494,7389.3197105014497,8583.8473763014481,9061.9535699014486]
[null,null,0,{"$f":"IF(C3550<>0,LOOKUP(,-CODE(C$3:C3550),C$3:C3550),D3549)","v":247},"247(500)-920",null,null,null,500,920,260,6848.0494231768116,7432.1373415768121,7504.3279831768123,8089.2362497768117,9417.379985576812,9948.9656191768117]
[null,null,0,{"$f":"IF(C3551<>0,LOOKUP(,-CODE(C$3:C3551),C$3:C3551),D3550)","v":247},"247(550)-920",null,null,null,550,920,260,7423.0980724521742,8065.9473508521751,8145.4006324521742,8789.1527890521738,10250.912594852174,10835.977668452175]
[null,null,248,{"$f":"IF(C3552<>0,LOOKUP(,-CODE(C$3:C3552),C$3:C3552),D3551)","v":248},"248(300)-720","Тумба кухонная односторонная однодверная со стеклом, полка стекло",null,null,300,720,260,3441.728961895652,3715.0277084956524,3715.7943248956517,3989.0930714956521,4511.542148095652,4759.9258616956522]
[null,null,0,{"$f":"IF(C3553<>0,LOOKUP(,-CODE(C$3:C3553),C$3:C3553),D3552)","v":248},"248(350)-720",null,null,null,350,720,260,3885.1925505913041,4204.5011871913039,4205.3968635913043,4524.705500191305,5135.1089667913047,5425.3081203913052]
[null,null,0,{"$f":"IF(C3554<>0,LOOKUP(,-CODE(C$3:C3554),C$3:C3554),D3553)","v":248},"248(400)-720",null,null,null,400,720,260,4328.6561392869562,4693.9746658869562,4694.999402286956,5060.317928886956,5758.6757854869566,6090.6903790869555]
[null,null,0,{"$f":"IF(C3555<>0,LOOKUP(,-CODE(C$3:C3555),C$3:C3555),D3554)","v":248},"248(450)-720",null,null,null,450,720,260,4772.1197279826083,5183.4481445826086,5184.6019409826085,5595.9303575826079,6382.2426041826084,6756.0726377826086]
[null,null,0,{"$f":"IF(C3556<>0,LOOKUP(,-CODE(C$3:C3556),C$3:C3556),D3555)","v":248},"248(500)-720",null,null,null,500,720,260,5215.5833166782613,5672.9216232782601,5674.2044796782611,6131.5427862782599,7005.8094228782611,7421.4548964782607]
[null,null,0,{"$f":"IF(C3557<>0,LOOKUP(,-CODE(C$3:C3557),C$3:C3557),D3556)","v":248},"248(550)-720",null,null,null,550,720,260,5659.0469053739134,6162.3951019739134,6163.8070183739128,6667.1552149739127,7629.3762415739129,8086.8371551739128]
[null,null,0,{"$f":"IF(C3558<>0,LOOKUP(,-CODE(C$3:C3558),C$3:C3558),D3557)","v":248},"248(300)-920",null,null,null,300,920,260,4430.5865824753628,4780.1192890753628,4781.0997454753624,5130.6324520753624,5798.8134886753633,6116.4813622753627]
[null,null,0,{"$f":"IF(C3559<>0,LOOKUP(,-CODE(C$3:C3559),C$3:C3559),D3558)","v":248},"248(350)-920",null,null,null,350,920,260,4994.1523450840587,5402.5289416840578,5403.6744580840577,5812.0510546840587,6592.7204812840582,6963.8677948840586]
[null,null,0,{"$f":"IF(C3560<>0,LOOKUP(,-CODE(C$3:C3560),C$3:C3560),D3559)","v":248},"248(400)-920",null,null,null,400,920,260,5557.7181076927545,6024.9385942927538,6026.2491706927549,6493.4696572927542,7386.6274738927541,7811.2542274927555]
[null,null,0,{"$f":"IF(C3561<>0,LOOKUP(,-CODE(C$3:C3561),C$3:C3561),D3560)","v":248},"248(450)-920",null,null,null,450,920,260,6121.2838703014495,6647.3482469014489,6648.8238833014493,7174.8882599014505,8180.5344665014491,8658.6406601014496]
[null,null,0,{"$f":"IF(C3562<>0,LOOKUP(,-CODE(C$3:C3562),C$3:C3562),D3561)","v":248},"248(500)-920",null,null,null,500,920,260,6684.8496329101454,7269.7578995101467,7271.3985959101465,7856.3068625101459,8974.4414591101449,9506.0270927101465]
[null,null,0,{"$f":"IF(C3563<>0,LOOKUP(,-CODE(C$3:C3563),C$3:C3563),D3562)","v":248},"248(550)-920",null,null,null,550,920,260,7248.4153955188403,7892.1675521188417,7893.9733085188409,8537.7254651188414,9768.3484517188408,10353.41352531884]
[null,null,249,{"$f":"IF(C3564<>0,LOOKUP(,-CODE(C$3:C3564),C$3:C3564),D3563)","v":249},"249(600)-720","Тумба кухонная односторонная двухдверная, полка ЛДСП",null,null,600,720,260,6535.0891748695649,7080.9200516695655,7148.3822948695652,7694.979788069566,8936.1317396695649,9432.8991668695653]
[null,null,0,{"$f":"IF(C3565<>0,LOOKUP(,-CODE(C$3:C3565),C$3:C3565),D3564)","v":249},"249(650)-720",null,null,null,650,720,260,6983.5161568985504,7575.2923936985508,7648.4332768985505,8241.0406600985516,9586.6666816985507,10125.249548898551]
[null,null,0,{"$f":"IF(C3566<>0,LOOKUP(,-CODE(C$3:C3566),C$3:C3566),D3565)","v":249},"249(700)-720",null,null,null,700,720,260,7431.943138927536,8069.6647357275369,8148.4842589275358,8787.1015321275372,10237.201623727537,10817.599930927536]
[null,null,0,{"$f":"IF(C3567<>0,LOOKUP(,-CODE(C$3:C3567),C$3:C3567),D3566)","v":249},"249(750)-720",null,null,null,750,720,260,7880.3701209565215,8564.0370777565222,8648.5352409565221,9333.1624041565228,10887.736565756521,11509.950312956524]
[null,null,0,{"$f":"IF(C3568<>0,LOOKUP(,-CODE(C$3:C3568),C$3:C3568),D3567)","v":249},"249(800)-720",null,null,null,800,720,260,8328.7971029855071,9058.4094197855065,9148.5862229855065,9879.2232761855066,11538.271507785506,12202.300694985508]
[null,null,0,{"$f":"IF(C3569<>0,LOOKUP(,-CODE(C$3:C3569),C$3:C3569),D3568)","v":249},"249(600)-920",null,null,null,600,920,260,8463.3027377275357,9161.3876945275351,9247.6678577275361,9946.7332709275361,11534.092182527536,12169.427929727537]
[null,null,0,{"$f":"IF(C3570<>0,LOOKUP(,-CODE(C$3:C3570),C$3:C3570),D3569)","v":249},"249(650)-920",null,null,null,650,920,260,9038.3513870028983,9795.1977038028981,9888.7405070028981,10646.649810202898,12367.624791802898,13056.439979002898]
[null,null,0,{"$f":"IF(C3571<>0,LOOKUP(,-CODE(C$3:C3571),C$3:C3571),D3570)","v":249},"249(700)-920",null,null,null,700,920,260,9613.4000362782608,10429.007713078261,10529.813156278262,11346.566349478262,13201.157401078262,13943.452028278261]
[null,null,0,{"$f":"IF(C3572<>0,LOOKUP(,-CODE(C$3:C3572),C$3:C3572),D3571)","v":249},"249(750)-920",null,null,null,750,920,260,10188.448685553623,11062.817722353622,11170.885805553622,12046.482888753624,14034.690010353621,14830.464077553621]
[null,null,0,{"$f":"IF(C3573<>0,LOOKUP(,-CODE(C$3:C3573),C$3:C3573),D3572)","v":249},"249(800)-920",null,null,null,800,920,260,10763.497334828986,11696.627731628985,11811.958454828986,12746.399428028984,14868.222619628985,15717.476126828988]
[null,null,250,{"$f":"IF(C3574<>0,LOOKUP(,-CODE(C$3:C3574),C$3:C3574),D3573)","v":250},"250(600)-720","Тумба кухонная односторонная двухдверная со стеклом, полка стекло",null,null,600,720,260,6333.6266440695654,6880.2241372695653,6881.7573700695648,7428.3548632695647,8473.2530164695654,8970.020443669564]
[null,null,0,{"$f":"IF(C3575<>0,LOOKUP(,-CODE(C$3:C3575),C$3:C3575),D3574)","v":250},"250(650)-720",null,null,null,650,720,260,6777.0902327652175,7369.6976159652177,7371.3599087652174,7963.9672919652166,9096.8198351652172,9635.4027023652179]
[null,null,0,{"$f":"IF(C3576<>0,LOOKUP(,-CODE(C$3:C3576),C$3:C3576),D3575)","v":250},"250(700)-720",null,null,null,700,720,260,7220.5538214608696,7859.1710946608691,7860.96244746087,8499.5797206608695,9720.386653860869,10300.78496106087]
[null,null,0,{"$f":"IF(C3577<>0,LOOKUP(,-CODE(C$3:C3577),C$3:C3577),D3576)","v":250},"250(750)-720",null,null,null,750,720,260,7664.0174101565217,8348.6445733565215,8350.5649861565216,9035.1921493565223,10343.953472556523,10966.167219756522]
[null,null,0,{"$f":"IF(C3578<>0,LOOKUP(,-CODE(C$3:C3578),C$3:C3578),D3577)","v":250},"250(800)-720",null,null,null,800,720,260,8107.4809988521738,8838.1180520521739,8840.1675248521733,9570.8045780521734,10967.520291252175,11631.549478452172]
[null,null,0,{"$f":"IF(C3579<>0,LOOKUP(,-CODE(C$3:C3579),C$3:C3579),D3578)","v":250},"250(600)-920",null,null,null,600,920,260,8159.7168081275368,8858.7822213275358,8860.7431341275369,9559.8085473275351,10896.170620527537,11531.506367727538]
[null,null,0,{"$f":"IF(C3580<>0,LOOKUP(,-CODE(C$3:C3580),C$3:C3580),D3579)","v":250},"250(650)-920",null,null,null,650,920,260,8723.2825707362317,9481.1918739362318,9483.3178467362304,10241.22714993623,11690.077613136233,12378.892800336233]
[null,null,0,{"$f":"IF(C3581<>0,LOOKUP(,-CODE(C$3:C3581),C$3:C3581),D3580)","v":250},"250(700)-920",null,null,null,700,920,260,9286.8483333449276,10103.601526544928,10105.892559344928,10922.645752544928,12483.984605744927,13226.279232944928]
[null,null,0,{"$f":"IF(C3582<>0,LOOKUP(,-CODE(C$3:C3582),C$3:C3582),D3581)","v":250},"250(750)-920",null,null,null,750,920,260,9850.4140959536235,10726.011179153624,10728.467271953623,11604.064355153625,13277.891598353623,14073.665665553624]
[null,null,0,{"$f":"IF(C3583<>0,LOOKUP(,-CODE(C$3:C3583),C$3:C3583),D3582)","v":250},"250(800)-920",null,null,null,800,920,260,10413.979858562321,11348.42083176232,11351.04198456232,12285.48295776232,14071.79859096232,14921.052098162321]
[null,null,251,{"$f":"IF(C3584<>0,LOOKUP(,-CODE(C$3:C3584),C$3:C3584),D3583)","v":251},"251(950)-720","Тумба кухонная-угловая односторонная однодверная (правый), полка ЛДСП",null,null,950,720,260,9413.1611330724627,10283.366251472464,10390.919693072463,11262.347009672463,13241.085895472464,14033.070329072463]
[null,null,0,{"$f":"IF(C3585<>0,LOOKUP(,-CODE(C$3:C3585),C$3:C3585),D3584)","v":251},"251(1000)-720",null,null,null,1000,720,260,9861.5881151014491,10777.73859350145,10890.970675101449,11808.407881701449,13891.620837501448,14725.420711101449]
[null,null,0,{"$f":"IF(C3586<>0,LOOKUP(,-CODE(C$3:C3586),C$3:C3586),D3585)","v":251},"251(1050)-720",null,null,null,1050,720,260,10310.015097130434,11272.110935530434,11391.021657130435,12354.468753730434,14542.155779530434,15417.771093130435]
[null,null,0,{"$f":"IF(C3587<>0,LOOKUP(,-CODE(C$3:C3587),C$3:C3587),D3586)","v":251},"251(1100)-720",null,null,null,1100,720,260,10758.442079159422,11766.48327755942,11891.072639159422,12900.529625759422,15192.690721559422,16110.121475159422]
[null,null,0,{"$f":"IF(C3588<>0,LOOKUP(,-CODE(C$3:C3588),C$3:C3588),D3587)","v":251},"251(1150)-720",null,null,null,1150,720,260,11206.869061188405,12260.855619588405,12391.123621188406,13446.590497788406,15843.225663588406,16802.471857188404]
[null,null,0,{"$f":"IF(C3589<>0,LOOKUP(,-CODE(C$3:C3589),C$3:C3589),D3588)","v":251},"251(1200)-720",null,null,null,1200,720,260,12049.475043217393,13149.406961617391,13285.353603217391,14386.830369817391,16887.939605617394,17889.001239217392]
[null,null,0,{"$f":"IF(C3590<>0,LOOKUP(,-CODE(C$3:C3590),C$3:C3590),D3589)","v":251},"251(950)-920",null,null,null,950,920,260,12673.655766655073,13786.595925055071,13924.150326655074,15038.653603255072,17569.341969055073,18582.242562655072]
[null,null,0,{"$f":"IF(C3591<>0,LOOKUP(,-CODE(C$3:C3591),C$3:C3591),D3590)","v":251},"251(1000)-920",null,null,null,1000,920,260,13248.704415930435,14420.405934330434,14565.222975930435,15738.570142530436,18402.874578330433,19469.254611930432]
[null,null,0,{"$f":"IF(C3592<>0,LOOKUP(,-CODE(C$3:C3592),C$3:C3592),D3591)","v":251},"251(1050)-920",null,null,null,1050,920,260,13823.753065205798,15054.215943605797,15206.295625205797,16438.4866818058,19236.407187605801,20356.266661205795]
[null,null,0,{"$f":"IF(C3593<>0,LOOKUP(,-CODE(C$3:C3593),C$3:C3593),D3592)","v":251},"251(1100)-920",null,null,null,1100,920,260,14398.801714481158,15688.02595288116,15847.368274481159,17138.40322108116,20069.939796881161,21243.278710481158]
[null,null,0,{"$f":"IF(C3594<>0,LOOKUP(,-CODE(C$3:C3594),C$3:C3594),D3593)","v":251},"251(1150)-920",null,null,null,1150,920,260,14973.850363756521,16321.835962156521,16488.44092375652,17838.31976035652,20903.472406156521,22130.290759756517]
[null,null,0,{"$f":"IF(C3595<>0,LOOKUP(,-CODE(C$3:C3595),C$3:C3595),D3594)","v":251},"251(1200)-920",null,null,null,1200,920,260,15548.899013031885,16955.645971431884,17129.513573031883,18538.236299631888,21737.005015431885,23017.302809031888]
[null,null,254,{"$f":"IF(C3596<>0,LOOKUP(,-CODE(C$3:C3596),C$3:C3596),#REF!)","v":254},"254(300)-720","Тумба кухонная двухсторонная двухдверная, полка ЛДСП",null,null,300,720,260,3807.2446740000005,4077.4033908000006,4110.7937940000011,4381.3319472000003,4995.6394787999998,5241.5142660000001]
[null,null,0,{"$f":"IF(C3597<>0,LOOKUP(,-CODE(C$3:C3597),C$3:C3597),D3596)","v":254},"254(350)-720",null,null,null,350,720,260,4249.014047333334,4565.1181241333334,4604.1871673333335,4920.7352105333339,5639.5168121333336,5927.2070393333324]
[null,null,0,{"$f":"IF(C3598<>0,LOOKUP(,-CODE(C$3:C3598),C$3:C3598),D3597)","v":254},"254(400)-720",null,null,null,400,720,260,4690.7834206666666,5052.8328574666666,5097.5805406666677,5460.1384738666675,6283.3941454666674,6612.8998126666665]
[null,null,0,{"$f":"IF(C3599<>0,LOOKUP(,-CODE(C$3:C3599),C$3:C3599),D3598)","v":254},"254(450)-720",null,null,null,450,720,260,5132.5527940000002,5540.5475908000008,5590.9739140000001,5999.5417372000002,6927.2714788000003,7298.5925860000007]
[null,null,0,{"$f":"IF(C3600<>0,LOOKUP(,-CODE(C$3:C3600),C$3:C3600),D3599)","v":254},"254(500)-720",null,null,null,500,720,260,5574.3221673333337,6028.262324133334,6084.3672873333344,6538.9450005333338,7571.1488121333341,7984.2853593333339]
[null,null,0,{"$f":"IF(C3601<>0,LOOKUP(,-CODE(C$3:C3601),C$3:C3601),D3600)","v":254},"254(550)-720",null,null,null,550,720,260,6016.0915406666663,6515.9770574666672,6577.7606606666668,7078.3482638666665,8215.026145466667,8669.9781326666671]
[null,null,0,{"$f":"IF(C3602<>0,LOOKUP(,-CODE(C$3:C3602),C$3:C3602),D3601)","v":254},"254(300)-920",null,null,null,300,920,260,4965.0760594666663,5310.5928562666668,5353.2971794666664,5699.2992526666676,6484.9617442666677,6799.4208514666661]
[null,null,0,{"$f":"IF(C3603<>0,LOOKUP(,-CODE(C$3:C3603),C$3:C3603),D3602)","v":254},"254(350)-920",null,null,null,350,920,260,5531.5649261333328,5935.8430829333338,5985.8100461333333,6390.6560093333337,7309.9345709333338,7677.8731181333333]
[null,null,0,{"$f":"IF(C3604<>0,LOOKUP(,-CODE(C$3:C3604),C$3:C3604),D3603)","v":254},"254(400)-920",null,null,null,400,920,260,6098.0537927999994,6561.0933096000008,6618.3229128000003,7082.0127659999998,8134.9073976,8556.3253848000004]
[null,null,0,{"$f":"IF(C3605<>0,LOOKUP(,-CODE(C$3:C3605),C$3:C3605),D3604)","v":254},"254(450)-920",null,null,null,450,920,260,6664.542659466666,7186.343536266666,7250.8357794666663,7773.3695226666659,8959.8802242666661,9434.7776514666657]
[null,null,0,{"$f":"IF(C3606<>0,LOOKUP(,-CODE(C$3:C3606),C$3:C3606),D3605)","v":254},"254(500)-920",null,null,null,500,920,260,7231.0315261333335,7811.5937629333339,7883.3486461333341,8464.7262793333339,9784.8530509333341,10313.229918133333]
[null,null,0,{"$f":"IF(C3607<>0,LOOKUP(,-CODE(C$3:C3607),C$3:C3607),D3606)","v":254},"254(550)-920",null,null,null,550,920,260,7797.5203928000001,8436.8439896,8515.8615128000001,9156.083036,10609.8258776,11191.6821848]
[null,null,255,{"$f":"IF(C3608<>0,LOOKUP(,-CODE(C$3:C3608),C$3:C3608),D3607)","v":255},"255(300)-720","Тумба кухонная двухсторонная двухдверная со стеклом, полка стекло",null,null,300,720,260,6092.6918031999994,6633.7681095999997,6635.2858551999998,7176.3621616,8210.7057880000011,8702.4553624]
[null,null,0,{"$f":"IF(C3609<>0,LOOKUP(,-CODE(C$3:C3609),C$3:C3609),D3608)","v":255},"255(350)-720",null,null,null,350,720,260,6946.1152832000007,7579.2113695999997,7580.9872352000002,8214.083321600001,9424.335728,9999.7161823999995]
[null,null,0,{"$f":"IF(C3610<>0,LOOKUP(,-CODE(C$3:C3610),C$3:C3610),D3609)","v":255},"255(400)-720",null,null,null,400,720,260,7799.5387632000002,8524.6546296000015,8526.6886152000006,9251.8044816000001,10637.965668000001,11296.977002400001]
[null,null,0,{"$f":"IF(C3611<>0,LOOKUP(,-CODE(C$3:C3611),C$3:C3611),D3610)","v":255},"255(450)-720",null,null,null,450,720,260,8652.9622432000015,9470.0978895999997,9472.3899952000011,10289.525641599999,11851.595608000001,12594.2378224]
[null,null,0,{"$f":"IF(C3612<>0,LOOKUP(,-CODE(C$3:C3612),C$3:C3612),D3611)","v":255},"255(500)-720",null,null,null,500,720,260,9506.3857232000009,10415.541149599998,10418.091375199998,11327.246801600002,13065.225548000002,13891.498642399998]
[null,null,0,{"$f":"IF(C3613<>0,LOOKUP(,-CODE(C$3:C3613),C$3:C3613),D3612)","v":255},"255(550)-720",null,null,null,550,720,260,10359.809203199999,11360.9844096,11363.792755199998,12364.967961599999,14278.855487999999,15188.759462399999]
[null,null,0,{"$f":"IF(C3614<>0,LOOKUP(,-CODE(C$3:C3614),C$3:C3614),D3613)","v":255},"255(300)-920",null,null,null,300,920,260,7884.2967498666676,8576.3008962666681,8578.2420018666671,9270.2461482666677,10593.109614666668,11222.027829066668]
[null,null,0,{"$f":"IF(C3615<>0,LOOKUP(,-CODE(C$3:C3615),C$3:C3615),D3614)","v":255},"255(350)-920",null,null,null,350,920,260,8974.1202298666667,9783.8121562666656,9786.083381866667,10595.775308266668,12143.615554666667,12879.492649066666]
[null,null,0,{"$f":"IF(C3616<>0,LOOKUP(,-CODE(C$3:C3616),C$3:C3616),D3615)","v":255},"255(400)-920",null,null,null,400,920,260,10063.943709866668,10991.323416266669,10993.924761866667,11921.30446826667,13694.121494666668,14536.957469066669]
[null,null,0,{"$f":"IF(C3617<>0,LOOKUP(,-CODE(C$3:C3617),C$3:C3617),D3616)","v":255},"255(450)-920",null,null,null,450,920,260,11153.767189866667,12198.834676266666,12201.766141866667,13246.833628266666,15244.627434666667,16194.422289066666]
[null,null,0,{"$f":"IF(C3618<>0,LOOKUP(,-CODE(C$3:C3618),C$3:C3618),D3617)","v":255},"255(500)-920",null,null,null,500,920,260,12243.590669866668,13406.345936266669,13409.607521866668,14572.362788266668,16795.133374666668,17851.887109066669]
[null,null,0,{"$f":"IF(C3619<>0,LOOKUP(,-CODE(C$3:C3619),C$3:C3619),D3618)","v":255},"255(550)-920",null,null,null,550,920,260,13333.414149866669,14613.857196266667,14617.448901866668,15897.891948266668,18345.639314666663,19509.351929066663]
[null,null,256,{"$f":"IF(C3620<>0,LOOKUP(,-CODE(C$3:C3620),C$3:C3620),D3619)","v":256},"256(600)-720","Тумба кухонная двухсторонная четырехдверная, полка ЛДСП",null,null,600,720,260,12037.911545999999,13129.573299600001,13264.497786,14357.692772400002,16839.996675599999,17833.53153]
[null,null,0,{"$f":"IF(C3621<>0,LOOKUP(,-CODE(C$3:C3621),C$3:C3621),D3620)","v":256},"256(650)-720",null,null,null,650,720,260,12891.382319333334,14074.934792933334,14221.216559333334,15406.431325733334,18097.683368933333,19174.849103333334]
[null,null,0,{"$f":"IF(C3622<>0,LOOKUP(,-CODE(C$3:C3622),C$3:C3622),D3621)","v":256},"256(700)-720",null,null,null,700,720,260,13744.853092666664,15020.296286266668,15177.935332666664,16455.169879066667,19355.370062266666,20516.166676666664]
[null,null,0,{"$f":"IF(C3623<>0,LOOKUP(,-CODE(C$3:C3623),C$3:C3623),D3622)","v":256},"256(750)-720",null,null,null,750,720,260,14598.323865999999,15965.6577796,16134.654106,17503.9084324,20613.056755599999,21857.484250000001]
[null,null,0,{"$f":"IF(C3624<>0,LOOKUP(,-CODE(C$3:C3624),C$3:C3624),D3623)","v":256},"256(800)-720",null,null,null,800,720,260,15451.794639333333,16911.019272933332,17091.372879333332,18552.646985733332,21870.743448933332,23198.801823333335]
[null,null,0,{"$f":"IF(C3625<>0,LOOKUP(,-CODE(C$3:C3625),C$3:C3625),D3624)","v":256},"256(600)-920",null,null,null,600,920,260,15612.818091466666,17008.988005066665,17181.548331466667,18579.679157866667,21754.396981066668,23025.068475466669]
[null,null,0,{"$f":"IF(C3626<>0,LOOKUP(,-CODE(C$3:C3626),C$3:C3626),D3625)","v":256},"256(650)-920",null,null,null,650,920,260,16705.848358133331,18219.540991733335,18406.626598133331,19922.445204533331,23364.395167733332,24742.025542133331]
[null,null,0,{"$f":"IF(C3627<>0,LOOKUP(,-CODE(C$3:C3627),C$3:C3627),D3626)","v":256},"256(700)-920",null,null,null,700,920,260,17798.8786248,19430.0939784,19631.704864800002,21265.211251200002,24974.393354400003,26458.982608800001]
[null,null,0,{"$f":"IF(C3628<>0,LOOKUP(,-CODE(C$3:C3628),C$3:C3628),D3627)","v":256},"256(750)-920",null,null,null,750,920,260,18891.908891466664,20640.646965066666,20856.783131466666,22607.977297866666,26584.391541066663,28175.939675466663]
[null,null,0,{"$f":"IF(C3629<>0,LOOKUP(,-CODE(C$3:C3629),C$3:C3629),D3628)","v":256},"256(800)-920",null,null,null,800,920,260,19984.939158133333,21851.199951733335,22081.861398133336,23950.743344533334,28194.389727733334,29892.896742133336]
[null,null,257,{"$f":"IF(C3630<>0,LOOKUP(,-CODE(C$3:C3630),C$3:C3630),D3629)","v":257},"257(600)-720","Тумба кухонная двухсторонная четырехдверная со стеклом, полка стекло",null,null,600,720,260,11719.9906832,12813.1856696,12816.252135199999,13909.447121599998,15999.243428,16992.778282399999]
[null,null,0,{"$f":"IF(C3631<>0,LOOKUP(,-CODE(C$3:C3631),C$3:C3631),D3630)","v":257},"257(650)-720",null,null,null,650,720,260,12573.414163199999,13758.6289296,13761.953515199999,14947.168281599997,17212.873368,18290.039102399998]
[null,null,0,{"$f":"IF(C3632<>0,LOOKUP(,-CODE(C$3:C3632),C$3:C3632),D3631)","v":257},"257(700)-720",null,null,null,700,720,260,13426.837643199999,14704.072189599998,14707.654895199999,15984.8894416,18426.503307999999,19587.299922400001]
[null,null,0,{"$f":"IF(C3633<>0,LOOKUP(,-CODE(C$3:C3633),C$3:C3633),D3632)","v":257},"257(750)-720",null,null,null,750,720,260,14280.2611232,15649.5154496,15653.3562752,17022.610601600001,19640.133248000002,20884.560742400001]
[null,null,0,{"$f":"IF(C3634<>0,LOOKUP(,-CODE(C$3:C3634),C$3:C3634),D3633)","v":257},"257(800)-720",null,null,null,800,720,260,15133.684603199999,16594.9587096,16599.057655199998,18060.331761599999,20853.763188000001,22181.821562399997]
[null,null,0,{"$f":"IF(C3635<>0,LOOKUP(,-CODE(C$3:C3635),C$3:C3635),D3634)","v":257},"257(600)-920",null,null,null,600,920,260,15175.654629866669,16573.785456266669,16577.707281866667,17975.838108266667,20648.562254666671,21919.233749066669]
[null,null,0,{"$f":"IF(C3636<>0,LOOKUP(,-CODE(C$3:C3636),C$3:C3636),D3635)","v":257},"257(650)-920",null,null,null,650,920,260,16265.478109866666,17781.296716266665,17785.548661866665,19301.367268266666,22199.068194666666,23576.698569066666]
[null,null,0,{"$f":"IF(C3637<>0,LOOKUP(,-CODE(C$3:C3637),C$3:C3637),D3636)","v":257},"257(700)-920",null,null,null,700,920,260,17355.301589866667,18988.807976266664,18993.390041866667,20626.896428266667,23749.574134666665,25234.163389066667]
[null,null,0,{"$f":"IF(C3638<>0,LOOKUP(,-CODE(C$3:C3638),C$3:C3638),D3637)","v":257},"257(750)-920",null,null,null,750,920,260,18445.125069866666,20196.319236266667,20201.231421866665,21952.425588266669,25300.080074666665,26891.628209066668]
[null,null,0,{"$f":"IF(C3639<>0,LOOKUP(,-CODE(C$3:C3639),C$3:C3639),D3638)","v":257},"257(800)-920",null,null,null,800,920,260,19534.948549866669,21403.83049626667,21409.07280186667,23277.954748266671,26850.586014666671,28549.093029066673]
[null,null,258,{"$f":"IF(C3640<>0,LOOKUP(,-CODE(C$3:C3640),C$3:C3640),D3639)","v":258},"258(950)-720","Тумба кухонная-угловая двухсторонная трехдверная, полка ЛДСП",null,null,950,720,260,17440.828959333332,19175.725752933333,19390.151199333333,21127.484645733333,25072.425528933334,26651.376543333332]
[null,null,0,{"$f":"IF(C3641<>0,LOOKUP(,-CODE(C$3:C3641),C$3:C3641),D3640)","v":258},"258(1000)-720",null,null,null,1000,720,260,18244.299732666666,20071.08724626667,20296.869972666671,22126.22319906667,26280.112222266671,27942.694116666669]
[null,null,0,{"$f":"IF(C3642<>0,LOOKUP(,-CODE(C$3:C3642),C$3:C3642),D3641)","v":258},"258(1050)-720",null,null,null,1050,720,260,19097.770506000001,21016.4487396,21253.588745999998,23174.961752399999,27537.798915599997,29284.011689999996]
[null,null,0,{"$f":"IF(C3643<>0,LOOKUP(,-CODE(C$3:C3643),C$3:C3643),D3642)","v":258},"258(1100)-720",null,null,null,1100,720,260,19951.241279333335,21961.810232933334,22210.307519333335,24223.700305733335,28795.485608933333,30625.329263333333]
[null,null,0,{"$f":"IF(C3644<>0,LOOKUP(,-CODE(C$3:C3644),C$3:C3644),D3643)","v":258},"258(1150)-720",null,null,null,1150,720,260,20804.712052666669,22907.171726266668,23167.026292666666,25272.438859066668,30053.172302266667,31966.64683666667]
[null,null,0,{"$f":"IF(C3645<>0,LOOKUP(,-CODE(C$3:C3645),C$3:C3645),D3644)","v":258},"258(1200)-720",null,null,null,1200,720,260,21658.182826,23852.533219599998,24123.745065999999,26321.1774124,31310.8589956,33307.964410000008]
[null,null,0,{"$f":"IF(C3646<>0,LOOKUP(,-CODE(C$3:C3646),C$3:C3646),D3645)","v":258},"258(950)-920",null,null,null,950,920,260,24128.547958133335,26347.376911733329,26621.614198133335,28843.559484533333,33888.902287733334,35908.285942133334]
[null,null,0,{"$f":"IF(C3647<>0,LOOKUP(,-CODE(C$3:C3647),C$3:C3647),D3646)","v":258},"258(1000)-920",null,null,null,1000,920,260,25221.5782248,27557.929898400002,27846.692464800002,30186.3255312,35498.900474400005,37625.243008799996]
[null,null,0,{"$f":"IF(C3648<>0,LOOKUP(,-CODE(C$3:C3648),C$3:C3648),D3647)","v":258},"258(1050)-920",null,null,null,1050,920,260,26314.608491466664,28768.482885066667,29071.77073146667,31529.091577866668,37108.898661066669,39342.200075466666]
[null,null,0,{"$f":"IF(C3649<>0,LOOKUP(,-CODE(C$3:C3649),C$3:C3649),D3648)","v":258},"258(1100)-920",null,null,null,1100,920,260,27407.638758133337,29979.035871733337,30296.848998133333,32871.857624533332,38718.896847733333,41059.157142133336]
[null,null,0,{"$f":"IF(C3650<>0,LOOKUP(,-CODE(C$3:C3650),C$3:C3650),D3649)","v":258},"258(1150)-920",null,null,null,1150,920,260,28500.669024800001,31189.588858400002,31521.927264800001,34214.623671200003,40328.895034399997,42776.114208799998]
[null,null,0,{"$f":"IF(C3651<>0,LOOKUP(,-CODE(C$3:C3651),C$3:C3651),D3650)","v":258},"258(1200)-920",null,null,null,1200,920,260,29593.699291466666,32400.141845066664,32747.005531466664,35557.389717866667,41938.893221066668,44493.071275466667]
[null,null,261,{"$f":"IF(C3652<>0,LOOKUP(,-CODE(C$3:C3652),C$3:C3652),#REF!)","v":261},"261(1820)-600","Шкаф кухонный под встраиваемый холодильник двухдверный, петлями, нижняя дверь 720 мм",null,null,600,1820,560,15767.933133600001,17155.852106400002,17327.3926536,18717.260950800002,21873.217154400001,23136.379365600002]
[null,null,0,{"$f":"IF(C3653<>0,LOOKUP(,-CODE(C$3:C3653),C$3:C3653),D3652)","v":261},"261(1920)-600",null,null,null,600,1920,560,16539.245906933331,18003.676399733333,18184.673426933332,19651.16070413333,22981.094647733331,24313.890938933331]
[null,null,"261/1",{"$f":"IF(C3654<>0,LOOKUP(,-CODE(C$3:C3654),C$3:C3654),D3653)","v":"261/1"},"261/1(1820)-600","Шкаф кухонный под встраиваемый холодильник двухдверный, без петель, нижняя дверь 720 мм",null,null,600,1820,560,15006.785633600002,16394.704606399999,16566.245153600001,17956.1134508,21112.069654400002,22375.231865600002]
[null,null,0,{"$f":"IF(C3655<>0,LOOKUP(,-CODE(C$3:C3655),C$3:C3655),D3654)","v":"261/1"},"261/1(1920)-600",null,null,null,600,1920,560,15778.098406933332,17242.528899733334,17423.525926933333,18890.013204133331,22219.947147733332,23552.743438933332]
[null,null,262,{"$f":"IF(C3656<>0,LOOKUP(,-CODE(C$3:C3656),C$3:C3656),D3655)","v":262},"262(1820)-600","Шкаф кухонный под встраиваемый холодильник двухдверный, с петлями, нижняя дверь 650 мм",null,null,600,1820,560,15767.933133600001,17155.852106400002,17327.3926536,18717.260950800002,21873.217154400001,23136.379365600002]
[null,null,0,{"$f":"IF(C3657<>0,LOOKUP(,-CODE(C$3:C3657),C$3:C3657),D3656)","v":262},"262(1920)-600",null,null,null,600,1920,560,16539.245906933331,18003.676399733333,18184.673426933332,19651.16070413333,22981.094647733331,24313.890938933331]
[null,null,"262/1",{"$f":"IF(C3658<>0,LOOKUP(,-CODE(C$3:C3658),C$3:C3658),D3657)","v":"262/1"},"262/1(1820)-600","Шкаф кухонный под встраиваемый холодильник двухдверный, без петель, нижняя дверь 650 мм",null,null,600,1820,560,15006.785633600002,16394.704606399999,16566.245153600001,17956.1134508,21112.069654400002,22375.231865600002]
[null,null,0,{"$f":"IF(C3659<>0,LOOKUP(,-CODE(C$3:C3659),C$3:C3659),D3658)","v":"262/1"},"262/1(1920)-600",null,null,null,600,1920,560,15778.098406933332,17242.528899733334,17423.525926933333,18890.013204133331,22219.947147733332,23552.743438933332]
[null,null,263,{"$f":"IF(C3660<>0,LOOKUP(,-CODE(C$3:C3660),C$3:C3660),D3659)","v":263},"263(2040)-600","Шкаф кухонный под встраиваемый холодильник трехдверный, с петлями, нижняя дверь 720 мм, верхний фасад открывание вверх без г/л",null,null,600,2040,560,17963.320790933332,19517.269762133332,19709.330870933332,21265.462354733332,24798.950254133331,26213.218418933335]
[null,null,0,{"$f":"IF(C3661<>0,LOOKUP(,-CODE(C$3:C3661),C$3:C3661),D3660)","v":263},"263(2240)-600",null,null,null,600,2240,560,19545.636337600001,21252.6083488,21463.582417600002,23172.951861400004,27054.395240799997,28607.931565600004]
[null,null,0,{"$f":"IF(C3662<>0,LOOKUP(,-CODE(C$3:C3662),C$3:C3662),D3661)","v":263},"263(2280)-600",null,null,null,600,2280,560,19870.037446933336,21607.614066133337,21822.370726933335,23562.387762733339,27513.422238133335,29094.812194933336]
[null,null,"263/1",{"$f":"IF(C3663<>0,LOOKUP(,-CODE(C$3:C3663),C$3:C3663),D3662)","v":"263/1"},"263/1(2040)-600","Шкаф кухонный под встраиваемый холодильник трехдверный, без петель, нижняя дверь 720 мм, верхний фасад открывание вверх без г/л",null,null,600,2040,560,17202.173290933333,18756.122262133333,18948.183370933333,20504.314854733333,24037.802754133332,25452.070918933336]
[null,null,0,{"$f":"IF(C3664<>0,LOOKUP(,-CODE(C$3:C3664),C$3:C3664),D3663)","v":"263/1"},"263/1(2240)-600",null,null,null,600,2240,560,18784.488837600002,20491.460848799998,20702.4349176,22411.804361400002,26293.247740799998,27846.784065600001]
[null,null,0,{"$f":"IF(C3665<>0,LOOKUP(,-CODE(C$3:C3665),C$3:C3665),D3664)","v":"263/1"},"263/1(2280)-600",null,null,null,600,2280,560,19108.889946933334,20846.466566133335,21061.223226933333,22801.240262733336,26752.274738133332,28333.664694933334]
[null,null,264,{"$f":"IF(C3666<>0,LOOKUP(,-CODE(C$3:C3666),C$3:C3666),D3665)","v":264},"264(2040)-600","Шкаф кухонный под встраиваемый холодильник трехдверный, с петлями, нижняя дверь 650 мм, верхний фасад открывание вверх без г/л",null,null,600,2040,560,17963.320790933332,19517.269762133332,19709.330870933332,21265.462354733332,24798.950254133331,26213.218418933335]
[null,null,0,{"$f":"IF(C3667<>0,LOOKUP(,-CODE(C$3:C3667),C$3:C3667),D3666)","v":264},"264(2240)-600",null,null,null,600,2240,560,19545.636337600001,21252.6083488,21463.582417600002,23172.951861400004,27054.395240799997,28607.931565600004]
[null,null,0,{"$f":"IF(C3668<>0,LOOKUP(,-CODE(C$3:C3668),C$3:C3668),D3667)","v":264},"264(2280)-600",null,null,null,600,2280,560,19870.037446933336,21607.614066133337,21822.370726933335,23562.387762733339,27513.422238133335,29094.812194933336]
[null,null,"264/1",{"$f":"IF(C3669<>0,LOOKUP(,-CODE(C$3:C3669),C$3:C3669),D3668)","v":"264/1"},"264/1(2040)-600","Шкаф кухонный под встраиваемый холодильник трехдверный, без петель, нижняя дверь 650 мм, верхний фасад открывание вверх без г/л",null,null,600,2040,560,17202.173290933333,18756.122262133333,18948.183370933333,20504.314854733333,24037.802754133332,25452.070918933336]
[null,null,0,{"$f":"IF(C3670<>0,LOOKUP(,-CODE(C$3:C3670),C$3:C3670),D3669)","v":"264/1"},"264/1(2240)-600",null,null,null,600,2240,560,18784.488837600002,20491.460848799998,20702.4349176,22411.804361400002,26293.247740799998,27846.784065600001]
[null,null,0,{"$f":"IF(C3671<>0,LOOKUP(,-CODE(C$3:C3671),C$3:C3671),D3670)","v":"264/1"},"264/1(2280)-600",null,null,null,600,2280,560,19108.889946933334,20846.466566133335,21061.223226933333,22801.240262733336,26752.274738133332,28333.664694933334]
[null,null,281,{"$f":"IF(C3672<>0,LOOKUP(,-CODE(C$3:C3672),C$3:C3672),#REF!)","v":281},"281(1920)-400","Шкаф кухонный комбинированный,  трехдверный, с двумя стеклами, полки ЛДСП",null,null,"400",1920,560,12925.94938252174,13899.121009721741,13944.989862521739,14918.663090321737,16908.38646172174,17793.295650521741]
[null,null,0,{"$f":"IF(C3673<>0,LOOKUP(,-CODE(C$3:C3673),C$3:C3673),D3672)","v":281},"281(2040)-400",null,null,null,"400",2040,560,13583.070623565218,14617.384074765218,14663.368703565218,15698.183107365219,17804.620566765221,18745.097051565219]
[null,null,0,{"$f":"IF(C3674<>0,LOOKUP(,-CODE(C$3:C3674),C$3:C3674),D3673)","v":281},"281(2120)-400",null,null,null,"400",2120,560,14219.004636394204,15294.079303594202,15340.141116394205,16415.716304194204,18599.963155594203,19577.484504394204]
[null,null,0,{"$f":"IF(C3675<>0,LOOKUP(,-CODE(C$3:C3675),C$3:C3675),D3674)","v":281},"281(2240)-400",null,null,null,"400",2240,560,15028.355377437683,16164.571868637682,16210.749457437681,17347.465821237682,19648.426760637682,20681.515405437684]
[null,null,0,{"$f":"IF(C3676<>0,LOOKUP(,-CODE(C$3:C3676),C$3:C3676),D3675)","v":281},"281(2280)-400",null,null,null,"400",2280,560,15247.395791118843,16403.992890318841,16450.209071118843,17607.305826918844,19947.171462318845,20998.782539118842]
[null,null,0,{"$f":"IF(C3677<>0,LOOKUP(,-CODE(C$3:C3677),C$3:C3677),D3676)","v":281},"281(1920)-450",null,null,null,"450",1920,560,14202.732688028984,15298.469195228987,15350.185168028987,16446.487265828986,18687.014447228987,19683.373156028985]
[null,null,0,{"$f":"IF(C3678<>0,LOOKUP(,-CODE(C$3:C3678),C$3:C3678),D3677)","v":281},"281(2040)-450",null,null,null,"450",2040,560,14931.915233420294,16096.493964620293,16148.347313420292,17313.490987220292,19685.452656620291,20744.377061420291]
[null,null,0,{"$f":"IF(C3679<>0,LOOKUP(,-CODE(C$3:C3679),C$3:C3679),D3678)","v":281},"281(2120)-450",null,null,null,"450",2120,560,15636.269609147826,16846.743156347828,16898.688089147825,18109.726146947829,20569.310808347826,21669.945677147825]
[null,null,0,{"$f":"IF(C3680<>0,LOOKUP(,-CODE(C$3:C3680),C$3:C3680),D3679)","v":281},"281(2240)-450",null,null,null,"450",2240,560,16517.681654539134,17796.997425739133,17849.079734539133,19128.959368339132,21719.978517739135,22883.179082539133]
[null,null,0,{"$f":"IF(C3681<>0,LOOKUP(,-CODE(C$3:C3681),C$3:C3681),D3680)","v":281},"281(2280)-450",null,null,null,"450",2280,560,16760.742503002897,18063.0056822029,18115.133783002897,19417.9606088029,22052.791254202897,23236.8470510029]
[null,null,0,{"$f":"IF(C3682<>0,LOOKUP(,-CODE(C$3:C3682),C$3:C3682),D3681)","v":281},"281(1920)-500",null,null,null,"500",1920,560,15479.515993536232,16697.817380736233,16755.380473536232,17974.311441336235,20465.642432736233,21573.45066153623]
[null,null,0,{"$f":"IF(C3683<>0,LOOKUP(,-CODE(C$3:C3683),C$3:C3683),D3682)","v":281},"281(2040)-500",null,null,null,"500",2040,560,16280.759843275362,17575.603854475361,17633.325923275363,18928.798867075362,21566.284746475361,22743.657071275364]
[null,null,0,{"$f":"IF(C3684<>0,LOOKUP(,-CODE(C$3:C3684),C$3:C3684),D3683)","v":281},"281(2120)-500",null,null,null,"500",2120,560,17053.534581901451,18399.407009101447,18457.235061901451,19803.73598970145,22538.658461101451,23762.40684990145]
[null,null,0,{"$f":"IF(C3685<>0,LOOKUP(,-CODE(C$3:C3685),C$3:C3685),D3684)","v":281},"281(2240)-500",null,null,null,"500",2240,560,18007.007931640583,19429.422982840584,19487.410011640579,20910.452915440583,23791.530274840581,25084.842759640582]
[null,null,0,{"$f":"IF(C3686<>0,LOOKUP(,-CODE(C$3:C3686),C$3:C3686),D3685)","v":281},"281(2280)-500",null,null,null,"500",2280,560,18274.089214886957,19722.018474086959,19780.058494886958,21228.615390686959,24158.411046086956,25474.911562886959]
[null,null,0,{"$f":"IF(C3687<>0,LOOKUP(,-CODE(C$3:C3687),C$3:C3687),D3686)","v":281},"281(1920)-550",null,null,null,"550",1920,560,16756.29929904348,18097.165566243479,18160.57577904348,19502.13561684348,22244.270418243483,23463.528167043485]
[null,null,0,{"$f":"IF(C3688<>0,LOOKUP(,-CODE(C$3:C3688),C$3:C3688),D3687)","v":281},"281(2040)-550",null,null,null,"550",2040,560,17629.604453130436,19054.713744330435,19118.304533130435,20544.106746930433,23447.116836330431,24742.937081130436]
[null,null,0,{"$f":"IF(C3689<>0,LOOKUP(,-CODE(C$3:C3689),C$3:C3689),D3688)","v":281},"281(2120)-550",null,null,null,"550",2120,560,18470.799554655074,19952.070861855071,20015.782034655072,21497.745832455072,24508.00611385507,25854.868022655071]
[null,null,0,{"$f":"IF(C3690<>0,LOOKUP(,-CODE(C$3:C3690),C$3:C3690),D3689)","v":281},"281(2240)-550",null,null,null,"550",2240,560,19496.334208742028,21061.848539942028,21125.740288742028,22691.946462542026,25863.082031942027,27286.506436742031]
[null,null,0,{"$f":"IF(C3691<>0,LOOKUP(,-CODE(C$3:C3691),C$3:C3691),D3690)","v":281},"281(2280)-550",null,null,null,"550",2280,560,19787.435926771021,21381.031265971018,21444.983206771019,23039.270172571018,26264.030837971019,27712.976074771017]
[null,null,0,{"$f":"IF(C3692<>0,LOOKUP(,-CODE(C$3:C3692),C$3:C3692),D3691)","v":281},"281(1920)-600",null,null,null,"600",1920,560,18033.082604550727,19496.513751750725,19565.771084550724,21029.959792350724,24022.898403750729,25353.605672550726]
[null,null,0,{"$f":"IF(C3693<>0,LOOKUP(,-CODE(C$3:C3693),C$3:C3693),D3692)","v":281},"281(2040)-600",null,null,null,"600",2040,560,18978.44906298551,20533.823634185508,20603.28314298551,22159.41462678551,25327.948926185512,26742.217090985509]
[null,null,0,{"$f":"IF(C3694<>0,LOOKUP(,-CODE(C$3:C3694),C$3:C3694),D3693)","v":281},"281(2120)-600",null,null,null,"600",2120,560,19888.0645274087,21504.734714608698,21574.329007408698,23191.755675208697,26477.3537666087,27947.329195408696]
[null,null,0,{"$f":"IF(C3695<>0,LOOKUP(,-CODE(C$3:C3695),C$3:C3695),D3694)","v":281},"281(2240)-600",null,null,null,"600",2240,560,20985.66048584348,22694.274097043482,22764.070565843482,24473.44000964348,27934.633789043481,29488.17011384348]
[null,null,0,{"$f":"IF(C3696<>0,LOOKUP(,-CODE(C$3:C3696),C$3:C3696),D3695)","v":281},"281(2280)-600",null,null,null,"600",2280,560,21300.782638655073,23040.044057855077,23109.907918655077,24849.924954455073,28369.650629855074,29951.040586655075]
[null,null,282,{"$f":"IF(C3697<>0,LOOKUP(,-CODE(C$3:C3697),C$3:C3697),D3696)","v":282},"282(1920)-400","Шкаф кухонный комбинированный, трехдверный, с двумя стеклами и с метабоксом,H-180 мм, полки ЛДСП",null,null,"400",1920,560,13812.505952388405,14784.151193988404,14829.831392388405,15801.976090788405,17788.228649988407,18671.748656388405]
[null,null,0,{"$f":"IF(C3698<>0,LOOKUP(,-CODE(C$3:C3698),C$3:C3698),D3697)","v":282},"282(2040)-400",null,null,null,"400",2040,560,14469.627193431885,15502.414259031886,15548.210233431882,16581.496107831888,18684.462755031887,19623.550057431887]
[null,null,0,{"$f":"IF(C3699<>0,LOOKUP(,-CODE(C$3:C3699),C$3:C3699),D3698)","v":282},"282(2120)-400",null,null,null,"400",2120,560,15105.561206260869,16179.109487860867,16224.982646260869,17299.029304660871,19479.805343860869,20455.937510260868]
[null,null,0,{"$f":"IF(C3700<>0,LOOKUP(,-CODE(C$3:C3700),C$3:C3700),D3699)","v":282},"282(2240)-400",null,null,null,"400",2240,560,15914.911947304347,17049.602052904349,17095.590987304346,18230.778821704349,20528.268948904348,21559.968411304348]
[null,null,0,{"$f":"IF(C3701<>0,LOOKUP(,-CODE(C$3:C3701),C$3:C3701),D3700)","v":282},"282(2280)-400",null,null,null,"400",2280,560,16133.952360985506,17289.023074585508,17335.050600985509,18490.618827385508,20827.013650585508,21877.235544985506]
[null,null,0,{"$f":"IF(C3702<>0,LOOKUP(,-CODE(C$3:C3702),C$3:C3702),D3701)","v":282},"282(1920)-450",null,null,null,"450",1920,560,15111.140644562318,16205.158526162319,16256.662084562318,17351.243142962318,19587.862382162315,20582.656948562319]
[null,null,0,{"$f":"IF(C3703<>0,LOOKUP(,-CODE(C$3:C3703),C$3:C3703),D3702)","v":282},"282(2040)-450",null,null,null,"450",2040,560,15840.323189953624,17003.183295553623,17054.824229953621,18218.246864353619,20586.30059155362,21643.660853953621]
[null,null,0,{"$f":"IF(C3704<>0,LOOKUP(,-CODE(C$3:C3704),C$3:C3704),D3703)","v":282},"282(2120)-450",null,null,null,"450",2120,560,16544.677565681159,17753.432487281159,17805.16500568116,19014.482024081157,21470.158743281161,22569.229469681155]
[null,null,0,{"$f":"IF(C3705<>0,LOOKUP(,-CODE(C$3:C3705),C$3:C3705),D3704)","v":282},"282(2240)-450",null,null,null,"450",2240,560,17426.089611072468,18703.686756672469,18755.556651072464,20033.715245472464,22620.826452672467,23782.462875072466]
[null,null,0,{"$f":"IF(C3706<>0,LOOKUP(,-CODE(C$3:C3706),C$3:C3706),D3705)","v":282},"282(2280)-450",null,null,null,"450",2280,560,17669.150459536231,18969.695013136232,19021.610699536232,20322.716485936231,22953.639189136229,24136.13084353623]
[null,null,0,{"$f":"IF(C3707<>0,LOOKUP(,-CODE(C$3:C3707),C$3:C3707),D3706)","v":282},"282(1920)-500",null,null,null,"500",1920,560,16409.775336736231,17626.16585833623,17683.492776736231,18900.51019513623,21387.496114336231,22493.565240736229]
[null,null,0,{"$f":"IF(C3708<>0,LOOKUP(,-CODE(C$3:C3708),C$3:C3708),D3707)","v":282},"282(2040)-500",null,null,null,"500",2040,560,17211.019186475358,18503.952332075358,18561.438226475366,19854.997620875361,22488.138428075363,23663.771650475363]
[null,null,0,{"$f":"IF(C3709<>0,LOOKUP(,-CODE(C$3:C3709),C$3:C3709),D3708)","v":282},"282(2120)-500",null,null,null,"500",2120,560,17983.79392510145,19327.755486701451,19385.347365101454,20729.93474350145,23460.512142701449,24682.521429101445]
[null,null,0,{"$f":"IF(C3710<>0,LOOKUP(,-CODE(C$3:C3710),C$3:C3710),D3709)","v":282},"282(2240)-500",null,null,null,"500",2240,560,18937.267274840578,20357.771460440581,20415.522314840578,21836.651669240578,24713.383956440583,26004.957338840581]
[null,null,0,{"$f":"IF(C3711<>0,LOOKUP(,-CODE(C$3:C3711),C$3:C3711),D3710)","v":282},"282(2280)-500",null,null,null,"500",2280,560,19204.348558086953,20650.366951686956,20708.170798086954,22154.814144486954,25080.264727686957,26395.026142086957]
[null,null,0,{"$f":"IF(C3712<>0,LOOKUP(,-CODE(C$3:C3712),C$3:C3712),D3711)","v":282},"282(1920)-550",null,null,null,"550",1920,560,17708.410028910144,19047.173190510144,19110.323468910145,20449.777247310143,23187.129846510143,24404.473532910146]
[null,null,0,{"$f":"IF(C3713<>0,LOOKUP(,-CODE(C$3:C3713),C$3:C3713),D3712)","v":282},"282(2040)-550",null,null,null,"550",2040,560,18581.715182997104,20004.7213685971,20068.052222997103,21491.748377397103,24389.976264597099,25683.8824469971]
[null,null,0,{"$f":"IF(C3714<>0,LOOKUP(,-CODE(C$3:C3714),C$3:C3714),D3713)","v":282},"282(2120)-550",null,null,null,"550",2120,560,19422.910284521739,20902.078486121736,20965.529724521737,22445.387462921735,25450.865542121734,26795.813388521736]
[null,null,0,{"$f":"IF(C3715<>0,LOOKUP(,-CODE(C$3:C3715),C$3:C3715),D3714)","v":282},"282(2240)-550",null,null,null,"550",2240,560,20448.444938608693,22011.856164208693,22075.487978608693,23639.588093008693,26805.941460208694,28227.451802608695]
[null,null,0,{"$f":"IF(C3716<>0,LOOKUP(,-CODE(C$3:C3716),C$3:C3716),D3715)","v":282},"282(2280)-550",null,null,null,"550",2280,560,20739.546656637682,22331.038890237687,22394.730896637684,23986.911803037685,27206.890266237686,28653.921440637685]
[null,null,0,{"$f":"IF(C3717<>0,LOOKUP(,-CODE(C$3:C3717),C$3:C3717),D3716)","v":282},"282(1920)-600",null,null,null,"600",1920,560,19007.044721084058,20468.180522684059,20537.154161084058,21999.04429948406,24986.763578684062,26315.381825084056]
[null,null,0,{"$f":"IF(C3718<>0,LOOKUP(,-CODE(C$3:C3718),C$3:C3718),D3717)","v":282},"282(2040)-600",null,null,null,"600",2040,560,19952.41117951884,21505.490405118839,21574.66621951884,23128.499133918838,26291.814101118842,27703.993243518838]
[null,null,0,{"$f":"IF(C3719<>0,LOOKUP(,-CODE(C$3:C3719),C$3:C3719),D3718)","v":282},"282(2120)-600",null,null,null,"600",2120,560,20862.026643942027,22476.401485542028,22545.712083942028,24160.840182342028,27441.218941542029,28909.105347942026]
[null,null,0,{"$f":"IF(C3720<>0,LOOKUP(,-CODE(C$3:C3720),C$3:C3720),D3719)","v":282},"282(2240)-600",null,null,null,"600",2240,560,21959.622602376814,23665.940867976817,23735.453642376811,25442.524516776812,28898.498963976814,30449.946266376814]
[null,null,0,{"$f":"IF(C3721<>0,LOOKUP(,-CODE(C$3:C3721),C$3:C3721),D3720)","v":282},"282(2280)-600",null,null,null,"600",2280,560,22274.744755188403,24011.710828788404,24081.29099518841,25819.009461588405,29333.515804788403,30912.816739188405]
[null,null,283,{"$f":"IF(C3722<>0,LOOKUP(,-CODE(C$3:C3722),C$3:C3722),D3721)","v":283},"283(1920)-400","Шкаф кухонный комбинированный, трехдверный, с двумя стеклами и с леграбоксом, H-180 мм, полки ЛДСП",null,null,"400",1920,560,15521.59125692174,16493.236498521739,16538.91669692174,17511.06139532174,19497.313954521742,20380.83396092174]
[null,null,0,{"$f":"IF(C3723<>0,LOOKUP(,-CODE(C$3:C3723),C$3:C3723),D3722)","v":283},"283(2040)-400",null,null,null,"400",2040,560,16178.712497965218,17211.499563565219,17257.295537965219,18290.58141236522,20393.548059565223,21332.635361965222]
[null,null,0,{"$f":"IF(C3724<>0,LOOKUP(,-CODE(C$3:C3724),C$3:C3724),D3723)","v":283},"283(2120)-400",null,null,null,"400",2120,560,16814.646510794206,17888.194792394206,17934.067950794204,19008.114609194206,21188.890648394205,22165.022814794203]
[null,null,0,{"$f":"IF(C3725<>0,LOOKUP(,-CODE(C$3:C3725),C$3:C3725),D3724)","v":283},"283(2240)-400",null,null,null,"400",2240,560,17623.997251837682,18758.68735743768,18804.676291837681,19939.864126237684,22237.354253437683,23269.053715837683]
[null,null,0,{"$f":"IF(C3726<>0,LOOKUP(,-CODE(C$3:C3726),C$3:C3726),D3725)","v":283},"283(2280)-400",null,null,null,"400",2280,560,17843.037665518845,18998.108379118843,19044.135905518844,20199.704131918843,22536.098955118843,23586.320849518841]
[null,null,0,{"$f":"IF(C3727<>0,LOOKUP(,-CODE(C$3:C3727),C$3:C3727),D3726)","v":283},"283(1920)-450",null,null,null,"450",1920,560,16819.910949095651,17913.928830695651,17965.432389095651,19060.01344749565,21296.632686695652,22291.427253095651]
[null,null,0,{"$f":"IF(C3728<>0,LOOKUP(,-CODE(C$3:C3728),C$3:C3728),D3727)","v":283},"283(2040)-450",null,null,null,"450",2040,560,17549.093494486959,18711.953600086956,18763.594534486954,19927.017168886952,22295.070896086952,23352.431158486957]
[null,null,0,{"$f":"IF(C3729<>0,LOOKUP(,-CODE(C$3:C3729),C$3:C3729),D3728)","v":283},"283(2120)-450",null,null,null,"450",2120,560,18253.447870214495,19462.202791814492,19513.935310214492,20723.252328614493,23178.929047814494,24277.999774214491]
[null,null,0,{"$f":"IF(C3730<>0,LOOKUP(,-CODE(C$3:C3730),C$3:C3730),D3729)","v":283},"283(2240)-450",null,null,null,"450",2240,560,19134.859915605801,20412.457061205801,20464.3269556058,21742.485550005797,24329.5967572058,25491.233179605799]
[null,null,0,{"$f":"IF(C3731<>0,LOOKUP(,-CODE(C$3:C3731),C$3:C3731),D3730)","v":283},"283(2280)-450",null,null,null,"450",2280,560,19377.920764069564,20678.465317669568,20730.381004069564,22031.486790469567,24662.409493669566,25844.901148069566]
[null,null,0,{"$f":"IF(C3732<>0,LOOKUP(,-CODE(C$3:C3732),C$3:C3732),D3731)","v":283},"283(1920)-500",null,null,null,"500",1920,560,18118.230641269565,19334.621162869567,19391.948081269566,20608.965499669568,23095.951418869565,24202.020545269566]
[null,null,0,{"$f":"IF(C3733<>0,LOOKUP(,-CODE(C$3:C3733),C$3:C3733),D3732)","v":283},"283(2040)-500",null,null,null,"500",2040,560,18919.474491008696,20212.407636608696,20269.893531008696,21563.452925408696,24196.593732608697,25372.226955008697]
[null,null,0,{"$f":"IF(C3734<>0,LOOKUP(,-CODE(C$3:C3734),C$3:C3734),D3733)","v":283},"283(2120)-500",null,null,null,"500",2120,560,19692.249229634781,21036.210791234782,21093.802669634784,22438.390048034784,25168.967447234787,26390.976733634783]
[null,null,0,{"$f":"IF(C3735<>0,LOOKUP(,-CODE(C$3:C3735),C$3:C3735),D3734)","v":283},"283(2240)-500",null,null,null,"500",2240,560,20645.722579373913,22066.226764973911,22123.977619373913,23545.106973773913,26421.839260973913,27713.412643373911]
[null,null,0,{"$f":"IF(C3736<>0,LOOKUP(,-CODE(C$3:C3736),C$3:C3736),D3735)","v":283},"283(2280)-500",null,null,null,"500",2280,560,20912.803862620291,22358.82225622029,22416.626102620292,23863.269449020292,26788.720032220292,28103.481446620292]
[null,null,0,{"$f":"IF(C3737<>0,LOOKUP(,-CODE(C$3:C3737),C$3:C3737),D3736)","v":283},"283(1920)-550",null,null,null,"550",1920,560,19416.550333443476,20755.313495043476,20818.46377344348,22157.917551843479,24895.270151043478,26112.613837443478]
[null,null,0,{"$f":"IF(C3738<>0,LOOKUP(,-CODE(C$3:C3738),C$3:C3738),D3737)","v":283},"283(2040)-550",null,null,null,"550",2040,560,20289.855487530436,21712.861673130436,21776.192527530435,23199.888681930435,26098.116569130434,27392.022751530436]
[null,null,0,{"$f":"IF(C3739<>0,LOOKUP(,-CODE(C$3:C3739),C$3:C3739),D3738)","v":283},"283(2120)-550",null,null,null,"550",2120,560,21131.05058905507,22610.218790655072,22673.670029055073,24153.527767455071,27159.005846655069,28503.953693055071]
[null,null,0,{"$f":"IF(C3740<>0,LOOKUP(,-CODE(C$3:C3740),C$3:C3740),D3739)","v":283},"283(2240)-550",null,null,null,"550",2240,560,22156.585243142028,23719.996468742029,23783.628283142025,25347.728397542029,28514.081764742026,29935.592107142031]
[null,null,0,{"$f":"IF(C3741<>0,LOOKUP(,-CODE(C$3:C3741),C$3:C3741),D3740)","v":283},"283(2280)-550",null,null,null,"550",2280,560,22447.686961171014,24039.179194771019,24102.871201171016,25695.05210757102,28915.030570771021,30362.06174517102]
[null,null,0,{"$f":"IF(C3742<>0,LOOKUP(,-CODE(C$3:C3742),C$3:C3742),D3741)","v":283},"283(1920)-600",null,null,null,"600",1920,560,20714.870025617391,22176.005827217392,22244.979465617391,23706.869604017393,26694.588883217395,28023.207129617389]
[null,null,0,{"$f":"IF(C3743<>0,LOOKUP(,-CODE(C$3:C3743),C$3:C3743),D3742)","v":283},"283(2040)-600",null,null,null,"600",2040,560,21660.236484052177,23213.315709652175,23282.491524052173,24836.324438452175,27999.639405652175,29411.818548052172]
[null,null,0,{"$f":"IF(C3744<>0,LOOKUP(,-CODE(C$3:C3744),C$3:C3744),D3743)","v":283},"283(2120)-600",null,null,null,"600",2120,560,22569.851948475363,24184.226790075361,24253.537388475361,25868.665486875361,29149.044246075362,30616.930652475359]
[null,null,0,{"$f":"IF(C3745<>0,LOOKUP(,-CODE(C$3:C3745),C$3:C3745),D3744)","v":283},"283(2240)-600",null,null,null,"600",2240,560,23667.447906910144,25373.76617251015,25443.278946910144,27150.349821310145,30606.324268510147,32157.771570910147]
[null,null,0,{"$f":"IF(C3746<>0,LOOKUP(,-CODE(C$3:C3746),C$3:C3746),D3745)","v":283},"283(2280)-600",null,null,null,"600",2280,560,23982.570059721736,25719.536133321737,25789.116299721743,27526.834766121738,31041.341109321736,32620.642043721738]
[null,null,284,{"$f":"IF(C3747<>0,LOOKUP(,-CODE(C$3:C3747),C$3:C3747),D3746)","v":284},"284(1920)-400","Шкаф кухонный комбинированный, двухдверный, с двумя стеклами и с двумя метабоксами, Н-360 мм, полки ЛДСП",null,null,"400",1920,560,14970.169566388406,15941.814807988405,15987.495006388406,16959.639704788406,18945.892263988408,19829.412270388406]
[null,null,0,{"$f":"IF(C3748<>0,LOOKUP(,-CODE(C$3:C3748),C$3:C3748),D3747)","v":284},"284(2040)-400",null,null,null,"400",2040,560,15627.290807431886,16660.077873031889,16705.873847431885,17739.159721831889,19842.126369031888,20781.213671431888]
[null,null,0,{"$f":"IF(C3749<>0,LOOKUP(,-CODE(C$3:C3749),C$3:C3749),D3748)","v":284},"284(2120)-400",null,null,null,"400",2120,560,16263.22482026087,17336.773101860868,17382.646260260874,18456.692918660869,20637.46895786087,21613.601124260873]
[null,null,0,{"$f":"IF(C3750<>0,LOOKUP(,-CODE(C$3:C3750),C$3:C3750),D3749)","v":284},"284(2240)-400",null,null,null,"400",2240,560,17072.575561304348,18207.26566690435,18253.254601304347,19388.44243570435,21685.932562904349,22717.632025304349]
[null,null,0,{"$f":"IF(C3751<>0,LOOKUP(,-CODE(C$3:C3751),C$3:C3751),D3750)","v":284},"284(2280)-400",null,null,null,"400",2280,560,17291.615974985507,18446.686688585509,18492.714214985506,19648.282441385509,21984.677264585509,23034.899158985507]
[null,null,0,{"$f":"IF(C3752<>0,LOOKUP(,-CODE(C$3:C3752),C$3:C3752),D3751)","v":284},"284(1920)-450",null,null,null,"450",1920,560,16281.028751895652,17375.046633495651,17426.550191895651,18521.13125029565,20757.750489495651,21752.545055895651]
[null,null,0,{"$f":"IF(C3753<>0,LOOKUP(,-CODE(C$3:C3753),C$3:C3753),D3752)","v":284},"284(2040)-450",null,null,null,"450",2040,560,17010.211297286958,18173.071402886955,18224.712337286957,19388.134971686955,21756.188698886956,22813.548961286957]
[null,null,0,{"$f":"IF(C3754<>0,LOOKUP(,-CODE(C$3:C3754),C$3:C3754),D3753)","v":284},"284(2120)-450",null,null,null,"450",2120,560,17714.565673014495,18923.320594614495,18975.053113014492,20184.370131414493,22640.046850614493,23739.117577014491]
[null,null,0,{"$f":"IF(C3755<>0,LOOKUP(,-CODE(C$3:C3755),C$3:C3755),D3754)","v":284},"284(2240)-450",null,null,null,"450",2240,560,18595.9777184058,19873.574864005801,19925.4447584058,21203.6033528058,23790.714560005803,24952.350982405802]
[null,null,0,{"$f":"IF(C3756<>0,LOOKUP(,-CODE(C$3:C3756),C$3:C3756),D3755)","v":284},"284(2280)-450",null,null,null,"450",2280,560,18839.038566869564,20139.583120469568,20191.498806869564,21492.604593269567,24123.527296469565,25306.018950869566]
[null,null,0,{"$f":"IF(C3757<>0,LOOKUP(,-CODE(C$3:C3757),C$3:C3757),D3756)","v":284},"284(1920)-500",null,null,null,"500",1920,560,17591.887937402898,18808.2784590029,18865.605377402899,20082.622795802901,22569.608715002898,23675.6778414029]
[null,null,0,{"$f":"IF(C3758<>0,LOOKUP(,-CODE(C$3:C3758),C$3:C3758),D3757)","v":284},"284(2040)-500",null,null,null,"500",2040,560,18393.131787142025,19686.064932742025,19743.550827142033,21037.110221542029,23670.25102874203,24845.88425114203]
[null,null,0,{"$f":"IF(C3759<>0,LOOKUP(,-CODE(C$3:C3759),C$3:C3759),D3758)","v":284},"284(2120)-500",null,null,null,"500",2120,560,19165.906525768118,20509.868087368119,20567.459965768121,21912.047344168117,24642.62474336812,25864.634029768116]
[null,null,0,{"$f":"IF(C3760<>0,LOOKUP(,-CODE(C$3:C3760),C$3:C3760),D3759)","v":284},"284(2240)-500",null,null,null,"500",2240,560,20119.379875507246,21539.884061107245,21597.634915507246,23018.764269907246,25895.496557107246,27187.069939507244]
[null,null,0,{"$f":"IF(C3761<>0,LOOKUP(,-CODE(C$3:C3761),C$3:C3761),D3760)","v":284},"284(2280)-500",null,null,null,"500",2280,560,20386.46115875362,21832.479552353623,21890.283398753621,23336.926745153622,26262.377328353625,27577.138742753625]
[null,null,0,{"$f":"IF(C3762<>0,LOOKUP(,-CODE(C$3:C3762),C$3:C3762),D3761)","v":284},"284(1920)-550",null,null,null,"550",1920,560,18902.747122910147,20241.510284510146,20304.660562910147,21644.114341310145,24381.466940510145,25598.810626910144]
[null,null,0,{"$f":"IF(C3763<>0,LOOKUP(,-CODE(C$3:C3763),C$3:C3763),D3762)","v":284},"284(2040)-550",null,null,null,"550",2040,560,19776.052276997103,21199.058462597102,21262.389316997102,22686.085471397102,25584.313358597101,26878.219540997103]
[null,null,0,{"$f":"IF(C3764<>0,LOOKUP(,-CODE(C$3:C3764),C$3:C3764),D3763)","v":284},"284(2120)-550",null,null,null,"550",2120,560,20617.247378521737,22096.415580121738,22159.866818521739,23639.724556921738,26645.202636121736,27990.150482521738]
[null,null,0,{"$f":"IF(C3765<>0,LOOKUP(,-CODE(C$3:C3765),C$3:C3765),D3764)","v":284},"284(2240)-550",null,null,null,"550",2240,560,21642.782032608695,23206.193258208696,23269.825072608692,24833.925187008696,28000.278554208693,29421.788896608698]
[null,null,0,{"$f":"IF(C3766<>0,LOOKUP(,-CODE(C$3:C3766),C$3:C3766),D3765)","v":284},"284(2280)-550",null,null,null,"550",2280,560,21933.883750637684,23525.375984237686,23589.067990637683,25181.248897037687,28401.227360237688,29848.258534637687]
[null,null,0,{"$f":"IF(C3767<>0,LOOKUP(,-CODE(C$3:C3767),C$3:C3767),D3766)","v":284},"284(1920)-600",null,null,null,"600",1920,560,20213.606308417395,21674.742110017389,21743.715748417395,23205.605886817393,26193.325166017392,27521.943412417393]
[null,null,0,{"$f":"IF(C3768<>0,LOOKUP(,-CODE(C$3:C3768),C$3:C3768),D3767)","v":284},"284(2040)-600",null,null,null,"600",2040,560,21158.972766852174,22712.051992452172,22781.227806852177,24335.060721252172,27498.375688452179,28910.554830852176]
[null,null,0,{"$f":"IF(C3769<>0,LOOKUP(,-CODE(C$3:C3769),C$3:C3769),D3768)","v":284},"284(2120)-600",null,null,null,"600",2120,560,22068.588231275364,23682.963072875362,23752.273671275361,25367.401769675362,28647.780528875363,30115.66693527536]
[null,null,0,{"$f":"IF(C3770<>0,LOOKUP(,-CODE(C$3:C3770),C$3:C3770),D3769)","v":284},"284(2240)-600",null,null,null,"600",2240,560,23166.184189710148,24872.50245531015,24942.015229710145,26649.086104110145,30105.060551310147,31656.507853710151]
[null,null,0,{"$f":"IF(C3771<>0,LOOKUP(,-CODE(C$3:C3771),C$3:C3771),D3770)","v":284},"284(2280)-600",null,null,null,"600",2280,560,23481.306342521737,25218.272416121737,25287.85258252174,27025.571048921738,30540.077392121737,32119.378326521739]
[null,null,285,{"$f":"IF(C3772<>0,LOOKUP(,-CODE(C$3:C3772),C$3:C3772),D3771)","v":285},"285(1920)-400","Шкаф кухонный комбинированный, двухдверный, с двумя стеклами и с двумя леграбоксами, Н-360 мм, полки ЛДСП",null,null,"400",1920,560,17696.69123892174,18668.336480521739,18714.01667892174,19686.16137732174,21672.413936521742,22555.93394292174]
[null,null,0,{"$f":"IF(C3773<>0,LOOKUP(,-CODE(C$3:C3773),C$3:C3773),D3772)","v":285},"285(2040)-400",null,null,null,"400",2040,560,18353.812479965218,19386.599545565219,19432.395519965219,20465.68139436522,22568.648041565222,23507.735343965222]
[null,null,0,{"$f":"IF(C3774<>0,LOOKUP(,-CODE(C$3:C3774),C$3:C3774),D3773)","v":285},"285(2120)-400",null,null,null,"400",2120,560,18989.746492794206,20063.294774394202,20109.167932794204,21183.214591194203,23363.990630394204,24340.122796794203]
[null,null,0,{"$f":"IF(C3775<>0,LOOKUP(,-CODE(C$3:C3775),C$3:C3775),D3774)","v":285},"285(2240)-400",null,null,null,"400",2240,560,19799.097233837681,20933.78733943768,20979.77627383768,22114.964108237684,24412.454235437683,25444.153697837683]
[null,null,0,{"$f":"IF(C3776<>0,LOOKUP(,-CODE(C$3:C3776),C$3:C3776),D3775)","v":285},"285(2280)-400",null,null,null,"400",2280,560,20018.137647518841,21173.208361118843,21219.23588751884,22374.804113918843,24711.198937118839,25761.420831518837]
[null,null,0,{"$f":"IF(C3777<>0,LOOKUP(,-CODE(C$3:C3777),C$3:C3777),D3776)","v":285},"285(1920)-450",null,null,null,"450",1920,560,19006.010424428983,20100.028306028988,20151.531864428987,21246.112922828986,23482.732162028984,24477.526728428988]
[null,null,0,{"$f":"IF(C3778<>0,LOOKUP(,-CODE(C$3:C3778),C$3:C3778),D3777)","v":285},"285(2040)-450",null,null,null,"450",2040,560,19735.192969820291,20898.053075420292,20949.69400982029,22113.116644220288,24481.170371420289,25538.53063382029]
[null,null,0,{"$f":"IF(C3779<>0,LOOKUP(,-CODE(C$3:C3779),C$3:C3779),D3778)","v":285},"285(2120)-450",null,null,null,"450",2120,560,20439.547345547824,21648.302267147828,21700.034785547825,22909.351803947826,25365.028523147826,26464.099249547824]
[null,null,0,{"$f":"IF(C3780<>0,LOOKUP(,-CODE(C$3:C3780),C$3:C3780),D3779)","v":285},"285(2240)-450",null,null,null,"450",2240,560,21320.959390939133,22598.556536539134,22650.426430939129,23928.585025339133,26515.696232539136,27677.332654939135]
[null,null,0,{"$f":"IF(C3781<>0,LOOKUP(,-CODE(C$3:C3781),C$3:C3781),D3780)","v":285},"285(2280)-450",null,null,null,"450",2280,560,21564.0202394029,22864.564793002897,22916.480479402897,24217.586265802896,26848.508969002894,28031.000623402895]
[null,null,0,{"$f":"IF(C3782<>0,LOOKUP(,-CODE(C$3:C3782),C$3:C3782),D3781)","v":285},"285(1920)-500",null,null,null,"500",1920,560,20315.329609936234,21531.720131536233,21589.047049936235,22806.064468336233,25293.050387536234,26399.119513936232]
[null,null,0,{"$f":"IF(C3783<>0,LOOKUP(,-CODE(C$3:C3783),C$3:C3783),D3782)","v":285},"285(2040)-500",null,null,null,"500",2040,560,21116.573459675361,22409.506605275361,22466.992499675365,23760.551894075361,26393.692701275366,27569.325923675366]
[null,null,0,{"$f":"IF(C3784<>0,LOOKUP(,-CODE(C$3:C3784),C$3:C3784),D3783)","v":285},"285(2120)-500",null,null,null,"500",2120,560,21889.348198301454,23233.309759901455,23290.901638301457,24635.489016701453,27366.066415901452,28588.075702301448]
[null,null,0,{"$f":"IF(C3785<>0,LOOKUP(,-CODE(C$3:C3785),C$3:C3785),D3784)","v":285},"285(2240)-500",null,null,null,"500",2240,560,22842.821548040582,24263.32573364058,24321.076588040578,25742.205942440578,28618.938229640582,29910.51161204058]
[null,null,0,{"$f":"IF(C3786<>0,LOOKUP(,-CODE(C$3:C3786),C$3:C3786),D3785)","v":285},"285(2280)-500",null,null,null,"500",2280,560,23109.902831286956,24555.921224886959,24613.725071286957,26060.368417686957,28985.819000886957,30300.58041528696]
[null,null,0,{"$f":"IF(C3787<>0,LOOKUP(,-CODE(C$3:C3787),C$3:C3787),D3786)","v":285},"285(1920)-550",null,null,null,"550",1920,560,21624.648795443478,22963.411957043478,23026.562235443482,24366.01601384348,27103.36861304348,28320.712299443479]
[null,null,0,{"$f":"IF(C3788<>0,LOOKUP(,-CODE(C$3:C3788),C$3:C3788),D3787)","v":285},"285(2040)-550",null,null,null,"550",2040,560,22497.953949530438,23920.960135130437,23984.290989530436,25407.987143930437,28306.215031130436,29600.121213530438]
[null,null,0,{"$f":"IF(C3789<>0,LOOKUP(,-CODE(C$3:C3789),C$3:C3789),D3788)","v":285},"285(2120)-550",null,null,null,"550",2120,560,23339.149051055072,24818.317252655073,24881.768491055074,26361.626229455072,29367.104308655071,30712.052155055073]
[null,null,0,{"$f":"IF(C3790<>0,LOOKUP(,-CODE(C$3:C3790),C$3:C3790),D3789)","v":285},"285(2240)-550",null,null,null,"550",2240,560,24364.68370514203,25928.094930742031,25991.726745142027,27555.82685954203,30722.180226742028,32143.690569142032]
[null,null,0,{"$f":"IF(C3791<>0,LOOKUP(,-CODE(C$3:C3791),C$3:C3791),D3790)","v":285},"285(2280)-550",null,null,null,"550",2280,560,24655.785423171015,26247.277656771021,26310.969663171018,27903.150569571022,31123.129032771023,32570.160207171022]
[null,null,0,{"$f":"IF(C3792<>0,LOOKUP(,-CODE(C$3:C3792),C$3:C3792),D3791)","v":285},"285(1920)-600",null,null,null,"600",1920,560,22933.967980950725,24395.103782550723,24464.077420950725,25925.967559350727,28913.686838550726,30242.305084950724]
[null,null,0,{"$f":"IF(C3793<>0,LOOKUP(,-CODE(C$3:C3793),C$3:C3793),D3792)","v":285},"285(2040)-600",null,null,null,"600",2040,560,23879.334439385508,25432.413664985506,25501.589479385508,27055.422393785506,30218.737360985509,31630.916503385506]
[null,null,0,{"$f":"IF(C3794<>0,LOOKUP(,-CODE(C$3:C3794),C$3:C3794),D3793)","v":285},"285(2120)-600",null,null,null,"600",2120,560,24788.949903808694,26403.324745408696,26472.635343808695,28087.763442208696,31368.142201408697,32836.028607808694]
[null,null,0,{"$f":"IF(C3795<>0,LOOKUP(,-CODE(C$3:C3795),C$3:C3795),D3794)","v":285},"285(2240)-600",null,null,null,"600",2240,560,25886.545862243482,27592.864127843481,27662.376902243479,29369.447776643479,32825.422223843481,34376.869526243485]
[null,null,0,{"$f":"IF(C3796<>0,LOOKUP(,-CODE(C$3:C3796),C$3:C3796),D3795)","v":285},"285(2280)-600",null,null,null,"600",2280,560,26201.668015055071,27938.634088655072,28008.214255055074,29745.932721455072,33260.439064655067,34839.739999055069]
[null,null,286,{"$f":"IF(C3797<>0,LOOKUP(,-CODE(C$3:C3797),C$3:C3797),D3796)","v":286},"286(1920)-400","Шкаф кухонный комбинированный, двухдверный, с двумя стеклами и с тремя метабоксами, H-180 мм, полки ЛДСП",null,null,"400",1920,560,15456.825243455074,16426.944099455075,16472.435643455075,17443.051812455073,19425.833559455074,20307.964383455077]
[null,null,0,{"$f":"IF(C3798<>0,LOOKUP(,-CODE(C$3:C3798),C$3:C3798),D3797)","v":286},"286(2040)-400",null,null,null,"400",2040,560,16113.94648449855,17145.207164498555,17190.814484498555,18222.571829498553,20322.067664498554,21259.765784498555]
[null,null,0,{"$f":"IF(C3799<>0,LOOKUP(,-CODE(C$3:C3799),C$3:C3799),D3798)","v":286},"286(2120)-400",null,null,null,"400",2120,560,16749.88049732754,17821.902393327538,17867.586897327539,18940.105026327539,21117.410253327536,22092.15323732754]
[null,null,0,{"$f":"IF(C3800<>0,LOOKUP(,-CODE(C$3:C3800),C$3:C3800),D3799)","v":286},"286(2240)-400",null,null,null,"400",2240,560,17559.231238371016,18692.394958371013,18738.195238371016,19871.854543371017,22165.873858371015,23196.184138371013]
[null,null,0,{"$f":"IF(C3801<>0,LOOKUP(,-CODE(C$3:C3801),C$3:C3801),D3800)","v":286},"286(2280)-400",null,null,null,"400",2280,560,17778.271652052175,18931.815980052175,18977.654852052176,20131.694549052176,22464.618560052179,23513.451272052174]
[null,null,0,{"$f":"IF(C3802<>0,LOOKUP(,-CODE(C$3:C3802),C$3:C3802),D3801)","v":286},"286(1920)-450",null,null,null,"450",1920,560,16785.020815628988,17877.320071628987,17928.611215628986,19021.471234628989,21254.182531628987,22247.412955628988]
[null,null,0,{"$f":"IF(C3803<>0,LOOKUP(,-CODE(C$3:C3803),C$3:C3803),D3802)","v":286},"286(2040)-450",null,null,null,"450",2040,560,17514.203361020293,18675.344841020291,18726.773361020292,19888.474956020291,22252.620741020288,23308.416861020291]
[null,null,0,{"$f":"IF(C3804<>0,LOOKUP(,-CODE(C$3:C3804),C$3:C3804),D3803)","v":286},"286(2120)-450",null,null,null,"450",2120,560,18218.557736747829,19425.594032747827,19477.114136747827,20684.710115747828,23136.478892747826,24233.985476747825]
[null,null,0,{"$f":"IF(C3805<>0,LOOKUP(,-CODE(C$3:C3805),C$3:C3805),D3804)","v":286},"286(2240)-450",null,null,null,"450",2240,560,19099.969782139131,20375.848302139133,20427.505782139131,21703.943337139135,24287.146602139135,25447.218882139136]
[null,null,0,{"$f":"IF(C3806<>0,LOOKUP(,-CODE(C$3:C3806),C$3:C3806),D3805)","v":286},"286(2280)-450",null,null,null,"450",2280,560,19343.030630602898,20641.856558602904,20693.559830602902,21992.944577602902,24619.959338602901,25800.886850602903]
[null,null,0,{"$f":"IF(C3807<>0,LOOKUP(,-CODE(C$3:C3807),C$3:C3807),D3806)","v":286},"286(1920)-500",null,null,null,"500",1920,560,18113.216387802902,19327.696043802898,19384.786787802899,20599.890656802898,23082.5315038029,24186.861527802899]
[null,null,0,{"$f":"IF(C3808<>0,LOOKUP(,-CODE(C$3:C3808),C$3:C3808),D3807)","v":286},"286(2040)-500",null,null,null,"500",2040,560,18914.460237542025,20205.482517542026,20262.73223754203,21554.378082542029,24183.173817542029,25357.067937542026]
[null,null,0,{"$f":"IF(C3809<>0,LOOKUP(,-CODE(C$3:C3809),C$3:C3809),D3808)","v":286},"286(2120)-500",null,null,null,"500",2120,560,19687.234976168114,21029.285672168116,21086.641376168118,22429.315205168114,25155.547532168115,26375.817716168116]
[null,null,0,{"$f":"IF(C3810<>0,LOOKUP(,-CODE(C$3:C3810),C$3:C3810),D3809)","v":286},"286(2240)-500",null,null,null,"500",2240,560,20640.70832590725,22059.30164590725,22116.816325907246,23536.03213090725,26408.419345907245,27698.253625907248]
[null,null,0,{"$f":"IF(C3811<>0,LOOKUP(,-CODE(C$3:C3811),C$3:C3811),D3810)","v":286},"286(2280)-500",null,null,null,"500",2280,560,20907.789609153624,22351.897137153624,22409.464809153622,23854.194606153622,26775.300117153623,28088.322429153624]
[null,null,0,{"$f":"IF(C3812<>0,LOOKUP(,-CODE(C$3:C3812),C$3:C3812),D3811)","v":286},"286(1920)-550",null,null,null,"550",1920,560,19441.411959976809,20778.07201597681,20840.962359976813,22178.310078976814,24910.880475976817,26126.310099976814]
[null,null,0,{"$f":"IF(C3813<>0,LOOKUP(,-CODE(C$3:C3813),C$3:C3813),D3812)","v":286},"286(2040)-550",null,null,null,"550",2040,560,20314.717114063769,21735.620194063769,21798.691114063768,23220.281209063771,26113.726894063766,27405.719014063769]
[null,null,0,{"$f":"IF(C3814<>0,LOOKUP(,-CODE(C$3:C3814),C$3:C3814),D3813)","v":286},"286(2120)-550",null,null,null,"550",2120,560,21155.912215588407,22632.977311588409,22696.168615588409,24173.920294588406,27174.616171588408,28517.649955588407]
[null,null,0,{"$f":"IF(C3815<>0,LOOKUP(,-CODE(C$3:C3815),C$3:C3815),D3814)","v":286},"286(2240)-550",null,null,null,"550",2240,560,22181.446869675361,23742.754989675363,23806.126869675361,25368.120924675364,28529.692089675358,29949.288369675363]
[null,null,0,{"$f":"IF(C3816<>0,LOOKUP(,-CODE(C$3:C3816),C$3:C3816),D3815)","v":286},"286(2280)-550",null,null,null,"550",2280,560,22472.548587704347,24061.937715704349,24125.369787704352,25715.444634704349,28930.640895704353,30375.758007704353]
[null,null,0,{"$f":"IF(C3817<>0,LOOKUP(,-CODE(C$3:C3817),C$3:C3817),D3816)","v":286},"286(1920)-600",null,null,null,"600",1920,560,20769.607532150727,22228.447988150729,22297.137932150727,23756.729501150727,26739.229448150727,28065.758672150725]
[null,null,0,{"$f":"IF(C3818<>0,LOOKUP(,-CODE(C$3:C3818),C$3:C3818),D3817)","v":286},"286(2040)-600",null,null,null,"600",2040,560,21714.973990585509,23265.757870585508,23334.649990585509,24886.184335585509,28044.279970585507,29454.370090585515]
[null,null,0,{"$f":"IF(C3819<>0,LOOKUP(,-CODE(C$3:C3819),C$3:C3819),D3818)","v":286},"286(2120)-600",null,null,null,"600",2120,560,22624.589455008696,24236.668951008698,24305.6958550087,25918.525384008695,29193.684811008698,30659.482195008695]
[null,null,0,{"$f":"IF(C3820<>0,LOOKUP(,-CODE(C$3:C3820),C$3:C3820),D3819)","v":286},"286(2240)-600",null,null,null,"600",2240,560,23722.185413443476,25426.208333443479,25495.437413443477,27200.209718443479,30650.964833443479,32200.323113443479]
[null,null,0,{"$f":"IF(C3821<>0,LOOKUP(,-CODE(C$3:C3821),C$3:C3821),D3820)","v":286},"286(2280)-600",null,null,null,"600",2280,560,24037.307566255073,25771.978294255077,25841.274766255079,27576.694663255072,31085.981674255072,32663.193586255078]
[null,null,287,{"$f":"IF(C3822<>0,LOOKUP(,-CODE(C$3:C3822),C$3:C3822),D3821)","v":287},"287(1920)-400","Шкаф кухонный комбинированный, двухдверный, с двумя стеклами и с тремя леграбоксами, H-180 мм, полки ЛДСП",null,null,"400",1920,560,19495.648688788406,20465.767544788407,20511.259088788407,21481.875257788408,23464.657004788405,24346.787828788409]
[null,null,0,{"$f":"IF(C3823<>0,LOOKUP(,-CODE(C$3:C3823),C$3:C3823),D3822)","v":287},"287(2040)-400",null,null,null,"400",2040,560,20152.769929831888,21184.030609831887,21229.637929831886,22261.395274831888,24360.891109831889,25298.589229831887]
[null,null,0,{"$f":"IF(C3824<>0,LOOKUP(,-CODE(C$3:C3824),C$3:C3824),D3823)","v":287},"287(2120)-400",null,null,null,"400",2120,560,20788.703942660875,21860.725838660874,21906.410342660871,22978.928471660874,25156.233698660872,26130.976682660876]
[null,null,0,{"$f":"IF(C3825<>0,LOOKUP(,-CODE(C$3:C3825),C$3:C3825),D3824)","v":287},"287(2240)-400",null,null,null,"400",2240,560,21598.054683704351,22731.218403704348,22777.018683704351,23910.677988704352,26204.69730370435,27235.007583704348]
[null,null,0,{"$f":"IF(C3826<>0,LOOKUP(,-CODE(C$3:C3826),C$3:C3826),D3825)","v":287},"287(2280)-400",null,null,null,"400",2280,560,21817.095097385507,22970.639425385511,23016.478297385511,24170.517994385511,26503.44200538551,27552.27471738551]
[null,null,0,{"$f":"IF(C3827<>0,LOOKUP(,-CODE(C$3:C3827),C$3:C3827),D3826)","v":287},"287(1920)-450",null,null,null,"450",1920,560,20822.444260962322,21914.74351696232,21966.034660962319,23058.894679962323,25291.605976962321,26284.836400962318]
[null,null,0,{"$f":"IF(C3828<>0,LOOKUP(,-CODE(C$3:C3828),C$3:C3828),D3827)","v":287},"287(2040)-450",null,null,null,"450",2040,560,21551.626806353626,22712.768286353625,22764.196806353626,23925.898401353625,26290.044186353622,27345.840306353624]
[null,null,0,{"$f":"IF(C3829<>0,LOOKUP(,-CODE(C$3:C3829),C$3:C3829),D3828)","v":287},"287(2120)-450",null,null,null,"450",2120,560,22255.981182081163,23463.017478081161,23514.537582081157,24722.133561081162,27173.90233808116,28271.408922081158]
[null,null,0,{"$f":"IF(C3830<>0,LOOKUP(,-CODE(C$3:C3830),C$3:C3830),D3829)","v":287},"287(2240)-450",null,null,null,"450",2240,560,23137.393227472465,24413.271747472463,24464.929227472465,25741.366782472465,28324.570047472465,29484.642327472466]
[null,null,0,{"$f":"IF(C3831<>0,LOOKUP(,-CODE(C$3:C3831),C$3:C3831),D3830)","v":287},"287(2280)-450",null,null,null,"450",2280,560,23380.454075936232,24679.280003936234,24730.983275936233,26030.368022936233,28657.382783936231,29838.310295936233]
[null,null,0,{"$f":"IF(C3832<>0,LOOKUP(,-CODE(C$3:C3832),C$3:C3832),D3831)","v":287},"287(1920)-500",null,null,null,"500",1920,560,22149.239833136235,23363.719489136231,23420.810233136232,24635.91410213623,27118.554949136233,28222.884973136232]
[null,null,0,{"$f":"IF(C3833<>0,LOOKUP(,-CODE(C$3:C3833),C$3:C3833),D3832)","v":287},"287(2040)-500",null,null,null,"500",2040,560,22950.483682875361,24241.505962875359,24298.755682875362,25590.401527875361,28219.197262875365,29393.091382875362]
[null,null,0,{"$f":"IF(C3834<>0,LOOKUP(,-CODE(C$3:C3834),C$3:C3834),D3833)","v":287},"287(2120)-500",null,null,null,"500",2120,560,23723.258421501447,25065.309117501449,25122.66482150145,26465.338650501446,29191.570977501447,30411.841161501448]
[null,null,0,{"$f":"IF(C3835<>0,LOOKUP(,-CODE(C$3:C3835),C$3:C3835),D3834)","v":287},"287(2240)-500",null,null,null,"500",2240,560,24676.731771240582,26095.325091240582,26152.839771240579,27572.055576240582,30444.442791240577,31734.27707124058]
[null,null,0,{"$f":"IF(C3836<>0,LOOKUP(,-CODE(C$3:C3836),C$3:C3836),D3835)","v":287},"287(2280)-500",null,null,null,"500",2280,560,24943.813054486956,26387.920582486957,26445.488254486958,27890.218051486958,30811.323562486959,32124.345874486957]
[null,null,0,{"$f":"IF(C3837<>0,LOOKUP(,-CODE(C$3:C3837),C$3:C3837),D3836)","v":287},"287(1920)-550",null,null,null,"550",1920,560,23476.035405310147,24812.695461310148,24875.585805310147,26212.933524310149,28945.503921310148,30160.933545310152]
[null,null,0,{"$f":"IF(C3838<>0,LOOKUP(,-CODE(C$3:C3838),C$3:C3838),D3837)","v":287},"287(2040)-550",null,null,null,"550",2040,560,24349.340559397104,25770.2436393971,25833.314559397102,27254.904654397105,30148.3503393971,31440.342459397103]
[null,null,0,{"$f":"IF(C3839<>0,LOOKUP(,-CODE(C$3:C3839),C$3:C3839),D3838)","v":287},"287(2120)-550",null,null,null,"550",2120,560,25190.535660921742,26667.60075692174,26730.79206092174,28208.543739921741,31209.239616921739,32552.273400921738]
[null,null,0,{"$f":"IF(C3840<>0,LOOKUP(,-CODE(C$3:C3840),C$3:C3840),D3839)","v":287},"287(2240)-550",null,null,null,"550",2240,560,26216.070315008692,27777.378435008693,27840.750315008692,29402.744370008695,32564.315535008693,33983.911815008694]
[null,null,0,{"$f":"IF(C3841<>0,LOOKUP(,-CODE(C$3:C3841),C$3:C3841),D3840)","v":287},"287(2280)-550",null,null,null,"550",2280,560,26507.172033037685,28096.561161037687,28159.993233037687,29750.068080037687,32965.264341037684,34410.381453037684]
[null,null,0,{"$f":"IF(C3842<>0,LOOKUP(,-CODE(C$3:C3842),C$3:C3842),D3841)","v":287},"287(1920)-600",null,null,null,"600",1920,560,24802.83097748406,26261.671433484058,26330.36137748406,27789.95294648406,30772.452893484056,32098.982117484062]
[null,null,0,{"$f":"IF(C3843<>0,LOOKUP(,-CODE(C$3:C3843),C$3:C3843),D3842)","v":287},"287(2040)-600",null,null,null,"600",2040,560,25748.197435918843,27298.981315918842,27367.873435918846,28919.407780918846,32077.503415918844,33487.593535918844]
[null,null,0,{"$f":"IF(C3844<>0,LOOKUP(,-CODE(C$3:C3844),C$3:C3844),D3843)","v":287},"287(2120)-600",null,null,null,"600",2120,560,26657.812900342033,28269.892396342031,28338.919300342033,29951.748829342032,33226.908256342031,34692.705640342028]
[null,null,0,{"$f":"IF(C3845<>0,LOOKUP(,-CODE(C$3:C3845),C$3:C3845),D3844)","v":287},"287(2240)-600",null,null,null,"600",2240,560,27755.408858776813,29459.431778776812,29528.660858776813,31233.433163776812,34684.188278776812,36233.546558776812]
[null,null,0,{"$f":"IF(C3846<>0,LOOKUP(,-CODE(C$3:C3846),C$3:C3846),D3845)","v":287},"287(2280)-600",null,null,null,"600",2280,560,28070.531011588409,29805.201739588407,29874.498211588409,31609.918108588408,35119.205119588405,36696.417031588404]
[null,null,288,{"$f":"IF(C3847<>0,LOOKUP(,-CODE(C$3:C3847),C$3:C3847),D3846)","v":288},"288(1920)-400","Шкаф кухонный комбинированный, двухдверный, с одним стеклом, полки ЛДСП",null,null,"400",1920,560,12980.583733588406,13955.281746388406,14001.339253588405,14976.541010788405,16969.735194388406,17856.033565588408]
[null,null,0,{"$f":"IF(C3848<>0,LOOKUP(,-CODE(C$3:C3848),C$3:C3848),D3847)","v":288},"288(2040)-400",null,null,null,"400",2040,560,13637.704974631884,14673.544811431884,14719.718094631886,15756.061027831885,17865.969299431883,18807.834966631886]
[null,null,0,{"$f":"IF(C3849<>0,LOOKUP(,-CODE(C$3:C3849),C$3:C3849),D3848)","v":288},"288(2120)-400",null,null,null,"400",2120,560,14104.420051994204,15181.021104794205,15227.271571994204,16304.375289194204,18492.092952794199,19471.003483994198]
[null,null,0,{"$f":"IF(C3850<>0,LOOKUP(,-CODE(C$3:C3850),C$3:C3850),D3849)","v":288},"288(2240)-400",null,null,null,"400",2240,560,14761.541293037681,15899.28416983768,15945.650413037682,17083.895306237682,19388.32705783768,20422.804885037684]
[null,null,0,{"$f":"IF(C3851<>0,LOOKUP(,-CODE(C$3:C3851),C$3:C3851),D3850)","v":288},"288(2280)-400",null,null,null,"400",2280,560,14980.58170671884,16138.70519151884,16185.110026718839,17343.735311918841,19687.07175951884,20740.072018718834]
[null,null,0,{"$f":"IF(C3852<>0,LOOKUP(,-CODE(C$3:C3852),C$3:C3852),D3851)","v":288},"288(1920)-450",null,null,null,"450",1920,560,14266.089639095653,15363.544771895651,15415.473159095653,16513.496296295656,18757.931419895653,19755.854271095654]
[null,null,0,{"$f":"IF(C3853<>0,LOOKUP(,-CODE(C$3:C3853),C$3:C3853),D3852)","v":288},"288(2040)-450",null,null,null,"450",2040,560,14995.272184486956,16161.569541286957,16213.635304486957,17380.500017686958,19756.369629286957,20816.858176486956]
[null,null,0,{"$f":"IF(C3854<>0,LOOKUP(,-CODE(C$3:C3854),C$3:C3854),D3853)","v":288},"288(2120)-450",null,null,null,"450",2120,560,15510.028131414492,16722.220304214494,16774.377651414492,17987.136748614492,20450.629352214492,21552.828363414494]
[null,null,0,{"$f":"IF(C3855<>0,LOOKUP(,-CODE(C$3:C3855),C$3:C3855),D3854)","v":288},"288(2240)-450",null,null,null,"450",2240,560,16239.210676805797,17520.245073605798,17572.539796805799,18854.140470005797,21449.067561605796,22613.832268805796]
[null,null,0,{"$f":"IF(C3856<>0,LOOKUP(,-CODE(C$3:C3856),C$3:C3856),D3855)","v":288},"288(2280)-450",null,null,null,"450",2280,560,16482.271525269567,17786.253330069565,17838.593845269566,19143.141710469568,21781.880298069565,22967.500237269567]
[null,null,0,{"$f":"IF(C3857<>0,LOOKUP(,-CODE(C$3:C3857),C$3:C3857),D3856)","v":288},"288(1920)-500",null,null,null,"500",1920,560,15551.5955446029,16771.807797402897,16829.607064602897,18050.451581802899,20546.127645402896,21655.674976602899]
[null,null,0,{"$f":"IF(C3858<>0,LOOKUP(,-CODE(C$3:C3858),C$3:C3858),D3857)","v":288},"288(2040)-500",null,null,null,"500",2040,560,16352.839394342029,17649.594271142028,17707.552514342027,19004.939007542027,21646.769959142028,22825.881386342029]
[null,null,0,{"$f":"IF(C3859<>0,LOOKUP(,-CODE(C$3:C3859),C$3:C3859),D3858)","v":288},"288(2120)-500",null,null,null,"500",2120,560,16915.636210834782,18263.419503634781,18321.483730834781,19669.898208034781,22409.165751634784,23634.653242834782]
[null,null,0,{"$f":"IF(C3860<>0,LOOKUP(,-CODE(C$3:C3860),C$3:C3860),D3859)","v":288},"288(2240)-500",null,null,null,"500",2240,560,17716.880060573912,19141.205977373913,19199.429180573909,20624.385633773909,23509.808065373909,24804.859652573912]
[null,null,0,{"$f":"IF(C3861<>0,LOOKUP(,-CODE(C$3:C3861),C$3:C3861),D3860)","v":288},"288(2280)-500",null,null,null,"500",2280,560,17983.96134382029,19433.801468620291,19492.077663820291,20942.548109020288,23876.688836620287,25194.928455820289]
[null,null,0,{"$f":"IF(C3862<>0,LOOKUP(,-CODE(C$3:C3862),C$3:C3862),D3861)","v":288},"288(1920)-550",null,null,null,"550",1920,560,16837.101450110145,18180.070822910144,18243.740970110146,19587.406867310146,22334.323870910146,23555.495682110144]
[null,null,0,{"$f":"IF(C3863<>0,LOOKUP(,-CODE(C$3:C3863),C$3:C3863),D3862)","v":288},"288(2040)-550",null,null,null,"550",2040,560,17710.406604197102,19137.6190009971,19201.469724197101,20629.3779973971,23537.170288997102,24834.904596197102]
[null,null,0,{"$f":"IF(C3864<>0,LOOKUP(,-CODE(C$3:C3864),C$3:C3864),D3863)","v":288},"288(2120)-550",null,null,null,"550",2120,560,18321.244290255076,19804.618703055075,19868.589810255075,21352.659667455075,24367.702151055073,25716.478122255074]
[null,null,0,{"$f":"IF(C3865<>0,LOOKUP(,-CODE(C$3:C3865),C$3:C3865),D3864)","v":288},"288(2240)-550",null,null,null,"550",2240,560,19194.549444342025,20762.166881142028,20826.318564342026,22394.630797542024,25570.548569142025,26995.887036342028]
[null,null,0,{"$f":"IF(C3866<>0,LOOKUP(,-CODE(C$3:C3866),C$3:C3866),D3865)","v":288},"288(2280)-550",null,null,null,"550",2280,560,19485.651162371014,21081.349607171014,21145.561482371017,22741.954507571016,25971.497375171017,27422.356674371022]
[null,null,0,{"$f":"IF(C3867<>0,LOOKUP(,-CODE(C$3:C3867),C$3:C3867),D3866)","v":288},"288(1920)-600",null,null,null,"600",1920,560,18122.607355617391,19588.333848417391,19657.874875617392,21124.36215281739,24122.520096417389,25455.316387617393]
[null,null,0,{"$f":"IF(C3868<>0,LOOKUP(,-CODE(C$3:C3868),C$3:C3868),D3867)","v":288},"288(2040)-600",null,null,null,"600",2040,560,19067.973814052173,20625.643730852178,20695.386934052178,22253.816987252176,25427.57061885218,26843.927806052179]
[null,null,0,{"$f":"IF(C3869<>0,LOOKUP(,-CODE(C$3:C3869),C$3:C3869),D3868)","v":288},"288(2120)-600",null,null,null,"600",2120,560,19726.852369675362,21345.817902475363,21415.69588967536,23035.421126875364,26326.238550475362,27798.303001675362]
[null,null,0,{"$f":"IF(C3870<>0,LOOKUP(,-CODE(C$3:C3870),C$3:C3870),D3869)","v":288},"288(2240)-600",null,null,null,"600",2240,560,20672.218828110148,22383.127784910146,22453.207948110146,24164.875961310147,27631.289072910149,29186.914420110148]
[null,null,0,{"$f":"IF(C3871<>0,LOOKUP(,-CODE(C$3:C3871),C$3:C3871),D3870)","v":288},"288(2280)-600",null,null,null,"600",2280,560,20987.340980921737,22728.897745721737,22799.045300921742,24541.360906121739,28066.305913721739,29649.78489292174]
[null,null,289,{"$f":"IF(C3872<>0,LOOKUP(,-CODE(C$3:C3872),C$3:C3872),D3871)","v":289},"289(1920)-600","Шкаф кухонный комбинированный, четырехдверный, с двумя стеклами, полки ЛДСП",null,null,"600",1920,560,18891.713227617391,20350.080773217389,20418.712267617389,21877.830262017393,24859.254869217388,26185.353691617391]
[null,null,0,{"$f":"IF(C3873<>0,LOOKUP(,-CODE(C$3:C3873),C$3:C3873),D3872)","v":289},"289(2040)-600",null,null,null,"600",2040,560,19815.305446052174,21365.155039652174,21433.931686052176,22984.530432452175,26140.501615652174,27549.74143005217]
[null,null,0,{"$f":"IF(C3874<>0,LOOKUP(,-CODE(C$3:C3874),C$3:C3874),D3873)","v":289},"289(2120)-600",null,null,null,"600",2120,560,20459.66784167536,22070.505467275361,22139.378881675362,23750.964796075361,27023.300363275364,28487.967505675366]
[null,null,0,{"$f":"IF(C3875<>0,LOOKUP(,-CODE(C$3:C3875),C$3:C3875),D3874)","v":289},"289(2240)-600",null,null,null,"600",2240,560,21383.26006011014,23085.579733710143,23154.598300110145,24857.664966510147,28304.547109710144,29852.355244110146]
[null,null,0,{"$f":"IF(C3876<>0,LOOKUP(,-CODE(C$3:C3876),C$3:C3876),D3875)","v":289},"289(2280)-600",null,null,null,"600",2280,560,21691.124132921741,23423.937822521741,23493.00477292174,25226.565023321742,28731.629358521743,30307.151156921744]
[null,null,0,{"$f":"IF(C3877<>0,LOOKUP(,-CODE(C$3:C3877),C$3:C3877),D3876)","v":289},"289(1920)-650",null,null,null,"650",1920,560,20177.219133124636,21758.343798724636,21832.846173124639,23414.78554752464,26647.451094724638,28085.17439712464]
[null,null,0,{"$f":"IF(C3878<>0,LOOKUP(,-CODE(C$3:C3878),C$3:C3878),D3877)","v":289},"289(2040)-650",null,null,null,"650",2040,560,21172.872655907246,22853.179769507246,22927.848895907246,24608.969422307247,28030.901945507245,29558.764639907251]
[null,null,0,{"$f":"IF(C3879<>0,LOOKUP(,-CODE(C$3:C3879),C$3:C3879),D3878)","v":289},"289(2120)-650",null,null,null,"650",2120,560,21865.275921095654,23611.704666695652,23686.484961095652,25433.726255495651,28981.836762695653,30569.79238509565]
[null,null,0,{"$f":"IF(C3880<>0,LOOKUP(,-CODE(C$3:C3880),C$3:C3880),D3879)","v":289},"289(2240)-650",null,null,null,"650",2240,560,22860.929443878256,24706.540637478258,24781.487683878258,26627.910130278258,30365.287613478256,32043.382627878258]
[null,null,0,{"$f":"IF(C3881<>0,LOOKUP(,-CODE(C$3:C3881),C$3:C3881),D3880)","v":289},"289(2280)-650",null,null,null,"650",2280,560,23192.813951472464,25071.485961072467,25146.488591472465,27025.971421872466,30826.437897072468,32534.579375472465]
[null,null,0,{"$f":"IF(C3882<>0,LOOKUP(,-CODE(C$3:C3882),C$3:C3882),D3881)","v":289},"289(1920)-700",null,null,null,"700",1920,560,21462.725038631885,23166.606824231883,23246.980078631885,24951.740833031887,28435.647320231881,29984.995102631881]
[null,null,0,{"$f":"IF(C3883<>0,LOOKUP(,-CODE(C$3:C3883),C$3:C3883),D3882)","v":289},"289(2040)-700",null,null,null,"700",2040,560,22530.439865762321,24341.20449936232,24421.766105762319,26233.40841216232,29921.302275362323,31567.787849762321]
[null,null,0,{"$f":"IF(C3884<>0,LOOKUP(,-CODE(C$3:C3884),C$3:C3884),D3883)","v":289},"289(2120)-700",null,null,null,"700",2120,560,23270.884000515944,25152.903866115943,25233.591040515941,27116.48771491594,30940.373162115946,32651.617264515942]
[null,null,0,{"$f":"IF(C3885<>0,LOOKUP(,-CODE(C$3:C3885),C$3:C3885),D3884)","v":289},"289(2240)-700",null,null,null,"700",2240,560,24338.59882764638,26327.50154124638,26408.377067646379,28398.155294046381,32426.02811724638,34234.410011646389]
[null,null,0,{"$f":"IF(C3886<>0,LOOKUP(,-CODE(C$3:C3886),C$3:C3886),D3885)","v":289},"289(2280)-700",null,null,null,"700",2280,560,24694.503770023188,26719.03409962319,26799.972410023187,28825.377820423186,32921.246435623187,34762.007594023184]
[null,null,0,{"$f":"IF(C3887<>0,LOOKUP(,-CODE(C$3:C3887),C$3:C3887),D3886)","v":289},"289(1920)-750",null,null,null,"750",1920,560,22748.23094413913,24574.869849739131,24661.113984139127,26488.69611853913,30223.843545739132,31884.81580813913]
[null,null,0,{"$f":"IF(C3888<>0,LOOKUP(,-CODE(C$3:C3888),C$3:C3888),D3887)","v":289},"289(2040)-750",null,null,null,"750",2040,560,23888.007075617388,25829.229229217392,25915.683315617393,27857.847402017389,31811.70260521739,33576.811059617394]
[null,null,0,{"$f":"IF(C3889<>0,LOOKUP(,-CODE(C$3:C3889),C$3:C3889),D3888)","v":289},"289(2120)-750",null,null,null,"750",2120,560,24676.492079936233,26694.10306553623,26780.697119936231,28799.249174336233,32898.909561536231,34733.442143936227]
[null,null,0,{"$f":"IF(C3890<>0,LOOKUP(,-CODE(C$3:C3890),C$3:C3890),D3889)","v":289},"289(2240)-750",null,null,null,"750",2240,560,25816.268211414492,27948.462445014498,28035.266451414493,30168.400457814496,34486.768621014497,36425.43739541449]
[null,null,0,{"$f":"IF(C3891<>0,LOOKUP(,-CODE(C$3:C3891),C$3:C3891),D3890)","v":289},"289(2280)-750",null,null,null,"750",2280,560,26196.193588573915,28366.582238173913,28453.456228573912,30624.784218973913,35016.054974173909,36989.435812573909]
[null,null,0,{"$f":"IF(C3892<>0,LOOKUP(,-CODE(C$3:C3892),C$3:C3892),D3891)","v":289},"289(1920)-800",null,null,null,"800",1920,560,24033.736849646379,25983.132875246381,26075.247889646376,28025.651404046381,32012.039771246382,33784.636513646379]
[null,null,0,{"$f":"IF(C3893<>0,LOOKUP(,-CODE(C$3:C3893),C$3:C3893),D3892)","v":289},"289(2040)-800",null,null,null,"800",2040,560,25245.574285472463,27317.253959072466,27409.60052547247,29482.286391872465,33702.102935072464,35585.834269472463]
[null,null,0,{"$f":"IF(C3894<>0,LOOKUP(,-CODE(C$3:C3894),C$3:C3894),D3893)","v":289},"289(2120)-800",null,null,null,"800",2120,560,26082.100159356523,28235.302264956525,28327.803199356524,30482.010633756523,34857.445960956517,36815.267023356515]
[null,null,0,{"$f":"IF(C3895<>0,LOOKUP(,-CODE(C$3:C3895),C$3:C3895),D3894)","v":289},"289(2240)-800",null,null,null,"800",2240,560,27353.937595182608,29629.423348782606,29722.15583518261,31998.645621582611,36607.509124782606,38676.464779182614]
[null,null,0,{"$f":"IF(C3896<>0,LOOKUP(,-CODE(C$3:C3896),C$3:C3896),D3895)","v":289},"289(2280)-800",null,null,null,"800",2280,560,27697.883407124638,30014.130376724639,30106.940047124637,32424.19061752464,37110.863512724631,39216.864031124627]
[null,null,0,{"$f":"IF(C3897<>0,LOOKUP(,-CODE(C$3:C3897),C$3:C3897),D3896)","v":289},"289(1920)-850",null,null,null,"850",1920,560,25454.24275515362,27526.395900753621,27624.381795153622,29697.606689553621,33935.235996753618,35819.457219153621]
[null,null,0,{"$f":"IF(C3898<>0,LOOKUP(,-CODE(C$3:C3898),C$3:C3898),D3897)","v":289},"289(2040)-850",null,null,null,"850",2040,560,26738.141495327534,28940.278688927534,29038.517735327536,31241.725381727534,35727.503264927538,37729.85747932754]
[null,null,0,{"$f":"IF(C3899<>0,LOOKUP(,-CODE(C$3:C3899),C$3:C3899),D3898)","v":289},"289(2120)-850",null,null,null,"850",2120,560,27622.708238776813,29911.501464376812,30009.909278776813,32299.772093176809,36950.982360376816,39032.091902776818]
[null,null,0,{"$f":"IF(C3900<>0,LOOKUP(,-CODE(C$3:C3900),C$3:C3900),D3899)","v":289},"289(2240)-850",null,null,null,"850",2240,560,28906.606978950724,31325.384252550724,31424.04521895073,33843.890785350726,38743.249628550722,40942.49216295073]
[null,null,0,{"$f":"IF(C3901<>0,LOOKUP(,-CODE(C$3:C3901),C$3:C3901),D3900)","v":289},"289(2280)-850",null,null,null,"850",2280,560,29334.573225675362,31796.678515275362,31895.423865675362,34358.597016075364,39340.672051275367,41579.292249675374]
[null,null,0,{"$f":"IF(C3902<>0,LOOKUP(,-CODE(C$3:C3902),C$3:C3902),D3901)","v":289},"289(1920)-900",null,null,null,"900",1920,560,26604.748660660873,28799.658926260872,28903.515700660872,31099.561975060875,35588.432222260875,37584.277924660877]
[null,null,0,{"$f":"IF(C3903<>0,LOOKUP(,-CODE(C$3:C3903),C$3:C3903),D3902)","v":289},"289(2040)-900",null,null,null,"900",2040,560,27960.708705182609,30293.303418782609,30397.434945182613,32731.16437158261,37482.903594782605,39603.880689182603]
[null,null,0,{"$f":"IF(C3904<>0,LOOKUP(,-CODE(C$3:C3904),C$3:C3904),D3903)","v":289},"289(2120)-900",null,null,null,"900",2120,560,28893.316318197099,31317.700663797103,31422.015358197103,33847.533552597102,38774.518759797102,40978.916782197106]
[null,null,0,{"$f":"IF(C3905<>0,LOOKUP(,-CODE(C$3:C3905),C$3:C3905),D3904)","v":289},"289(2240)-900",null,null,null,"900",2240,560,30249.27636271884,32811.345156318843,32915.934602718837,35479.135949118841,40668.990132318839,42998.519546718839]
[null,null,0,{"$f":"IF(C3906<>0,LOOKUP(,-CODE(C$3:C3906),C$3:C3906),D3905)","v":289},"289(2280)-900",null,null,null,"900",2280,560,30701.263044226085,33309.226653826088,33413.907684226084,36023.003414626095,41300.480589826089,43671.720468226085]
[null,null,0,{"$f":"IF(C3907<>0,LOOKUP(,-CODE(C$3:C3907),C$3:C3907),D3906)","v":289},"289(1920)-950",null,null,null,"950",1920,560,27890.254566168114,30207.921951768116,30317.649606168114,32636.517260568115,37376.628447768118,39484.098630168111]
[null,null,0,{"$f":"IF(C3908<>0,LOOKUP(,-CODE(C$3:C3908),C$3:C3908),D3907)","v":289},"289(2040)-950",null,null,null,"950",2040,560,29318.275915037677,31781.32814863768,31891.352155037679,34355.603361437679,39373.303924637679,41612.903899037679]
[null,null,0,{"$f":"IF(C3909<>0,LOOKUP(,-CODE(C$3:C3909),C$3:C3909),D3908)","v":289},"289(2120)-950",null,null,null,"950",2120,560,30298.924397617389,32858.89986321739,32969.121437617388,35530.295012017392,40733.055159217387,43060.741661617387]
[null,null,0,{"$f":"IF(C3910<>0,LOOKUP(,-CODE(C$3:C3910),C$3:C3910),D3909)","v":289},"289(2240)-950",null,null,null,"950",2240,560,31726.945746486956,34432.306060086958,34542.823986486961,37249.381112886957,42729.730636086962,45189.546930486955]
[null,null,0,{"$f":"IF(C3911<>0,LOOKUP(,-CODE(C$3:C3911),C$3:C3911),D3910)","v":289},"289(2280)-950",null,null,null,"950",2280,560,32202.952862776812,34956.774792376811,35067.391502776809,37822.409813176811,43395.289128376811,45899.148686776811]
[null,null,0,{"$f":"IF(C3912<>0,LOOKUP(,-CODE(C$3:C3912),C$3:C3912),D3911)","v":289},"289(1920)-1000",null,null,null,"1000",1920,560,29175.760471675367,31616.184977275363,31731.783511675367,34173.472546075369,39164.824673275361,41383.919335675368]
[null,null,0,{"$f":"IF(C3913<>0,LOOKUP(,-CODE(C$3:C3913),C$3:C3913),D3912)","v":289},"289(2040)-1000",null,null,null,"1000",2040,560,30675.843124892755,33269.352878492748,33385.269364892752,35980.042351292752,41263.704254492754,43621.927108892756]
[null,null,0,{"$f":"IF(C3914<>0,LOOKUP(,-CODE(C$3:C3914),C$3:C3914),D3913)","v":289},"289(2120)-1000",null,null,null,"1000",2120,560,31839.532477037679,34535.099062637681,34651.227517037682,37348.056471437681,42826.591558637687,45277.566541037682]
[null,null,0,{"$f":"IF(C3915<>0,LOOKUP(,-CODE(C$3:C3915),C$3:C3915),D3914)","v":289},"289(2240)-1000",null,null,null,"1000",2240,560,33339.615130255072,36188.266963855072,36304.713370255064,39154.626276655064,44925.471139855064,47515.574314255071]
[null,null,0,{"$f":"IF(C3916<>0,LOOKUP(,-CODE(C$3:C3916),C$3:C3916),D3915)","v":289},"289(2280)-1000",null,null,null,"1000",2280,560,33839.642681327539,36739.322930927541,36855.875321327541,39756.816211727535,45625.097666927533,48261.576905327536]
[null,null,294,{"$f":"IF(C3917<>0,LOOKUP(,-CODE(C$3:C3917),C$3:C3917),#REF!)","v":294},"294(900-1920)-560","Шкаф кухонный угловой (радиусный) под карусель",null,null,900,1920,"890",41926.809414898555,41926.809414898555,41926.809414898555,41926.809414898555,41926.809414898555,41926.809414898555]
[null,null,0,{"$f":"IF(C3918<>0,LOOKUP(,-CODE(C$3:C3918),C$3:C3918),D3917)","v":294},"294(900-2040)-560",null,null,null,900,2040,"890",42093.095506028985,42093.095506028985,42093.095506028985,42093.095506028985,42093.095506028985,42093.095506028985]
[null,null,295,{"$f":"IF(C3919<>0,LOOKUP(,-CODE(C$3:C3919),C$3:C3919),D3918)","v":295},"295(1920)-75","Шкаф кухонный с декоративной колонной (пилястра), (ЛДСП)",null,null,"75",1920,560,6102.3294954666662,6102.3294954666662,6102.3294954666662,6102.3294954666662,6102.3294954666662,6102.3294954666662]
[null,null,0,{"$f":"IF(C3920<>0,LOOKUP(,-CODE(C$3:C3920),C$3:C3920),D3919)","v":295},"295(2040)-75",null,null,null,"75",2040,560,6861.1218474666657,6861.1218474666657,6861.1218474666657,6861.1218474666657,6861.1218474666657,6861.1218474666657]
[null,null,0,{"$f":"IF(C3921<>0,LOOKUP(,-CODE(C$3:C3921),C$3:C3921),D3920)","v":295},"295(2120)-75",null,null,null,"75",2120,560,6918.0634154666659,6918.0634154666659,6918.0634154666659,6918.0634154666659,6918.0634154666659,6918.0634154666659]
[null,null,0,{"$f":"IF(C3922<>0,LOOKUP(,-CODE(C$3:C3922),C$3:C3922),D3921)","v":295},"295(2240)-75",null,null,null,"75",2240,560,7003.4757674666653,7003.4757674666653,7003.4757674666653,7003.4757674666653,7003.4757674666653,7003.4757674666653]
[null,null,0,{"$f":"IF(C3923<>0,LOOKUP(,-CODE(C$3:C3923),C$3:C3923),D3922)","v":295},"295(2280)-75",null,null,null,"75",2280,560,7031.9465514666654,7031.9465514666654,7031.9465514666654,7031.9465514666654,7031.9465514666654,7031.9465514666654]
[null,null,296,{"$f":"IF(C3924<>0,LOOKUP(,-CODE(C$3:C3924),C$3:C3924),D3923)","v":296},"296(150)-560","Тумба кухонная с угловой бутылочницей (правая)глубина только 560 мм",null,null,"150",720,"560",11589.957115975361,11761.79276237536,11783.030875975361,11955.107864575361,12345.840886375361,12502.230631975361]
[null,null,297,{"$f":"IF(C3925<>0,LOOKUP(,-CODE(C$3:C3925),C$3:C3925),D3924)","v":297},"297(150)-560","Тумба кухонная с угловой бутылочницей (левая)глубина только 560 мм",null,null,"150",720,"560",11589.957115975361,11761.79276237536,11783.030875975361,11955.107864575361,12345.840886375361,12502.230631975361]
[null,null,300,{"$f":"IF(C3926<>0,LOOKUP(,-CODE(C$3:C3926),C$3:C3926),D3925)","v":300},"300(720)-300","Шкаф настенный однодверный, полка ЛДСП, с фигурной полкой",null,null,"720",720,"300",3191.8715946956518,3388.6599930956518,3412.9821546956518,3610.0469412956518,4057.5194370956519,4236.6189906956515]
[null,null,null,{"$f":"IF(C3927<>0,LOOKUP(,-CODE(C$3:C3927),C$3:C3927),D3926)","v":300},"300(720)-350",null,null,null,"720",720,"350",3545.7585767246374,3775.6763351246382,3804.0931367246376,4034.333813324638,4557.1383791246371,4766.3893727246377]
[null,null,null,{"$f":"IF(C3928<>0,LOOKUP(,-CODE(C$3:C3928),C$3:C3928),D3927)","v":300},"300(720)-400",null,null,null,"720",720,"400",3899.6455587536229,4162.6926771536228,4195.2041187536224,4458.6206853536223,5056.7573211536228,5296.159754753623]
[null,null,null,{"$f":"IF(C3929<>0,LOOKUP(,-CODE(C$3:C3929),C$3:C3929),D3928)","v":300},"300(720)-450",null,null,null,"720",720,"450",4253.5325407826085,4549.7090191826082,4586.3151007826091,4882.9075573826085,5556.3762631826085,5825.9301367826092]
[null,null,null,{"$f":"IF(C3930<>0,LOOKUP(,-CODE(C$3:C3930),C$3:C3930),D3929)","v":300},"300(720)-500",null,null,null,"720",720,"500",4607.4195228115941,4936.7253612115937,4977.4260828115939,5307.1944294115938,6055.9952052115941,6355.7005188115936]
[null,null,null,{"$f":"IF(C3931<>0,LOOKUP(,-CODE(C$3:C3931),C$3:C3931),D3930)","v":300},"300(720)-550",null,null,null,"720",720,"550",4961.3065048405797,5323.7417032405801,5368.5370648405797,5731.48130144058,6555.6141472405798,6885.4709008405798]
[null,null,null,{"$f":"IF(C3932<>0,LOOKUP(,-CODE(C$3:C3932),C$3:C3932),D3931)","v":300},"300(720)-600",null,null,null,"720",720,"600",5315.1934868695653,5710.7580452695656,5759.6480468695654,6155.7681734695652,7055.2330892695654,7415.241282869566]
[null,null,null,{"$f":"IF(C3933<>0,LOOKUP(,-CODE(C$3:C3933),C$3:C3933),D3932)","v":300},"300(920)-300",null,null,null,"920",720,"300",4189.9244967420291,4462.8399351420294,4496.5710567420292,4769.8698033420287,5390.4457791420291,5638.8294927420284]
[null,null,null,{"$f":"IF(C3934<>0,LOOKUP(,-CODE(C$3:C3934),C$3:C3934),D3933)","v":300},"300(920)-350",null,null,null,"920",720,"350",4662.3831460173915,4981.2439444173915,5020.6537060173905,5339.9623426173912,6065.0123884173918,6355.2115420173905]
[null,null,null,{"$f":"IF(C3935<>0,LOOKUP(,-CODE(C$3:C3935),C$3:C3935),D3934)","v":300},"300(920)-400",null,null,null,"920",720,"400",5134.841795292753,5499.6479536927527,5544.7363552927536,5910.0548818927527,6739.5789976927526,7071.5935912927534]
[null,null,null,{"$f":"IF(C3936<>0,LOOKUP(,-CODE(C$3:C3936),C$3:C3936),D3935)","v":300},"300(920)-450",null,null,null,"920",720,"450",5607.3004445681154,6018.0519629681157,6068.8190045681158,6480.1474211681152,7414.1456069681153,7787.9756405681155]
[null,null,null,{"$f":"IF(C3937<>0,LOOKUP(,-CODE(C$3:C3937),C$3:C3937),D3936)","v":300},"300(920)-500",null,null,null,"920",720,"500",6079.7590938434787,6536.4559722434788,6592.9016538434789,7050.2399604434786,8088.7122162434789,8504.3576898434785]
[null,null,null,{"$f":"IF(C3938<>0,LOOKUP(,-CODE(C$3:C3938),C$3:C3938),D3937)","v":300},"300(920)-550",null,null,null,"920",720,"550",6552.2177431188411,7054.8599815188409,7116.9843031188411,7620.3324997188411,8763.2788255188407,9220.7397391188406]
[null,null,null,{"$f":"IF(C3939<>0,LOOKUP(,-CODE(C$3:C3939),C$3:C3939),D3938)","v":300},"300(920)-600",null,null,null,"920",720,"600",7024.6763923942035,7573.263990794203,7641.0669523942033,8190.4250389942026,9437.8454347942024,9937.1217883942045]
[null,null,null,{"$f":"IF(C3940<>0,LOOKUP(,-CODE(C$3:C3940),C$3:C3940),D3939)","v":300},"300(960)-300",null,null,null,"960",720,"300",4349.0520408579705,4637.1928872579711,4672.805800857971,4961.3513394579713,5616.5480112579708,5878.7885568579713]
[null,null,null,{"$f":"IF(C3941<>0,LOOKUP(,-CODE(C$3:C3941),C$3:C3941),D3940)","v":300},"300(960)-350",null,null,null,"960",720,"350",4844.8591249159417,5181.5085313159416,5223.1168849159421,5560.2391135159414,6325.7382553159423,6632.1270409159424]
[null,null,null,{"$f":"IF(C3942<>0,LOOKUP(,-CODE(C$3:C3942),C$3:C3942),D3941)","v":300},"300(960)-400",null,null,null,"960",720,"400",5340.6662089739129,5725.8241753739121,5773.4279689739133,6159.1268875739133,7034.9284993739129,7385.4655249739135]
[null,null,null,{"$f":"IF(C3943<>0,LOOKUP(,-CODE(C$3:C3943),C$3:C3943),D3942)","v":300},"300(960)-450",null,null,null,"960",720,"450",5836.4732930318842,6270.1398194318845,6323.7390530318844,6758.0146616318834,7744.1187434318836,8138.8040090318846]
[null,null,null,{"$f":"IF(C3944<>0,LOOKUP(,-CODE(C$3:C3944),C$3:C3944),D3943)","v":300},"300(960)-500",null,null,null,"960",720,"500",6332.2803770898545,6814.455463489855,6874.0501370898546,7356.9024356898544,8453.3089874898542,8892.1424930898538]
[null,null,null,{"$f":"IF(C3945<>0,LOOKUP(,-CODE(C$3:C3945),C$3:C3945),D3944)","v":300},"300(960)-550",null,null,null,"960",720,"550",6828.0874611478266,7358.7711075478255,7424.3612211478267,7955.7902097478254,9162.4992315478266,9645.4809771478249]
[null,null,null,{"$f":"IF(C3946<>0,LOOKUP(,-CODE(C$3:C3946),C$3:C3946),D3945)","v":300},"300(960)-600",null,null,null,"960",720,"600",7323.8945452057978,7903.086751605797,7974.6723052057987,8554.6779838057973,9871.6894756057991,10398.819461205798]
[null,null,301,{"$f":"IF(C3947<>0,LOOKUP(,-CODE(C$3:C3947),C$3:C3947),D3946)","v":301},"301(720)-600","Шкаф настенный двухдверный, полка ЛДСП, с фигурной полкой",null,null,"720",720,"600",5641.9008028695653,6035.4775996695644,6084.1219228695654,6478.2514960695644,7373.1964876695656,7731.3955948695657]
[null,null,null,{"$f":"IF(C3948<>0,LOOKUP(,-CODE(C$3:C3948),C$3:C3948),D3947)","v":301},"301(720)-650",null,null,null,"720",720,"650",5995.7877848985499,6422.4939416985508,6475.2329048985512,6902.5383680985506,7872.8154296985513,8261.1659768985519]
[null,null,null,{"$f":"IF(C3949<>0,LOOKUP(,-CODE(C$3:C3949),C$3:C3949),D3948)","v":301},"301(720)-700",null,null,null,"720",720,"700",6349.6747669275355,6809.5102837275372,6866.343886927536,7326.8252401275367,8372.4343717275351,8790.9363589275363]
[null,null,null,{"$f":"IF(C3950<>0,LOOKUP(,-CODE(C$3:C3950),C$3:C3950),D3949)","v":301},"301(720)-750",null,null,null,"720",720,"750",6703.5617489565211,7196.5266257565218,7257.4548689565218,7751.1121121565211,8872.0533137565217,9320.7067409565207]
[null,null,null,{"$f":"IF(C3951<>0,LOOKUP(,-CODE(C$3:C3951),C$3:C3951),D3950)","v":301},"301(720)-800",null,null,null,"720",720,"800",7057.4487309855067,7583.5429677855072,7648.5658509855066,8175.3989841855064,9371.6722557855064,9850.4771229855069]
[null,null,null,{"$f":"IF(C3952<>0,LOOKUP(,-CODE(C$3:C3952),C$3:C3952),D3951)","v":301},"301(720)-850",null,null,null,"720",720,"850",7411.3357130144923,7970.5593098144927,8039.6768330144932,8599.6858562144917,9871.291197814493,10380.247505014493]
[null,null,null,{"$f":"IF(C3953<>0,LOOKUP(,-CODE(C$3:C3953),C$3:C3953),D3952)","v":301},"301(720)-900",null,null,null,"720",720,"900",7765.2226950434779,8357.5756518434773,8430.787815043479,9023.9727282434778,10370.910139843478,10910.017887043479]
[null,null,null,{"$f":"IF(C3954<>0,LOOKUP(,-CODE(C$3:C3954),C$3:C3954),D3953)","v":301},"301(920)-600",null,null,null,"920",720,"600",7496.7228083942027,8042.5536851942034,8110.015928394203,8656.6134215942038,9897.7653731942028,10394.532800394201]
[null,null,null,{"$f":"IF(C3955<>0,LOOKUP(,-CODE(C$3:C3955),C$3:C3955),D3954)","v":301},"301(920)-650",null,null,null,"920",720,"650",7969.1814576695651,8560.9576944695655,8634.0985776695652,9226.7059608695654,10572.331982469565,11110.914849669565]
[null,null,null,{"$f":"IF(C3956<>0,LOOKUP(,-CODE(C$3:C3956),C$3:C3956),D3955)","v":301},"301(920)-700",null,null,null,"920",720,"700",8441.6401069449275,9079.3617037449294,9158.1812269449274,9796.7985001449269,11246.898591744928,11827.296898944927]
[null,null,null,{"$f":"IF(C3957<>0,LOOKUP(,-CODE(C$3:C3957),C$3:C3957),D3956)","v":301},"301(920)-750",null,null,null,"920",720,"750",8914.0987562202899,9597.7657130202897,9682.2638762202914,10366.89103942029,11921.46520102029,12543.678948220291]
[null,null,null,{"$f":"IF(C3958<>0,LOOKUP(,-CODE(C$3:C3958),C$3:C3958),D3957)","v":301},"301(920)-800",null,null,null,"920",720,"800",9386.5574054956523,10116.169722295652,10206.346525495652,10936.983578695652,12596.031810295652,13260.060997495653]
[null,null,null,{"$f":"IF(C3959<>0,LOOKUP(,-CODE(C$3:C3959),C$3:C3959),D3958)","v":301},"301(920)-850",null,null,null,"920",720,"850",9859.0160547710148,10634.573731571016,10730.429174771014,11507.076117971015,13270.598419571015,13976.443046771015]
[null,null,null,{"$f":"IF(C3960<>0,LOOKUP(,-CODE(C$3:C3960),C$3:C3960),D3959)","v":301},"301(920)-900",null,null,null,"920",720,"900",10331.474704046377,11152.977740846378,11254.511824046378,12077.168657246377,13945.165028846377,14692.825096046377]
[null,null,null,{"$f":"IF(C3961<>0,LOOKUP(,-CODE(C$3:C3961),C$3:C3961),D3960)","v":301},"301(960)-600",null,null,null,"960",720,"600",7794.5628812057976,8370.8445740057978,8442.0704012057977,9019.1614784057983,10329.554822005797,10854.035913205798]
[null,null,null,{"$f":"IF(C3962<>0,LOOKUP(,-CODE(C$3:C3962),C$3:C3962),D3961)","v":301},"301(960)-650",null,null,null,"960",720,"650",8290.3699652637679,8915.1602180637674,8992.3814852637679,9618.0492524637666,11038.745066063768,11607.374397263769]
[null,null,null,{"$f":"IF(C3963<>0,LOOKUP(,-CODE(C$3:C3963),C$3:C3963),D3962)","v":301},"301(960)-700",null,null,null,"960",720,"700",8786.1770493217391,9459.4758621217388,9542.6925693217399,10216.937026521739,11747.935310121738,12360.712881321739]
[null,null,null,{"$f":"IF(C3964<>0,LOOKUP(,-CODE(C$3:C3964),C$3:C3964),D3963)","v":301},"301(960)-750",null,null,null,"960",720,"750",9281.9841333797103,10003.791506179712,10093.003653379712,10815.824800579712,12457.125554179711,13114.051365379712]
[null,null,null,{"$f":"IF(C3965<>0,LOOKUP(,-CODE(C$3:C3965),C$3:C3965),D3964)","v":301},"301(960)-800",null,null,null,"960",720,"800",9777.7912174376816,10548.10715023768,10643.314737437682,11414.712574637682,13166.315798237682,13867.389849437683]
[null,null,null,{"$f":"IF(C3966<>0,LOOKUP(,-CODE(C$3:C3966),C$3:C3966),D3965)","v":301},"301(960)-850",null,null,null,"960",720,"850",10273.598301495653,11092.422794295653,11193.625821495652,12013.600348695654,13875.506042295652,14620.728333495654]
[null,null,null,{"$f":"IF(C3967<>0,LOOKUP(,-CODE(C$3:C3967),C$3:C3967),D3966)","v":301},"301(960)-900",null,null,null,"960",720,"900",10769.405385553624,11636.738438353623,11743.936905553623,12612.488122753623,14584.696286353623,15374.066817553623]
[null,null,302,{"$f":"IF(C3968<>0,LOOKUP(,-CODE(C$3:C3968),C$3:C3968),D3967)","v":302},"302(720)-300","Шкаф настенный однодверный со стеклом, полки стекло, с фигурной полкой",null,null,"720",720,"300",3238.292778695652,3435.357565295652,3435.9103416956518,3632.9751282956522,4009.692244895652,4188.7917984956521]
[null,null,null,{"$f":"IF(C3969<>0,LOOKUP(,-CODE(C$3:C3969),C$3:C3969),D3968)","v":302},"302(720)-350",null,null,null,"720",720,"350",3608.4358607246377,3838.6765373246371,3839.3223737246371,4069.5630503246375,4509.7005569246376,4718.9515505246372]
[null,null,null,{"$f":"IF(C3970<>0,LOOKUP(,-CODE(C$3:C3970),C$3:C3970),D3969)","v":302},"302(720)-400",null,null,null,"720",720,"400",3978.5789427536229,4241.9955093536228,4242.7344057536229,4506.1509723536228,5009.7088689536231,5249.1113025536224]
[null,null,null,{"$f":"IF(C3971<>0,LOOKUP(,-CODE(C$3:C3971),C$3:C3971),D3970)","v":302},"302(720)-450",null,null,null,"720",720,"450",4348.722024782609,4645.3144813826084,4646.1464377826087,4942.738894382609,5509.7171809826086,5779.2710545826076]
[null,null,null,{"$f":"IF(C3972<>0,LOOKUP(,-CODE(C$3:C3972),C$3:C3972),D3971)","v":302},"302(720)-500",null,null,null,"720",720,"500",4718.8651068115942,5048.633453411594,5049.5584698115936,5379.3268164115934,6009.7254930115942,6309.4308066115937]
[null,null,null,{"$f":"IF(C3973<>0,LOOKUP(,-CODE(C$3:C3973),C$3:C3973),D3972)","v":302},"302(720)-550",null,null,null,"720",720,"550",5089.0081888405794,5451.9524254405796,5452.9705018405793,5815.9147384405796,6509.7338050405797,6839.5905586405806]
[null,null,null,{"$f":"IF(C3974<>0,LOOKUP(,-CODE(C$3:C3974),C$3:C3974),D3973)","v":302},"302(720)-600",null,null,null,"720",720,"600",5459.1512708695655,5855.2713974695653,5856.3825338695651,6252.5026604695659,7009.7421170695652,7369.7503106695658]
[null,null,null,{"$f":"IF(C3975<>0,LOOKUP(,-CODE(C$3:C3975),C$3:C3975),D3974)","v":302},"302(920)-300",null,null,null,"920",720,"300",4264.1018307420291,4537.4005773420295,4538.1671937420288,4811.4659403420292,5333.91501694203,5582.2987305420293]
[null,null,null,{"$f":"IF(C3976<>0,LOOKUP(,-CODE(C$3:C3976),C$3:C3976),D3975)","v":302},"302(920)-350",null,null,null,"920",720,"350",4756.1765800173916,5075.4852166173905,5076.3808930173918,5395.6895296173916,6006.0929962173914,6296.2921498173919]
[null,null,null,{"$f":"IF(C3977<>0,LOOKUP(,-CODE(C$3:C3977),C$3:C3977),D3976)","v":302},"302(920)-400",null,null,null,"920",720,"400",5248.2513292927533,5613.5698558927534,5614.594592292754,5979.913118892754,6678.2709754927537,7010.2855690927527]
[null,null,null,{"$f":"IF(C3978<>0,LOOKUP(,-CODE(C$3:C3978),C$3:C3978),D3977)","v":302},"302(920)-450",null,null,null,"920",720,"450",5740.3260785681159,6151.6544951681153,6152.8082915681152,6564.1367081681146,7350.4489547681151,7724.2789883681162]
[null,null,null,{"$f":"IF(C3979<>0,LOOKUP(,-CODE(C$3:C3979),C$3:C3979),D3978)","v":302},"302(920)-500",null,null,null,"920",720,"500",6232.4008278434785,6689.7391344434782,6691.0219908434792,7148.360297443478,8022.6269340434783,8438.2724076434788]
[null,null,null,{"$f":"IF(C3980<>0,LOOKUP(,-CODE(C$3:C3980),C$3:C3980),D3979)","v":302},"302(920)-550",null,null,null,"920",720,"550",6724.4755771188411,7227.8237737188419,7229.2356901188405,7732.5838867188404,8694.8049133188397,9152.2658269188396]
[null,null,null,{"$f":"IF(C3981<>0,LOOKUP(,-CODE(C$3:C3981),C$3:C3981),D3980)","v":302},"302(920)-600",null,null,null,"920",720,"600",7216.5503263942028,7765.908412994203,7767.4493893942026,8316.8074759942028,9366.9828925942038,9866.2592461942022]
[null,null,null,{"$f":"IF(C3982<>0,LOOKUP(,-CODE(C$3:C3982),C$3:C3982),D3981)","v":302},"302(960)-300",null,null,null,"960",720,"300",4421.5174548579707,4710.0629934579702,4710.8723778579706,4999.4179164579709,5551.0133850579705,5813.2539306579711]
[null,null,null,{"$f":"IF(C3983<>0,LOOKUP(,-CODE(C$3:C3983),C$3:C3983),D3982)","v":302},"302(960)-350",null,null,null,"960",720,"350",4937.6126389159426,5274.7348675159428,5275.6805119159426,5612.8027405159428,6257.2593991159429,6563.648184715943]
[null,null,null,{"$f":"IF(C3984<>0,LOOKUP(,-CODE(C$3:C3984),C$3:C3984),D3983)","v":302},"302(960)-400",null,null,null,"960",720,"400",5453.7078229739127,5839.4067415739128,5840.4886459739128,6226.1875645739128,6963.5054131739134,7314.042438773914]
[null,null,null,{"$f":"IF(C3985<>0,LOOKUP(,-CODE(C$3:C3985),C$3:C3985),D3984)","v":302},"302(960)-450",null,null,null,"960",720,"450",5969.8030070318837,6404.0786156318836,6405.2967800318838,6839.5723886318838,7669.751427231884,8064.4366928318841]
[null,null,null,{"$f":"IF(C3986<>0,LOOKUP(,-CODE(C$3:C3986),C$3:C3986),D3985)","v":302},"302(960)-500",null,null,null,"960",720,"500",6485.8981910898556,6968.7504896898545,6970.1049140898549,7452.9572126898556,8375.9974412898537,8814.8309468898533]
[null,null,null,{"$f":"IF(C3987<>0,LOOKUP(,-CODE(C$3:C3987),C$3:C3987),D3986)","v":302},"302(960)-550",null,null,null,"960",720,"550",7001.9933751478256,7533.4223637478262,7534.913048147826,8066.3420367478247,9082.2434553478251,9565.2252009478252]
[null,null,null,{"$f":"IF(C3988<>0,LOOKUP(,-CODE(C$3:C3988),C$3:C3988),D3987)","v":302},"302(960)-600",null,null,null,"960",720,"600",7518.0885592057966,8098.0942378057971,8099.721182205797,8679.7268608057966,9788.4894694057984,10315.619455005797]
[null,null,303,{"$f":"IF(C3989<>0,LOOKUP(,-CODE(C$3:C3989),C$3:C3989),D3988)","v":303},"303(720)-600","Шкаф настенный двухдверный со стеклом, полки стекло, с фигурной полкой",null,null,"720",720,"600",5698.4274208695651,6092.556994069565,6093.6625468695647,6487.7921200695655,7241.2263532695652,7599.4254604695652]
[null,null,null,{"$f":"IF(C3990<>0,LOOKUP(,-CODE(C$3:C3990),C$3:C3990),D3989)","v":303},"303(720)-600",null,null,null,"720",720,"600",5698.4274208695651,6092.556994069565,6093.6625468695647,6487.7921200695655,7241.2263532695652,7599.4254604695652]
[null,null,null,{"$f":"IF(C3991<>0,LOOKUP(,-CODE(C$3:C3991),C$3:C3991),D3990)","v":303},"303(720)-650",null,null,null,"720",720,"650",6068.5705028985503,6495.8759660985497,6497.0745788985505,6924.3800420985499,7741.2346652985507,8129.5852124985504]
[null,null,null,{"$f":"IF(C3992<>0,LOOKUP(,-CODE(C$3:C3992),C$3:C3992),D3991)","v":303},"303(720)-700",null,null,null,"720",720,"700",6438.7135849275364,6899.1949381275354,6900.4866109275354,7360.9679641275361,8241.2429773275362,8659.7449645275356]
[null,null,null,{"$f":"IF(C3993<>0,LOOKUP(,-CODE(C$3:C3993),C$3:C3993),D3992)","v":303},"303(720)-750",null,null,null,"720",720,"750",6808.8566669565216,7302.513910156521,7303.8986429565221,7797.5558861565214,8741.2512893565217,9189.9047165565225]
[null,null,null,{"$f":"IF(C3994<>0,LOOKUP(,-CODE(C$3:C3994),C$3:C3994),D3993)","v":303},"303(720)-800",null,null,null,"720",720,"800",7178.9997489855068,7705.8328821855066,7707.3106749855069,8234.1438081855067,9241.2596013855073,9720.0644685855059]
[null,null,null,{"$f":"IF(C3995<>0,LOOKUP(,-CODE(C$3:C3995),C$3:C3995),D3994)","v":303},"303(720)-850",null,null,null,"720",720,"850",7549.1428310144929,8109.1518542144931,8110.7227070144927,8670.7317302144929,9741.2679134144928,10250.224220614493]
[null,null,null,{"$f":"IF(C3996<>0,LOOKUP(,-CODE(C$3:C3996),C$3:C3996),D3995)","v":303},"303(720)-900",null,null,null,"720",720,"900",7919.2859130434781,8512.4708262434779,8514.1347390434785,9107.3196522434773,10241.276225443478,10780.383972643476]
[null,null,null,{"$f":"IF(C3997<>0,LOOKUP(,-CODE(C$3:C3997),C$3:C3997),D3996)","v":303},"303(920)-600",null,null,null,"920",720,"600",7572.4459763942032,8119.043469594204,8120.5767023942026,8667.1741955942034,9712.0723487942032,10208.839775994204]
[null,null,null,{"$f":"IF(C3998<>0,LOOKUP(,-CODE(C$3:C3998),C$3:C3998),D3997)","v":303},"303(920)-650",null,null,null,"920",720,"650",8064.5207256695658,8657.128108869565,8658.7904016695647,9251.3977848695631,10384.250328069564,10922.833195269564]
[null,null,null,{"$f":"IF(C3999<>0,LOOKUP(,-CODE(C$3:C3999),C$3:C3999),D3998)","v":303},"303(920)-700",null,null,null,"920",720,"700",8556.5954749449284,9195.2127481449261,9197.0041009449287,9835.6213741449283,11056.428307344928,11636.826614544929]
[null,null,null,{"$f":"IF(C4000<>0,LOOKUP(,-CODE(C$3:C4000),C$3:C4000),D3999)","v":303},"303(920)-750",null,null,null,"920",720,"750",9048.6702242202919,9733.2973874202908,9735.2178002202909,10419.844963420292,11728.60628662029,12350.820033820291]
[null,null,null,{"$f":"IF(C4001<>0,LOOKUP(,-CODE(C$3:C4001),C$3:C4001),D4000)","v":303},"303(920)-800",null,null,null,"920",720,"800",9540.7449734956535,10271.382026695654,10273.431499495653,11004.068552695653,12400.784265895654,13064.813453095652]
[null,null,null,{"$f":"IF(C4002<>0,LOOKUP(,-CODE(C$3:C4002),C$3:C4002),D4001)","v":303},"303(920)-850",null,null,null,"920",720,"850",10032.819722771015,10809.466665971015,10811.645198771015,11588.292141971015,13072.962245171015,13778.806872371015]
[null,null,null,{"$f":"IF(C4003<>0,LOOKUP(,-CODE(C$3:C4003),C$3:C4003),D4002)","v":303},"303(920)-900",null,null,null,"920",720,"900",10524.894472046377,11347.551305246378,11349.858898046377,12172.515731246376,13745.140224446377,14492.800291646377]
[null,null,null,{"$f":"IF(C4004<>0,LOOKUP(,-CODE(C$3:C4004),C$3:C4004),D4003)","v":303},"303(960)-600",null,null,null,"960",720,"600",7866.8622092057967,8443.9532864057965,8445.5720552057974,9022.6631324057962,10125.854069605797,10650.335160805796]
[null,null,null,{"$f":"IF(C4005<>0,LOOKUP(,-CODE(C$3:C4005),C$3:C4005),D4004)","v":303},"303(960)-650",null,null,null,"960",720,"650",8382.9573932637686,9008.6251604637691,9010.3801892637675,9636.0479564637681,10832.100083663767,11400.729414863768]
[null,null,null,{"$f":"IF(C4006<>0,LOOKUP(,-CODE(C$3:C4006),C$3:C4006),D4005)","v":303},"303(960)-700",null,null,null,"960",720,"700",8899.0525773217414,9573.29703452174,9575.1883233217395,10249.43278052174,11538.34609772174,12151.12366892174]
[null,null,null,{"$f":"IF(C4007<>0,LOOKUP(,-CODE(C$3:C4007),C$3:C4007),D4006)","v":303},"303(960)-750",null,null,null,"960",720,"750",9415.1477613797106,10137.968908579711,10139.996457379712,10862.817604579712,12244.592111779712,12901.51792297971]
[null,null,null,{"$f":"IF(C4008<>0,LOOKUP(,-CODE(C$3:C4008),C$3:C4008),D4007)","v":303},"303(960)-800",null,null,null,"960",720,"800",9931.2429454376816,10702.640782637684,10704.804591437683,11476.202428637682,12950.838125837681,13651.912177037682]
[null,null,null,{"$f":"IF(C4009<>0,LOOKUP(,-CODE(C$3:C4009),C$3:C4009),D4008)","v":303},"303(960)-850",null,null,null,"960",720,"850",10447.338129495651,11267.312656695651,11269.612725495652,12089.587252695654,13657.084139895653,14402.306431095652]
[null,null,null,{"$f":"IF(C4010<>0,LOOKUP(,-CODE(C$3:C4010),C$3:C4010),D4009)","v":303},"303(960)-900",null,null,null,"960",720,"900",10963.433313553622,11831.984530753623,11834.420859553622,12702.972076753624,14363.330153953622,15152.700685153624]
[null,null,304,{"$f":"IF(C4011<>0,LOOKUP(,-CODE(C$3:C4011),C$3:C4011),D4010)","v":304},"304(870)-450","Шкаф настенный однодверный, полка ЛДСП, с декаротивными ящиками",null,null,"870",720,"450",5931.1103627884058,6341.8618811884062,6392.6289227884063,6803.9573393884057,7737.9555251884049,8111.785558788406]
[null,null,null,{"$f":"IF(C4012<>0,LOOKUP(,-CODE(C$3:C4012),C$3:C4012),D4011)","v":304},"304(870)-600",null,null,null,"870",720,"600",7474.4739564463771,8023.0615548463766,8090.8645164463769,8640.2226030463771,9887.6429988463769,10386.919352446377]
[null,null,null,{"$f":"IF(C4013<>0,LOOKUP(,-CODE(C$3:C4013),C$3:C4013),D4012)","v":304},"304(1070)-450",null,null,null,"1070",720,"450",7188.201855107246,7713.528413507247,7778.4564151072464,8304.5207917072476,9499.048457507246,9977.1546511072465]
[null,null,null,{"$f":"IF(C4014<>0,LOOKUP(,-CODE(C$3:C4014),C$3:C4014),D4013)","v":304},"304(1070)-600",null,null,null,"1070",720,"600",9111.7169705043489,9813.3276089043466,9900.0435305043466,10602.639577104346,12198.015452904347,12836.559966504348]
[null,null,null,{"$f":"IF(C4015<>0,LOOKUP(,-CODE(C$3:C4015),C$3:C4015),D4014)","v":304},"304(1110)-450",null,null,null,"1110",720,"450",7417.3747035710148,7965.6162699710148,8033.3764635710158,8582.3880321710149,9829.0215939710142,10327.983019571016]
[null,null,null,{"$f":"IF(C4016<>0,LOOKUP(,-CODE(C$3:C4016),C$3:C4016),D4015)","v":304},"304(1110)-600",null,null,null,"1110",720,"600",9410.9351233159414,10143.150369715942,10233.648883315942,10966.892521915941,12631.859493715941,13298.257639315942]
[null,null,305,{"$f":"IF(C4017<>0,LOOKUP(,-CODE(C$3:C4017),C$3:C4017),D4016)","v":305},"305(870)-600","Шкаф настенный двухдверный, полка ЛДСП, с декаротивными ящиками",null,null,"870",720,"600",7946.5203724463772,8492.3512492463778,8559.8134924463775,9106.4109856463765,10347.562937246377,10844.330364446376]
[null,null,null,{"$f":"IF(C4018<>0,LOOKUP(,-CODE(C$3:C4018),C$3:C4018),D4017)","v":305},"305(870)-900",null,null,null,"870",720,"900",11033.247559762318,11854.750596562319,11956.284679762319,12778.941512962318,14646.937884562318,15394.597951762318]
[null,null,null,{"$f":"IF(C4019<>0,LOOKUP(,-CODE(C$3:C4019),C$3:C4019),D4018)","v":305},"305(1070)-600",null,null,null,"1070",720,"600",9576.8729865043479,10274.957943304347,10361.238106504348,11060.303519704348,12647.662431304349,13282.998178504349]
[null,null,null,{"$f":"IF(C4020<>0,LOOKUP(,-CODE(C$3:C4020),C$3:C4020),D4019)","v":305},"305(1070)-900",null,null,null,"1070",720,"900",13423.90321729855,14474.556334098552,14604.41233729855,15656.541090498551,18045.596422098552,19001.808809298553]
[null,null,null,{"$f":"IF(C4021<>0,LOOKUP(,-CODE(C$3:C4021),C$3:C4021),D4020)","v":305},"305(1110)-600",null,null,null,"1110",720,"600",9874.7130593159418,10603.248832115942,10693.292579315943,11422.851576515941,13079.451880115941,13742.501291315943]
[null,null,null,{"$f":"IF(C4022<>0,LOOKUP(,-CODE(C$3:C4022),C$3:C4022),D4021)","v":305},"305(1110)-900",null,null,null,"1110",720,"900",13861.833898805797,14958.317031605797,15093.837418805799,16191.860556005797,18685.127679605797,19683.050530805798]
[null,null,306,{"$f":"IF(C4023<>0,LOOKUP(,-CODE(C$3:C4023),C$3:C4023),D4022)","v":306},"306(870)-450","Шкаф настенный однодверный со стеклом, полки стекло, с декаротивными ящиками",null,null,"870",720,"450",6002.0952467884053,6413.4236633884057,6414.5774597884056,6825.905876388405,7612.2181229884054,7986.0481565884047]
[null,null,null,{"$f":"IF(C4024<>0,LOOKUP(,-CODE(C$3:C4024),C$3:C4024),D4023)","v":306},"306(870)-600",null,null,null,"870",720,"600",7593.2821404463766,8142.6402270463768,8144.1812034463765,8693.5392900463758,9743.7147066463767,10242.991060246377]
[null,null,null,{"$f":"IF(C4025<>0,LOOKUP(,-CODE(C$3:C4025),C$3:C4025),D4024)","v":306},"306(1070)-450",null,null,null,"1070",720,"450",7297.0228891072456,7823.0872657072459,7824.5629021072455,8350.6272787072467,9356.273485307247,9834.3796789072476]
[null,null,null,{"$f":"IF(C4026<>0,LOOKUP(,-CODE(C$3:C4026),C$3:C4026),D4025)","v":306},"306(1070)-600",null,null,null,"1070",720,"600",9278.4413045043475,9981.0373511043472,9983.0081675043475,10685.604214104347,12028.715590704347,12667.260104304347]
[null,null,null,{"$f":"IF(C4027<>0,LOOKUP(,-CODE(C$3:C4027),C$3:C4027),D4026)","v":306},"306(1110)-450",null,null,null,"1110",720,"450",7526.4998175710143,8075.5113861710142,8077.0513905710141,8626.0629591710149,9675.5759577710141,10174.537383371016]
[null,null,null,{"$f":"IF(C4028<>0,LOOKUP(,-CODE(C$3:C4028),C$3:C4028),D4027)","v":306},"306(1110)-600",null,null,null,"1110",720,"600",9579.9795373159432,10313.223175915942,10315.279960315942,11048.523598915943,12450.222167515942,13116.620313115942]
[null,null,307,{"$f":"IF(C4029<>0,LOOKUP(,-CODE(C$3:C4029),C$3:C4029),D4028)","v":307},"307(870)-600","Шкаф настенный двухдверный со стеклом, полки стекло, с декаротивными ящиками",null,null,"870",720,"600",7956.5277904463774,8503.1252836463773,8504.6585164463759,9051.2560096463767,10096.154162846376,10592.921590046377]
[null,null,null,{"$f":"IF(C4030<>0,LOOKUP(,-CODE(C$3:C4030),C$3:C4030),D4029)","v":307},"307(870)-900",null,null,null,"870",720,"900",11138.901577762319,11961.558410962318,11963.866003762318,12786.522836962316,14359.147330162317,15106.807397362318]
[null,null,null,{"$f":"IF(C4031<>0,LOOKUP(,-CODE(C$3:C4031),C$3:C4031),D4030)","v":307},"307(1070)-600",null,null,null,"1070",720,"600",9606.0769545043495,10305.142367704348,10307.103280504349,11006.168693704347,12342.530766904349,12977.866514104349]
[null,null,null,{"$f":"IF(C4032<>0,LOOKUP(,-CODE(C$3:C4032),C$3:C4032),D4031)","v":307},"307(1070)-900",null,null,null,"1070",720,"900",13568.91378529855,14621.04253849855,14623.993811298549,15676.122564498552,17687.414977698551,18643.627364898552]
[null,null,null,{"$f":"IF(C4033<>0,LOOKUP(,-CODE(C$3:C4033),C$3:C4033),D4032)","v":307},"307(1110)-600",null,null,null,"1110",720,"600",9900.4931873159421,10630.052184515942,10632.098633315942,11361.657630515943,12756.312487715943,13419.361898915944]
[null,null,null,{"$f":"IF(C4034<>0,LOOKUP(,-CODE(C$3:C4034),C$3:C4034),D4033)","v":307},"307(1110)-900",null,null,null,"1110",720,"900",14007.452626805798,15105.475764005796,15108.555772805796,16206.578910005797,18305.604907205798,19303.527758405799]

{"sheet":"Процент","index":1,"n_rows":1,"n_cols":1,"rows_kept":1,"cut":false,"hidden":false,"merged":[]}
[0]

{"sheet":"Расчет","index":2,"n_rows":90,"n_cols":25,"rows_kept":90,"cut":false,"hidden":false,"merged":[[21,1,22,2],[21,3,22,6],[23,1,24,2],[23,3,24,6],[25,1,26,2],[25,3,26,6],[25,8,26,9],[25,10,26,14],[69,18,69,19],[27,1,27,19],[29,8,29,9],[39,8,39,9],[38,8,38,9],[37,8,37,9],[36,8,36,9],[35,8,35,9],[34,8,34,9],[33,8,33,9],[32,8,32,9],[31,8,31,9],[49,8,49,9],[50,8,50,9],[44,8,44,9],[45,8,45,9],[46,8,46,9],[47,8,47,9],[50,14,50,17],[44,14,44,17],[45,14,45,17],[46,14,46,17],[32,2,32,5],[33,2,33,5],[34,2,34,5],[35,2,35,5],[48,8,48,9],[40,8,40,9],[41,8,41,9],[42,8,42,9],[43,8,43,9],[49,14,49,17],[36,14,36,17],[37,14,37,17],[38,14,38,17],[39,14,39,17],[40,14,40,17],[41,14,41,17],[49,2,49,5],[50,2,50,5],[41,2,41,5],[42,2,42,5],[43,2,43,5],[44,2,44,5],[45,2,45,5],[36,2,36,5],[37,2,37,5],[38,2,38,5],[39,2,39,5],[40,2,40,5],[47,14,47,17],[48,14,48,17],[42,14,42,17],[43,14,43,17],[23,17,24,19],[23,15,24,16],[11,1,12,2],[13,1,14,2],[15,1,16,2],[17,1,18,2],[46,2,46,5],[47,2,47,5],[48,2,48,5],[31,2,31,5],[19,1,20,2],[28,14,28,17],[28,8,28,9],[28,2,28,5],[29,2,29,5],[30,2,30,5],[34,14,34,17],[35,14,35,17],[29,14,29,17],[30,14,30,17],[31,14,31,17],[32,14,32,17],[33,14,33,17],[30,8,30,9],[9,8,10,9],[11,8,12,9],[13,8,14,9],[15,8,16,9],[17,8,18,9],[19,8,20,9],[21,8,22,9],[23,8,24,9],[9,10,10,14],[11,10,12,14],[13,10,14,14],[15,10,16,14],[17,10,18,14],[67,18,67,19],[56,2,56,5],[57,2,57,5],[58,2,58,5],[59,2,59,5],[60,2,60,5],[9,1,10,2],[19,15,20,16],[21,15,22,16],[11,17,12,19],[13,17,14,19],[15,17,16,19],[17,17,18,19],[19,17,20,19],[21,17,22,19],[17,15,18,16],[15,15,16,16],[13,15,14,16],[11,15,12,16],[9,17,10,19],[9,15,10,16],[19,10,20,14],[21,10,22,14],[23,10,24,14],[66,2,66,5],[61,2,61,5],[62,2,62,5],[63,2,63,5],[64,2,64,5],[65,2,65,5],[51,14,51,17],[52,14,52,17],[53,14,53,17],[58,14,58,17],[59,14,59,17],[60,14,60,17],[61,14,61,17],[62,14,62,17],[63,14,63,17],[64,14,64,17],[65,14,65,17],[66,14,66,17],[55,1,55,19],[53,18,53,19],[51,18,51,19],[68,14,68,17],[69,14,69,17],[56,8,56,9],[57,8,57,9],[58,8,58,9],[59,8,59,9],[60,8,60,9],[61,8,61,9],[62,8,62,9],[63,8,63,9],[64,8,64,9],[65,8,65,9],[66,8,66,9],[56,14,56,17],[57,14,57,17],[67,14,67,17],[75,2,75,5],[76,2,76,5],[77,2,77,5],[78,2,78,5],[79,2,79,5],[72,2,72,5],[73,2,73,5],[74,2,74,5],[71,12,71,19],[72,13,72,16],[71,1,71,10],[72,7,72,8],[72,9,72,10],[73,7,73,8],[73,9,73,10],[74,7,74,8],[74,9,74,10],[75,7,75,8],[75,9,75,10],[76,7,76,8],[76,9,76,10],[77,7,77,8],[77,9,77,10],[78,7,78,8],[83,2,83,5],[84,2,84,5],[89,7,89,8],[89,9,89,10],[85,2,85,5],[86,2,86,5],[87,2,87,5],[80,2,80,5],[81,2,81,5],[82,2,82,5],[86,7,86,8],[86,9,86,10],[81,7,81,8],[81,9,81,10],[82,7,82,8],[82,9,82,10],[88,2,88,5],[88,7,88,8],[88,9,88,10],[89,2,89,5],[80,18,80,19],[87,7,87,8],[87,9,87,10],[84,7,84,8],[84,9,84,10],[83,7,83,8],[83,9,83,10],[78,9,78,10],[79,7,79,8],[79,9,79,10],[80,7,80,8],[80,9,80,10],[80,13,80,17],[89,14,89,17],[89,18,89,19],[0,1,0,19],[19,3,20,6],[17,3,18,6],[15,3,16,6],[13,3,14,6],[11,3,12,6],[9,3,10,6],[87,18,88,19],[87,14,88,17],[85,14,86,17],[83,14,84,17],[83,18,84,19],[85,18,86,19],[75,13,75,16],[76,13,76,16],[77,13,77,16],[78,13,78,16],[79,13,79,16],[73,13,73,16],[74,13,74,16],[85,7,85,8],[85,9,85,10]]}
[null,"Бланк заказа от 19.09.2016"]
[]
[]
[]
[]
[]
[]
[]
[null,40,null,null,null,null,null,null,null,null,null,null,null,null,null,null,null,null,null,null,null,null,null,null,"Самовывоз"]
[null,"Карта заказа №",null,"2/ЛИГА",null,null,null,null,"Каркас",null,"ЛДСП",null,null,null,null,"Козырек/менсола",null,null,null,null,null,null,null,null,"Доставка до клиента"]
[null,null,null,null,null,null,null,null,null,null,null,null,null,null,null,null,null,null,null,null,null,null,null,null,"Доставка до ТК"]
[null,"Менеджер",null,null,null,null,null,null,"Фасад",null,"Валенсия20, бук лак",null,null,null,null,"Балюстрада"]
[]
[null,"Компания",null,null,null,null,null,null,"Рисунок фасада",null,"Прямая 20",null,null,null,null,"Цоколь, ножки",null,"ЛДСП 100мм"]
[]
[null,"Заказчик",null,"ИП Леман",null,null,null,null,"Стекло",null,"А2 простое",null,null,null,null,"Мойка"]
[]
[null,"Дата согласования",null,null,null,null,null,null,"Столешница",null,null,null,null,null,null,"Сушилка",null,"на 700 хром"]
[]
[null,"Срок изгот. (дни)",null,null,null,null,null,null,"Отбортов. профиль",null,null,null,null,null,null,"Ручки"]
[]
[null,"Способ доставки",null,null,null,null,null,null,"Стеновая панель",null,null,null,null,null,null,"Планки стол.,      стен. панели"]
[]
[null,"Сумма доставки",null,null,null,null,null,null,"Багет",null,null,null,null,null,null,"Прочее"]
[]
[null,"Адрес доставки"]
[]
[null,"1.Стандартные модули"]
[null,"№","Примечание",null,null,null,"Старый № поз.","№ позиции","Тип",null,"Ширина","Высота","Глубина","Кол-во","Коллекция",null,null,null,"Цена","Сумма"]
[null,1,"Два распашных фасада",null,null,null,{"$f":"IF(I30=\"\",\"\",V(OFFSET(Прайс2!$E$3:$E$4068,MATCH(Расчет!I30,Прайс2!$E$3:$E$4068,0)-1,-3,1,1)))","v":0},207,"207(2240)-600",null,{"$f":"IF(I30=\"\",\"\",VLOOKUP(I30,Прайс2!$E$3:$K$4034,5,FALSE))","v":"600"},{"$f":"IF(I30=\"\",\"\",VLOOKUP(I30,Прайс2!$E$3:$K$4034,6,FALSE))","v":2240},{"$f":"IF(I30=\"\",\"\",VLOOKUP(I30,Прайс2!$E$3:$K$4034,7,FALSE))","v":560},1,"Валенсия 20 КЛАССИКА бук лак",null,null,null,{"$f":"IF(I30=\"\",\"\",IF(O30=\"\",\"\",INDEX(Прайс2!$L$3:$Q$4034,MATCH(I30,Прайс2!$E$3:$E$4034,0),MATCH(O30,Прайс2!$L$2:$Q$2,0))*IF(Процент!$A$1=0,1,Процент!$A$1+1)))","v":14456.538870092754},{"$f":"IF(N30=\"\",\"\",IF(S30=\"\",\"\",N30*S30))","v":14456.538870092754}]
[null,2,null,null,null,null,{"$f":"IF(I31=\"\",\"\",V(OFFSET(Прайс2!$E$3:$E$4068,MATCH(Расчет!I31,Прайс2!$E$3:$E$4068,0)-1,-3,1,1)))","v":"108"},107,"107(920)-600",null,{"$f":"IF(I31=\"\",\"\",VLOOKUP(I31,Прайс2!$E$3:$K$4034,5,FALSE))","v":"600"},{"$f":"IF(I31=\"\",\"\",VLOOKUP(I31,Прайс2!$E$3:$K$4034,6,FALSE))","v":920},{"$f":"IF(I31=\"\",\"\",VLOOKUP(I31,Прайс2!$E$3:$K$4034,7,FALSE))","v":315},1,"Валенсия 20 КЛАССИКА бук лак",null,null,null,{"$f":"IF(I31=\"\",\"\",IF(O31=\"\",\"\",INDEX(Прайс2!$L$3:$Q$4034,MATCH(I31,Прайс2!$E$3:$E$4034,0),MATCH(O31,Прайс2!$L$2:$Q$2,0))*IF(Процент!$A$1=0,1,Процент!$A$1+1)))","v":8477.9494417275364},8477.9494417275364]
[null,3,"Ширина 730!!!",null,null,null,{"$f":"IF(I32=\"\",\"\",V(OFFSET(Прайс2!$E$3:$E$4068,MATCH(Расчет!I32,Прайс2!$E$3:$E$4068,0)-1,-3,1,1)))","v":"108"},107,"107(920)-750",null,730,{"$f":"IF(I32=\"\",\"\",VLOOKUP(I32,Прайс2!$E$3:$K$4034,6,FALSE))","v":920},{"$f":"IF(I32=\"\",\"\",VLOOKUP(I32,Прайс2!$E$3:$K$4034,7,FALSE))","v":315},1,"Валенсия 20 КЛАССИКА бук лак",null,null,null,{"$f":"IF(I32=\"\",\"\",IF(O32=\"\",\"\",INDEX(Прайс2!$L$3:$Q$4034,MATCH(I32,Прайс2!$E$3:$E$4034,0),MATCH(O32,Прайс2!$L$2:$Q$2,0))*IF(Процент!$A$1=0,1,Процент!$A$1+1)))","v":10185.208249553623},10185.208249553623]
[null,4,null,null,null,null,{"$f":"IF(I33=\"\",\"\",V(OFFSET(Прайс2!$E$3:$E$4068,MATCH(Расчет!I33,Прайс2!$E$3:$E$4068,0)-1,-3,1,1)))","v":"122"},121,"121(920)-500",null,{"$f":"IF(I33=\"\",\"\",VLOOKUP(I33,Прайс2!$E$3:$K$4034,5,FALSE))","v":"500"},{"$f":"IF(I33=\"\",\"\",VLOOKUP(I33,Прайс2!$E$3:$K$4034,6,FALSE))","v":920},{"$f":"IF(I33=\"\",\"\",VLOOKUP(I33,Прайс2!$E$3:$K$4034,7,FALSE))","v":"500"},1,"Валенсия 20 КЛАССИКА бук лак",null,null,null,{"$f":"IF(I33=\"\",\"\",IF(O33=\"\",\"\",INDEX(Прайс2!$L$3:$Q$4034,MATCH(I33,Прайс2!$E$3:$E$4034,0),MATCH(O33,Прайс2!$L$2:$Q$2,0))*IF(Процент!$A$1=0,1,Процент!$A$1+1)))","v":5127.079427782608},5127.079427782608]
[null,5,"Решетка прямая!!! ШИРИНА 744!!",null,null,null,{"$f":"IF(I34=\"\",\"\",V(OFFSET(Прайс2!$E$3:$E$4068,MATCH(Расчет!I34,Прайс2!$E$3:$E$4068,0)-1,-3,1,1)))","v":"146"},145,"145(920)-800",null,744,{"$f":"IF(I34=\"\",\"\",VLOOKUP(I34,Прайс2!$E$3:$K$4034,6,FALSE))","v":920},{"$f":"IF(I34=\"\",\"\",VLOOKUP(I34,Прайс2!$E$3:$K$4034,7,FALSE))","v":315},1,"Валенсия 20 КЛАССИКА бук лак",null,null,null,{"$f":"IF(I34=\"\",\"\",IF(O34=\"\",\"\",INDEX(Прайс2!$L$3:$Q$4034,MATCH(I34,Прайс2!$E$3:$E$4034,0),MATCH(O34,Прайс2!$L$2:$Q$2,0))*IF(Процент!$A$1=0,1,Процент!$A$1+1)))","v":12886.31912751884},12886.31912751884]
[null,6,null,null,null,null,{"$f":"IF(I35=\"\",\"\",V(OFFSET(Прайс2!$E$3:$E$4068,MATCH(Расчет!I35,Прайс2!$E$3:$E$4068,0)-1,-3,1,1)))","v":1},1,"1(600)-528",null,{"$f":"IF(I35=\"\",\"\",VLOOKUP(I35,Прайс2!$E$3:$K$4034,5,FALSE))","v":"600"},{"$f":"IF(I35=\"\",\"\",VLOOKUP(I35,Прайс2!$E$3:$K$4034,6,FALSE))","v":720},{"$f":"IF(I35=\"\",\"\",VLOOKUP(I35,Прайс2!$E$3:$K$4034,7,FALSE))","v":"528"},1,"Валенсия 20 КЛАССИКА бук лак",null,null,null,{"$f":"IF(I35=\"\",\"\",IF(O35=\"\",\"\",INDEX(Прайс2!$L$3:$Q$4034,MATCH(I35,Прайс2!$E$3:$E$4034,0),MATCH(O35,Прайс2!$L$2:$Q$2,0))*IF(Процент!$A$1=0,1,Процент!$A$1+1)))","v":6727.010111669566},6727.010111669566]
[null,7,"М/Б",null,null,null,{"$f":"IF(I36=\"\",\"\",V(OFFSET(Прайс2!$E$3:$E$4068,MATCH(Расчет!I36,Прайс2!$E$3:$E$4068,0)-1,-3,1,1)))","v":"30В/1"},27,"27-180(900)-528",null,{"$f":"IF(I36=\"\",\"\",VLOOKUP(I36,Прайс2!$E$3:$K$4034,5,FALSE))","v":"900"},{"$f":"IF(I36=\"\",\"\",VLOOKUP(I36,Прайс2!$E$3:$K$4034,6,FALSE))","v":720},{"$f":"IF(I36=\"\",\"\",VLOOKUP(I36,Прайс2!$E$3:$K$4034,7,FALSE))","v":"528"},1,"Валенсия 20 КЛАССИКА бук лак",null,null,null,{"$f":"IF(I36=\"\",\"\",IF(O36=\"\",\"\",INDEX(Прайс2!$L$3:$Q$4034,MATCH(I36,Прайс2!$E$3:$E$4034,0),MATCH(O36,Прайс2!$L$2:$Q$2,0))*IF(Процент!$A$1=0,1,Процент!$A$1+1)))","v":12576.924572394204},12576.924572394204]
[null,8,null,null,null,null,{"$f":"IF(I37=\"\",\"\",V(OFFSET(Прайс2!$E$3:$E$4068,MATCH(Расчет!I37,Прайс2!$E$3:$E$4068,0)-1,-3,1,1)))","v":"81"},59,"59(1050-100)-528",null,{"$f":"IF(I37=\"\",\"\",VLOOKUP(I37,Прайс2!$E$3:$K$4034,5,FALSE))","v":"1050"},{"$f":"IF(I37=\"\",\"\",VLOOKUP(I37,Прайс2!$E$3:$K$4034,6,FALSE))","v":720},{"$f":"IF(I37=\"\",\"\",VLOOKUP(I37,Прайс2!$E$3:$K$4034,7,FALSE))","v":"528"},1,"Валенсия 20 КЛАССИКА бук лак",null,null,null,{"$f":"IF(I37=\"\",\"\",IF(O37=\"\",\"\",INDEX(Прайс2!$L$3:$Q$4034,MATCH(I37,Прайс2!$E$3:$E$4034,0),MATCH(O37,Прайс2!$L$2:$Q$2,0))*IF(Процент!$A$1=0,1,Процент!$A$1+1)))","v":6959.2784439999996},6959.2784439999996]
[null,9,"Ширина 244!!!!",null,null,null,{"$f":"IF(I38=\"\",\"\",V(OFFSET(Прайс2!$E$3:$E$4068,MATCH(Расчет!I38,Прайс2!$E$3:$E$4068,0)-1,-3,1,1)))","v":1},1,"1(300)-528",null,244,{"$f":"IF(I38=\"\",\"\",VLOOKUP(I38,Прайс2!$E$3:$K$4034,6,FALSE))","v":720},{"$f":"IF(I38=\"\",\"\",VLOOKUP(I38,Прайс2!$E$3:$K$4034,7,FALSE))","v":"528"},1,"Валенсия 20 КЛАССИКА бук лак",null,null,null,{"$f":"IF(I38=\"\",\"\",IF(O38=\"\",\"\",INDEX(Прайс2!$L$3:$Q$4034,MATCH(I38,Прайс2!$E$3:$E$4034,0),MATCH(O38,Прайс2!$L$2:$Q$2,0))*IF(Процент!$A$1=0,1,Процент!$A$1+1)))","v":3923.8882194956523},3923.8882194956523]
[null,10,null,null,null,null,{"$f":"IF(I39=\"\",\"\",V(OFFSET(Прайс2!$E$3:$E$4068,MATCH(Расчет!I39,Прайс2!$E$3:$E$4068,0)-1,-3,1,1)))","v":"14"},11,"11(300)-528",null,{"$f":"IF(I39=\"\",\"\",VLOOKUP(I39,Прайс2!$E$3:$K$4034,5,FALSE))","v":"300"},{"$f":"IF(I39=\"\",\"\",VLOOKUP(I39,Прайс2!$E$3:$K$4034,6,FALSE))","v":720},{"$f":"IF(I39=\"\",\"\",VLOOKUP(I39,Прайс2!$E$3:$K$4034,7,FALSE))","v":"528"},1,"Валенсия 20 КЛАССИКА бук лак",null,null,null,{"$f":"IF(I39=\"\",\"\",IF(O39=\"\",\"\",INDEX(Прайс2!$L$3:$Q$4034,MATCH(I39,Прайс2!$E$3:$E$4034,0),MATCH(O39,Прайс2!$L$2:$Q$2,0))*IF(Процент!$A$1=0,1,Процент!$A$1+1)))","v":6946.524095466666},6946.524095466666]
[null,11,null,null,null,null,{"$f":"IF(I40=\"\",\"\",V(OFFSET(Прайс2!$E$3:$E$4068,MATCH(Расчет!I40,Прайс2!$E$3:$E$4068,0)-1,-3,1,1)))","v":""},null,null,null,{"$f":"IF(I40=\"\",\"\",VLOOKUP(I40,Прайс2!$E$3:$K$4034,5,FALSE))","v":""},{"$f":"IF(I40=\"\",\"\",VLOOKUP(I40,Прайс2!$E$3:$K$4034,6,FALSE))","v":""},{"$f":"IF(I40=\"\",\"\",VLOOKUP(I40,Прайс2!$E$3:$K$4034,7,FALSE))","v":""},null,null,null,null,null,{"$f":"IF(I40=\"\",\"\",IF(O40=\"\",\"\",INDEX(Прайс2!$L$3:$Q$4034,MATCH(I40,Прайс2!$E$3:$E$4034,0),MATCH(O40,Прайс2!$L$2:$Q$2,0))*IF(Процент!$A$1=0,1,Процент!$A$1+1)))","v":""},""]
[null,12,null,null,null,null,{"$f":"IF(I41=\"\",\"\",V(OFFSET(Прайс2!$E$3:$E$4068,MATCH(Расчет!I41,Прайс2!$E$3:$E$4068,0)-1,-3,1,1)))","v":""},null,null,null,{"$f":"IF(I41=\"\",\"\",VLOOKUP(I41,Прайс2!$E$3:$K$4034,5,FALSE))","v":""},{"$f":"IF(I41=\"\",\"\",VLOOKUP(I41,Прайс2!$E$3:$K$4034,6,FALSE))","v":""},{"$f":"IF(I41=\"\",\"\",VLOOKUP(I41,Прайс2!$E$3:$K$4034,7,FALSE))","v":""},null,null,null,null,null,{"$f":"IF(I41=\"\",\"\",IF(O41=\"\",\"\",INDEX(Прайс2!$L$3:$Q$4034,MATCH(I41,Прайс2!$E$3:$E$4034,0),MATCH(O41,Прайс2!$L$2:$Q$2,0))*IF(Процент!$A$1=0,1,Процент!$A$1+1)))","v":""},""]
[null,13,null,null,null,null,{"$f":"IF(I42=\"\",\"\",V(OFFSET(Прайс2!$E$3:$E$4068,MATCH(Расчет!I42,Прайс2!$E$3:$E$4068,0)-1,-3,1,1)))","v":""},null,null,null,{"$f":"IF(I42=\"\",\"\",VLOOKUP(I42,Прайс2!$E$3:$K$4034,5,FALSE))","v":""},{"$f":"IF(I42=\"\",\"\",VLOOKUP(I42,Прайс2!$E$3:$K$4034,6,FALSE))","v":""},{"$f":"IF(I42=\"\",\"\",VLOOKUP(I42,Прайс2!$E$3:$K$4034,7,FALSE))","v":""},null,null,null,null,null,{"$f":"IF(I42=\"\",\"\",IF(O42=\"\",\"\",INDEX(Прайс2!$L$3:$Q$4034,MATCH(I42,Прайс2!$E$3:$E$4034,0),MATCH(O42,Прайс2!$L$2:$Q$2,0))*IF(Процент!$A$1=0,1,Процент!$A$1+1)))","v":""},""]
[null,14,null,null,null,null,{"$f":"IF(I43=\"\",\"\",V(OFFSET(Прайс2!$E$3:$E$4068,MATCH(Расчет!I43,Прайс2!$E$3:$E$4068,0)-1,-3,1,1)))","v":""},null,null,null,{"$f":"IF(I43=\"\",\"\",VLOOKUP(I43,Прайс2!$E$3:$K$4034,5,FALSE))","v":""},{"$f":"IF(I43=\"\",\"\",VLOOKUP(I43,Прайс2!$E$3:$K$4034,6,FALSE))","v":""},{"$f":"IF(I43=\"\",\"\",VLOOKUP(I43,Прайс2!$E$3:$K$4034,7,FALSE))","v":""},null,null,null,null,null,{"$f":"IF(I43=\"\",\"\",IF(O43=\"\",\"\",INDEX(Прайс2!$L$3:$Q$4034,MATCH(I43,Прайс2!$E$3:$E$4034,0),MATCH(O43,Прайс2!$L$2:$Q$2,0))*IF(Процент!$A$1=0,1,Процент!$A$1+1)))","v":""},""]
[null,15,null,null,null,null,{"$f":"IF(I44=\"\",\"\",V(OFFSET(Прайс2!$E$3:$E$4068,MATCH(Расчет!I44,Прайс2!$E$3:$E$4068,0)-1,-3,1,1)))","v":""},null,null,null,{"$f":"IF(I44=\"\",\"\",VLOOKUP(I44,Прайс2!$E$3:$K$4034,5,FALSE))","v":""},{"$f":"IF(I44=\"\",\"\",VLOOKUP(I44,Прайс2!$E$3:$K$4034,6,FALSE))","v":""},{"$f":"IF(I44=\"\",\"\",VLOOKUP(I44,Прайс2!$E$3:$K$4034,7,FALSE))","v":""},null,null,null,null,null,{"$f":"IF(I44=\"\",\"\",IF(O44=\"\",\"\",INDEX(Прайс2!$L$3:$Q$4034,MATCH(I44,Прайс2!$E$3:$E$4034,0),MATCH(O44,Прайс2!$L$2:$Q$2,0))*IF(Процент!$A$1=0,1,Процент!$A$1+1)))","v":""},""]
[null,16,null,null,null,null,{"$f":"IF(I45=\"\",\"\",V(OFFSET(Прайс2!$E$3:$E$4068,MATCH(Расчет!I45,Прайс2!$E$3:$E$4068,0)-1,-3,1,1)))","v":""},null,null,null,{"$f":"IF(I45=\"\",\"\",VLOOKUP(I45,Прайс2!$E$3:$K$4034,5,FALSE))","v":""},{"$f":"IF(I45=\"\",\"\",VLOOKUP(I45,Прайс2!$E$3:$K$4034,6,FALSE))","v":""},{"$f":"IF(I45=\"\",\"\",VLOOKUP(I45,Прайс2!$E$3:$K$4034,7,FALSE))","v":""},null,null,null,null,null,{"$f":"IF(I45=\"\",\"\",IF(O45=\"\",\"\",INDEX(Прайс2!$L$3:$Q$4034,MATCH(I45,Прайс2!$E$3:$E$4034,0),MATCH(O45,Прайс2!$L$2:$Q$2,0))*IF(Процент!$A$1=0,1,Процент!$A$1+1)))","v":""},""]
[null,17,null,null,null,null,{"$f":"IF(I46=\"\",\"\",V(OFFSET(Прайс2!$E$3:$E$4068,MATCH(Расчет!I46,Прайс2!$E$3:$E$4068,0)-1,-3,1,1)))","v":""},null,null,null,{"$f":"IF(I46=\"\",\"\",VLOOKUP(I46,Прайс2!$E$3:$K$4034,5,FALSE))","v":""},{"$f":"IF(I46=\"\",\"\",VLOOKUP(I46,Прайс2!$E$3:$K$4034,6,FALSE))","v":""},{"$f":"IF(I46=\"\",\"\",VLOOKUP(I46,Прайс2!$E$3:$K$4034,7,FALSE))","v":""},null,null,null,null,null,{"$f":"IF(I46=\"\",\"\",IF(O46=\"\",\"\",INDEX(Прайс2!$L$3:$Q$4034,MATCH(I46,Прайс2!$E$3:$E$4034,0),MATCH(O46,Прайс2!$L$2:$Q$2,0))*IF(Процент!$A$1=0,1,Процент!$A$1+1)))","v":""},""]
[null,18,null,null,null,null,{"$f":"IF(I47=\"\",\"\",V(OFFSET(Прайс2!$E$3:$E$4068,MATCH(Расчет!I47,Прайс2!$E$3:$E$4068,0)-1,-3,1,1)))","v":""},null,null,null,{"$f":"IF(I47=\"\",\"\",VLOOKUP(I47,Прайс2!$E$3:$K$4034,5,FALSE))","v":""},{"$f":"IF(I47=\"\",\"\",VLOOKUP(I47,Прайс2!$E$3:$K$4034,6,FALSE))","v":""},{"$f":"IF(I47=\"\",\"\",VLOOKUP(I47,Прайс2!$E$3:$K$4034,7,FALSE))","v":""},null,null,null,null,null,{"$f":"IF(I47=\"\",\"\",IF(O47=\"\",\"\",INDEX(Прайс2!$L$3:$Q$4034,MATCH(I47,Прайс2!$E$3:$E$4034,0),MATCH(O47,Прайс2!$L$2:$Q$2,0))*IF(Процент!$A$1=0,1,Процент!$A$1+1)))","v":""},""]
[null,19,null,null,null,null,{"$f":"IF(I48=\"\",\"\",V(OFFSET(Прайс2!$E$3:$E$4068,MATCH(Расчет!I48,Прайс2!$E$3:$E$4068,0)-1,-3,1,1)))","v":""},null,null,null,{"$f":"IF(I48=\"\",\"\",VLOOKUP(I48,Прайс2!$E$3:$K$4034,5,FALSE))","v":""},{"$f":"IF(I48=\"\",\"\",VLOOKUP(I48,Прайс2!$E$3:$K$4034,6,FALSE))","v":""},{"$f":"IF(I48=\"\",\"\",VLOOKUP(I48,Прайс2!$E$3:$K$4034,7,FALSE))","v":""},null,null,null,null,null,{"$f":"IF(I48=\"\",\"\",IF(O48=\"\",\"\",INDEX(Прайс2!$L$3:$Q$4034,MATCH(I48,Прайс2!$E$3:$E$4034,0),MATCH(O48,Прайс2!$L$2:$Q$2,0))*IF(Процент!$A$1=0,1,Процент!$A$1+1)))","v":""},""]
[null,20,null,null,null,null,{"$f":"IF(I49=\"\",\"\",V(OFFSET(Прайс2!$E$3:$E$4068,MATCH(Расчет!I49,Прайс2!$E$3:$E$4068,0)-1,-3,1,1)))","v":""},null,null,null,{"$f":"IF(I49=\"\",\"\",VLOOKUP(I49,Прайс2!$E$3:$K$4034,5,FALSE))","v":""},{"$f":"IF(I49=\"\",\"\",VLOOKUP(I49,Прайс2!$E$3:$K$4034,6,FALSE))","v":""},{"$f":"IF(I49=\"\",\"\",VLOOKUP(I49,Прайс2!$E$3:$K$4034,7,FALSE))","v":""},null,null,null,null,null,{"$f":"IF(I49=\"\",\"\",IF(O49=\"\",\"\",INDEX(Прайс2!$L$3:$Q$4034,MATCH(I49,Прайс2!$E$3:$E$4034,0),MATCH(O49,Прайс2!$L$2:$Q$2,0))*IF(Процент!$A$1=0,1,Процент!$A$1+1)))","v":""},""]
[null,21,null,null,null,null,{"$f":"IF(I50=\"\",\"\",V(OFFSET(Прайс2!$E$3:$E$4068,MATCH(Расчет!I50,Прайс2!$E$3:$E$4068,0)-1,-3,1,1)))","v":""},null,null,null,{"$f":"IF(I50=\"\",\"\",VLOOKUP(I50,Прайс2!$E$3:$K$4034,5,FALSE))","v":""},{"$f":"IF(I50=\"\",\"\",VLOOKUP(I50,Прайс2!$E$3:$K$4034,6,FALSE))","v":""},{"$f":"IF(I50=\"\",\"\",VLOOKUP(I50,Прайс2!$E$3:$K$4034,7,FALSE))","v":""},null,null,null,null,null,{"$f":"IF(I50=\"\",\"\",IF(O50=\"\",\"\",INDEX(Прайс2!$L$3:$Q$4034,MATCH(I50,Прайс2!$E$3:$E$4034,0),MATCH(O50,Прайс2!$L$2:$Q$2,0))*IF(Процент!$A$1=0,1,Процент!$A$1+1)))","v":""},""]
[null,22,null,null,null,null,{"$f":"IF(I51=\"\",\"\",V(OFFSET(Прайс2!$E$3:$E$4068,MATCH(Расчет!I51,Прайс2!$E$3:$E$4068,0)-1,-3,1,1)))","v":""},null,null,null,{"$f":"IF(I51=\"\",\"\",VLOOKUP(I51,Прайс2!$E$3:$K$4034,5,FALSE))","v":""},{"$f":"IF(I51=\"\",\"\",VLOOKUP(I51,Прайс2!$E$3:$K$4034,6,FALSE))","v":""},{"$f":"IF(I51=\"\",\"\",VLOOKUP(I51,Прайс2!$E$3:$K$4034,7,FALSE))","v":""},null,null,null,null,null,{"$f":"IF(I51=\"\",\"\",IF(O51=\"\",\"\",INDEX(Прайс2!$L$3:$Q$4034,MATCH(I51,Прайс2!$E$3:$E$4034,0),MATCH(O51,Прайс2!$L$2:$Q$2,0))*IF(Процент!$A$1=0,1,Процент!$A$1+1)))","v":""},""]
[null,null,null,null,null,null,null,null,null,null,null,null,null,null,"Итого стандартные модули",null,null,null,{"$f":"SUM(T30:T51)","v":88266.720559701454}]
[null,null,null,null,null,null,null,null,null,null,null,null,null,null,"Скидка",null,null,null,null,{"$f":"S52*S53","v":0}]
[null,null,null,null,null,null,null,null,null,null,null,null,null,null,"Итого с учетом скидки",null,null,null,{"$f":"S52-T53","v":88266.720559701454}]
[]
[null,"2.Нестандартные модули"]
[null,"№","Примечание",null,null,null,"Старый № поз.","Номер позиции","Тип",null,"Ширина","Высота","Глубина","Кол-во","Коллекция",null,null,null,"Цена","Сумма"]
[null,1,"Фасад ППМ",null,null,null,null,null,null,null,450,720,null,1,"Валенсия 20 КЛАССИКА бук лак",null,null,null,3596,{"$f":"IF(S58=\"\",\"\",S58*N58)","v":3596}]
[null,2,"Фасад на морозилку",null,null,null,null,null,null,null,600,720,null,1,"Валенсия 20 КЛАССИКА бук лак",null,null,null,4794,{"$f":"IF(S59=\"\",\"\",S59*N59)","v":4794}]
[null,3,null,null,null,null,null,null,null,null,null,null,null,null,null,null,null,null,null,""]
[null,4,null,null,null,null,null,null,null,null,null,null,null,null,null,null,null,null,null,""]
[null,5,null,null,null,null,null,null,null,null,null,null,null,null,null,null,null,null,null,""]
[null,6,null,null,null,null,null,null,null,null,null,null,null,null,null,null,null,null,null,""]
[null,7,null,null,null,null,null,null,null,null,null,null,null,null,null,null,null,null,null,""]
[null,8,null,null,null,null,null,null,null,null,null,null,null,null,null,null,null,null,null,""]
[null,9,null,null,null,null,null,null,null,null,null,null,null,null,null,null,null,null,null,""]
[null,10,null,null,null,null,null,null,null,null,null,null,null,null,null,null,null,null,null,""]
[null,null,null,null,null,null,null,null,null,null,null,null,null,null,"Итого нестандартные модули",null,null,null,{"$f":"SUM(T58:T67)","v":8390}]
[null,null,null,null,null,null,null,null,null,null,null,null,null,null,"Скидка",null,null,null,{"$f":"S53","v":0},{"$f":"S68*S69","v":0}]
[null,null,null,null,null,null,null,null,null,null,null,null,null,null,"Итого с учетом скидки",null,null,null,{"$f":"S68-T69","v":8390}]
[]
[null,"3.Дополнительная комплектация"]
[null,"№","Наименование",null,null,null,"Кол-во","Цена",null,"Сумма",null,null,"№","Наименование",null,null,null,"Кол-во","Цена","Сумма"]
[null,1,"Доплата за стекло в поз. 107",null,null,null,2,1080,null,{"$f":"IF(H74=\"\",\"\",H74*G74)","v":2160},{"$f":"IF(J74=\"\",\"\",J74*I74)","v":0},null,18,null,null,null,null,null,null,{"$f":"IF(S74=\"\",\"\",S74*R74)","v":""}]
[null,2,"Доплата за решетку в поз. 145",null,null,null,1,1372,null,{"$f":"IF(H75=\"\",\"\",H75*G75)","v":1372},{"$f":"IF(J75=\"\",\"\",J75*I75)","v":0},null,19,null,null,null,null,null,null,{"$f":"IF(S75=\"\",\"\",S75*R75)","v":""}]
[null,3,"Цоколь",null,null,null,5.6,76,null,425.59999999999997,0,null,20,null,null,null,null,null,null,""]
[null,4,null,null,null,null,null,null,null,"","",null,21,null,null,null,null,null,null,""]
[null,5,null,null,null,null,null,null,null,"","",null,22,null,null,null,null,null,null,""]
[null,6,null,null,null,null,null,null,null,"","",null,23,null,null,null,null,null,null,""]
[null,7,null,null,null,null,null,null,null,"","",null,24,null,null,null,null,null,null,""]
[null,8,null,null,null,null,null,null,null,"","",null,null,"Итого дополнительная комплектация",null,null,null,null,{"$f":"(SUM(T74:T80)+SUM(J74:K90))","v":3957.6}]
[null,9,null,null,null,null,null,null,null,"",""]
[null,10,null,null,null,null,null,null,null,"",""]
[null,11,null,null,null,null,null,null,null,"","",null,null,null,"Итого сумма",null,null,null,{"$f":"S81+S52+S68","v":100614.32055970146}]
[null,12,null,null,null,null,null,null,null,"",""]
[null,13,null,null,null,null,null,null,null,"","",null,null,null,"Всего скидка",null,null,null,{"$f":"T69+T53","v":0}]
[null,14,null,null,null,null,null,null,null,"",""]
[null,15,null,null,null,null,null,null,null,"","",null,null,null,"Итого с учетом скидки",null,null,null,{"$f":"S84-S86","v":100614.32055970146}]
[null,16,null,null,null,null,null,null,null,"",""]
[null,17,null,null,null,null,null,null,null,"","",null,null,{"$f":"IF(S86=0,0%,S86/S84)","v":0},"Технологи/производство"]

{"sheet":"Столешницы_Багет_Цоколь_Козырек","index":3,"n_rows":40,"n_cols":20,"rows_kept":40,"cut":false,"hidden":false,"merged":[[31,11,31,14],[31,16,32,19],[0,3,1,3],[0,4,1,5],[0,8,0,10],[0,11,0,13],[1,8,1,10],[1,11,1,13],[3,1,3,9],[3,11,3,19],[11,11,11,19],[19,11,19,19],[23,1,23,9],[39,11,39,14],[40,11,40,14],[41,11,41,14],[42,11,42,14],[33,11,33,14],[34,11,34,14],[35,11,35,14],[36,11,36,14],[37,11,37,14],[38,11,38,14]]}
[null,null,null,"Заказ №",{"$f":"Расчет!D10","v":"2/ЛИГА"},null,null,null,"Дата согласования",null,null,{"$f":"IF(Расчет!D18=\"\",\"\",Расчет!D18)","v":""}]
[null,null,null,null,null,null,null,null,"Срок изготовления",null,null,{"$f":"IF(Расчет!D20=\"\",\"\",Расчет!D20)","v":""}]
[]
[null,"Столешница/отбортовочный профиль",null,null,null,null,null,null,null,null,null,"Багет"]
[]
[]
[]
[]
[]
[]
[]
[null,null,null,null,null,null,null,null,null,null,null,"Цоколь"]
[]
[]
[]
[]
[]
[]
[]
[null,null,null,null,null,null,null,null,null,null,null,"Стеновая панель"]
[]
[]
[]
[null,"Козырек/менсола"]
[]
[]
[]
[]
[]
[]
[" "," "]
[null,null,null,null,null,null,null,null,null,null,null,"Условные обозначения:",null,null,null,null,"С условиями оформления и размерами заказа согласен."]
[]
[null,null,null,null,null,null,null,null,null,null,null,"∆ - кромить\n"]
[null,null,null,null,null,null,null,null,null,null,null,"○ - завал",null,null,null,null,"Дата:"]
[null,null,null,null,null,null,null,null,null,null,null,"Х - технический кант"]
[null,null,null,null,null,null,null,null,null,null,null,"R - радиус",null,null,null,null,"Подпись:"]
[null,null,null,null,null,null,null,null,null,null,null,"= - стяжка (2 шт)"]
[null,null,null,null,null,null,null,null,null,null,null,"e - еврозапил",null,null,null,null,null,null,null,"М.П."]
[null,null,null,null,null,null,null,null,null,null,null,"(ч.р.) - чистый размер"]

{"sheet":"Инструкция по заполнению бланка","index":4,"n_rows":21,"n_cols":1,"rows_kept":21,"cut":false,"hidden":false,"merged":[]}
["1. Расчетный бланк Дельта+ необходимо открывать в EXCEL в версии не ранее 2007."]
["Для функционирования файла следует включить макросы (для информации пройдите по ссылке http://sirexcel.ru/makrosi_vba/kak-vklyuchit-ili-otklyuchit-makrosy-v-excel-2003-2007-i-2010/)"]
["2. В случае сохранения файла под другим названием или в какие-либо месте с помощью \"Сохранить как..\". Выбираем тип файла \"Книга EXCEL с поддержкой макросов\""]
["3. Заполнение бланка:"]
["3.1 \"Шапка\" бланка. Карта заказа, Менеджер, и т.д. заполняется вручную."]
["3.2 Блок \"Стандартные модули\""]
["Выбираем номер позиции (программа переведет на лист \"Прайс\"). В столбце С выбираем необходимый номер позиции."]
["Далее выбираем типоразмер из раскрывающегося списк в графе \"Тип\"."]
["Выбираем количество модулей в графе \"Количество\""]
["В графе \"Коллекция\" выбираем коллекцию."]
["В графе \"Скидка\" ставим вручную скидку."]
["Автоматически заполняются все ячейке в текущей строке."]
["3.3. Блок \"Нестандартные модули\"."]
["Ячейки \"Примечание\", \"Номер позиции\", \"Ширина\", \"Высота\", \"Глубина\", \"Количество\" и \"Цена\" ставятся вручную. Коллекция выбирается из раскрывающегося списка."]
["3.4. Дополнительная комплектация заполняется вручную. Заполняем артикул в графе \"Наименование\", \"Количество\", \"Цена\""]
["Итоговая стоимость заказа формируется в графе \"Итого сумма с учетом скидки\""]
["4. Печатный вид."]
["для приведения бланка в печатную форму надимаем кнопку \"Печать\". Пустые строки в блоках \"Стандартные позиции\" и \"Нестандартные позиции\" автоматически скрываются. Далее - распчатываем, если необходимо."]
["Для сброса заказа нажимаем кнопку \"Новый заказ\" (сохраняйте расчеты в отдельном файле перед нажаием кнопки \"Новый заказ\", т.к.е данные автоматичесик сбрасываются)"]
["5. Для расчета заказа сразу с наценкой - в листе \"Процент\" ставим необходимую наценку."]
["В расчетном бланке сразу цены по позициям будут с наценкой. На фабрику отправляем бланк с нулевой наценкой."]